{"text_format":"3","workbook":"xlsx","n_sheets":9,"sheets":["Read Me First","MorningStar Data","Analysis","Notes","Graph","Valuation-1","Inputs","Stock Price","ticker sheet"],"not_rendered":{"charts":2,"defined_names":2,"comments":1},"read":"whole","date_system":"1900"}

{"sheet":"Read Me First","index":0,"n_rows":12,"n_cols":2,"rows_kept":12}
[null,"Freefincal Stock Analyzer Version 1.1"]
["To use this sheet"]
[1,"Open an account with morningstar.in"]
[2,"Enter an stock in the search at the top of the page"]
[3,"Go to 'Financial and Key ratios'"]
[4,"Click the 'export' option "]
[5,"A .csv file will either open or be saved to your computer"]
[6,"In this file, go to 'MorningStar data'"]
[7,"Select Columns A to L and hit delete"]
[9,"Go to the .csv file. Select Columns A to L and 'copy'"]
[10,"Come back to 'MorningStar data', select Cell A1 and paste"]
[11,"The file is read to use. If you want to have separate files for each stock, you can rename this file suitably"]

{"sheet":"MorningStar Data","index":1,"n_rows":111,"n_cols":12,"rows_kept":111}
["Growth Profitability and Financial Ratios for Infosys Ltd"]
["Financials"]
[null,"2005-03","2006-03","2007-03","2008-03","2009-03","2010-03","2011-03","2012-03","2013-03","2014-03","TTM"]
["Revenue USD Mil",{"v":1592,"d":"1,592"},{"v":2152,"d":"2,152"},{"v":3090,"d":"3,090"},{"v":4176,"d":"4,176"},{"v":4663,"d":"4,663"},{"v":4804,"d":"4,804"},{"v":6041,"d":"6,041"},{"v":6994,"d":"6,994"},{"v":7398,"d":"7,398"},{"v":8249,"d":"8,249"},{"v":8526,"d":"8,526"}]
["Gross Margin %",43.2,42.2,42.5,41.3,42.1,42.8,42.1,41.1,37.3,35.8,37.2]
["Operating Income USD Mil",456,599,852,{"v":1151,"d":"1,151"},{"v":1374,"d":"1,374"},{"v":1460,"d":"1,460"},{"v":1779,"d":"1,779"},{"v":2013,"d":"2,013"},{"v":1909,"d":"1,909"},{"v":1979,"d":"1,979"},{"v":2171,"d":"2,171"}]
["Operating Margin %",28.6,27.8,27.6,27.6,29.5,30.4,29.4,28.8,25.8,24,25.5]
["Net Income USD Mil",419,555,850,{"v":1155,"d":"1,155"},{"v":1281,"d":"1,281"},{"v":1313,"d":"1,313"},{"v":1499,"d":"1,499"},{"v":1716,"d":"1,716"},{"v":1725,"d":"1,725"},{"v":1751,"d":"1,751"},{"v":1943,"d":"1,943"}]
["Earnings Per Share USD",0.38,0.5,0.75,1.01,1.13,1.15,1.31,1.5,1.51,1.53,1.7]
["Dividends USD",0.03,0.09,0.26,0.16,0.45,0.25,0.27,0.38,0.33,0.4,0.53]
["Payout Ratio %",7.2,18.2,35.1,15.6,40,21.7,20.9,25,22.2,26.3,31.1]
["Shares Mil",{"v":1094,"d":"1,094"},{"v":1116,"d":"1,116"},{"v":1132,"d":"1,132"},{"v":1141,"d":"1,141"},{"v":1141,"d":"1,141"},{"v":1142,"d":"1,142"},{"v":1143,"d":"1,143"},{"v":1143,"d":"1,143"},{"v":1143,"d":"1,143"},{"v":1143,"d":"1,143"},{"v":1143,"d":"1,143"}]
["Book Value Per Share INR",50.56,74.26,102.75,136.71,167.39,211.27,238.01,294.09,349.02,413.37,453.4]
["Operating Cash Flow USD Mil",344,599,862,{"v":1149,"d":"1,149"},{"v":1409,"d":"1,409"},{"v":1457,"d":"1,457"},{"v":1298,"d":"1,298"},{"v":1681,"d":"1,681"},{"v":1738,"d":"1,738"},{"v":2003,"d":"2,003"},{"v":2202,"d":"2,202"}]
["Cap Spending USD Mil",-186,-246,-339,-374,-285,-143,-285,-320,-384]
["Free Cash Flow USD Mil",158,353,523,775,{"v":1124,"d":"1,124"},{"v":1314,"d":"1,314"},{"v":1013,"d":"1,013"},{"v":1361,"d":"1,361"},{"v":1354,"d":"1,354"},{"v":2003,"d":"2,003"},{"v":2233,"d":"2,233"}]
["Free Cash Flow Per Share INR",6.3,14.1,19.96,27.18,49.91,51.77,39.57,61.17,64.46,104.89]
["Working Capital USD Mil",885,{"v":1300,"d":"1,300"},{"v":1743,"d":"1,743"},{"v":2558,"d":"2,558"},{"v":2583,"d":"2,583"},{"v":3951,"d":"3,951"},{"v":4496,"d":"4,496"},{"v":5008,"d":"5,008"},{"v":5347,"d":"5,347"},{"v":5656,"d":"5,656"}]
[]
["Key Ratios -> Profitability"]
["Margins % of Sales","2005-03","2006-03","2007-03","2008-03","2009-03","2010-03","2011-03","2012-03","2013-03","2014-03","TTM"]
["Revenue",100,100,100,100,100,100,100,100,100,100,100]
["COGS",56.78,57.81,57.51,58.74,57.88,57.22,57.89,58.88,62.68,64.15,62.82]
["Gross Margin",43.22,42.19,42.49,41.26,42.12,42.78,42.11,41.12,37.32,35.85,37.18]
["SG&A",14.45,14.36,14.82,13.51,12.65,12.39,12.66,12.34,11.52,11.86,11.72]
["R&D"]
["Other",0.13,null,0.1,0.19]
["Operating Margin",28.64,27.83,27.57,27.56,29.47,30.39,29.45,28.78,25.8,23.99,25.46]
["Net Int Inc & Other",2.2,1.44,2.72,4.19,2.17,4.35,4.42,5.68,5.85,5.33,6.32]
["EBT Margin",30.84,29.28,30.29,31.75,31.63,34.74,33.87,34.46,31.66,29.32,31.79]
[]
["Profitability","2005-03","2006-03","2007-03","2008-03","2009-03","2010-03","2011-03","2012-03","2013-03","2014-03","TTM"]
["Tax Rate %",14.66,11.11,8.97,12.9,13.15,21.33,26.74,28.8,26.35,27.61,28.3]
["Net Margin %",26.32,25.79,27.51,27.66,27.47,27.33,24.81,24.54,23.32,21.23,22.79]
["Asset Turnover (Average)",1.23,1.22,1.2,1.1,1.05,0.91,0.92,0.96,0.92,0.91,0.93]
["Return on Assets %",32.4,31.53,33.08,30.54,28.89,24.95,22.78,23.59,21.46,19.39,21.14]
["Financial Leverage (Average)",1.16,1.12,1.13,1.15,1.16,1.15,1.15,1.15,1.16,1.2,1.22]
["Return on Equity %",37.98,35.92,37.33,34.86,33.3,28.72,26.11,27.03,24.81,22.94,25.75]
["Return on Invested Capital %",37.98,35.92,37.33,34.86,33.3,28.72,26.11,27.03,24.81,22.94,25.75]
["Interest Coverage"]
[]
["Key Ratios -> Growth"]
[null,"2005-03","2006-03","2007-03","2008-03","2009-03","2010-03","2011-03","2012-03","2013-03","2014-03","Latest Qtr"]
["Revenue %"]
["Year over Year",49.82,35.18,43.59,35.15,11.66,3.02,25.75,15.78,5.78,11.5,6.53]
["3-Year Average",42.94,41.86,42.74,37.91,29.4,15.85,13.1,14.47,15.48,10.94]
["5-Year Average",50.9,39.06,41.48,40.83,34.42,24.72,22.93,17.75,12.12,12.08]
["10-Year Average",{"$nulls":4},44.07,37.19,30.75,29.07,25.66,22.75]
["Operating Income %"]
["Year over Year",55.57,31.36,42.24,35.09,19.37,6.26,21.85,13.15,-5.17,3.67,27.49]
["3-Year Average",36.69,39.93,42.71,36.16,31.88,19.67,15.62,13.58,9.35,3.62]
["5-Year Average",49.78,34.22,36.69,39.4,36.2,26.21,24.32,18.76,10.65,7.57]
["10-Year Average",{"$nulls":4},50.6,37.49,29.18,27.41,24.2,21.04]
["Net Income %"]
["Year over Year",55.02,32.46,53.15,35.88,10.91,2.5,14.17,14.48,0.52,1.51]
["3-Year Average",36.58,41.75,46.51,40.21,32.16,15.6,9.08,10.24,9.52,5.32]
["5-Year Average",46.85,33.28,38.89,42.75,36.5,25.66,21.98,15.09,8.35,6.45]
["10-Year Average",{"$nulls":4},53.71,35.85,27.51,26.43,24.37,20.54]
["EPS %"]
["Year over Year",-24.94,30.92,50.75,34.67,11.39,2.22,13.91,14.5,0.67,1.32,32.84]
["3-Year Average",6.88,10.75,14,38.52,31.26,15.31,9.06,10.06,9.5,5.31]
["5-Year Average",26.73,14.99,19.23,22.49,17.32,24.79,21.37,14.87,8.38,6.34]
["10-Year Average",{"$nulls":4},50.6,25.76,18.13,17.03,15.22,11.69]
[]
["Key Ratios -> Cash Flow"]
["Cash Flow Ratios","2005-03","2006-03","2007-03","2008-03","2009-03","2010-03","2011-03","2012-03","2013-03","2014-03","TTM"]
["Operating Cash Flow Growth % YOY",-7.89,74.13,43.91,33.29,22.63,3.41,-10.91,29.51,3.39,15.25]
["Free Cash Flow Growth % YOY",-43.62,123.42,48.16,48.18,45.03,16.9,-22.91,34.35,-0.51,47.93]
["Cap Ex as a % of Sales",11.68,11.43,10.97,8.96,6.11,2.98,4.72,4.58,5.19]
["Free Cash Flow/Sales %",9.92,16.4,16.93,18.56,24.1,27.35,16.77,19.46,18.3,24.28,26.19]
["Free Cash Flow/Net Income",0.38,0.64,0.62,0.67,0.88,1,0.68,0.79,0.78,1.14,1.15]
[]
["Key Ratios -> Financial Health"]
["Balance Sheet Items (in %)","2005-03","2006-03","2007-03","2008-03","2009-03","2010-03","2011-03","2012-03","2013-03","2014-03","Latest Qtr"]
["Cash & Short-Term Investments",47.32,51.26,45.85,46.22,49.52,57.79,53.98,54.6,50.84,52.59,53.99]
["Accounts Receivable",23.04,19.8,20.79,21.02,19.93,15.7,18.86,20.22,15.28,21.81,22.02]
["Inventory"]
["Other Current Assets",2.54,1.98,1.63,2.43,1.85,2.33,2.94,4.06,10.06,1,0.34]
["Total Current Assets",72.9,73.04,68.27,69.66,71.3,75.81,75.78,78.88,76.18,75.4,76.35]
["Net PP&E",24.21,23.77,24.02,22.75,21.02,16.09,15.49,14.1,13.95,13.82,13.61]
["Intangibles",0.55,0.39,4.82,3.9,3.24,3.17,2.8,3.04,5.06,4.38,3.89]
["Other Long-Term Assets",2.34,2.81,2.9,3.7,4.43,4.93,5.93,3.98,4.81,6.4,6.14]
["Total Assets",100,100,100,100,100,100,100,100,100,100,100]
["Accounts Payable",0.07,0.15,0.2,0.27,0.11,0.03,0.14,0.07,0.41,0.3,0.22]
["Short-Term Debt"]
["Taxes Payable",{"$nulls":4},2.63,2.62,2.61,4.07,4.38,3.83,4.34]
["Accrued Liabilities",8.53,7.74,8.92,3.81,null,0.47,0.44,5.81,5.64,1.67,1.65]
["Other Short-Term Liabilities",3.44,2.23,2.44,8.64,9.53,8.43,8.45,2.48,3.13,10.2,11.05]
["Total Current Liabilities",12.04,10.12,11.55,12.71,12.27,11.55,11.64,12.43,13.56,16.01,17.27]
["Long-Term Debt"]
["Other Long-Term Liabilities",1.79,0.97,0.03,0.24,1.26,1.25,1.03,0.32,0.59,0.68,0.72]
["Total Liabilities",13.82,11.08,11.58,12.96,13.53,12.8,12.67,12.75,14.15,16.69,17.99]
["Total Stockholders' Equity",86.18,88.92,88.42,87.04,86.47,87.2,87.33,87.25,85.85,83.31,82.01]
["Total Liabilities & Equity",100,100,100,100,100,100,100,100,100,100,100]
[]
["Liquidity/Financial Health","2005-03","2006-03","2007-03","2008-03","2009-03","2010-03","2011-03","2012-03","2013-03","2014-03","Latest Qtr"]
["Current Ratio",6.06,7.22,5.91,5.48,5.81,6.56,6.51,6.34,5.62,4.71,4.42]
["Quick Ratio",5.85,7.02,5.77,5.29,5.66,6.36,6.26,6.02,4.88,4.65,4.4]
["Financial Leverage",1.16,1.12,1.13,1.15,1.16,1.15,1.15,1.15,1.16,1.2,1.22]
["Debt/Equity"]
[]
["Key Ratios -> Efficiency Ratios"]
["Efficiency","2005-03","2006-03","2007-03","2008-03","2009-03","2010-03","2011-03","2012-03","2013-03","2014-03","TTM"]
["Days Sales Outstanding",51.94,56.31,54.69,65.95,71.07,62.68,55.01,57.38,60.71,59.71,59.87]
["Days Inventory"]
["Payables Period",0.39,0.59,0.92,1.34,1.15,0.46,0.63,0.66,1.57,2.21,1.29]
["Cash Conversion Cycle"]
["Receivables Turnover",7.03,6.48,6.67,5.53,5.14,5.82,6.63,6.36,6.01,6.11,6.1]
["Inventory Turnover"]
["Fixed Assets Turnover",5.49,5.11,5.03,4.75,4.8,5.03,5.82,6.51,6.56,6.58,6.88]
["Asset Turnover",1.23,1.22,1.2,1.1,1.05,0.91,0.92,0.96,0.92,0.91,0.93]

{"sheet":"Analysis","index":2,"n_rows":66,"n_cols":16,"rows_kept":66,"merged":[[60,1,60,11]]}
[null,{"$f":"L1+1","v":11},1,{"$f":"C1+1","v":2},{"$f":"D1+1","v":3},4,5,6,7,8,9,10]
[null,{"$f":"LEFT('MorningStar Data'!L3,4)","v":"TTM"},{"$f":"LEFT('MorningStar Data'!B3,4)","v":"2005"},{"$f":"LEFT('MorningStar Data'!C3,4)","v":"2006"},{"$f":"LEFT('MorningStar Data'!D3,4)","v":"2007"},{"$f":"LEFT('MorningStar Data'!E3,4)","v":"2008"},{"$f":"LEFT('MorningStar Data'!F3,4)","v":"2009"},{"$f":"LEFT('MorningStar Data'!G3,4)","v":"2010"},{"$f":"LEFT('MorningStar Data'!H3,4)","v":"2011"},{"$f":"LEFT('MorningStar Data'!I3,4)","v":"2012"},{"$f":"LEFT('MorningStar Data'!J3,4)","v":"2013"},{"$f":"LEFT('MorningStar Data'!K3,4)","v":"2014"},"Average","Std Dev","Inconsistency measure*","Geometric average*"]
["Tax Rate %",{"$f":"IF(INDEX('MorningStar Data'!$A$1:$M$150,MATCH(Analysis!$A$3,'MorningStar Data'!$A$1:$A$150,0),B1+1)/100=0,\"\",INDEX('MorningStar Data'!$A$1:$M$150,MATCH(Analysis!$A$3,'MorningStar Data'!$A$1:$A$150,0),B1+1)/100)","v":{"v":0.28300000000000003,"d":"28%"}},{"$f":"IF(INDEX('MorningStar Data'!$A$1:$M$150,MATCH(Analysis!$A$3,'MorningStar Data'!$A$1:$A$150,0),C1+1)/100=0,\"\",INDEX('MorningStar Data'!$A$1:$M$150,MATCH(Analysis!$A$3,'MorningStar Data'!$A$1:$A$150,0),C1+1)/100)","v":{"v":0.1466,"d":"15%"}},{"$f":"IF(INDEX('MorningStar Data'!$A$1:$M$150,MATCH(Analysis!$A$3,'MorningStar Data'!$A$1:$A$150,0),D1+1)/100=0,\"\",INDEX('MorningStar Data'!$A$1:$M$150,MATCH(Analysis!$A$3,'MorningStar Data'!$A$1:$A$150,0),D1+1)/100)","v":{"v":0.11109999999999999,"d":"11%"}},{"$f":"IF(INDEX('MorningStar Data'!$A$1:$M$150,MATCH(Analysis!$A$3,'MorningStar Data'!$A$1:$A$150,0),E1+1)/100=0,\"\",INDEX('MorningStar Data'!$A$1:$M$150,MATCH(Analysis!$A$3,'MorningStar Data'!$A$1:$A$150,0),E1+1)/100)","v":{"v":0.0897,"d":"9%"}},{"$f":"IF(INDEX('MorningStar Data'!$A$1:$M$150,MATCH(Analysis!$A$3,'MorningStar Data'!$A$1:$A$150,0),F1+1)/100=0,\"\",INDEX('MorningStar Data'!$A$1:$M$150,MATCH(Analysis!$A$3,'MorningStar Data'!$A$1:$A$150,0),F1+1)/100)","v":{"v":0.129,"d":"13%"}},{"$f":"IF(INDEX('MorningStar Data'!$A$1:$M$150,MATCH(Analysis!$A$3,'MorningStar Data'!$A$1:$A$150,0),G1+1)/100=0,\"\",INDEX('MorningStar Data'!$A$1:$M$150,MATCH(Analysis!$A$3,'MorningStar Data'!$A$1:$A$150,0),G1+1)/100)","v":{"v":0.1315,"d":"13%"}},{"$f":"IF(INDEX('MorningStar Data'!$A$1:$M$150,MATCH(Analysis!$A$3,'MorningStar Data'!$A$1:$A$150,0),H1+1)/100=0,\"\",INDEX('MorningStar Data'!$A$1:$M$150,MATCH(Analysis!$A$3,'MorningStar Data'!$A$1:$A$150,0),H1+1)/100)","v":{"v":0.2133,"d":"21%"}},{"$f":"IF(INDEX('MorningStar Data'!$A$1:$M$150,MATCH(Analysis!$A$3,'MorningStar Data'!$A$1:$A$150,0),I1+1)/100=0,\"\",INDEX('MorningStar Data'!$A$1:$M$150,MATCH(Analysis!$A$3,'MorningStar Data'!$A$1:$A$150,0),I1+1)/100)","v":{"v":0.26739999999999997,"d":"27%"}},{"$f":"IF(INDEX('MorningStar Data'!$A$1:$M$150,MATCH(Analysis!$A$3,'MorningStar Data'!$A$1:$A$150,0),J1+1)/100=0,\"\",INDEX('MorningStar Data'!$A$1:$M$150,MATCH(Analysis!$A$3,'MorningStar Data'!$A$1:$A$150,0),J1+1)/100)","v":{"v":0.28800000000000003,"d":"29%"}},{"$f":"IF(INDEX('MorningStar Data'!$A$1:$M$150,MATCH(Analysis!$A$3,'MorningStar Data'!$A$1:$A$150,0),K1+1)/100=0,\"\",INDEX('MorningStar Data'!$A$1:$M$150,MATCH(Analysis!$A$3,'MorningStar Data'!$A$1:$A$150,0),K1+1)/100)","v":{"v":0.2635,"d":"26%"}},{"$f":"IF(INDEX('MorningStar Data'!$A$1:$M$150,MATCH(Analysis!$A$3,'MorningStar Data'!$A$1:$A$150,0),L1+1)/100=0,\"\",INDEX('MorningStar Data'!$A$1:$M$150,MATCH(Analysis!$A$3,'MorningStar Data'!$A$1:$A$150,0),L1+1)/100)","v":{"v":0.2761,"d":"28%"}},{"$f":"AVERAGE(C3:L3)","v":{"v":0.19162,"d":"19.16%"}},{"$f":"STDEV(C3:L3)","v":{"v":0.0776308758735136,"d":"8%"}},{"$f":"(M3-P3)/M3","v":{"v":0.011872823069349362,"d":"0.012"}},{"$f":"((1+IF(C3=\"\",0,C3))*(1+IF(D3=\"\",0,D3))*(1+IF(E3=\"\",0,E3))*(1+IF(F3=\"\",0,F3))*(1+IF(G3=\"\",0,G3))*(1+IF(H3=\"\",0,H3))*(1+IF(I3=\"\",0,I3))*(1+IF(J3=\"\",0,J3))*(1+IF(K3=\"\",0,K3))*(1+IF(L3=\"\",0,L3)))^(1/10)-1","v":{"v":0.1893449296434513,"d":"19%"}}]
["Gross Margin %",{"$f":"IF(INDEX('MorningStar Data'!$A$1:$M$150,MATCH(Analysis!$A$4,'MorningStar Data'!$A$1:$A$150,0),B1+1)/100=0,\"\",INDEX('MorningStar Data'!$A$1:$M$150,MATCH(Analysis!$A$4,'MorningStar Data'!$A$1:$A$150,0),B1+1)/100)","v":{"v":0.37200000000000005,"d":"37%"}},{"$f":"IF(INDEX('MorningStar Data'!$A$1:$M$150,MATCH(Analysis!$A$4,'MorningStar Data'!$A$1:$A$150,0),C1+1)/100=0,\"\",INDEX('MorningStar Data'!$A$1:$M$150,MATCH(Analysis!$A$4,'MorningStar Data'!$A$1:$A$150,0),C1+1)/100)","v":{"v":0.43200000000000005,"d":"43%"}},{"$f":"IF(INDEX('MorningStar Data'!$A$1:$M$150,MATCH(Analysis!$A$4,'MorningStar Data'!$A$1:$A$150,0),D1+1)/100=0,\"\",INDEX('MorningStar Data'!$A$1:$M$150,MATCH(Analysis!$A$4,'MorningStar Data'!$A$1:$A$150,0),D1+1)/100)","v":{"v":0.42200000000000004,"d":"42%"}},{"$f":"IF(INDEX('MorningStar Data'!$A$1:$M$150,MATCH(Analysis!$A$4,'MorningStar Data'!$A$1:$A$150,0),E1+1)/100=0,\"\",INDEX('MorningStar Data'!$A$1:$M$150,MATCH(Analysis!$A$4,'MorningStar Data'!$A$1:$A$150,0),E1+1)/100)","v":{"v":0.425,"d":"43%"}},{"$f":"IF(INDEX('MorningStar Data'!$A$1:$M$150,MATCH(Analysis!$A$4,'MorningStar Data'!$A$1:$A$150,0),F1+1)/100=0,\"\",INDEX('MorningStar Data'!$A$1:$M$150,MATCH(Analysis!$A$4,'MorningStar Data'!$A$1:$A$150,0),F1+1)/100)","v":{"v":0.413,"d":"41%"}},{"$f":"IF(INDEX('MorningStar Data'!$A$1:$M$150,MATCH(Analysis!$A$4,'MorningStar Data'!$A$1:$A$150,0),G1+1)/100=0,\"\",INDEX('MorningStar Data'!$A$1:$M$150,MATCH(Analysis!$A$4,'MorningStar Data'!$A$1:$A$150,0),G1+1)/100)","v":{"v":0.42100000000000004,"d":"42%"}},{"$f":"IF(INDEX('MorningStar Data'!$A$1:$M$150,MATCH(Analysis!$A$4,'MorningStar Data'!$A$1:$A$150,0),H1+1)/100=0,\"\",INDEX('MorningStar Data'!$A$1:$M$150,MATCH(Analysis!$A$4,'MorningStar Data'!$A$1:$A$150,0),H1+1)/100)","v":{"v":0.428,"d":"43%"}},{"$f":"IF(INDEX('MorningStar Data'!$A$1:$M$150,MATCH(Analysis!$A$4,'MorningStar Data'!$A$1:$A$150,0),I1+1)/100=0,\"\",INDEX('MorningStar Data'!$A$1:$M$150,MATCH(Analysis!$A$4,'MorningStar Data'!$A$1:$A$150,0),I1+1)/100)","v":{"v":0.42100000000000004,"d":"42%"}},{"$f":"IF(INDEX('MorningStar Data'!$A$1:$M$150,MATCH(Analysis!$A$4,'MorningStar Data'!$A$1:$A$150,0),J1+1)/100=0,\"\",INDEX('MorningStar Data'!$A$1:$M$150,MATCH(Analysis!$A$4,'MorningStar Data'!$A$1:$A$150,0),J1+1)/100)","v":{"v":0.41100000000000003,"d":"41%"}},{"$f":"IF(INDEX('MorningStar Data'!$A$1:$M$150,MATCH(Analysis!$A$4,'MorningStar Data'!$A$1:$A$150,0),K1+1)/100=0,\"\",INDEX('MorningStar Data'!$A$1:$M$150,MATCH(Analysis!$A$4,'MorningStar Data'!$A$1:$A$150,0),K1+1)/100)","v":{"v":0.373,"d":"37%"}},{"$f":"IF(INDEX('MorningStar Data'!$A$1:$M$150,MATCH(Analysis!$A$4,'MorningStar Data'!$A$1:$A$150,0),L1+1)/100=0,\"\",INDEX('MorningStar Data'!$A$1:$M$150,MATCH(Analysis!$A$4,'MorningStar Data'!$A$1:$A$150,0),L1+1)/100)","v":{"v":0.358,"d":"36%"}},{"$f":"AVERAGE(C4:L4)","v":{"v":0.4104,"d":"41.04%"}},{"$f":"STDEV(C4:L4)","v":{"v":0.024721560540459177,"d":"2%"}},{"$f":"(M4-P4)/M4","v":{"v":4.8240704463807868E-4,"d":"0.000"}},{"$f":"((1+IF(C4=\"\",0,C4))*(1+IF(D4=\"\",0,D4))*(1+IF(E4=\"\",0,E4))*(1+IF(F4=\"\",0,F4))*(1+IF(G4=\"\",0,G4))*(1+IF(H4=\"\",0,H4))*(1+IF(I4=\"\",0,I4))*(1+IF(J4=\"\",0,J4))*(1+IF(K4=\"\",0,K4))*(1+IF(L4=\"\",0,L4)))^(1/10)-1","v":{"v":0.4102020201488805,"d":"41%"}}]
["EBT Margin",{"$f":"IF(INDEX('MorningStar Data'!$A$1:$M$150,MATCH(Analysis!$A$5,'MorningStar Data'!$A$1:$A$150,0),B1+1)/100=0,\"\",INDEX('MorningStar Data'!$A$1:$M$150,MATCH(Analysis!$A$5,'MorningStar Data'!$A$1:$A$150,0),B1+1)/100)","v":{"v":0.3179,"d":"32%"}},{"$f":"IF(INDEX('MorningStar Data'!$A$1:$M$150,MATCH(Analysis!$A$5,'MorningStar Data'!$A$1:$A$150,0),C1+1)/100=0,\"\",INDEX('MorningStar Data'!$A$1:$M$150,MATCH(Analysis!$A$5,'MorningStar Data'!$A$1:$A$150,0),C1+1)/100)","v":{"v":0.3084,"d":"31%"}},{"$f":"IF(INDEX('MorningStar Data'!$A$1:$M$150,MATCH(Analysis!$A$5,'MorningStar Data'!$A$1:$A$150,0),D1+1)/100=0,\"\",INDEX('MorningStar Data'!$A$1:$M$150,MATCH(Analysis!$A$5,'MorningStar Data'!$A$1:$A$150,0),D1+1)/100)","v":{"v":0.2928,"d":"29%"}},{"$f":"IF(INDEX('MorningStar Data'!$A$1:$M$150,MATCH(Analysis!$A$5,'MorningStar Data'!$A$1:$A$150,0),E1+1)/100=0,\"\",INDEX('MorningStar Data'!$A$1:$M$150,MATCH(Analysis!$A$5,'MorningStar Data'!$A$1:$A$150,0),E1+1)/100)","v":{"v":0.3029,"d":"30%"}},{"$f":"IF(INDEX('MorningStar Data'!$A$1:$M$150,MATCH(Analysis!$A$5,'MorningStar Data'!$A$1:$A$150,0),F1+1)/100=0,\"\",INDEX('MorningStar Data'!$A$1:$M$150,MATCH(Analysis!$A$5,'MorningStar Data'!$A$1:$A$150,0),F1+1)/100)","v":{"v":0.3175,"d":"32%"}},{"$f":"IF(INDEX('MorningStar Data'!$A$1:$M$150,MATCH(Analysis!$A$5,'MorningStar Data'!$A$1:$A$150,0),G1+1)/100=0,\"\",INDEX('MorningStar Data'!$A$1:$M$150,MATCH(Analysis!$A$5,'MorningStar Data'!$A$1:$A$150,0),G1+1)/100)","v":{"v":0.31629999999999997,"d":"32%"}},{"$f":"IF(INDEX('MorningStar Data'!$A$1:$M$150,MATCH(Analysis!$A$5,'MorningStar Data'!$A$1:$A$150,0),H1+1)/100=0,\"\",INDEX('MorningStar Data'!$A$1:$M$150,MATCH(Analysis!$A$5,'MorningStar Data'!$A$1:$A$150,0),H1+1)/100)","v":{"v":0.34740000000000004,"d":"35%"}},{"$f":"IF(INDEX('MorningStar Data'!$A$1:$M$150,MATCH(Analysis!$A$5,'MorningStar Data'!$A$1:$A$150,0),I1+1)/100=0,\"\",INDEX('MorningStar Data'!$A$1:$M$150,MATCH(Analysis!$A$5,'MorningStar Data'!$A$1:$A$150,0),I1+1)/100)","v":{"v":0.3387,"d":"34%"}},{"$f":"IF(INDEX('MorningStar Data'!$A$1:$M$150,MATCH(Analysis!$A$5,'MorningStar Data'!$A$1:$A$150,0),J1+1)/100=0,\"\",INDEX('MorningStar Data'!$A$1:$M$150,MATCH(Analysis!$A$5,'MorningStar Data'!$A$1:$A$150,0),J1+1)/100)","v":{"v":0.3446,"d":"34%"}},{"$f":"IF(INDEX('MorningStar Data'!$A$1:$M$150,MATCH(Analysis!$A$5,'MorningStar Data'!$A$1:$A$150,0),K1+1)/100=0,\"\",INDEX('MorningStar Data'!$A$1:$M$150,MATCH(Analysis!$A$5,'MorningStar Data'!$A$1:$A$150,0),K1+1)/100)","v":{"v":0.3166,"d":"32%"}},{"$f":"IF(INDEX('MorningStar Data'!$A$1:$M$150,MATCH(Analysis!$A$5,'MorningStar Data'!$A$1:$A$150,0),L1+1)/100=0,\"\",INDEX('MorningStar Data'!$A$1:$M$150,MATCH(Analysis!$A$5,'MorningStar Data'!$A$1:$A$150,0),L1+1)/100)","v":{"v":0.2932,"d":"29%"}},{"$f":"AVERAGE(C5:L5)","v":{"v":0.31784,"d":"31.78%"}},{"$f":"STDEV(C5:L5)","v":{"v":0.019931839408900635,"d":"2%"}},{"$f":"(M5-P5)/M5","v":{"v":4.2570658096234906E-4,"d":"0.000"}},{"$f":"((1+IF(C5=\"\",0,C5))*(1+IF(D5=\"\",0,D5))*(1+IF(E5=\"\",0,E5))*(1+IF(F5=\"\",0,F5))*(1+IF(G5=\"\",0,G5))*(1+IF(H5=\"\",0,H5))*(1+IF(I5=\"\",0,I5))*(1+IF(J5=\"\",0,J5))*(1+IF(K5=\"\",0,K5))*(1+IF(L5=\"\",0,L5)))^(1/10)-1","v":{"v":0.31770469342030694,"d":"32%"}}]
["Operating Margin %",{"$f":"IF(INDEX('MorningStar Data'!$A$1:$M$150,MATCH(Analysis!$A$6,'MorningStar Data'!$A$1:$A$150,0),B1+1)/100=0,\"\",INDEX('MorningStar Data'!$A$1:$M$150,MATCH(Analysis!$A$6,'MorningStar Data'!$A$1:$A$150,0),B1+1)/100)","v":{"v":0.255,"d":"26%"}},{"$f":"IF(INDEX('MorningStar Data'!$A$1:$M$150,MATCH(Analysis!$A$6,'MorningStar Data'!$A$1:$A$150,0),C1+1)/100=0,\"\",INDEX('MorningStar Data'!$A$1:$M$150,MATCH(Analysis!$A$6,'MorningStar Data'!$A$1:$A$150,0),C1+1)/100)","v":{"v":0.28600000000000003,"d":"29%"}},{"$f":"IF(INDEX('MorningStar Data'!$A$1:$M$150,MATCH(Analysis!$A$6,'MorningStar Data'!$A$1:$A$150,0),D1+1)/100=0,\"\",INDEX('MorningStar Data'!$A$1:$M$150,MATCH(Analysis!$A$6,'MorningStar Data'!$A$1:$A$150,0),D1+1)/100)","v":{"v":0.278,"d":"28%"}},{"$f":"IF(INDEX('MorningStar Data'!$A$1:$M$150,MATCH(Analysis!$A$6,'MorningStar Data'!$A$1:$A$150,0),E1+1)/100=0,\"\",INDEX('MorningStar Data'!$A$1:$M$150,MATCH(Analysis!$A$6,'MorningStar Data'!$A$1:$A$150,0),E1+1)/100)","v":{"v":0.276,"d":"28%"}},{"$f":"IF(INDEX('MorningStar Data'!$A$1:$M$150,MATCH(Analysis!$A$6,'MorningStar Data'!$A$1:$A$150,0),F1+1)/100=0,\"\",INDEX('MorningStar Data'!$A$1:$M$150,MATCH(Analysis!$A$6,'MorningStar Data'!$A$1:$A$150,0),F1+1)/100)","v":{"v":0.276,"d":"28%"}},{"$f":"IF(INDEX('MorningStar Data'!$A$1:$M$150,MATCH(Analysis!$A$6,'MorningStar Data'!$A$1:$A$150,0),G1+1)/100=0,\"\",INDEX('MorningStar Data'!$A$1:$M$150,MATCH(Analysis!$A$6,'MorningStar Data'!$A$1:$A$150,0),G1+1)/100)","v":{"v":0.295,"d":"30%"}},{"$f":"IF(INDEX('MorningStar Data'!$A$1:$M$150,MATCH(Analysis!$A$6,'MorningStar Data'!$A$1:$A$150,0),H1+1)/100=0,\"\",INDEX('MorningStar Data'!$A$1:$M$150,MATCH(Analysis!$A$6,'MorningStar Data'!$A$1:$A$150,0),H1+1)/100)","v":{"v":0.304,"d":"30%"}},{"$f":"IF(INDEX('MorningStar Data'!$A$1:$M$150,MATCH(Analysis!$A$6,'MorningStar Data'!$A$1:$A$150,0),I1+1)/100=0,\"\",INDEX('MorningStar Data'!$A$1:$M$150,MATCH(Analysis!$A$6,'MorningStar Data'!$A$1:$A$150,0),I1+1)/100)","v":{"v":0.294,"d":"29%"}},{"$f":"IF(INDEX('MorningStar Data'!$A$1:$M$150,MATCH(Analysis!$A$6,'MorningStar Data'!$A$1:$A$150,0),J1+1)/100=0,\"\",INDEX('MorningStar Data'!$A$1:$M$150,MATCH(Analysis!$A$6,'MorningStar Data'!$A$1:$A$150,0),J1+1)/100)","v":{"v":0.28800000000000003,"d":"29%"}},{"$f":"IF(INDEX('MorningStar Data'!$A$1:$M$150,MATCH(Analysis!$A$6,'MorningStar Data'!$A$1:$A$150,0),K1+1)/100=0,\"\",INDEX('MorningStar Data'!$A$1:$M$150,MATCH(Analysis!$A$6,'MorningStar Data'!$A$1:$A$150,0),K1+1)/100)","v":{"v":0.258,"d":"26%"}},{"$f":"IF(INDEX('MorningStar Data'!$A$1:$M$150,MATCH(Analysis!$A$6,'MorningStar Data'!$A$1:$A$150,0),L1+1)/100=0,\"\",INDEX('MorningStar Data'!$A$1:$M$150,MATCH(Analysis!$A$6,'MorningStar Data'!$A$1:$A$150,0),L1+1)/100)","v":{"v":0.24,"d":"24%"}},{"v":0.27949999999999997,"d":"27.95%"},{"v":0.0188988535807514,"d":"2%"},{"$f":"(M6-P6)/M6","v":{"v":0.000453133096691232,"d":"0.000"}},{"$f":"((1+IF(C6=\"\",0,C6))*(1+IF(D6=\"\",0,D6))*(1+IF(E6=\"\",0,E6))*(1+IF(F6=\"\",0,F6))*(1+IF(G6=\"\",0,G6))*(1+IF(H6=\"\",0,H6))*(1+IF(I6=\"\",0,I6))*(1+IF(J6=\"\",0,J6))*(1+IF(K6=\"\",0,K6))*(1+IF(L6=\"\",0,L6)))^(1/10)-1","v":{"v":0.27937334929947477,"d":"28%"}}]
["Return on Equity %",{"$f":"IF(INDEX('MorningStar Data'!$A$1:$M$150,MATCH(Analysis!$A$7,'MorningStar Data'!$A$1:$A$150,0),B1+1)/100=0,\"\",INDEX('MorningStar Data'!$A$1:$M$150,MATCH(Analysis!$A$7,'MorningStar Data'!$A$1:$A$150,0),B1+1)/100)","v":{"v":0.2575,"d":"26%"}},{"$f":"IF(INDEX('MorningStar Data'!$A$1:$M$150,MATCH(Analysis!$A$7,'MorningStar Data'!$A$1:$A$150,0),C1+1)/100=0,\"\",INDEX('MorningStar Data'!$A$1:$M$150,MATCH(Analysis!$A$7,'MorningStar Data'!$A$1:$A$150,0),C1+1)/100)","v":{"v":0.37979999999999997,"d":"38%"}},{"$f":"IF(INDEX('MorningStar Data'!$A$1:$M$150,MATCH(Analysis!$A$7,'MorningStar Data'!$A$1:$A$150,0),D1+1)/100=0,\"\",INDEX('MorningStar Data'!$A$1:$M$150,MATCH(Analysis!$A$7,'MorningStar Data'!$A$1:$A$150,0),D1+1)/100)","v":{"v":0.3592,"d":"36%"}},{"$f":"IF(INDEX('MorningStar Data'!$A$1:$M$150,MATCH(Analysis!$A$7,'MorningStar Data'!$A$1:$A$150,0),E1+1)/100=0,\"\",INDEX('MorningStar Data'!$A$1:$M$150,MATCH(Analysis!$A$7,'MorningStar Data'!$A$1:$A$150,0),E1+1)/100)","v":{"v":0.37329999999999997,"d":"37%"}},{"$f":"IF(INDEX('MorningStar Data'!$A$1:$M$150,MATCH(Analysis!$A$7,'MorningStar Data'!$A$1:$A$150,0),F1+1)/100=0,\"\",INDEX('MorningStar Data'!$A$1:$M$150,MATCH(Analysis!$A$7,'MorningStar Data'!$A$1:$A$150,0),F1+1)/100)","v":{"v":0.3486,"d":"35%"}},{"$f":"IF(INDEX('MorningStar Data'!$A$1:$M$150,MATCH(Analysis!$A$7,'MorningStar Data'!$A$1:$A$150,0),G1+1)/100=0,\"\",INDEX('MorningStar Data'!$A$1:$M$150,MATCH(Analysis!$A$7,'MorningStar Data'!$A$1:$A$150,0),G1+1)/100)","v":{"v":0.33299999999999996,"d":"33%"}},{"$f":"IF(INDEX('MorningStar Data'!$A$1:$M$150,MATCH(Analysis!$A$7,'MorningStar Data'!$A$1:$A$150,0),H1+1)/100=0,\"\",INDEX('MorningStar Data'!$A$1:$M$150,MATCH(Analysis!$A$7,'MorningStar Data'!$A$1:$A$150,0),H1+1)/100)","v":{"v":0.2872,"d":"29%"}},{"$f":"IF(INDEX('MorningStar Data'!$A$1:$M$150,MATCH(Analysis!$A$7,'MorningStar Data'!$A$1:$A$150,0),I1+1)/100=0,\"\",INDEX('MorningStar Data'!$A$1:$M$150,MATCH(Analysis!$A$7,'MorningStar Data'!$A$1:$A$150,0),I1+1)/100)","v":{"v":0.2611,"d":"26%"}},{"$f":"IF(INDEX('MorningStar Data'!$A$1:$M$150,MATCH(Analysis!$A$7,'MorningStar Data'!$A$1:$A$150,0),J1+1)/100=0,\"\",INDEX('MorningStar Data'!$A$1:$M$150,MATCH(Analysis!$A$7,'MorningStar Data'!$A$1:$A$150,0),J1+1)/100)","v":{"v":0.2703,"d":"27%"}},{"$f":"IF(INDEX('MorningStar Data'!$A$1:$M$150,MATCH(Analysis!$A$7,'MorningStar Data'!$A$1:$A$150,0),K1+1)/100=0,\"\",INDEX('MorningStar Data'!$A$1:$M$150,MATCH(Analysis!$A$7,'MorningStar Data'!$A$1:$A$150,0),K1+1)/100)","v":{"v":0.2481,"d":"25%"}},{"$f":"IF(INDEX('MorningStar Data'!$A$1:$M$150,MATCH(Analysis!$A$7,'MorningStar Data'!$A$1:$A$150,0),L1+1)/100=0,\"\",INDEX('MorningStar Data'!$A$1:$M$150,MATCH(Analysis!$A$7,'MorningStar Data'!$A$1:$A$150,0),L1+1)/100)","v":{"v":0.22940000000000002,"d":"23%"}},{"v":0.309,"d":"30.90%"},{"v":0.05590034784228898,"d":"6%"},{"$f":"(M7-P7)/M7","v":{"v":3.484551516467E-3,"d":"0.003"}},{"$f":"((1+IF(C7=\"\",0,C7))*(1+IF(D7=\"\",0,D7))*(1+IF(E7=\"\",0,E7))*(1+IF(F7=\"\",0,F7))*(1+IF(G7=\"\",0,G7))*(1+IF(H7=\"\",0,H7))*(1+IF(I7=\"\",0,I7))*(1+IF(J7=\"\",0,J7))*(1+IF(K7=\"\",0,K7))*(1+IF(L7=\"\",0,L7)))^(1/10)-1","v":{"v":0.3079232735814117,"d":"31%"}}]
["1Y rolling growth growth in RoE",null,null,{"$f":"(D7/C7)-1","v":{"v":-0.054239073196419074,"d":"-5%"}},{"v":0.039253897550111105,"d":"4%"},{"v":-0.06616662201982304,"d":"-7%"},{"v":-0.044750430292599175,"d":"-4%"},{"v":-0.1375375375375374,"d":"-14%"},{"v":-0.09087743732590536,"d":"-9%"},{"v":0.03523554193795486,"d":"4%"},{"v":-0.08213096559378463,"d":"-8%"},{"v":-0.07537283353486479,"d":"-8%"}]
["3Y rolling growth RoE",{"$nulls":3},{"$f":"(E7/C7)^(1/3)-1","v":{"v":-0.005737614144496361,"d":"-1%"}},{"$f":"(F7/D7)^(1/3)-1","v":{"v":-0.009935052477633377,"d":"-1%"}},{"$f":"(G7/E7)^(1/3)-1","v":{"v":-0.03736403967287072,"d":"-4%"}},{"$f":"(H7/F7)^(1/3)-1","v":{"v":-0.062540853015838,"d":"-6%"}},{"$f":"(I7/G7)^(1/3)-1","v":{"v":-0.07787977811427504,"d":"-8%"}},{"$f":"(J7/H7)^(1/3)-1","v":{"v":-0.0200124988204039,"d":"-2%"}},{"$f":"(K7/I7)^(1/3)-1","v":{"v":-0.01687977453449141,"d":"-2%"}},{"$f":"(L7/J7)^(1/3)-1","v":{"v":-0.053219896654137955,"d":"-5%"}}]
["5Y rolling growth RoE",{"$nulls":5},{"$f":"(G7/C7)^(1/5)-1","v":{"v":-0.0259576167729898,"d":"-3%"}},{"$f":"(H7/D7)^(1/5)-1","v":{"v":-0.04375402198803391,"d":"-4%"}},{"$f":"(I7/E7)^(1/5)-1","v":{"v":-0.06899979549467505,"d":"-7%"}},{"$f":"(J7/F7)^(1/5)-1","v":{"v":-0.04960589777153501,"d":"-5%"}},{"$f":"(K7/G7)^(1/5)-1","v":{"v":-0.05716324133704609,"d":"-6%"}},{"$f":"(L7/H7)^(1/5)-1","v":{"v":-0.04394738085211214,"d":"-4%"}}]
["7Y rolling growth RoE",{"$nulls":7},{"$f":"(I7/C7)^(1/7)-1","v":{"v":-0.052126737175127835,"d":"-5%"}},{"$f":"(J7/D7)^(1/7)-1","v":{"v":-0.0398070098388712,"d":"-4%"}},{"$f":"(K7/E7)^(1/7)-1","v":{"v":-0.05669381488808889,"d":"-6%"}},{"$f":"(L7/F7)^(1/7)-1","v":{"v":-0.0580279766548808,"d":"-6%"}}]
["Return on Invested Capital %",{"$f":"IF(INDEX('MorningStar Data'!$A$1:$M$150,MATCH(Analysis!$A$12,'MorningStar Data'!$A$1:$A$150,0),B1+1)/100=0,\"\",INDEX('MorningStar Data'!$A$1:$M$150,MATCH(Analysis!$A$12,'MorningStar Data'!$A$1:$A$150,0),B1+1)/100)","v":{"v":0.2575,"d":"26%"}},{"$f":"IF(INDEX('MorningStar Data'!$A$1:$M$150,MATCH(Analysis!$A$12,'MorningStar Data'!$A$1:$A$150,0),C1+1)/100=0,\"\",INDEX('MorningStar Data'!$A$1:$M$150,MATCH(Analysis!$A$12,'MorningStar Data'!$A$1:$A$150,0),C1+1)/100)","v":{"v":0.37979999999999997,"d":"38%"}},{"$f":"IF(INDEX('MorningStar Data'!$A$1:$M$150,MATCH(Analysis!$A$12,'MorningStar Data'!$A$1:$A$150,0),D1+1)/100=0,\"\",INDEX('MorningStar Data'!$A$1:$M$150,MATCH(Analysis!$A$12,'MorningStar Data'!$A$1:$A$150,0),D1+1)/100)","v":{"v":0.3592,"d":"36%"}},{"$f":"IF(INDEX('MorningStar Data'!$A$1:$M$150,MATCH(Analysis!$A$12,'MorningStar Data'!$A$1:$A$150,0),E1+1)/100=0,\"\",INDEX('MorningStar Data'!$A$1:$M$150,MATCH(Analysis!$A$12,'MorningStar Data'!$A$1:$A$150,0),E1+1)/100)","v":{"v":0.37329999999999997,"d":"37%"}},{"$f":"IF(INDEX('MorningStar Data'!$A$1:$M$150,MATCH(Analysis!$A$12,'MorningStar Data'!$A$1:$A$150,0),F1+1)/100=0,\"\",INDEX('MorningStar Data'!$A$1:$M$150,MATCH(Analysis!$A$12,'MorningStar Data'!$A$1:$A$150,0),F1+1)/100)","v":{"v":0.3486,"d":"35%"}},{"$f":"IF(INDEX('MorningStar Data'!$A$1:$M$150,MATCH(Analysis!$A$12,'MorningStar Data'!$A$1:$A$150,0),G1+1)/100=0,\"\",INDEX('MorningStar Data'!$A$1:$M$150,MATCH(Analysis!$A$12,'MorningStar Data'!$A$1:$A$150,0),G1+1)/100)","v":{"v":0.33299999999999996,"d":"33%"}},{"$f":"IF(INDEX('MorningStar Data'!$A$1:$M$150,MATCH(Analysis!$A$12,'MorningStar Data'!$A$1:$A$150,0),H1+1)/100=0,\"\",INDEX('MorningStar Data'!$A$1:$M$150,MATCH(Analysis!$A$12,'MorningStar Data'!$A$1:$A$150,0),H1+1)/100)","v":{"v":0.2872,"d":"29%"}},{"$f":"IF(INDEX('MorningStar Data'!$A$1:$M$150,MATCH(Analysis!$A$12,'MorningStar Data'!$A$1:$A$150,0),I1+1)/100=0,\"\",INDEX('MorningStar Data'!$A$1:$M$150,MATCH(Analysis!$A$12,'MorningStar Data'!$A$1:$A$150,0),I1+1)/100)","v":{"v":0.2611,"d":"26%"}},{"$f":"IF(INDEX('MorningStar Data'!$A$1:$M$150,MATCH(Analysis!$A$12,'MorningStar Data'!$A$1:$A$150,0),J1+1)/100=0,\"\",INDEX('MorningStar Data'!$A$1:$M$150,MATCH(Analysis!$A$12,'MorningStar Data'!$A$1:$A$150,0),J1+1)/100)","v":{"v":0.2703,"d":"27%"}},{"$f":"IF(INDEX('MorningStar Data'!$A$1:$M$150,MATCH(Analysis!$A$12,'MorningStar Data'!$A$1:$A$150,0),K1+1)/100=0,\"\",INDEX('MorningStar Data'!$A$1:$M$150,MATCH(Analysis!$A$12,'MorningStar Data'!$A$1:$A$150,0),K1+1)/100)","v":{"v":0.2481,"d":"25%"}},{"$f":"IF(INDEX('MorningStar Data'!$A$1:$M$150,MATCH(Analysis!$A$12,'MorningStar Data'!$A$1:$A$150,0),L1+1)/100=0,\"\",INDEX('MorningStar Data'!$A$1:$M$150,MATCH(Analysis!$A$12,'MorningStar Data'!$A$1:$A$150,0),L1+1)/100)","v":{"v":0.22940000000000002,"d":"23%"}},{"$f":"AVERAGE(C12:L12)","v":{"v":0.309,"d":"30.90%"}},{"$f":"STDEV(C12:L12)","v":{"v":0.05590034784228898,"d":"6%"}},{"$f":"(M12-P12)/M12","v":{"v":3.484551516467E-3,"d":"0.003"}},{"$f":"((1+IF(C12=\"\",0,C12))*(1+IF(D12=\"\",0,D12))*(1+IF(E12=\"\",0,E12))*(1+IF(F12=\"\",0,F12))*(1+IF(G12=\"\",0,G12))*(1+IF(H12=\"\",0,H12))*(1+IF(I12=\"\",0,I12))*(1+IF(J12=\"\",0,J12))*(1+IF(K12=\"\",0,K12))*(1+IF(L12=\"\",0,L12)))^(1/10)-1","v":{"v":0.3079232735814117,"d":"31%"}}]
["1Y rolling growth growth in RoIC",null,null,{"$f":"(D12/C12)-1","v":{"v":-0.054239073196419074,"d":"-5%"}},{"v":0.039253897550111105,"d":"4%"},{"v":-0.06616662201982304,"d":"-7%"},{"v":-0.044750430292599175,"d":"-4%"},{"v":-0.1375375375375374,"d":"-14%"},{"v":-0.09087743732590536,"d":"-9%"},{"v":0.03523554193795486,"d":"4%"},{"v":-0.08213096559378463,"d":"-8%"},{"v":-0.07537283353486479,"d":"-8%"}]
["3Y rolling growth ROIC",{"$nulls":3},{"$f":"(E12/C12)^(1/3)-1","v":{"v":-0.005737614144496361,"d":"-1%"}},{"$f":"(F12/D12)^(1/3)-1","v":{"v":-0.009935052477633377,"d":"-1%"}},{"$f":"(G12/E12)^(1/3)-1","v":{"v":-0.03736403967287072,"d":"-4%"}},{"$f":"(H12/F12)^(1/3)-1","v":{"v":-0.062540853015838,"d":"-6%"}},{"$f":"(I12/G12)^(1/3)-1","v":{"v":-0.07787977811427504,"d":"-8%"}},{"$f":"(J12/H12)^(1/3)-1","v":{"v":-0.0200124988204039,"d":"-2%"}},{"$f":"(K12/I12)^(1/3)-1","v":{"v":-0.01687977453449141,"d":"-2%"}},{"$f":"(L12/J12)^(1/3)-1","v":{"v":-0.053219896654137955,"d":"-5%"}}]
["5Y rolling growth ROIC",{"$nulls":5},{"$f":"(G12/C12)^(1/5)-1","v":{"v":-0.0259576167729898,"d":"-3%"}},{"$f":"(H12/D12)^(1/5)-1","v":{"v":-0.04375402198803391,"d":"-4%"}},{"$f":"(I12/E12)^(1/5)-1","v":{"v":-0.06899979549467505,"d":"-7%"}},{"$f":"(J12/F12)^(1/5)-1","v":{"v":-0.04960589777153501,"d":"-5%"}},{"$f":"(K12/G12)^(1/5)-1","v":{"v":-0.05716324133704609,"d":"-6%"}},{"$f":"(L12/H12)^(1/5)-1","v":{"v":-0.04394738085211214,"d":"-4%"}}]
["7Y rolling growth ROIC",{"$nulls":7},{"$f":"(I12/C12)^(1/7)-1","v":{"v":-0.052126737175127835,"d":"-5%"}},{"$f":"(J12/D12)^(1/7)-1","v":{"v":-0.0398070098388712,"d":"-4%"}},{"$f":"(K12/E12)^(1/7)-1","v":{"v":-0.05669381488808889,"d":"-6%"}},{"$f":"(L12/F12)^(1/7)-1","v":{"v":-0.0580279766548808,"d":"-6%"}}]
["Return on Assets %",{"$f":"IF(INDEX('MorningStar Data'!$A$1:$M$150,MATCH(Analysis!$A$17,'MorningStar Data'!$A$1:$A$150,0),B1+1)/100=0,\"\",INDEX('MorningStar Data'!$A$1:$M$150,MATCH(Analysis!$A$17,'MorningStar Data'!$A$1:$A$150,0),B1+1)/100)","v":{"v":0.2114,"d":"21%"}},{"$f":"IF(INDEX('MorningStar Data'!$A$1:$M$150,MATCH(Analysis!$A$17,'MorningStar Data'!$A$1:$A$150,0),C1+1)/100=0,\"\",INDEX('MorningStar Data'!$A$1:$M$150,MATCH(Analysis!$A$17,'MorningStar Data'!$A$1:$A$150,0),C1+1)/100)","v":{"v":0.324,"d":"32%"}},{"$f":"IF(INDEX('MorningStar Data'!$A$1:$M$150,MATCH(Analysis!$A$17,'MorningStar Data'!$A$1:$A$150,0),D1+1)/100=0,\"\",INDEX('MorningStar Data'!$A$1:$M$150,MATCH(Analysis!$A$17,'MorningStar Data'!$A$1:$A$150,0),D1+1)/100)","v":{"v":0.3153,"d":"32%"}},{"$f":"IF(INDEX('MorningStar Data'!$A$1:$M$150,MATCH(Analysis!$A$17,'MorningStar Data'!$A$1:$A$150,0),E1+1)/100=0,\"\",INDEX('MorningStar Data'!$A$1:$M$150,MATCH(Analysis!$A$17,'MorningStar Data'!$A$1:$A$150,0),E1+1)/100)","v":{"v":0.3308,"d":"33%"}},{"$f":"IF(INDEX('MorningStar Data'!$A$1:$M$150,MATCH(Analysis!$A$17,'MorningStar Data'!$A$1:$A$150,0),F1+1)/100=0,\"\",INDEX('MorningStar Data'!$A$1:$M$150,MATCH(Analysis!$A$17,'MorningStar Data'!$A$1:$A$150,0),F1+1)/100)","v":{"v":0.3054,"d":"31%"}},{"$f":"IF(INDEX('MorningStar Data'!$A$1:$M$150,MATCH(Analysis!$A$17,'MorningStar Data'!$A$1:$A$150,0),G1+1)/100=0,\"\",INDEX('MorningStar Data'!$A$1:$M$150,MATCH(Analysis!$A$17,'MorningStar Data'!$A$1:$A$150,0),G1+1)/100)","v":{"v":0.2889,"d":"29%"}},{"$f":"IF(INDEX('MorningStar Data'!$A$1:$M$150,MATCH(Analysis!$A$17,'MorningStar Data'!$A$1:$A$150,0),H1+1)/100=0,\"\",INDEX('MorningStar Data'!$A$1:$M$150,MATCH(Analysis!$A$17,'MorningStar Data'!$A$1:$A$150,0),H1+1)/100)","v":{"v":0.2495,"d":"25%"}},{"$f":"IF(INDEX('MorningStar Data'!$A$1:$M$150,MATCH(Analysis!$A$17,'MorningStar Data'!$A$1:$A$150,0),I1+1)/100=0,\"\",INDEX('MorningStar Data'!$A$1:$M$150,MATCH(Analysis!$A$17,'MorningStar Data'!$A$1:$A$150,0),I1+1)/100)","v":{"v":0.2278,"d":"23%"}},{"$f":"IF(INDEX('MorningStar Data'!$A$1:$M$150,MATCH(Analysis!$A$17,'MorningStar Data'!$A$1:$A$150,0),J1+1)/100=0,\"\",INDEX('MorningStar Data'!$A$1:$M$150,MATCH(Analysis!$A$17,'MorningStar Data'!$A$1:$A$150,0),J1+1)/100)","v":{"v":0.2359,"d":"24%"}},{"$f":"IF(INDEX('MorningStar Data'!$A$1:$M$150,MATCH(Analysis!$A$17,'MorningStar Data'!$A$1:$A$150,0),K1+1)/100=0,\"\",INDEX('MorningStar Data'!$A$1:$M$150,MATCH(Analysis!$A$17,'MorningStar Data'!$A$1:$A$150,0),K1+1)/100)","v":{"v":0.2146,"d":"21%"}},{"$f":"IF(INDEX('MorningStar Data'!$A$1:$M$150,MATCH(Analysis!$A$17,'MorningStar Data'!$A$1:$A$150,0),L1+1)/100=0,\"\",INDEX('MorningStar Data'!$A$1:$M$150,MATCH(Analysis!$A$17,'MorningStar Data'!$A$1:$A$150,0),L1+1)/100)","v":{"v":0.19390000000000002,"d":"19%"}},{"$f":"AVERAGE(C17:L17)","v":{"v":0.26861,"d":"26.86%"}},{"$f":"STDEV(C17:L17)","v":{"v":0.04997782730593873,"d":"5%"}},{"$f":"(M17-P17)/M17","v":{"v":3.3095933083752355E-3,"d":"0.003"}},{"$f":"((1+IF(C17=\"\",0,C17))*(1+IF(D17=\"\",0,D17))*(1+IF(E17=\"\",0,E17))*(1+IF(F17=\"\",0,F17))*(1+IF(G17=\"\",0,G17))*(1+IF(H17=\"\",0,H17))*(1+IF(I17=\"\",0,I17))*(1+IF(J17=\"\",0,J17))*(1+IF(K17=\"\",0,K17))*(1+IF(L17=\"\",0,L17)))^(1/10)-1","v":{"v":0.26772101014143734,"d":"27%"}}]
[null,{"$f":"B2","v":"TTM"},{"$f":"C2","v":"2005"},"2006","2007","2008","2009","2010","2011","2012","2013","2014","Average","Std Dev","Inconsistency measure*","Geometric average*"]
["Shares Mil",{"$f":"IF(INDEX('MorningStar Data'!$A$1:$M$150,MATCH(Analysis!$A$19,'MorningStar Data'!$A$1:$A$150,0),B1+1)=0,\"\",INDEX('MorningStar Data'!$A$1:$M$150,MATCH(Analysis!$A$19,'MorningStar Data'!$A$1:$A$150,0),B1+1))","v":1143},{"$f":"IF(INDEX('MorningStar Data'!$A$1:$M$150,MATCH(Analysis!$A$19,'MorningStar Data'!$A$1:$A$150,0),C1+1)=0,\"\",INDEX('MorningStar Data'!$A$1:$M$150,MATCH(Analysis!$A$19,'MorningStar Data'!$A$1:$A$150,0),C1+1))","v":1094},{"$f":"IF(INDEX('MorningStar Data'!$A$1:$M$150,MATCH(Analysis!$A$19,'MorningStar Data'!$A$1:$A$150,0),D1+1)=0,\"\",INDEX('MorningStar Data'!$A$1:$M$150,MATCH(Analysis!$A$19,'MorningStar Data'!$A$1:$A$150,0),D1+1))","v":1116},{"$f":"IF(INDEX('MorningStar Data'!$A$1:$M$150,MATCH(Analysis!$A$19,'MorningStar Data'!$A$1:$A$150,0),E1+1)=0,\"\",INDEX('MorningStar Data'!$A$1:$M$150,MATCH(Analysis!$A$19,'MorningStar Data'!$A$1:$A$150,0),E1+1))","v":1132},{"$f":"IF(INDEX('MorningStar Data'!$A$1:$M$150,MATCH(Analysis!$A$19,'MorningStar Data'!$A$1:$A$150,0),F1+1)=0,\"\",INDEX('MorningStar Data'!$A$1:$M$150,MATCH(Analysis!$A$19,'MorningStar Data'!$A$1:$A$150,0),F1+1))","v":1141},{"$f":"IF(INDEX('MorningStar Data'!$A$1:$M$150,MATCH(Analysis!$A$19,'MorningStar Data'!$A$1:$A$150,0),G1+1)=0,\"\",INDEX('MorningStar Data'!$A$1:$M$150,MATCH(Analysis!$A$19,'MorningStar Data'!$A$1:$A$150,0),G1+1))","v":1141},{"$f":"IF(INDEX('MorningStar Data'!$A$1:$M$150,MATCH(Analysis!$A$19,'MorningStar Data'!$A$1:$A$150,0),H1+1)=0,\"\",INDEX('MorningStar Data'!$A$1:$M$150,MATCH(Analysis!$A$19,'MorningStar Data'!$A$1:$A$150,0),H1+1))","v":1142},{"$f":"IF(INDEX('MorningStar Data'!$A$1:$M$150,MATCH(Analysis!$A$19,'MorningStar Data'!$A$1:$A$150,0),I1+1)=0,\"\",INDEX('MorningStar Data'!$A$1:$M$150,MATCH(Analysis!$A$19,'MorningStar Data'!$A$1:$A$150,0),I1+1))","v":1143},{"$f":"IF(INDEX('MorningStar Data'!$A$1:$M$150,MATCH(Analysis!$A$19,'MorningStar Data'!$A$1:$A$150,0),J1+1)=0,\"\",INDEX('MorningStar Data'!$A$1:$M$150,MATCH(Analysis!$A$19,'MorningStar Data'!$A$1:$A$150,0),J1+1))","v":1143},{"$f":"IF(INDEX('MorningStar Data'!$A$1:$M$150,MATCH(Analysis!$A$19,'MorningStar Data'!$A$1:$A$150,0),K1+1)=0,\"\",INDEX('MorningStar Data'!$A$1:$M$150,MATCH(Analysis!$A$19,'MorningStar Data'!$A$1:$A$150,0),K1+1))","v":1143},{"$f":"IF(INDEX('MorningStar Data'!$A$1:$M$150,MATCH(Analysis!$A$19,'MorningStar Data'!$A$1:$A$150,0),L1+1)=0,\"\",INDEX('MorningStar Data'!$A$1:$M$150,MATCH(Analysis!$A$19,'MorningStar Data'!$A$1:$A$150,0),L1+1))","v":1143}]
[{"$f":"INDEX('MorningStar Data'!A1:A250,MATCH(\"Net Income\"& \"*\",'MorningStar Data'!A1:A250,0),1)","v":"Net Income USD Mil"},{"$f":"IF(INDEX('MorningStar Data'!$A$1:$M$150,MATCH(Analysis!$A$20,'MorningStar Data'!$A$1:$A$150,0),B1+1)=0,\"\",INDEX('MorningStar Data'!$A$1:$M$150,MATCH(Analysis!$A$20,'MorningStar Data'!$A$1:$A$150,0),B1+1))","v":1943},{"$f":"IF(INDEX('MorningStar Data'!$A$1:$M$150,MATCH(Analysis!$A$20,'MorningStar Data'!$A$1:$A$150,0),C1+1)=0,\"\",INDEX('MorningStar Data'!$A$1:$M$150,MATCH(Analysis!$A$20,'MorningStar Data'!$A$1:$A$150,0),C1+1))","v":419},{"$f":"IF(INDEX('MorningStar Data'!$A$1:$M$150,MATCH(Analysis!$A$20,'MorningStar Data'!$A$1:$A$150,0),D1+1)=0,\"\",INDEX('MorningStar Data'!$A$1:$M$150,MATCH(Analysis!$A$20,'MorningStar Data'!$A$1:$A$150,0),D1+1))","v":555},{"$f":"IF(INDEX('MorningStar Data'!$A$1:$M$150,MATCH(Analysis!$A$20,'MorningStar Data'!$A$1:$A$150,0),E1+1)=0,\"\",INDEX('MorningStar Data'!$A$1:$M$150,MATCH(Analysis!$A$20,'MorningStar Data'!$A$1:$A$150,0),E1+1))","v":850},{"$f":"IF(INDEX('MorningStar Data'!$A$1:$M$150,MATCH(Analysis!$A$20,'MorningStar Data'!$A$1:$A$150,0),F1+1)=0,\"\",INDEX('MorningStar Data'!$A$1:$M$150,MATCH(Analysis!$A$20,'MorningStar Data'!$A$1:$A$150,0),F1+1))","v":1155},{"$f":"IF(INDEX('MorningStar Data'!$A$1:$M$150,MATCH(Analysis!$A$20,'MorningStar Data'!$A$1:$A$150,0),G1+1)=0,\"\",INDEX('MorningStar Data'!$A$1:$M$150,MATCH(Analysis!$A$20,'MorningStar Data'!$A$1:$A$150,0),G1+1))","v":1281},{"$f":"IF(INDEX('MorningStar Data'!$A$1:$M$150,MATCH(Analysis!$A$20,'MorningStar Data'!$A$1:$A$150,0),H1+1)=0,\"\",INDEX('MorningStar Data'!$A$1:$M$150,MATCH(Analysis!$A$20,'MorningStar Data'!$A$1:$A$150,0),H1+1))","v":1313},{"$f":"IF(INDEX('MorningStar Data'!$A$1:$M$150,MATCH(Analysis!$A$20,'MorningStar Data'!$A$1:$A$150,0),I1+1)=0,\"\",INDEX('MorningStar Data'!$A$1:$M$150,MATCH(Analysis!$A$20,'MorningStar Data'!$A$1:$A$150,0),I1+1))","v":1499},{"$f":"IF(INDEX('MorningStar Data'!$A$1:$M$150,MATCH(Analysis!$A$20,'MorningStar Data'!$A$1:$A$150,0),J1+1)=0,\"\",INDEX('MorningStar Data'!$A$1:$M$150,MATCH(Analysis!$A$20,'MorningStar Data'!$A$1:$A$150,0),J1+1))","v":1716},{"$f":"IF(INDEX('MorningStar Data'!$A$1:$M$150,MATCH(Analysis!$A$20,'MorningStar Data'!$A$1:$A$150,0),K1+1)=0,\"\",INDEX('MorningStar Data'!$A$1:$M$150,MATCH(Analysis!$A$20,'MorningStar Data'!$A$1:$A$150,0),K1+1))","v":1725},{"$f":"IF(INDEX('MorningStar Data'!$A$1:$M$150,MATCH(Analysis!$A$20,'MorningStar Data'!$A$1:$A$150,0),L1+1)=0,\"\",INDEX('MorningStar Data'!$A$1:$M$150,MATCH(Analysis!$A$20,'MorningStar Data'!$A$1:$A$150,0),L1+1))","v":1751},{"v":1226.4,"d":"1226"},{"v":482.7875539222425,"d":"483"},{"$f":"(M20-P20)/M20","v":{"v":0.09031321549821547,"d":"0.090"}},{"$f":"((1+IF(C20=\"\",0,C20))*(1+IF(D20=\"\",0,D20))*(1+IF(E20=\"\",0,E20))*(1+IF(F20=\"\",0,F20))*(1+IF(G20=\"\",0,G20))*(1+IF(H20=\"\",0,H20))*(1+IF(I20=\"\",0,I20))*(1+IF(J20=\"\",0,J20))*(1+IF(K20=\"\",0,K20))*(1+IF(L20=\"\",0,L20)))^(1/10)-1","v":{"v":1115.6398725129886,"d":"1116"}}]
[{"$f":"INDEX('MorningStar Data'!A1:A250,MATCH(\"Earnings Per Share\"& \"*\",'MorningStar Data'!A1:A250,0),1)","v":"Earnings Per Share USD"},{"$f":"IF(INDEX('MorningStar Data'!$A$1:$M$150,MATCH(Analysis!$A$21,'MorningStar Data'!$A$1:$A$150,0),B1+1)=0,\"\",INDEX('MorningStar Data'!$A$1:$M$150,MATCH(Analysis!$A$21,'MorningStar Data'!$A$1:$A$150,0),B1+1))","v":1.7},{"$f":"IF(INDEX('MorningStar Data'!$A$1:$M$150,MATCH(Analysis!$A$21,'MorningStar Data'!$A$1:$A$150,0),C1+1)=0,\"\",INDEX('MorningStar Data'!$A$1:$M$150,MATCH(Analysis!$A$21,'MorningStar Data'!$A$1:$A$150,0),C1+1))","v":0.38},{"$f":"IF(INDEX('MorningStar Data'!$A$1:$M$150,MATCH(Analysis!$A$21,'MorningStar Data'!$A$1:$A$150,0),D1+1)=0,\"\",INDEX('MorningStar Data'!$A$1:$M$150,MATCH(Analysis!$A$21,'MorningStar Data'!$A$1:$A$150,0),D1+1))","v":0.5},{"$f":"IF(INDEX('MorningStar Data'!$A$1:$M$150,MATCH(Analysis!$A$21,'MorningStar Data'!$A$1:$A$150,0),E1+1)=0,\"\",INDEX('MorningStar Data'!$A$1:$M$150,MATCH(Analysis!$A$21,'MorningStar Data'!$A$1:$A$150,0),E1+1))","v":0.75},{"$f":"IF(INDEX('MorningStar Data'!$A$1:$M$150,MATCH(Analysis!$A$21,'MorningStar Data'!$A$1:$A$150,0),F1+1)=0,\"\",INDEX('MorningStar Data'!$A$1:$M$150,MATCH(Analysis!$A$21,'MorningStar Data'!$A$1:$A$150,0),F1+1))","v":1.01},{"$f":"IF(INDEX('MorningStar Data'!$A$1:$M$150,MATCH(Analysis!$A$21,'MorningStar Data'!$A$1:$A$150,0),G1+1)=0,\"\",INDEX('MorningStar Data'!$A$1:$M$150,MATCH(Analysis!$A$21,'MorningStar Data'!$A$1:$A$150,0),G1+1))","v":1.13},{"$f":"IF(INDEX('MorningStar Data'!$A$1:$M$150,MATCH(Analysis!$A$21,'MorningStar Data'!$A$1:$A$150,0),H1+1)=0,\"\",INDEX('MorningStar Data'!$A$1:$M$150,MATCH(Analysis!$A$21,'MorningStar Data'!$A$1:$A$150,0),H1+1))","v":1.15},{"$f":"IF(INDEX('MorningStar Data'!$A$1:$M$150,MATCH(Analysis!$A$21,'MorningStar Data'!$A$1:$A$150,0),I1+1)=0,\"\",INDEX('MorningStar Data'!$A$1:$M$150,MATCH(Analysis!$A$21,'MorningStar Data'!$A$1:$A$150,0),I1+1))","v":1.31},{"$f":"IF(INDEX('MorningStar Data'!$A$1:$M$150,MATCH(Analysis!$A$21,'MorningStar Data'!$A$1:$A$150,0),J1+1)=0,\"\",INDEX('MorningStar Data'!$A$1:$M$150,MATCH(Analysis!$A$21,'MorningStar Data'!$A$1:$A$150,0),J1+1))","v":1.5},{"$f":"IF(INDEX('MorningStar Data'!$A$1:$M$150,MATCH(Analysis!$A$21,'MorningStar Data'!$A$1:$A$150,0),K1+1)=0,\"\",INDEX('MorningStar Data'!$A$1:$M$150,MATCH(Analysis!$A$21,'MorningStar Data'!$A$1:$A$150,0),K1+1))","v":1.51},{"$f":"IF(INDEX('MorningStar Data'!$A$1:$M$150,MATCH(Analysis!$A$21,'MorningStar Data'!$A$1:$A$150,0),L1+1)=0,\"\",INDEX('MorningStar Data'!$A$1:$M$150,MATCH(Analysis!$A$21,'MorningStar Data'!$A$1:$A$150,0),L1+1))","v":1.53},{"$f":"AVERAGE(C21:L21)","v":{"v":1.077,"d":"1.1"}},{"$f":"STDEV(C21:L21)","v":{"v":0.4168946043199782,"d":"0.4"}},{"v":0.03824673009195889,"d":"0.038"},{"v":1.0358082716909602,"d":"1"}]
[{"$f":"INDEX('MorningStar Data'!A1:A250,MATCH(\"Dividends\"& \"*\",'MorningStar Data'!A1:A250,0),1)","v":"Dividends USD"},{"$f":"IF(INDEX('MorningStar Data'!$A$1:$M$150,MATCH(Analysis!$A$22,'MorningStar Data'!$A$1:$A$150,0),B1+1)=0,\"\",INDEX('MorningStar Data'!$A$1:$M$150,MATCH(Analysis!$A$22,'MorningStar Data'!$A$1:$A$150,0),B1+1))","v":0.53},{"$f":"IF(INDEX('MorningStar Data'!$A$1:$M$150,MATCH(Analysis!$A$22,'MorningStar Data'!$A$1:$A$150,0),C1+1)=0,\"\",INDEX('MorningStar Data'!$A$1:$M$150,MATCH(Analysis!$A$22,'MorningStar Data'!$A$1:$A$150,0),C1+1))","v":0.03},{"$f":"IF(INDEX('MorningStar Data'!$A$1:$M$150,MATCH(Analysis!$A$22,'MorningStar Data'!$A$1:$A$150,0),D1+1)=0,\"\",INDEX('MorningStar Data'!$A$1:$M$150,MATCH(Analysis!$A$22,'MorningStar Data'!$A$1:$A$150,0),D1+1))","v":0.09},{"$f":"IF(INDEX('MorningStar Data'!$A$1:$M$150,MATCH(Analysis!$A$22,'MorningStar Data'!$A$1:$A$150,0),E1+1)=0,\"\",INDEX('MorningStar Data'!$A$1:$M$150,MATCH(Analysis!$A$22,'MorningStar Data'!$A$1:$A$150,0),E1+1))","v":0.26},{"$f":"IF(INDEX('MorningStar Data'!$A$1:$M$150,MATCH(Analysis!$A$22,'MorningStar Data'!$A$1:$A$150,0),F1+1)=0,\"\",INDEX('MorningStar Data'!$A$1:$M$150,MATCH(Analysis!$A$22,'MorningStar Data'!$A$1:$A$150,0),F1+1))","v":0.16},{"$f":"IF(INDEX('MorningStar Data'!$A$1:$M$150,MATCH(Analysis!$A$22,'MorningStar Data'!$A$1:$A$150,0),G1+1)=0,\"\",INDEX('MorningStar Data'!$A$1:$M$150,MATCH(Analysis!$A$22,'MorningStar Data'!$A$1:$A$150,0),G1+1))","v":0.45},{"$f":"IF(INDEX('MorningStar Data'!$A$1:$M$150,MATCH(Analysis!$A$22,'MorningStar Data'!$A$1:$A$150,0),H1+1)=0,\"\",INDEX('MorningStar Data'!$A$1:$M$150,MATCH(Analysis!$A$22,'MorningStar Data'!$A$1:$A$150,0),H1+1))","v":0.25},{"$f":"IF(INDEX('MorningStar Data'!$A$1:$M$150,MATCH(Analysis!$A$22,'MorningStar Data'!$A$1:$A$150,0),I1+1)=0,\"\",INDEX('MorningStar Data'!$A$1:$M$150,MATCH(Analysis!$A$22,'MorningStar Data'!$A$1:$A$150,0),I1+1))","v":0.27},{"$f":"IF(INDEX('MorningStar Data'!$A$1:$M$150,MATCH(Analysis!$A$22,'MorningStar Data'!$A$1:$A$150,0),J1+1)=0,\"\",INDEX('MorningStar Data'!$A$1:$M$150,MATCH(Analysis!$A$22,'MorningStar Data'!$A$1:$A$150,0),J1+1))","v":0.38},{"$f":"IF(INDEX('MorningStar Data'!$A$1:$M$150,MATCH(Analysis!$A$22,'MorningStar Data'!$A$1:$A$150,0),K1+1)=0,\"\",INDEX('MorningStar Data'!$A$1:$M$150,MATCH(Analysis!$A$22,'MorningStar Data'!$A$1:$A$150,0),K1+1))","v":0.33},{"$f":"IF(INDEX('MorningStar Data'!$A$1:$M$150,MATCH(Analysis!$A$22,'MorningStar Data'!$A$1:$A$150,0),L1+1)=0,\"\",INDEX('MorningStar Data'!$A$1:$M$150,MATCH(Analysis!$A$22,'MorningStar Data'!$A$1:$A$150,0),L1+1))","v":0.4},{"v":0.262,"d":"0.3"},{"v":0.13620246367489508,"d":"0.1"},{"v":0.026060704152866564,"d":"0.026"},{"v":0.25517209551194897,"d":"0"}]
["Payout Ratio %",{"$f":"IF(INDEX('MorningStar Data'!$A$1:$M$150,MATCH(Analysis!$A$23,'MorningStar Data'!$A$1:$A$150,0),B1+1)=0,\"\",INDEX('MorningStar Data'!$A$1:$M$150,MATCH(Analysis!$A$23,'MorningStar Data'!$A$1:$A$150,0),B1+1)/100)","v":{"v":0.311,"d":"31%"}},{"$f":"IF(INDEX('MorningStar Data'!$A$1:$M$150,MATCH(Analysis!$A$23,'MorningStar Data'!$A$1:$A$150,0),C1+1)=0,\"\",INDEX('MorningStar Data'!$A$1:$M$150,MATCH(Analysis!$A$23,'MorningStar Data'!$A$1:$A$150,0),C1+1)/100)","v":{"v":0.07200000000000001,"d":"7%"}},{"$f":"IF(INDEX('MorningStar Data'!$A$1:$M$150,MATCH(Analysis!$A$23,'MorningStar Data'!$A$1:$A$150,0),D1+1)=0,\"\",INDEX('MorningStar Data'!$A$1:$M$150,MATCH(Analysis!$A$23,'MorningStar Data'!$A$1:$A$150,0),D1+1)/100)","v":{"v":0.182,"d":"18%"}},{"$f":"IF(INDEX('MorningStar Data'!$A$1:$M$150,MATCH(Analysis!$A$23,'MorningStar Data'!$A$1:$A$150,0),E1+1)=0,\"\",INDEX('MorningStar Data'!$A$1:$M$150,MATCH(Analysis!$A$23,'MorningStar Data'!$A$1:$A$150,0),E1+1)/100)","v":{"v":0.35100000000000003,"d":"35%"}},{"$f":"IF(INDEX('MorningStar Data'!$A$1:$M$150,MATCH(Analysis!$A$23,'MorningStar Data'!$A$1:$A$150,0),F1+1)=0,\"\",INDEX('MorningStar Data'!$A$1:$M$150,MATCH(Analysis!$A$23,'MorningStar Data'!$A$1:$A$150,0),F1+1)/100)","v":{"v":0.156,"d":"16%"}},{"$f":"IF(INDEX('MorningStar Data'!$A$1:$M$150,MATCH(Analysis!$A$23,'MorningStar Data'!$A$1:$A$150,0),G1+1)=0,\"\",INDEX('MorningStar Data'!$A$1:$M$150,MATCH(Analysis!$A$23,'MorningStar Data'!$A$1:$A$150,0),G1+1)/100)","v":{"v":0.4,"d":"40%"}},{"$f":"IF(INDEX('MorningStar Data'!$A$1:$M$150,MATCH(Analysis!$A$23,'MorningStar Data'!$A$1:$A$150,0),H1+1)=0,\"\",INDEX('MorningStar Data'!$A$1:$M$150,MATCH(Analysis!$A$23,'MorningStar Data'!$A$1:$A$150,0),H1+1)/100)","v":{"v":0.217,"d":"22%"}},{"$f":"IF(INDEX('MorningStar Data'!$A$1:$M$150,MATCH(Analysis!$A$23,'MorningStar Data'!$A$1:$A$150,0),I1+1)=0,\"\",INDEX('MorningStar Data'!$A$1:$M$150,MATCH(Analysis!$A$23,'MorningStar Data'!$A$1:$A$150,0),I1+1)/100)","v":{"v":0.209,"d":"21%"}},{"$f":"IF(INDEX('MorningStar Data'!$A$1:$M$150,MATCH(Analysis!$A$23,'MorningStar Data'!$A$1:$A$150,0),J1+1)=0,\"\",INDEX('MorningStar Data'!$A$1:$M$150,MATCH(Analysis!$A$23,'MorningStar Data'!$A$1:$A$150,0),J1+1)/100)","v":{"v":0.25,"d":"25%"}},{"$f":"IF(INDEX('MorningStar Data'!$A$1:$M$150,MATCH(Analysis!$A$23,'MorningStar Data'!$A$1:$A$150,0),K1+1)=0,\"\",INDEX('MorningStar Data'!$A$1:$M$150,MATCH(Analysis!$A$23,'MorningStar Data'!$A$1:$A$150,0),K1+1)/100)","v":{"v":0.222,"d":"22%"}},{"$f":"IF(INDEX('MorningStar Data'!$A$1:$M$150,MATCH(Analysis!$A$23,'MorningStar Data'!$A$1:$A$150,0),L1+1)=0,\"\",INDEX('MorningStar Data'!$A$1:$M$150,MATCH(Analysis!$A$23,'MorningStar Data'!$A$1:$A$150,0),L1+1)/100)","v":{"v":0.263,"d":"26%"}},{"$f":"AVERAGE(C23:L23)","v":{"v":0.23220000000000002,"d":"23%"}},{"$f":"STDEV(C23:L23)","v":{"v":0.09333309523779156,"d":"9%"}},{"v":0.013615351684203131,"d":"0.014"},{"v":0.22903851533892805,"d":"0"}]
["Diluted Earnings Per Share*",null,{"$f":"IF(ISERROR(C20/C19),\"\",IF(C20/C19=0,\"\",C20/C19))","v":{"v":0.3829981718464351,"d":"0.38"}},{"$f":"IF(ISERROR(D20/D19),\"\",IF(D20/D19=0,\"\",D20/D19))","v":{"v":0.49731182795698925,"d":"0.50"}},{"v":0.7508833922261484,"d":"0.75"},{"v":1.0122699386503067,"d":"1.01"},{"v":1.1226993865030674,"d":"1.12"},{"v":1.1497373029772329,"d":"1.15"},{"v":1.3114610673665792,"d":"1.31"},{"v":1.5013123359580052,"d":"1.50"},{"v":1.5091863517060367,"d":"1.51"},{"v":1.5319335083114611,"d":"1.53"},{"v":1.0769793283502263,"d":"1.1"},{"v":0.41691466913182174,"d":"0.4"},{"v":0.03821861367246421,"d":"0.038"},{"v":1.035818671466779,"d":"1"}]
["1Y rolling growth growth in Diluted EPS",null,null,{"$f":"(D24/C24)-1","v":{"v":0.29847050068006276,"d":"30%"}},{"v":0.5098844427466336,"d":"51%"},{"v":0.3481053771201732,"d":"35%"},{"v":0.10909090909090913,"d":"11%"},{"v":0.02408295292507634,"d":"2%"},{"v":0.14066149195173905,"d":"14%"},{"v":0.14476317545030004,"d":"14%"},{"v":0.005244755244755206,"d":"1%"},{"v":0.015072463768116107,"d":"2%"},{"$f":"AVERAGE(C25:L25)","v":{"v":0.17726400766419614,"d":"18%"}},{"$f":"STDEV(C25:L25)","v":{"v":0.1735363494223599,"d":"17%"}},{"v":0.16117253811025267,"d":"0.161"},{"v":0.14869391763336237,"d":"0"}]
["3Y rolling growth diluted EPS",{"$nulls":3},{"$f":"(E24/C24)^(1/3)-1","v":{"v":0.25157995592970717,"d":"25%"}},{"$f":"(F24/D24)^(1/3)-1","v":{"v":0.2673284482350111,"d":"27%"}},{"v":0.14348462302867815,"d":"14%"},{"v":0.04335978680844965,"d":"4%"},{"v":0.05316715343456346,"d":"5%"},{"v":0.09301002088236188,"d":"9%"},{"v":0.04792247660154736,"d":"5%"},{"v":0.006753050453653264,"d":"1%"}]
["5Y rolling growth diluted EPS",{"$nulls":5},{"$f":"(G24/C24)^(1/5)-1","v":{"v":0.23997622124640894,"d":"24%"}},{"$f":"(H24/D24)^(1/5)-1","v":{"v":0.1824804431163145,"d":"18%"}},{"v":0.11798655499540778,"d":"12%"},{"v":0.08201913880985146,"d":"8%"},{"v":0.06095234423445128,"d":"6%"},{"v":0.05907876103570642,"d":"6%"}]
["7Y rolling growth diluted EPS",{"$nulls":7},{"$f":"(I24/C24)^(1/7)-1","v":{"v":0.19224505217177867,"d":"19%"}},{"$f":"(J24/D24)^(1/7)-1","v":{"v":0.17097842923090667,"d":"17%"}},{"v":0.10486712860757663,"d":"10%"},{"v":0.06097762495460901,"d":"6%"}]
["Book Value Per Share INR",{"$f":"IF(INDEX('MorningStar Data'!$A$1:$M$150,MATCH(Analysis!$A$29,'MorningStar Data'!$A$1:$A$150,0),B1+1)=0,\"\",INDEX('MorningStar Data'!$A$1:$M$150,MATCH(Analysis!$A$29,'MorningStar Data'!$A$1:$A$150,0),B1+1))","v":453.4},{"$f":"IF(INDEX('MorningStar Data'!$A$1:$M$150,MATCH(Analysis!$A$29,'MorningStar Data'!$A$1:$A$150,0),C1+1)=0,\"\",INDEX('MorningStar Data'!$A$1:$M$150,MATCH(Analysis!$A$29,'MorningStar Data'!$A$1:$A$150,0),C1+1))","v":50.56},{"$f":"IF(INDEX('MorningStar Data'!$A$1:$M$150,MATCH(Analysis!$A$29,'MorningStar Data'!$A$1:$A$150,0),D1+1)=0,\"\",INDEX('MorningStar Data'!$A$1:$M$150,MATCH(Analysis!$A$29,'MorningStar Data'!$A$1:$A$150,0),D1+1))","v":74.26},{"$f":"IF(INDEX('MorningStar Data'!$A$1:$M$150,MATCH(Analysis!$A$29,'MorningStar Data'!$A$1:$A$150,0),E1+1)=0,\"\",INDEX('MorningStar Data'!$A$1:$M$150,MATCH(Analysis!$A$29,'MorningStar Data'!$A$1:$A$150,0),E1+1))","v":102.75},{"$f":"IF(INDEX('MorningStar Data'!$A$1:$M$150,MATCH(Analysis!$A$29,'MorningStar Data'!$A$1:$A$150,0),F1+1)=0,\"\",INDEX('MorningStar Data'!$A$1:$M$150,MATCH(Analysis!$A$29,'MorningStar Data'!$A$1:$A$150,0),F1+1))","v":136.71},{"$f":"IF(INDEX('MorningStar Data'!$A$1:$M$150,MATCH(Analysis!$A$29,'MorningStar Data'!$A$1:$A$150,0),G1+1)=0,\"\",INDEX('MorningStar Data'!$A$1:$M$150,MATCH(Analysis!$A$29,'MorningStar Data'!$A$1:$A$150,0),G1+1))","v":167.39},{"$f":"IF(INDEX('MorningStar Data'!$A$1:$M$150,MATCH(Analysis!$A$29,'MorningStar Data'!$A$1:$A$150,0),H1+1)=0,\"\",INDEX('MorningStar Data'!$A$1:$M$150,MATCH(Analysis!$A$29,'MorningStar Data'!$A$1:$A$150,0),H1+1))","v":211.27},{"$f":"IF(INDEX('MorningStar Data'!$A$1:$M$150,MATCH(Analysis!$A$29,'MorningStar Data'!$A$1:$A$150,0),I1+1)=0,\"\",INDEX('MorningStar Data'!$A$1:$M$150,MATCH(Analysis!$A$29,'MorningStar Data'!$A$1:$A$150,0),I1+1))","v":238.01},{"$f":"IF(INDEX('MorningStar Data'!$A$1:$M$150,MATCH(Analysis!$A$29,'MorningStar Data'!$A$1:$A$150,0),J1+1)=0,\"\",INDEX('MorningStar Data'!$A$1:$M$150,MATCH(Analysis!$A$29,'MorningStar Data'!$A$1:$A$150,0),J1+1))","v":294.09},{"$f":"IF(INDEX('MorningStar Data'!$A$1:$M$150,MATCH(Analysis!$A$29,'MorningStar Data'!$A$1:$A$150,0),K1+1)=0,\"\",INDEX('MorningStar Data'!$A$1:$M$150,MATCH(Analysis!$A$29,'MorningStar Data'!$A$1:$A$150,0),K1+1))","v":349.02},{"$f":"IF(INDEX('MorningStar Data'!$A$1:$M$150,MATCH(Analysis!$A$29,'MorningStar Data'!$A$1:$A$150,0),L1+1)=0,\"\",INDEX('MorningStar Data'!$A$1:$M$150,MATCH(Analysis!$A$29,'MorningStar Data'!$A$1:$A$150,0),L1+1))","v":413.37},{"v":203.743,"d":"203.7"},{"v":120.50254852537816,"d":"120.5"},{"$f":"(M29-P29)/M29","v":{"v":0.17006278219347123,"d":"0.170"}},{"$f":"((1+IF(C29=\"\",0,C29))*(1+IF(D29=\"\",0,D29))*(1+IF(E29=\"\",0,E29))*(1+IF(F29=\"\",0,F29))*(1+IF(G29=\"\",0,G29))*(1+IF(H29=\"\",0,H29))*(1+IF(I29=\"\",0,I29))*(1+IF(J29=\"\",0,J29))*(1+IF(K29=\"\",0,K29))*(1+IF(L29=\"\",0,L29)))^(1/10)-1","v":{"v":169.09389856755558,"d":"169"}}]
["1Y rolling growth growth in BV per share",null,null,{"$f":"(D29/C29)-1","v":{"v":0.46875,"d":"47%"}},{"v":0.3836520333961755,"d":"38%"},{"v":0.33051094890510946,"d":"33%"},{"v":0.2244166483797818,"d":"22%"},{"v":0.2621423024075513,"d":"26%"},{"v":0.1265678988971457,"d":"13%"},{"v":0.2356203520860467,"d":"24%"},{"v":0.18677955727838413,"d":"19%"},{"v":0.18437338834450756,"d":"18%"}]
["3Y rolling growth diluted BV per share",{"$nulls":3},{"$f":"(E29/C29)^(1/3)-1","v":{"v":0.2666547471128822,"d":"27%"}},{"$f":"(F29/D29)^(1/3)-1","v":{"v":0.2255991360268199,"d":"23%"}},{"$f":"(G29/E29)^(1/3)-1","v":{"v":0.17665522124914812,"d":"18%"}},{"$f":"(H29/F29)^(1/3)-1","v":{"v":0.15614556174703464,"d":"16%"}},{"$f":"(I29/G29)^(1/3)-1","v":{"v":0.12448905238206875,"d":"12%"}},{"$f":"(J29/H29)^(1/3)-1","v":{"v":0.11655676792630243,"d":"12%"}},{"$f":"(K29/I29)^(1/3)-1","v":{"v":0.13610473518909827,"d":"14%"}},{"$f":"(L29/J29)^(1/3)-1","v":{"v":0.12017591982403109,"d":"12%"}}]
["5Y rolling growth diluted BV per share",{"$nulls":5},{"$f":"(G29/C29)^(1/5)-1","v":{"v":0.2705287264277123,"d":"27%"}},{"$f":"(H29/D29)^(1/5)-1","v":{"v":0.23258414635963098,"d":"23%"}},{"$f":"(I29/E29)^(1/5)-1","v":{"v":0.1829398841263825,"d":"18%"}},{"$f":"(J29/F29)^(1/5)-1","v":{"v":0.16556365004947793,"d":"17%"}},{"$f":"(K29/G29)^(1/5)-1","v":{"v":0.15830828031213784,"d":"16%"}},{"$f":"(L29/H29)^(1/5)-1","v":{"v":0.14366867113199255,"d":"14%"}}]
["7Y rolling growth diluted BV per share",{"$nulls":7},{"$f":"(I29/C29)^(1/7)-1","v":{"v":0.2477069416362334,"d":"25%"}},{"$f":"(J29/D29)^(1/7)-1","v":{"v":0.2172767592100957,"d":"22%"}},{"$f":"(K29/E29)^(1/7)-1","v":{"v":0.19087705110714914,"d":"19%"}},{"$f":"(L29/F29)^(1/7)-1","v":{"v":0.17124670372841577,"d":"17%"}}]
[null,{"$f":"B18","v":"TTM"},"2005","2006","2007","2008","2009","2010","2011","2012","2013","2014","Average","Std Dev","Inconsistency measure*",{"$f":"P18","v":"Geometric average*"}]
["EBT Margin",{"$f":"IF(INDEX('MorningStar Data'!$A$1:$M$150,MATCH(Analysis!$A$35,'MorningStar Data'!$A$1:$A$150,0),B1+1)=0,\"\",INDEX('MorningStar Data'!$A$1:$M$150,MATCH(Analysis!$A$35,'MorningStar Data'!$A$1:$A$150,0),B1+1))","v":31.79},{"$f":"IF(INDEX('MorningStar Data'!$A$1:$M$150,MATCH(Analysis!$A$35,'MorningStar Data'!$A$1:$A$150,0),C1+1)=0,\"\",INDEX('MorningStar Data'!$A$1:$M$150,MATCH(Analysis!$A$35,'MorningStar Data'!$A$1:$A$150,0),C1+1))","v":30.84},{"$f":"IF(INDEX('MorningStar Data'!$A$1:$M$150,MATCH(Analysis!$A$35,'MorningStar Data'!$A$1:$A$150,0),D1+1)=0,\"\",INDEX('MorningStar Data'!$A$1:$M$150,MATCH(Analysis!$A$35,'MorningStar Data'!$A$1:$A$150,0),D1+1))","v":29.28},{"$f":"IF(INDEX('MorningStar Data'!$A$1:$M$150,MATCH(Analysis!$A$35,'MorningStar Data'!$A$1:$A$150,0),E1+1)=0,\"\",INDEX('MorningStar Data'!$A$1:$M$150,MATCH(Analysis!$A$35,'MorningStar Data'!$A$1:$A$150,0),E1+1))","v":30.29},{"$f":"IF(INDEX('MorningStar Data'!$A$1:$M$150,MATCH(Analysis!$A$35,'MorningStar Data'!$A$1:$A$150,0),F1+1)=0,\"\",INDEX('MorningStar Data'!$A$1:$M$150,MATCH(Analysis!$A$35,'MorningStar Data'!$A$1:$A$150,0),F1+1))","v":31.75},{"$f":"IF(INDEX('MorningStar Data'!$A$1:$M$150,MATCH(Analysis!$A$35,'MorningStar Data'!$A$1:$A$150,0),G1+1)=0,\"\",INDEX('MorningStar Data'!$A$1:$M$150,MATCH(Analysis!$A$35,'MorningStar Data'!$A$1:$A$150,0),G1+1))","v":31.63},{"$f":"IF(INDEX('MorningStar Data'!$A$1:$M$150,MATCH(Analysis!$A$35,'MorningStar Data'!$A$1:$A$150,0),H1+1)=0,\"\",INDEX('MorningStar Data'!$A$1:$M$150,MATCH(Analysis!$A$35,'MorningStar Data'!$A$1:$A$150,0),H1+1))","v":34.74},{"$f":"IF(INDEX('MorningStar Data'!$A$1:$M$150,MATCH(Analysis!$A$35,'MorningStar Data'!$A$1:$A$150,0),I1+1)=0,\"\",INDEX('MorningStar Data'!$A$1:$M$150,MATCH(Analysis!$A$35,'MorningStar Data'!$A$1:$A$150,0),I1+1))","v":33.87},{"$f":"IF(INDEX('MorningStar Data'!$A$1:$M$150,MATCH(Analysis!$A$35,'MorningStar Data'!$A$1:$A$150,0),J1+1)=0,\"\",INDEX('MorningStar Data'!$A$1:$M$150,MATCH(Analysis!$A$35,'MorningStar Data'!$A$1:$A$150,0),J1+1))","v":34.46},{"$f":"IF(INDEX('MorningStar Data'!$A$1:$M$150,MATCH(Analysis!$A$35,'MorningStar Data'!$A$1:$A$150,0),K1+1)=0,\"\",INDEX('MorningStar Data'!$A$1:$M$150,MATCH(Analysis!$A$35,'MorningStar Data'!$A$1:$A$150,0),K1+1))","v":31.66},{"$f":"IF(INDEX('MorningStar Data'!$A$1:$M$150,MATCH(Analysis!$A$35,'MorningStar Data'!$A$1:$A$150,0),L1+1)=0,\"\",INDEX('MorningStar Data'!$A$1:$M$150,MATCH(Analysis!$A$35,'MorningStar Data'!$A$1:$A$150,0),L1+1))","v":29.32},{"$f":"AVERAGE(C35:L35)","v":{"v":31.784000000000002,"d":"31.8"}},{"$f":"STDEV(C35:L35)","v":{"v":1.9931839408900576,"d":"2.0"}},{"$f":"(M35-P35)/M35","v":{"v":1.7005276958932426E-3,"d":"0.002"}},{"$f":"((1+IF(C35=\"\",0,C35))*(1+IF(D35=\"\",0,D35))*(1+IF(E35=\"\",0,E35))*(1+IF(F35=\"\",0,F35))*(1+IF(G35=\"\",0,G35))*(1+IF(H35=\"\",0,H35))*(1+IF(I35=\"\",0,I35))*(1+IF(J35=\"\",0,J35))*(1+IF(K35=\"\",0,K35))*(1+IF(L35=\"\",0,L35)))^(1/10)-1","v":{"v":31.72995042771373,"d":"32"}}]
["1Y rolling growth growth in EBT margin",null,null,{"$f":"(D35/C35)-1","v":{"v":-0.05058365758754857,"d":"-5%"}},{"v":0.03449453551912551,"d":"3%"},{"v":0.04820072631231431,"d":"5%"},{"v":-3.7795275590551958E-3,"d":"-0%"},{"v":0.09832437559279184,"d":"10%"},{"v":-0.02504317789291899,"d":"-3%"},{"v":0.01741954532034251,"d":"2%"},{"v":-0.08125362739408015,"d":"-8%"},{"v":-0.07391029690461148,"d":"-7%"}]
["3Y rolling growth EBT margin",{"$nulls":3},{"$f":"(E35/C35)^(1/3)-1","v":{"v":-0.005980353952260042,"d":"-1%"}},{"$f":"(F35/D35)^(1/3)-1","v":{"v":0.02736370571296498,"d":"3%"}},{"$f":"(G35/E35)^(1/3)-1","v":{"v":0.014534078109983195,"d":"1%"}},{"$f":"(H35/F35)^(1/3)-1","v":{"v":0.03045420265359544,"d":"3%"}},{"$f":"(I35/G35)^(1/3)-1","v":{"v":0.023069964886252015,"d":"2%"}},{"$f":"(J35/H35)^(1/3)-1","v":{"v":-2.6938748937765933E-3,"d":"-0%"}},{"$f":"(K35/I35)^(1/3)-1","v":{"v":-0.022240814431442657,"d":"-2%"}},{"$f":"(L35/J35)^(1/3)-1","v":{"v":-0.05241924682046806,"d":"-5%"}}]
["5Y rolling growth EBT margin",{"$nulls":5},{"$f":"(G35/C35)^(1/5)-1","v":{"v":5.0715145388355864E-3,"d":"1%"}},{"$f":"(H35/D35)^(1/5)-1","v":{"v":0.0347888687309974,"d":"3%"}},{"$f":"(I35/E35)^(1/5)-1","v":{"v":0.022593869218815232,"d":"2%"}},{"$f":"(J35/F35)^(1/5)-1","v":{"v":0.016516210321793734,"d":"2%"}},{"$f":"(K35/G35)^(1/5)-1","v":{"v":1.8962140292755336E-4,"d":"0%"}},{"$f":"(L35/H35)^(1/5)-1","v":{"v":-0.033355397328639014,"d":"-3%"}}]
["7Y rolling growth EBT margin",{"$nulls":7},{"$f":"(I35/C35)^(1/7)-1","v":{"v":0.013478182441544195,"d":"1%"}},{"$f":"(J35/D35)^(1/7)-1","v":{"v":0.023543522948603846,"d":"2%"}},{"$f":"(K35/E35)^(1/7)-1","v":{"v":0.006339500021659061,"d":"1%"}},{"$f":"(L35/F35)^(1/7)-1","v":{"v":-0.011310245388363671,"d":"-1%"}}]
["Debt/Equity",{"$f":"IF(INDEX('MorningStar Data'!$A$1:$M$150,MATCH(Analysis!$A$40,'MorningStar Data'!$A$1:$A$150,0),B1+1)=0,\"\",INDEX('MorningStar Data'!$A$1:$M$150,MATCH(Analysis!$A$40,'MorningStar Data'!$A$1:$A$150,0),B1+1))","v":""},{"$f":"IF(INDEX('MorningStar Data'!$A$1:$M$150,MATCH(Analysis!$A$40,'MorningStar Data'!$A$1:$A$150,0),C1+1)=0,\"\",INDEX('MorningStar Data'!$A$1:$M$150,MATCH(Analysis!$A$40,'MorningStar Data'!$A$1:$A$150,0),C1+1))","v":""},{"$f":"IF(INDEX('MorningStar Data'!$A$1:$M$150,MATCH(Analysis!$A$40,'MorningStar Data'!$A$1:$A$150,0),D1+1)=0,\"\",INDEX('MorningStar Data'!$A$1:$M$150,MATCH(Analysis!$A$40,'MorningStar Data'!$A$1:$A$150,0),D1+1))","v":""},{"$f":"IF(INDEX('MorningStar Data'!$A$1:$M$150,MATCH(Analysis!$A$40,'MorningStar Data'!$A$1:$A$150,0),E1+1)=0,\"\",INDEX('MorningStar Data'!$A$1:$M$150,MATCH(Analysis!$A$40,'MorningStar Data'!$A$1:$A$150,0),E1+1))","v":""},{"$f":"IF(INDEX('MorningStar Data'!$A$1:$M$150,MATCH(Analysis!$A$40,'MorningStar Data'!$A$1:$A$150,0),F1+1)=0,\"\",INDEX('MorningStar Data'!$A$1:$M$150,MATCH(Analysis!$A$40,'MorningStar Data'!$A$1:$A$150,0),F1+1))","v":""},{"$f":"IF(INDEX('MorningStar Data'!$A$1:$M$150,MATCH(Analysis!$A$40,'MorningStar Data'!$A$1:$A$150,0),G1+1)=0,\"\",INDEX('MorningStar Data'!$A$1:$M$150,MATCH(Analysis!$A$40,'MorningStar Data'!$A$1:$A$150,0),G1+1))","v":""},{"$f":"IF(INDEX('MorningStar Data'!$A$1:$M$150,MATCH(Analysis!$A$40,'MorningStar Data'!$A$1:$A$150,0),H1+1)=0,\"\",INDEX('MorningStar Data'!$A$1:$M$150,MATCH(Analysis!$A$40,'MorningStar Data'!$A$1:$A$150,0),H1+1))","v":""},{"$f":"IF(INDEX('MorningStar Data'!$A$1:$M$150,MATCH(Analysis!$A$40,'MorningStar Data'!$A$1:$A$150,0),I1+1)=0,\"\",INDEX('MorningStar Data'!$A$1:$M$150,MATCH(Analysis!$A$40,'MorningStar Data'!$A$1:$A$150,0),I1+1))","v":""},{"$f":"IF(INDEX('MorningStar Data'!$A$1:$M$150,MATCH(Analysis!$A$40,'MorningStar Data'!$A$1:$A$150,0),J1+1)=0,\"\",INDEX('MorningStar Data'!$A$1:$M$150,MATCH(Analysis!$A$40,'MorningStar Data'!$A$1:$A$150,0),J1+1))","v":""},{"$f":"IF(INDEX('MorningStar Data'!$A$1:$M$150,MATCH(Analysis!$A$40,'MorningStar Data'!$A$1:$A$150,0),K1+1)=0,\"\",INDEX('MorningStar Data'!$A$1:$M$150,MATCH(Analysis!$A$40,'MorningStar Data'!$A$1:$A$150,0),K1+1))","v":""},{"$f":"IF(INDEX('MorningStar Data'!$A$1:$M$150,MATCH(Analysis!$A$40,'MorningStar Data'!$A$1:$A$150,0),L1+1)=0,\"\",INDEX('MorningStar Data'!$A$1:$M$150,MATCH(Analysis!$A$40,'MorningStar Data'!$A$1:$A$150,0),L1+1))","v":""},{"$error":"#DIV/0!"},{"$error":"#DIV/0!"},{"$f":"(M40-P40)/M40","v":{"$error":"#DIV/0!"}},{"$f":"((1+IF(C40=\"\",0,C40))*(1+IF(D40=\"\",0,D40))*(1+IF(E40=\"\",0,E40))*(1+IF(F40=\"\",0,F40))*(1+IF(G40=\"\",0,G40))*(1+IF(H40=\"\",0,H40))*(1+IF(I40=\"\",0,I40))*(1+IF(J40=\"\",0,J40))*(1+IF(K40=\"\",0,K40))*(1+IF(L40=\"\",0,L40)))^(1/10)-1","v":{"v":0,"d":"0.00"}}]
[{"$f":"INDEX('MorningStar Data'!A1:A250,MATCH(\"Free Cash Flow\"& \"*\",'MorningStar Data'!A1:A250,0),1)","v":"Free Cash Flow USD Mil"},{"$f":"IF(INDEX('MorningStar Data'!$A$1:$M$150,MATCH(Analysis!$A$41,'MorningStar Data'!$A$1:$A$150,0),B1+1)=0,\"\",INDEX('MorningStar Data'!$A$1:$M$150,MATCH(Analysis!$A$41,'MorningStar Data'!$A$1:$A$150,0),B1+1))","v":2233},{"$f":"IF(INDEX('MorningStar Data'!$A$1:$M$150,MATCH(Analysis!$A$41,'MorningStar Data'!$A$1:$A$150,0),C1+1)=0,\"\",INDEX('MorningStar Data'!$A$1:$M$150,MATCH(Analysis!$A$41,'MorningStar Data'!$A$1:$A$150,0),C1+1))","v":158},{"$f":"IF(INDEX('MorningStar Data'!$A$1:$M$150,MATCH(Analysis!$A$41,'MorningStar Data'!$A$1:$A$150,0),D1+1)=0,\"\",INDEX('MorningStar Data'!$A$1:$M$150,MATCH(Analysis!$A$41,'MorningStar Data'!$A$1:$A$150,0),D1+1))","v":353},{"$f":"IF(INDEX('MorningStar Data'!$A$1:$M$150,MATCH(Analysis!$A$41,'MorningStar Data'!$A$1:$A$150,0),E1+1)=0,\"\",INDEX('MorningStar Data'!$A$1:$M$150,MATCH(Analysis!$A$41,'MorningStar Data'!$A$1:$A$150,0),E1+1))","v":523},{"$f":"IF(INDEX('MorningStar Data'!$A$1:$M$150,MATCH(Analysis!$A$41,'MorningStar Data'!$A$1:$A$150,0),F1+1)=0,\"\",INDEX('MorningStar Data'!$A$1:$M$150,MATCH(Analysis!$A$41,'MorningStar Data'!$A$1:$A$150,0),F1+1))","v":775},{"$f":"IF(INDEX('MorningStar Data'!$A$1:$M$150,MATCH(Analysis!$A$41,'MorningStar Data'!$A$1:$A$150,0),G1+1)=0,\"\",INDEX('MorningStar Data'!$A$1:$M$150,MATCH(Analysis!$A$41,'MorningStar Data'!$A$1:$A$150,0),G1+1))","v":1124},{"$f":"IF(INDEX('MorningStar Data'!$A$1:$M$150,MATCH(Analysis!$A$41,'MorningStar Data'!$A$1:$A$150,0),H1+1)=0,\"\",INDEX('MorningStar Data'!$A$1:$M$150,MATCH(Analysis!$A$41,'MorningStar Data'!$A$1:$A$150,0),H1+1))","v":1314},{"$f":"IF(INDEX('MorningStar Data'!$A$1:$M$150,MATCH(Analysis!$A$41,'MorningStar Data'!$A$1:$A$150,0),I1+1)=0,\"\",INDEX('MorningStar Data'!$A$1:$M$150,MATCH(Analysis!$A$41,'MorningStar Data'!$A$1:$A$150,0),I1+1))","v":1013},{"$f":"IF(INDEX('MorningStar Data'!$A$1:$M$150,MATCH(Analysis!$A$41,'MorningStar Data'!$A$1:$A$150,0),J1+1)=0,\"\",INDEX('MorningStar Data'!$A$1:$M$150,MATCH(Analysis!$A$41,'MorningStar Data'!$A$1:$A$150,0),J1+1))","v":1361},{"$f":"IF(INDEX('MorningStar Data'!$A$1:$M$150,MATCH(Analysis!$A$41,'MorningStar Data'!$A$1:$A$150,0),K1+1)=0,\"\",INDEX('MorningStar Data'!$A$1:$M$150,MATCH(Analysis!$A$41,'MorningStar Data'!$A$1:$A$150,0),K1+1))","v":1354},{"$f":"IF(INDEX('MorningStar Data'!$A$1:$M$150,MATCH(Analysis!$A$41,'MorningStar Data'!$A$1:$A$150,0),L1+1)=0,\"\",INDEX('MorningStar Data'!$A$1:$M$150,MATCH(Analysis!$A$41,'MorningStar Data'!$A$1:$A$150,0),L1+1))","v":2003},997.8,{"v":555.924215458666,"d":"555.9"},{"$f":"(M41-P41)/M41","v":{"v":0.18568074225622871,"d":"0.186"}},{"$f":"((1+IF(C41=\"\",0,C41))*(1+IF(D41=\"\",0,D41))*(1+IF(E41=\"\",0,E41))*(1+IF(F41=\"\",0,F41))*(1+IF(G41=\"\",0,G41))*(1+IF(H41=\"\",0,H41))*(1+IF(I41=\"\",0,I41))*(1+IF(J41=\"\",0,J41))*(1+IF(K41=\"\",0,K41))*(1+IF(L41=\"\",0,L41)))^(1/10)-1","v":{"v":812.527755376735,"d":"813"}}]
["1Y rolling growth growth in cash flow",null,null,{"$f":"(D41/C41)-1","v":{"v":1.2341772151898733,"d":"123%"}},{"v":0.481586402266289,"d":"48%"},{"v":0.4818355640535372,"d":"48%"},{"v":0.4503225806451614,"d":"45%"},{"v":0.16903914590747338,"d":"17%"},{"v":-0.2290715372907154,"d":"-23%"},{"v":0.3435340572556762,"d":"34%"},{"v":-5.143277002204294E-3,"d":"-1%"},{"v":0.4793205317577549,"d":"48%"}]
["3Y rolling growth free cash flow",{"$nulls":3},{"$f":"(E41/C41)^(1/3)-1","v":{"v":0.4903268778625456,"d":"49%"}},{"$f":"(F41/D41)^(1/3)-1","v":{"v":0.299697646073799,"d":"30%"}},{"$f":"(G41/E41)^(1/3)-1","v":{"v":0.2904906851440152,"d":"29%"}},{"$f":"(H41/F41)^(1/3)-1","v":{"v":0.19242540682724774,"d":"19%"}},{"$f":"(I41/G41)^(1/3)-1","v":{"v":-0.03406542557486003,"d":"-3%"}},{"$f":"(J41/H41)^(1/3)-1","v":{"v":0.011783485865628274,"d":"1%"}},{"$f":"(K41/I41)^(1/3)-1","v":{"v":0.10154710387986365,"d":"10%"}},{"$f":"(L41/J41)^(1/3)-1","v":{"v":0.13747259321007177,"d":"14%"}}]
["5Y rolling growth free cash flow",{"$nulls":5},{"$f":"(G41/C41)^(1/5)-1","v":{"v":0.48054579394390484,"d":"48%"}},{"$f":"(H41/D41)^(1/5)-1","v":{"v":0.3006610411516999,"d":"30%"}},{"$f":"(I41/E41)^(1/5)-1","v":{"v":0.14135711717062582,"d":"14%"}},{"$f":"(J41/F41)^(1/5)-1","v":{"v":0.11920923376320625,"d":"12%"}},{"$f":"(K41/G41)^(1/5)-1","v":{"v":0.037935749643274175,"d":"4%"}},{"$f":"(L41/H41)^(1/5)-1","v":{"v":0.08797049263300383,"d":"9%"}}]
["7Y rolling growth free cash flow",{"$nulls":7},{"$f":"(I41/C41)^(1/7)-1","v":{"v":0.3040039542351949,"d":"30%"}},{"$f":"(J41/D41)^(1/7)-1","v":{"v":0.2126241211283484,"d":"21%"}},{"$f":"(K41/E41)^(1/7)-1","v":{"v":0.14555701934062948,"d":"15%"}},{"$f":"(L41/F41)^(1/7)-1","v":{"v":0.14527906187598072,"d":"15%"}}]
["Return on Assets %",{"$f":"IF(INDEX('MorningStar Data'!$A$1:$M$150,MATCH(Analysis!$A$46,'MorningStar Data'!$A$1:$A$150,0),B1+1)/100=0,\"\",INDEX('MorningStar Data'!$A$1:$M$150,MATCH(Analysis!$A$46,'MorningStar Data'!$A$1:$A$150,0),B1+1)/100)","v":{"v":0.2114,"d":"21%"}},{"$f":"IF(INDEX('MorningStar Data'!$A$1:$M$150,MATCH(Analysis!$A$46,'MorningStar Data'!$A$1:$A$150,0),C1+1)/100=0,\"\",INDEX('MorningStar Data'!$A$1:$M$150,MATCH(Analysis!$A$46,'MorningStar Data'!$A$1:$A$150,0),C1+1)/100)","v":{"v":0.324,"d":"32.40%"}},{"$f":"IF(INDEX('MorningStar Data'!$A$1:$M$150,MATCH(Analysis!$A$46,'MorningStar Data'!$A$1:$A$150,0),D1+1)/100=0,\"\",INDEX('MorningStar Data'!$A$1:$M$150,MATCH(Analysis!$A$46,'MorningStar Data'!$A$1:$A$150,0),D1+1)/100)","v":{"v":0.3153,"d":"31.53%"}},{"$f":"IF(INDEX('MorningStar Data'!$A$1:$M$150,MATCH(Analysis!$A$46,'MorningStar Data'!$A$1:$A$150,0),E1+1)/100=0,\"\",INDEX('MorningStar Data'!$A$1:$M$150,MATCH(Analysis!$A$46,'MorningStar Data'!$A$1:$A$150,0),E1+1)/100)","v":{"v":0.3308,"d":"33.08%"}},{"$f":"IF(INDEX('MorningStar Data'!$A$1:$M$150,MATCH(Analysis!$A$46,'MorningStar Data'!$A$1:$A$150,0),F1+1)/100=0,\"\",INDEX('MorningStar Data'!$A$1:$M$150,MATCH(Analysis!$A$46,'MorningStar Data'!$A$1:$A$150,0),F1+1)/100)","v":{"v":0.3054,"d":"30.54%"}},{"$f":"IF(INDEX('MorningStar Data'!$A$1:$M$150,MATCH(Analysis!$A$46,'MorningStar Data'!$A$1:$A$150,0),G1+1)/100=0,\"\",INDEX('MorningStar Data'!$A$1:$M$150,MATCH(Analysis!$A$46,'MorningStar Data'!$A$1:$A$150,0),G1+1)/100)","v":{"v":0.2889,"d":"28.89%"}},{"$f":"IF(INDEX('MorningStar Data'!$A$1:$M$150,MATCH(Analysis!$A$46,'MorningStar Data'!$A$1:$A$150,0),H1+1)/100=0,\"\",INDEX('MorningStar Data'!$A$1:$M$150,MATCH(Analysis!$A$46,'MorningStar Data'!$A$1:$A$150,0),H1+1)/100)","v":{"v":0.2495,"d":"24.95%"}},{"$f":"IF(INDEX('MorningStar Data'!$A$1:$M$150,MATCH(Analysis!$A$46,'MorningStar Data'!$A$1:$A$150,0),I1+1)/100=0,\"\",INDEX('MorningStar Data'!$A$1:$M$150,MATCH(Analysis!$A$46,'MorningStar Data'!$A$1:$A$150,0),I1+1)/100)","v":{"v":0.2278,"d":"22.78%"}},{"$f":"IF(INDEX('MorningStar Data'!$A$1:$M$150,MATCH(Analysis!$A$46,'MorningStar Data'!$A$1:$A$150,0),J1+1)/100=0,\"\",INDEX('MorningStar Data'!$A$1:$M$150,MATCH(Analysis!$A$46,'MorningStar Data'!$A$1:$A$150,0),J1+1)/100)","v":{"v":0.2359,"d":"23.59%"}},{"$f":"IF(INDEX('MorningStar Data'!$A$1:$M$150,MATCH(Analysis!$A$46,'MorningStar Data'!$A$1:$A$150,0),K1+1)/100=0,\"\",INDEX('MorningStar Data'!$A$1:$M$150,MATCH(Analysis!$A$46,'MorningStar Data'!$A$1:$A$150,0),K1+1)/100)","v":{"v":0.2146,"d":"21.46%"}},{"$f":"IF(INDEX('MorningStar Data'!$A$1:$M$150,MATCH(Analysis!$A$46,'MorningStar Data'!$A$1:$A$150,0),L1+1)/100=0,\"\",INDEX('MorningStar Data'!$A$1:$M$150,MATCH(Analysis!$A$46,'MorningStar Data'!$A$1:$A$150,0),L1+1)/100)","v":{"v":0.19390000000000002,"d":"19.39%"}}]
["1Y rolling growth growth in RoA",null,null,{"$f":"(D46/C46)-1","v":{"v":-0.026851851851851793,"d":"-3%"}},{"v":0.04915953060577216,"d":"5%"},{"v":-0.07678355501813783,"d":"-8%"},{"v":-0.05402750491159136,"d":"-5%"},{"v":-0.13637937002422984,"d":"-14%"},{"v":-0.0869739478957916,"d":"-9%"},{"v":0.03555750658472334,"d":"4%"},{"v":-0.09029249682068663,"d":"-9%"},{"v":-0.0964585274930102,"d":"-10%"}]
["3Y rolling growth RoA",{"$nulls":3},{"$f":"(E46/C46)^(1/3)-1","v":{"v":0.006947505165312284,"d":"1%"}},{"$f":"(F46/D46)^(1/3)-1","v":{"v":-0.01057771621871606,"d":"-1%"}},{"$f":"(G46/E46)^(1/3)-1","v":{"v":-0.04414060383871887,"d":"-4%"}},{"$f":"(H46/F46)^(1/3)-1","v":{"v":-0.06516742122873931,"d":"-7%"}},{"$f":"(I46/G46)^(1/3)-1","v":{"v":-0.07614873183521798,"d":"-8%"}},{"$f":"(J46/H46)^(1/3)-1","v":{"v":-0.018510185620791764,"d":"-2%"}},{"$f":"(K46/I46)^(1/3)-1","v":{"v":-0.019700759952156588,"d":"-2%"}},{"$f":"(L46/J46)^(1/3)-1","v":{"v":-0.06326526897549756,"d":"-6%"}}]
["5Y rolling growth RoA",{"$nulls":5},{"$f":"(G46/C46)^(1/5)-1","v":{"v":-0.022671628595266724,"d":"-2%"}},{"$f":"(H46/D46)^(1/5)-1","v":{"v":-0.04573429569750187,"d":"-5%"}},{"$f":"(I46/E46)^(1/5)-1","v":{"v":-0.07189386435377632,"d":"-7%"}},{"$f":"(J46/F46)^(1/5)-1","v":{"v":-0.050332049498841624,"d":"-5%"}},{"$f":"(K46/G46)^(1/5)-1","v":{"v":-0.05772767653297217,"d":"-6%"}},{"$f":"(L46/H46)^(1/5)-1","v":{"v":-0.049173117739526484,"d":"-5%"}}]
["7Y rolling growth RoA",{"$nulls":7},{"$f":"(I46/C46)^(1/7)-1","v":{"v":-0.049079737969174975,"d":"-5%"}},{"$f":"(J46/D46)^(1/7)-1","v":{"v":-0.04059811556360671,"d":"-4%"}},{"$f":"(K46/E46)^(1/7)-1","v":{"v":-0.0599476683305995,"d":"-6%"}},{"$f":"(L46/F46)^(1/7)-1","v":{"v":-0.06283612489563983,"d":"-6%"}}]
[null,{"$f":"B34","v":"TTM"},"2005","2006","2007","2008","2009","2010","2011","2012","2013","2014","Average","Std Dev","Inconsistency measure*",{"$f":"P34","v":"Geometric average*"}]
["Operating Cash Flow Growth % YOY",{"$f":"IF(INDEX('MorningStar Data'!$A$1:$M$150,MATCH(Analysis!$A$52,'MorningStar Data'!$A$1:$A$150,0),B1+1)/100=0,\"\",INDEX('MorningStar Data'!$A$1:$M$150,MATCH(Analysis!$A$52,'MorningStar Data'!$A$1:$A$150,0),B1+1)/100)","v":""},{"$f":"IF(INDEX('MorningStar Data'!$A$1:$M$150,MATCH(Analysis!$A$52,'MorningStar Data'!$A$1:$A$150,0),C1+1)/100=0,\"\",INDEX('MorningStar Data'!$A$1:$M$150,MATCH(Analysis!$A$52,'MorningStar Data'!$A$1:$A$150,0),C1+1)/100)","v":{"v":-0.0789,"d":"-8%"}},{"$f":"IF(INDEX('MorningStar Data'!$A$1:$M$150,MATCH(Analysis!$A$52,'MorningStar Data'!$A$1:$A$150,0),D1+1)/100=0,\"\",INDEX('MorningStar Data'!$A$1:$M$150,MATCH(Analysis!$A$52,'MorningStar Data'!$A$1:$A$150,0),D1+1)/100)","v":{"v":0.7413,"d":"74%"}},{"$f":"IF(INDEX('MorningStar Data'!$A$1:$M$150,MATCH(Analysis!$A$52,'MorningStar Data'!$A$1:$A$150,0),E1+1)/100=0,\"\",INDEX('MorningStar Data'!$A$1:$M$150,MATCH(Analysis!$A$52,'MorningStar Data'!$A$1:$A$150,0),E1+1)/100)","v":{"v":0.4391,"d":"44%"}},{"$f":"IF(INDEX('MorningStar Data'!$A$1:$M$150,MATCH(Analysis!$A$52,'MorningStar Data'!$A$1:$A$150,0),F1+1)/100=0,\"\",INDEX('MorningStar Data'!$A$1:$M$150,MATCH(Analysis!$A$52,'MorningStar Data'!$A$1:$A$150,0),F1+1)/100)","v":{"v":0.3329,"d":"33%"}},{"$f":"IF(INDEX('MorningStar Data'!$A$1:$M$150,MATCH(Analysis!$A$52,'MorningStar Data'!$A$1:$A$150,0),G1+1)/100=0,\"\",INDEX('MorningStar Data'!$A$1:$M$150,MATCH(Analysis!$A$52,'MorningStar Data'!$A$1:$A$150,0),G1+1)/100)","v":{"v":0.2263,"d":"23%"}},{"$f":"IF(INDEX('MorningStar Data'!$A$1:$M$150,MATCH(Analysis!$A$52,'MorningStar Data'!$A$1:$A$150,0),H1+1)/100=0,\"\",INDEX('MorningStar Data'!$A$1:$M$150,MATCH(Analysis!$A$52,'MorningStar Data'!$A$1:$A$150,0),H1+1)/100)","v":{"v":0.0341,"d":"3%"}},{"$f":"IF(INDEX('MorningStar Data'!$A$1:$M$150,MATCH(Analysis!$A$52,'MorningStar Data'!$A$1:$A$150,0),I1+1)/100=0,\"\",INDEX('MorningStar Data'!$A$1:$M$150,MATCH(Analysis!$A$52,'MorningStar Data'!$A$1:$A$150,0),I1+1)/100)","v":{"v":-0.1091,"d":"-11%"}},{"$f":"IF(INDEX('MorningStar Data'!$A$1:$M$150,MATCH(Analysis!$A$52,'MorningStar Data'!$A$1:$A$150,0),J1+1)/100=0,\"\",INDEX('MorningStar Data'!$A$1:$M$150,MATCH(Analysis!$A$52,'MorningStar Data'!$A$1:$A$150,0),J1+1)/100)","v":{"v":0.29510000000000003,"d":"30%"}},{"$f":"IF(INDEX('MorningStar Data'!$A$1:$M$150,MATCH(Analysis!$A$52,'MorningStar Data'!$A$1:$A$150,0),K1+1)/100=0,\"\",INDEX('MorningStar Data'!$A$1:$M$150,MATCH(Analysis!$A$52,'MorningStar Data'!$A$1:$A$150,0),K1+1)/100)","v":{"v":0.0339,"d":"3%"}},{"$f":"IF(INDEX('MorningStar Data'!$A$1:$M$150,MATCH(Analysis!$A$52,'MorningStar Data'!$A$1:$A$150,0),L1+1)/100=0,\"\",INDEX('MorningStar Data'!$A$1:$M$150,MATCH(Analysis!$A$52,'MorningStar Data'!$A$1:$A$150,0),L1+1)/100)","v":{"v":0.1525,"d":"15%"}},{"$f":"AVERAGE(C46:L46)","v":{"v":0.26861,"d":"26.86%"}},{"$f":"STDEV(C46:L46)","v":{"v":0.04997782730593873,"d":"5%"}},{"$f":"(M52-P52)/M52","v":{"v":3.3095933083752355E-3,"d":"0.003"}},{"$f":"((1+IF(C46=\"\",0,C46))*(1+IF(D46=\"\",0,D46))*(1+IF(E46=\"\",0,E46))*(1+IF(F46=\"\",0,F46))*(1+IF(G46=\"\",0,G46))*(1+IF(H46=\"\",0,H46))*(1+IF(I46=\"\",0,I46))*(1+IF(J46=\"\",0,J46))*(1+IF(K46=\"\",0,K46))*(1+IF(L46=\"\",0,L46)))^(1/10)-1","v":{"v":0.26772101014143734,"d":"27%"}}]
["3Y rolling growth OCF",{"$nulls":3},{"$f":"((1+C52)*(1+D52)*(1+E52))^(1/3)-1","v":{"v":0.32157085311866673,"d":"32%"}},{"$f":"((1+D52)*(1+E52)*(1+F52))^(1/3)-1","v":{"v":0.49481477001112406,"d":"49%"}},{"v":0.3299288987292197,"d":"33%"},{"v":0.19120254180889118,"d":"19%"},{"v":0.041508315571396004,"d":"4%"},{"v":0.0606325068409761,"d":"6%"},{"v":0.06056412526012567,"d":"6%"},{"v":0.15560015366274316,"d":"16%"}]
["5Y rolling growth OCF",{"$nulls":5},{"$f":"((1+C52)*(1+D52)*(1+E52)*(1+F52)*(1+G52))^(1/7)-1","v":{"v":0.20887336075590257,"d":"21%"}},{"$f":"((1+D52)*(1+E52)*(1+F52)*(1+G52)*(1+H52))^(1/7)-1","v":{"v":0.22902353968948708,"d":"23%"}},{"v":0.11681797494159607,"d":"12%"},{"v":0.1001231394751183,"d":"10%"},{"v":0.06091707126344903,"d":"6%"},{"v":0.051551651936321496,"d":"5%"}]
["7Y rolling growth OCF",{"$nulls":7},{"$f":"((1+C52)*(1+D52)*(1+E52)*(1+F52)*(1+G52)*(1+H52)*(1+I52))^(1/7)-1","v":{"v":0.19479632578356432,"d":"19%"}},{"$f":"((1+D52)*(1+E52)*(1+F52)*(1+G52)*(1+H52)*(1+I52)*(1+J52))^(1/7)-1","v":{"v":0.2544005580671802,"d":"25%"}},{"v":0.16437825539791384,"d":"16%"},{"v":0.12801664836871374,"d":"13%"}]
["Free Cash Flow/Sales %",{"$f":"IF(INDEX('MorningStar Data'!$A$1:$M$150,MATCH(Analysis!$A$56,'MorningStar Data'!$A$1:$A$150,0),B1+1)/100=0,\"\",INDEX('MorningStar Data'!$A$1:$M$150,MATCH(Analysis!$A$56,'MorningStar Data'!$A$1:$A$150,0),B1+1)/100)","v":{"v":0.2619,"d":"26.19%"}},{"$f":"IF(INDEX('MorningStar Data'!$A$1:$M$150,MATCH(Analysis!$A$56,'MorningStar Data'!$A$1:$A$150,0),C1+1)/100=0,\"\",INDEX('MorningStar Data'!$A$1:$M$150,MATCH(Analysis!$A$56,'MorningStar Data'!$A$1:$A$150,0),C1+1)/100)","v":{"v":0.0992,"d":"9.92%"}},{"$f":"IF(INDEX('MorningStar Data'!$A$1:$M$150,MATCH(Analysis!$A$56,'MorningStar Data'!$A$1:$A$150,0),D1+1)/100=0,\"\",INDEX('MorningStar Data'!$A$1:$M$150,MATCH(Analysis!$A$56,'MorningStar Data'!$A$1:$A$150,0),D1+1)/100)","v":{"v":0.16399999999999998,"d":"16.40%"}},{"$f":"IF(INDEX('MorningStar Data'!$A$1:$M$150,MATCH(Analysis!$A$56,'MorningStar Data'!$A$1:$A$150,0),E1+1)/100=0,\"\",INDEX('MorningStar Data'!$A$1:$M$150,MATCH(Analysis!$A$56,'MorningStar Data'!$A$1:$A$150,0),E1+1)/100)","v":{"v":0.1693,"d":"16.93%"}},{"$f":"IF(INDEX('MorningStar Data'!$A$1:$M$150,MATCH(Analysis!$A$56,'MorningStar Data'!$A$1:$A$150,0),F1+1)/100=0,\"\",INDEX('MorningStar Data'!$A$1:$M$150,MATCH(Analysis!$A$56,'MorningStar Data'!$A$1:$A$150,0),F1+1)/100)","v":{"v":0.1856,"d":"18.56%"}},{"$f":"IF(INDEX('MorningStar Data'!$A$1:$M$150,MATCH(Analysis!$A$56,'MorningStar Data'!$A$1:$A$150,0),G1+1)/100=0,\"\",INDEX('MorningStar Data'!$A$1:$M$150,MATCH(Analysis!$A$56,'MorningStar Data'!$A$1:$A$150,0),G1+1)/100)","v":{"v":0.24100000000000002,"d":"24.10%"}},{"$f":"IF(INDEX('MorningStar Data'!$A$1:$M$150,MATCH(Analysis!$A$56,'MorningStar Data'!$A$1:$A$150,0),H1+1)/100=0,\"\",INDEX('MorningStar Data'!$A$1:$M$150,MATCH(Analysis!$A$56,'MorningStar Data'!$A$1:$A$150,0),H1+1)/100)","v":{"v":0.2735,"d":"27.35%"}},{"$f":"IF(INDEX('MorningStar Data'!$A$1:$M$150,MATCH(Analysis!$A$56,'MorningStar Data'!$A$1:$A$150,0),I1+1)/100=0,\"\",INDEX('MorningStar Data'!$A$1:$M$150,MATCH(Analysis!$A$56,'MorningStar Data'!$A$1:$A$150,0),I1+1)/100)","v":{"v":0.1677,"d":"16.77%"}},{"$f":"IF(INDEX('MorningStar Data'!$A$1:$M$150,MATCH(Analysis!$A$56,'MorningStar Data'!$A$1:$A$150,0),J1+1)/100=0,\"\",INDEX('MorningStar Data'!$A$1:$M$150,MATCH(Analysis!$A$56,'MorningStar Data'!$A$1:$A$150,0),J1+1)/100)","v":{"v":0.1946,"d":"19.46%"}},{"$f":"IF(INDEX('MorningStar Data'!$A$1:$M$150,MATCH(Analysis!$A$56,'MorningStar Data'!$A$1:$A$150,0),K1+1)/100=0,\"\",INDEX('MorningStar Data'!$A$1:$M$150,MATCH(Analysis!$A$56,'MorningStar Data'!$A$1:$A$150,0),K1+1)/100)","v":{"v":0.183,"d":"18.30%"}},{"$f":"IF(INDEX('MorningStar Data'!$A$1:$M$150,MATCH(Analysis!$A$56,'MorningStar Data'!$A$1:$A$150,0),L1+1)/100=0,\"\",INDEX('MorningStar Data'!$A$1:$M$150,MATCH(Analysis!$A$56,'MorningStar Data'!$A$1:$A$150,0),L1+1)/100)","v":{"v":0.24280000000000002,"d":"24.28%"}},{"$f":"AVERAGE(C50:L50)","v":{"v":-0.053115411689755254,"d":"-5.31%"}},{"$f":"STDEV(C50:L50)","v":{"v":0.010232975467023188,"d":"1%"}},{"$f":"(M56-P56)/M56","v":{"v":0.5931169615220598,"d":"0.593"}},{"$f":"((1+IF(C50=\"\",0,C50))*(1+IF(D50=\"\",0,D50))*(1+IF(E50=\"\",0,E50))*(1+IF(F50=\"\",0,F50))*(1+IF(G50=\"\",0,G50))*(1+IF(H50=\"\",0,H50))*(1+IF(I50=\"\",0,I50))*(1+IF(J50=\"\",0,J50))*(1+IF(K50=\"\",0,K50))*(1+IF(L50=\"\",0,L50)))^(1/10)-1","v":{"v":-0.02161176009833432,"d":"-2%"}}]
["1Y rolling growth growth in FCF/Sales",null,null,{"$f":"(D56/C56)-1","v":{"v":0.6532258064516128,"d":"65%"}},{"v":0.03231707317073185,"d":"3%"},{"v":0.0962787950383932,"d":"10%"},{"v":0.298491379310345,"d":"30%"},{"v":0.13485477178423233,"d":"13%"},{"v":-0.38683729433272407,"d":"-39%"},{"v":0.1604054859868813,"d":"16%"},{"v":-0.05960945529290851,"d":"-6%"},{"v":0.326775956284153,"d":"33%"}]
["3Y rolling growth FCF/Sales",{"$nulls":3},{"$f":"(E56/C56)^(1/3)-1","v":{"v":0.19503812855623925,"d":"20%"}},{"$f":"(F56/D56)^(1/3)-1","v":{"v":0.04210474798486308,"d":"4%"}},{"$f":"(G56/E56)^(1/3)-1","v":{"v":0.12491582966729387,"d":"12%"}},{"$f":"(H56/F56)^(1/3)-1","v":{"v":0.13795857542876244,"d":"14%"}},{"$f":"(I56/G56)^(1/3)-1","v":{"v":-0.1138538805069027,"d":"-11%"}},{"$f":"(J56/H56)^(1/3)-1","v":{"v":-0.10725278971660646,"d":"-11%"}},{"$f":"(K56/I56)^(1/3)-1","v":{"v":0.029530796770960377,"d":"3%"}},{"$f":"(L56/J56)^(1/3)-1","v":{"v":0.07655266939777028,"d":"8%"}}]
["5Y rolling growth FCF/Sales",{"$nulls":5},{"$f":"(G56/C56)^(1/5)-1","v":{"v":0.1942660156591527,"d":"19%"}},{"$f":"(H56/D56)^(1/5)-1","v":{"v":0.10770137938291247,"d":"11%"}},{"$f":"(I56/E56)^(1/5)-1","v":{"v":-1.8973218669284808E-3,"d":"-0%"}},{"$f":"(J56/F56)^(1/5)-1","v":{"v":0.00951545668307241,"d":"1%"}},{"$f":"(K56/G56)^(1/5)-1","v":{"v":-0.05357368007199026,"d":"-5%"}},{"$f":"(L56/H56)^(1/5)-1","v":{"v":-0.02353142704326694,"d":"-2%"}}]
["7Y rolling growth FCF/Sales",{"$nulls":7},{"$f":"(I56/C56)^(1/7)-1","v":{"v":0.07789010306024169,"d":"8%"}},{"$f":"(J56/D56)^(1/7)-1","v":{"v":0.02474106701672829,"d":"2%"}},{"$f":"(K56/E56)^(1/7)-1","v":{"v":0.011178281510498378,"d":"1%"}},{"$f":"(L56/F56)^(1/7)-1","v":{"v":0.03912368606429628,"d":"4%"}}]
[null,"Morning Star does not seem to have this data. You can get it from screener.in and paste it below! (green cells)"]
["EBIDT",769.12,208.55,224.69,273.08,300.05,373.69,516.25,556.38,628.28,706.73,714.33,{"$f":"AVERAGE(C62:L62)","v":{"v":450.2030000000001,"d":"450.2"}},{"$f":"STDEV(C62:L62)","v":{"v":197.74881896261994,"d":"197.7"}},{"$f":"(M62-P62)/M62","v":{"v":0.09147493838464617,"d":"0.091"}},{"$f":"((1+IF(C62=\"\",0,C62))*(1+IF(D62=\"\",0,D62))*(1+IF(E62=\"\",0,E62))*(1+IF(F62=\"\",0,F62))*(1+IF(G62=\"\",0,G62))*(1+IF(H62=\"\",0,H62))*(1+IF(I62=\"\",0,I62))*(1+IF(J62=\"\",0,J62))*(1+IF(K62=\"\",0,K62))*(1+IF(L62=\"\",0,L62)))^(1/10)-1","v":{"v":409.0207083144172,"d":"409"}}]
["1Y rolling growth growth in EBIDT",null,null,{"$f":"(D62/C62)-1","v":{"v":0.07739151282666024,"d":"8%"}},{"v":0.21536338955894774,"d":"22%"},{"v":0.0987622674674089,"d":"10%"},{"v":0.2454257623729379,"d":"25%"},{"v":0.3814926810993069,"d":"38%"},{"v":0.07773365617433403,"d":"8%"},{"v":0.12922822531363454,"d":"13%"},{"v":0.12486471000191002,"d":"12%"},{"v":0.010753753201363958,"d":"1%"}]
["3Y rolling growth EBIDT",{"$nulls":3},{"$f":"(E62/C62)^(1/3)-1","v":{"v":0.0940232878275542,"d":"9%"}},{"$f":"(F62/D62)^(1/3)-1","v":{"v":0.10120953282075162,"d":"10%"}},{"$f":"(G62/E62)^(1/3)-1","v":{"v":0.11021526399635895,"d":"11%"}},{"$f":"(H62/F62)^(1/3)-1","v":{"v":0.19827218367396982,"d":"20%"}},{"$f":"(I62/G62)^(1/3)-1","v":{"v":0.14187880354974425,"d":"14%"}},{"$f":"(J62/H62)^(1/3)-1","v":{"v":0.06765529138766557,"d":"7%"}},{"$f":"(K62/I62)^(1/3)-1","v":{"v":0.08299721291277495,"d":"8%"}},{"$f":"(L62/J62)^(1/3)-1","v":{"v":0.04371490342314455,"d":"4%"}}]
["5Y rolling growth EBIDT",{"$nulls":5},{"$f":"(G62/C62)^(1/5)-1","v":{"v":0.12372555241926464,"d":"12%"}},{"$f":"(H62/D62)^(1/5)-1","v":{"v":0.1810145934192302,"d":"18%"}},{"$f":"(I62/E62)^(1/5)-1","v":{"v":0.15296552928708618,"d":"15%"}},{"$f":"(J62/F62)^(1/5)-1","v":{"v":0.1592895492052826,"d":"16%"}},{"$f":"(K62/G62)^(1/5)-1","v":{"v":0.13592173671011198,"d":"14%"}},{"$f":"(L62/H62)^(1/5)-1","v":{"v":0.06710649929091028,"d":"7%"}}]
["7Y rolling growth EBIDT",{"$nulls":7},{"$f":"(I62/C62)^(1/7)-1","v":{"v":0.1504829529942744,"d":"15%"}},{"$f":"(J62/D62)^(1/7)-1","v":{"v":0.15823221857565883,"d":"16%"}},{"$f":"(K62/E62)^(1/7)-1","v":{"v":0.1454992381926159,"d":"15%"}},{"$f":"(L62/F62)^(1/7)-1","v":{"v":0.131918184347535,"d":"13%"}}]

{"sheet":"Notes","index":3,"n_rows":6,"n_cols":3,"rows_kept":6}
["Diluted Earnings per share","Used a version of the formula foud here","http://www.financeformulas.net/Diluted-EPS.html"]
[null,"Please let me know if the formula used in the sheet is wrong. I think it is!"]
["Inconsistency Measure","I have used the difference between arithmetic average and geometric average as a measure of "]
[null,"inconsistency or volatility. Lower the better!"]
["Geometric average","Using the form of the CAGR or Compounded annualized growth rate. "]
[null,"Not always relevant. Used only for calculating inconsistency"]

{"sheet":"Graph","index":4,"n_rows":100,"n_cols":35,"rows_kept":100}
["Choose 'none' if you want to get rid of a plot",{"$nulls":20},"None",{"$nulls":3},2,{"$f":"Z1+1","v":3},{"$f":"AA1+1","v":4},5,6,7,8,9,10,11]
["Choose property (left y-axis)","Net Income USD Mil",{"$nulls":19},{"$f":"Analysis!A3","v":"Tax Rate %"},{"$nulls":3},{"$f":"VALUE(Analysis!C2)","v":{"v":2005,"d":"2005.00"}},{"$f":"VALUE(Analysis!D2)","v":{"v":2006,"d":"2006.00"}},{"$f":"VALUE(Analysis!E2)","v":{"v":2007,"d":"2007.00"}},{"$f":"VALUE(Analysis!F2)","v":{"v":2008,"d":"2008.00"}},{"$f":"VALUE(Analysis!G2)","v":{"v":2009,"d":"2009.00"}},{"$f":"VALUE(Analysis!H2)","v":{"v":2010,"d":"2010.00"}},{"$f":"VALUE(Analysis!I2)","v":{"v":2011,"d":"2011.00"}},{"$f":"VALUE(Analysis!J2)","v":{"v":2012,"d":"2012.00"}},{"$f":"VALUE(Analysis!K2)","v":{"v":2013,"d":"2013.00"}},{"$f":"VALUE(Analysis!L2)","v":{"v":2014,"d":"2014.00"}}]
["Choose property (left y-axis)","7Y rolling growth RoE",{"$nulls":19},{"$f":"Analysis!A4","v":"Gross Margin %"},{"$nulls":3},{"$f":"IF(INDEX(Analysis!$B$3:$L$68,MATCH(Graph!$B$2,Analysis!$A$3:$A$68,0),Z1)=\"\",NA(),INDEX(Analysis!$B$3:$L$68,MATCH(Graph!$B$2,Analysis!$A$3:$A$68,0),Z1))","v":419},{"$f":"IF(INDEX(Analysis!$B$3:$L$68,MATCH(Graph!$B$2,Analysis!$A$3:$A$68,0),AA1)=\"\",NA(),INDEX(Analysis!$B$3:$L$68,MATCH(Graph!$B$2,Analysis!$A$3:$A$68,0),AA1))","v":555},{"$f":"IF(INDEX(Analysis!$B$3:$L$68,MATCH(Graph!$B$2,Analysis!$A$3:$A$68,0),AB1)=\"\",NA(),INDEX(Analysis!$B$3:$L$68,MATCH(Graph!$B$2,Analysis!$A$3:$A$68,0),AB1))","v":850},{"$f":"IF(INDEX(Analysis!$B$3:$L$68,MATCH(Graph!$B$2,Analysis!$A$3:$A$68,0),AC1)=\"\",NA(),INDEX(Analysis!$B$3:$L$68,MATCH(Graph!$B$2,Analysis!$A$3:$A$68,0),AC1))","v":1155},{"$f":"IF(INDEX(Analysis!$B$3:$L$68,MATCH(Graph!$B$2,Analysis!$A$3:$A$68,0),AD1)=\"\",NA(),INDEX(Analysis!$B$3:$L$68,MATCH(Graph!$B$2,Analysis!$A$3:$A$68,0),AD1))","v":1281},{"$f":"IF(INDEX(Analysis!$B$3:$L$68,MATCH(Graph!$B$2,Analysis!$A$3:$A$68,0),AE1)=\"\",NA(),INDEX(Analysis!$B$3:$L$68,MATCH(Graph!$B$2,Analysis!$A$3:$A$68,0),AE1))","v":1313},{"$f":"IF(INDEX(Analysis!$B$3:$L$68,MATCH(Graph!$B$2,Analysis!$A$3:$A$68,0),AF1)=\"\",NA(),INDEX(Analysis!$B$3:$L$68,MATCH(Graph!$B$2,Analysis!$A$3:$A$68,0),AF1))","v":1499},{"$f":"IF(INDEX(Analysis!$B$3:$L$68,MATCH(Graph!$B$2,Analysis!$A$3:$A$68,0),AG1)=\"\",NA(),INDEX(Analysis!$B$3:$L$68,MATCH(Graph!$B$2,Analysis!$A$3:$A$68,0),AG1))","v":1716},{"$f":"IF(INDEX(Analysis!$B$3:$L$68,MATCH(Graph!$B$2,Analysis!$A$3:$A$68,0),AH1)=\"\",NA(),INDEX(Analysis!$B$3:$L$68,MATCH(Graph!$B$2,Analysis!$A$3:$A$68,0),AH1))","v":1725},{"$f":"IF(INDEX(Analysis!$B$3:$L$68,MATCH(Graph!$B$2,Analysis!$A$3:$A$68,0),AI1)=\"\",NA(),INDEX(Analysis!$B$3:$L$68,MATCH(Graph!$B$2,Analysis!$A$3:$A$68,0),AI1))","v":1751}]
["Choose property (right y-axis)","None",{"$nulls":19},{"$f":"Analysis!A5","v":"EBT Margin"},{"$nulls":3},{"$f":"IF(INDEX(Analysis!$B$3:$L$68,MATCH(Graph!$B$3,Analysis!$A$3:$A$68,0),Z1)=\"\",NA(),INDEX(Analysis!$B$3:$L$68,MATCH(Graph!$B$3,Analysis!$A$3:$A$68,0),Z1))","v":{"$error":"#N/A"}},{"$f":"IF(INDEX(Analysis!$B$3:$L$68,MATCH(Graph!$B$3,Analysis!$A$3:$A$68,0),AA1)=\"\",NA(),INDEX(Analysis!$B$3:$L$68,MATCH(Graph!$B$3,Analysis!$A$3:$A$68,0),AA1))","v":{"$error":"#N/A"}},{"$f":"IF(INDEX(Analysis!$B$3:$L$68,MATCH(Graph!$B$3,Analysis!$A$3:$A$68,0),AB1)=\"\",NA(),INDEX(Analysis!$B$3:$L$68,MATCH(Graph!$B$3,Analysis!$A$3:$A$68,0),AB1))","v":{"$error":"#N/A"}},{"$f":"IF(INDEX(Analysis!$B$3:$L$68,MATCH(Graph!$B$3,Analysis!$A$3:$A$68,0),AC1)=\"\",NA(),INDEX(Analysis!$B$3:$L$68,MATCH(Graph!$B$3,Analysis!$A$3:$A$68,0),AC1))","v":{"$error":"#N/A"}},{"$f":"IF(INDEX(Analysis!$B$3:$L$68,MATCH(Graph!$B$3,Analysis!$A$3:$A$68,0),AD1)=\"\",NA(),INDEX(Analysis!$B$3:$L$68,MATCH(Graph!$B$3,Analysis!$A$3:$A$68,0),AD1))","v":{"$error":"#N/A"}},{"$f":"IF(INDEX(Analysis!$B$3:$L$68,MATCH(Graph!$B$3,Analysis!$A$3:$A$68,0),AE1)=\"\",NA(),INDEX(Analysis!$B$3:$L$68,MATCH(Graph!$B$3,Analysis!$A$3:$A$68,0),AE1))","v":{"$error":"#N/A"}},{"$f":"IF(INDEX(Analysis!$B$3:$L$68,MATCH(Graph!$B$3,Analysis!$A$3:$A$68,0),AF1)=\"\",NA(),INDEX(Analysis!$B$3:$L$68,MATCH(Graph!$B$3,Analysis!$A$3:$A$68,0),AF1))","v":-0.052126737175127835},{"$f":"IF(INDEX(Analysis!$B$3:$L$68,MATCH(Graph!$B$3,Analysis!$A$3:$A$68,0),AG1)=\"\",NA(),INDEX(Analysis!$B$3:$L$68,MATCH(Graph!$B$3,Analysis!$A$3:$A$68,0),AG1))","v":-0.0398070098388712},{"$f":"IF(INDEX(Analysis!$B$3:$L$68,MATCH(Graph!$B$3,Analysis!$A$3:$A$68,0),AH1)=\"\",NA(),INDEX(Analysis!$B$3:$L$68,MATCH(Graph!$B$3,Analysis!$A$3:$A$68,0),AH1))","v":-0.05669381488808889},{"$f":"IF(INDEX(Analysis!$B$3:$L$68,MATCH(Graph!$B$3,Analysis!$A$3:$A$68,0),AI1)=\"\",NA(),INDEX(Analysis!$B$3:$L$68,MATCH(Graph!$B$3,Analysis!$A$3:$A$68,0),AI1))","v":-0.0580279766548808}]
["Choose property (right y-axis)","None",{"$nulls":19},{"$f":"Analysis!A6","v":"Operating Margin %"},{"$nulls":3},{"$f":"IF(INDEX(Analysis!$B$3:$L$68,MATCH(Graph!$B$4,Analysis!$A$3:$A$68,0),Z1)=\"\",NA(),INDEX(Analysis!$B$5:$L$68,MATCH(Graph!$B$4,Analysis!$A$3:$A$68,0),Z1))","v":{"$error":"#N/A"}},{"$f":"IF(INDEX(Analysis!$B$3:$L$68,MATCH(Graph!$B$4,Analysis!$A$3:$A$68,0),AA1)=\"\",NA(),INDEX(Analysis!$B$5:$L$68,MATCH(Graph!$B$4,Analysis!$A$3:$A$68,0),AA1))","v":{"$error":"#N/A"}},{"$f":"IF(INDEX(Analysis!$B$3:$L$68,MATCH(Graph!$B$4,Analysis!$A$3:$A$68,0),AB1)=\"\",NA(),INDEX(Analysis!$B$5:$L$68,MATCH(Graph!$B$4,Analysis!$A$3:$A$68,0),AB1))","v":{"$error":"#N/A"}},{"$f":"IF(INDEX(Analysis!$B$3:$L$68,MATCH(Graph!$B$4,Analysis!$A$3:$A$68,0),AC1)=\"\",NA(),INDEX(Analysis!$B$5:$L$68,MATCH(Graph!$B$4,Analysis!$A$3:$A$68,0),AC1))","v":{"$error":"#N/A"}},{"$f":"IF(INDEX(Analysis!$B$3:$L$68,MATCH(Graph!$B$4,Analysis!$A$3:$A$68,0),AD1)=\"\",NA(),INDEX(Analysis!$B$5:$L$68,MATCH(Graph!$B$4,Analysis!$A$3:$A$68,0),AD1))","v":{"$error":"#N/A"}},{"$f":"IF(INDEX(Analysis!$B$3:$L$68,MATCH(Graph!$B$4,Analysis!$A$3:$A$68,0),AE1)=\"\",NA(),INDEX(Analysis!$B$5:$L$68,MATCH(Graph!$B$4,Analysis!$A$3:$A$68,0),AE1))","v":{"$error":"#N/A"}},{"$f":"IF(INDEX(Analysis!$B$3:$L$68,MATCH(Graph!$B$4,Analysis!$A$3:$A$68,0),AF1)=\"\",NA(),INDEX(Analysis!$B$5:$L$68,MATCH(Graph!$B$4,Analysis!$A$3:$A$68,0),AF1))","v":{"$error":"#N/A"}},{"$f":"IF(INDEX(Analysis!$B$3:$L$68,MATCH(Graph!$B$4,Analysis!$A$3:$A$68,0),AG1)=\"\",NA(),INDEX(Analysis!$B$5:$L$68,MATCH(Graph!$B$4,Analysis!$A$3:$A$68,0),AG1))","v":{"$error":"#N/A"}},{"$f":"IF(INDEX(Analysis!$B$3:$L$68,MATCH(Graph!$B$4,Analysis!$A$3:$A$68,0),AH1)=\"\",NA(),INDEX(Analysis!$B$5:$L$68,MATCH(Graph!$B$4,Analysis!$A$3:$A$68,0),AH1))","v":{"$error":"#N/A"}},{"$f":"IF(INDEX(Analysis!$B$3:$L$68,MATCH(Graph!$B$4,Analysis!$A$3:$A$68,0),AI1)=\"\",NA(),INDEX(Analysis!$B$5:$L$68,MATCH(Graph!$B$4,Analysis!$A$3:$A$68,0),AI1))","v":{"$error":"#N/A"}}]
[{"$nulls":21},{"$f":"Analysis!A7","v":"Return on Equity %"},{"$nulls":3},{"$f":"IF(INDEX(Analysis!$B$3:$L$68,MATCH(Graph!$B$5,Analysis!$A$3:$A$68,0),Z1)=\"\",NA(),INDEX(Analysis!$B$5:$L$68,MATCH(Graph!$B$5,Analysis!$A$3:$A$68,0),Z1))","v":{"$error":"#N/A"}},{"$f":"IF(INDEX(Analysis!$B$3:$L$68,MATCH(Graph!$B$5,Analysis!$A$3:$A$68,0),AA1)=\"\",NA(),INDEX(Analysis!$B$5:$L$68,MATCH(Graph!$B$5,Analysis!$A$3:$A$68,0),AA1))","v":{"$error":"#N/A"}},{"$f":"IF(INDEX(Analysis!$B$3:$L$68,MATCH(Graph!$B$5,Analysis!$A$3:$A$68,0),AB1)=\"\",NA(),INDEX(Analysis!$B$5:$L$68,MATCH(Graph!$B$5,Analysis!$A$3:$A$68,0),AB1))","v":{"$error":"#N/A"}},{"$f":"IF(INDEX(Analysis!$B$3:$L$68,MATCH(Graph!$B$5,Analysis!$A$3:$A$68,0),AC1)=\"\",NA(),INDEX(Analysis!$B$5:$L$68,MATCH(Graph!$B$5,Analysis!$A$3:$A$68,0),AC1))","v":{"$error":"#N/A"}},{"$f":"IF(INDEX(Analysis!$B$3:$L$68,MATCH(Graph!$B$5,Analysis!$A$3:$A$68,0),AD1)=\"\",NA(),INDEX(Analysis!$B$5:$L$68,MATCH(Graph!$B$5,Analysis!$A$3:$A$68,0),AD1))","v":{"$error":"#N/A"}},{"$f":"IF(INDEX(Analysis!$B$3:$L$68,MATCH(Graph!$B$5,Analysis!$A$3:$A$68,0),AE1)=\"\",NA(),INDEX(Analysis!$B$5:$L$68,MATCH(Graph!$B$5,Analysis!$A$3:$A$68,0),AE1))","v":{"$error":"#N/A"}},{"$f":"IF(INDEX(Analysis!$B$3:$L$68,MATCH(Graph!$B$5,Analysis!$A$3:$A$68,0),AF1)=\"\",NA(),INDEX(Analysis!$B$5:$L$68,MATCH(Graph!$B$5,Analysis!$A$3:$A$68,0),AF1))","v":{"$error":"#N/A"}},{"$f":"IF(INDEX(Analysis!$B$3:$L$68,MATCH(Graph!$B$5,Analysis!$A$3:$A$68,0),AG1)=\"\",NA(),INDEX(Analysis!$B$5:$L$68,MATCH(Graph!$B$5,Analysis!$A$3:$A$68,0),AG1))","v":{"$error":"#N/A"}},{"$f":"IF(INDEX(Analysis!$B$3:$L$68,MATCH(Graph!$B$5,Analysis!$A$3:$A$68,0),AH1)=\"\",NA(),INDEX(Analysis!$B$5:$L$68,MATCH(Graph!$B$5,Analysis!$A$3:$A$68,0),AH1))","v":{"$error":"#N/A"}},{"$f":"IF(INDEX(Analysis!$B$3:$L$68,MATCH(Graph!$B$5,Analysis!$A$3:$A$68,0),AI1)=\"\",NA(),INDEX(Analysis!$B$5:$L$68,MATCH(Graph!$B$5,Analysis!$A$3:$A$68,0),AI1))","v":{"$error":"#N/A"}}]
[{"$nulls":21},{"$f":"Analysis!A8","v":"1Y rolling growth growth in RoE"}]
[{"$nulls":21},{"$f":"Analysis!A9","v":"3Y rolling growth RoE"}]
[{"$nulls":21},{"$f":"Analysis!A10","v":"5Y rolling growth RoE"}]
[{"$nulls":21},{"$f":"Analysis!A11","v":"7Y rolling growth RoE"}]
[{"$nulls":21},{"$f":"Analysis!A12","v":"Return on Invested Capital %"}]
[{"$nulls":21},{"$f":"Analysis!A13","v":"1Y rolling growth growth in RoIC"}]
[{"$nulls":21},{"$f":"Analysis!A14","v":"3Y rolling growth ROIC"}]
[{"$nulls":21},{"$f":"Analysis!A15","v":"5Y rolling growth ROIC"}]
[{"$nulls":21},{"$f":"Analysis!A16","v":"7Y rolling growth ROIC"}]
[{"$nulls":21},{"$f":"Analysis!A17","v":"Return on Assets %"}]
[{"$nulls":21},{"$f":"Analysis!A19","v":"Shares Mil"}]
[{"$nulls":21},{"$f":"Analysis!A20","v":"Net Income USD Mil"}]
[{"$nulls":21},{"$f":"Analysis!A21","v":"Earnings Per Share USD"}]
[{"$nulls":21},{"$f":"Analysis!A22","v":"Dividends USD"}]
[{"$nulls":21},{"$f":"Analysis!A23","v":"Payout Ratio %"}]
[{"$nulls":21},{"$f":"Analysis!A24","v":"Diluted Earnings Per Share*"}]
[{"$nulls":21},{"$f":"Analysis!A25","v":"1Y rolling growth growth in Diluted EPS"}]
[{"$nulls":21},{"$f":"Analysis!A26","v":"3Y rolling growth diluted EPS"}]
[{"$nulls":21},{"$f":"Analysis!A27","v":"5Y rolling growth diluted EPS"}]
[{"$nulls":21},{"$f":"Analysis!A28","v":"7Y rolling growth diluted EPS"}]
[{"$nulls":21},{"$f":"Analysis!A29","v":"Book Value Per Share INR"}]
[{"$nulls":21},{"$f":"Analysis!A30","v":"1Y rolling growth growth in BV per share"}]
[{"$nulls":21},{"$f":"Analysis!A31","v":"3Y rolling growth diluted BV per share"}]
[{"$nulls":21},{"$f":"Analysis!A32","v":"5Y rolling growth diluted BV per share"}]
[{"$nulls":21},{"$f":"Analysis!A33","v":"7Y rolling growth diluted BV per share"}]
[{"$nulls":21},{"$f":"Analysis!A35","v":"EBT Margin"}]
[{"$nulls":21},{"$f":"Analysis!A36","v":"1Y rolling growth growth in EBT margin"}]
[{"$nulls":21},{"$f":"Analysis!A37","v":"3Y rolling growth EBT margin"}]
[{"$nulls":21},{"$f":"Analysis!A38","v":"5Y rolling growth EBT margin"}]
[{"$nulls":21},{"$f":"Analysis!A39","v":"7Y rolling growth EBT margin"}]
[{"$nulls":21},{"$f":"Analysis!A40","v":"Debt/Equity"}]
[{"$nulls":21},{"$f":"Analysis!A41","v":"Free Cash Flow USD Mil"}]
[{"$nulls":21},{"$f":"Analysis!A42","v":"1Y rolling growth growth in cash flow"}]
[{"$nulls":21},{"$f":"Analysis!A43","v":"3Y rolling growth free cash flow"}]
[{"$nulls":21},{"$f":"Analysis!A44","v":"5Y rolling growth free cash flow"}]
[{"$nulls":21},{"$f":"Analysis!A45","v":"7Y rolling growth free cash flow"}]
[{"$nulls":21},{"$f":"Analysis!A46","v":"Return on Assets %"}]
[{"$nulls":21},{"$f":"Analysis!A47","v":"1Y rolling growth growth in RoA"}]
[{"$nulls":21},{"$f":"Analysis!A48","v":"3Y rolling growth RoA"}]
[{"$nulls":21},{"$f":"Analysis!A49","v":"5Y rolling growth RoA"}]
[{"$nulls":21},{"$f":"Analysis!A50","v":"7Y rolling growth RoA"}]
[{"$nulls":21},{"$f":"Analysis!A52","v":"Operating Cash Flow Growth % YOY"}]
[{"$nulls":21},{"$f":"Analysis!A53","v":"3Y rolling growth OCF"}]
[{"$nulls":21},{"$f":"Analysis!A54","v":"5Y rolling growth OCF"}]
[{"$nulls":21},{"$f":"Analysis!A55","v":"7Y rolling growth OCF"}]
[{"$nulls":21},{"$f":"Analysis!A56","v":"Free Cash Flow/Sales %"}]
[{"$nulls":21},{"$f":"Analysis!A57","v":"1Y rolling growth growth in FCF/Sales"}]
[{"$nulls":21},{"$f":"Analysis!A58","v":"3Y rolling growth FCF/Sales"}]
[{"$nulls":21},{"$f":"Analysis!A59","v":"5Y rolling growth FCF/Sales"}]
[{"$nulls":21},{"$f":"Analysis!A60","v":"7Y rolling growth FCF/Sales"}]
[{"$nulls":21},{"$f":"Analysis!A62","v":"EBIDT"}]
[{"$nulls":21},{"$f":"Analysis!A63","v":"1Y rolling growth growth in EBIDT"}]
[{"$nulls":21},{"$f":"Analysis!A64","v":"3Y rolling growth EBIDT"}]
[{"$nulls":21},{"$f":"Analysis!A65","v":"5Y rolling growth EBIDT"}]
[{"$nulls":21},{"$f":"Analysis!A66","v":"7Y rolling growth EBIDT"}]
[{"$nulls":21},{"$f":"Analysis!A67","v":0}]
[{"$nulls":21},{"$f":"Analysis!A68","v":0}]
[{"$nulls":21},{"$f":"Analysis!A69","v":0}]
[{"$nulls":21},{"$f":"Analysis!A70","v":0}]
[{"$nulls":21},{"$f":"Analysis!A71","v":0}]
[{"$nulls":21},{"$f":"Analysis!A72","v":0}]
[{"$nulls":21},{"$f":"Analysis!A73","v":0}]
[{"$nulls":21},{"$f":"Analysis!A74","v":0}]
[{"$nulls":21},{"$f":"Analysis!A75","v":0}]
[{"$nulls":21},{"$f":"Analysis!A76","v":0}]
[{"$nulls":21},{"$f":"Analysis!A77","v":0}]
[{"$nulls":21},{"$f":"Analysis!A78","v":0}]
[{"$nulls":21},{"$f":"Analysis!A79","v":0}]
[{"$nulls":21},{"$f":"Analysis!A80","v":0}]
[{"$nulls":21},{"$f":"Analysis!A81","v":0}]
[{"$nulls":21},{"$f":"Analysis!A82","v":0}]
[{"$nulls":21},{"$f":"Analysis!A83","v":0}]
[{"$nulls":21},{"$f":"Analysis!A84","v":0}]
[{"$nulls":21},{"$f":"Analysis!A85","v":0}]
[{"$nulls":21},{"$f":"Analysis!A86","v":0}]
[{"$nulls":21},{"$f":"Analysis!A87","v":0}]
[{"$nulls":21},{"$f":"Analysis!A88","v":0}]
[{"$nulls":21},{"$f":"Analysis!A89","v":0}]
[{"$nulls":21},{"$f":"Analysis!A90","v":0}]
[{"$nulls":21},{"$f":"Analysis!A91","v":0}]
[{"$nulls":21},{"$f":"Analysis!A92","v":0}]
[{"$nulls":21},{"$f":"Analysis!A93","v":0}]
[{"$nulls":21},{"$f":"Analysis!A94","v":0}]
[{"$nulls":21},{"$f":"Analysis!A95","v":0}]
[{"$nulls":21},{"$f":"Analysis!A96","v":0}]
[{"$nulls":21},{"$f":"Analysis!A97","v":0}]
[{"$nulls":21},{"$f":"Analysis!A98","v":0}]
[{"$nulls":21},{"$f":"Analysis!A99","v":0}]
[{"$nulls":21},{"$f":"Analysis!A100","v":0}]
[{"$nulls":21},{"$f":"Analysis!A101","v":0}]
[{"$nulls":21},{"$f":"Analysis!A102","v":0}]
[{"$nulls":21},{"$f":"Analysis!A103","v":0}]
[{"$nulls":21},{"$f":"Analysis!A104","v":0}]
[{"$nulls":21},{"$f":"Analysis!A105","v":0}]

{"sheet":"Valuation-1","index":5,"n_rows":28,"n_cols":7,"rows_kept":28}
["Calculate if the stock is overvalued or undervalued"]
["Price Multiple Model. Source:","http://investexcel.net/how-to-calculate-if-a-stock-is-undervalued-or-overvalued/"]
[]
["Current price",{"v":1756.9,"d":"1,756.90"}]
["Average annual Diluted EPS Growth over last 10Y",{"$f":"Analysis!M25","v":{"v":0.17726400766419614,"d":"18%"}}]
["Standard Deviation",{"$f":"Analysis!N25","v":{"v":0.1735363494223599,"d":"17%"}},"If the standard deviation is as high than the average, the average is useless!"]
["Expected conservative EPS growth",{"v":0.2,"d":"20%"}]
["Forward PE (get from Morningstar)",41]
["Current EPS (TTM)",{"$f":"Analysis!B21","v":1.7}]
["Current Dividend per share (TTM)",{"$f":"Analysis!B22","v":0.53}]
["Expected conservative rate of return",{"v":0.15,"d":"15%"}]
[]
["Expected EPS Growth",{"$nulls":3},"Expected EPS Growth"]
["Year 0",{"$f":"B9","v":1.7},null,null,"Year 0",{"$f":"B14","v":1.7}]
["Year 1",{"$f":"B14*(1+$B$7)","v":2.04},null,null,"Year 1",{"$f":"F14*(1+$B$7)","v":2.04}]
["Year 2",{"$f":"B15*(1+$B$7)","v":2.448},null,null,"Year 2",{"$f":"F15*(1+$B$7)","v":2.448}]
["Year 3",{"$f":"B16*(1+$B$7)","v":2.9375999999999998},null,null,"Year 3",{"$f":"F16*(1+$B$7)","v":2.9375999999999998}]
["Total 3Y EPS",{"$f":"SUM(B15:B17)","v":7.425599999999999},null,null,"Year 4",{"$f":"F17*(1+$B$7)","v":3.52512}]
[{"$nulls":4},"Year 5",{"$f":"F18*(1+$B$7)","v":4.230143999999999}]
[{"$nulls":4},"Total 5Y EPS",{"$f":"SUM(F15:F19)","v":15.180863999999998}]
[]
["Expected Share Price in 3 Years",{"$f":"B8*B17","v":120.4416},null,null,"Expected Share Price in 5 Years",{"$f":"B8*F19","v":173.43590399999997}]
["Dividend Payout Ratio",{"$f":"B10/B17","v":0.18041938997821352},null,null,"Dividend Payout Ratio",{"$f":"B10/F19","v":0.12529124304042608}]
["Total Dividends Per Share Over 3 Years",{"$f":"B23*B18","v":1.3397222222222223},null,null,"Total Dividends Per Share Over 3 Years",{"$f":"F23*F20","v":1.9020293209876544}]
["Expected Share Value at End of 3 Years",{"$f":"B24+B22","v":121.78132222222222},null,null,"Expected Share Value at End of 3 Years",{"$f":"F24+F22","v":175.33793332098762}]
["Present Share Value for Good Value",{"$f":"B25/(1+B11)^3","v":80.07319616814154},{"$f":"IF(B26>B4, \"Stock is undervalued\", \"Stock is overvalued\")","v":"Stock is overvalued"},null,"Present Share Value for Good Value",{"$f":"F25/(1+B11)^3","v":115.28753731962698},{"$f":"IF(F26>B4, \"Stock is undervalued\", \"Stock is overvalued\")","v":"Stock is overvalued"}]
[]
["\"Analysis is purely quantitative, and does not incorporate qualitative aspects that may lead to investors prefering the over valued stock\" - Raghavendre Shenoy"]

{"sheet":"Inputs","index":6,"n_rows":4500,"n_cols":28,"rows_kept":4500,"merged":[[0,0,0,4],[1,2,1,4],[5,2,5,4],[8,0,9,0],[8,2,8,4],[9,2,9,3],[10,2,10,4],[20,0,20,4]]}
["Obtain NAV history for mutual funds from Yahoo Finance and AMFI",{"$nulls":6},{"$f":"TODAY()","v":"2014-12-25"},{"$nulls":5},{"$f":"INDEX(L2:M4500,MATCH(A5,L2:L4500,0),2)","v":"SBI.BO"},"Yes","Daily",{"$nulls":4},1990,1,null,1,"January"]
["Step 1: Type the first few letters of the stock",null,"NAV history start date*",{"$nulls":4},{"$f":"H1-3650","v":"2004-12-27"},null,null,{"$f":"IF(ISNUMBER(SEARCH($A$3,L2)),MAX($K$1:K1)+1,0)","v":0},"21St Century Mgt Services Ltd","526921.BO",{"$f":"D4-1","v":7},"No","Weekly",{"$f":"TEXT(N9,\"mmm\")","v":"Aug"},{"$nulls":3},{"$f":"U1+1","v":1991},{"$f":"V1+1","v":2},null,{"$f":"X1+1","v":2},"February",{"$f":"IFERROR(VLOOKUP(ROWS($Z$2:Z2),K2:$L$6000,2,0),\"\")","v":"State Bank Of Bikaner"},{"$f":"IFERROR(VLOOKUP(ROWS($AA$2:AA2),K2:$M$6000,3,0),\"\")","v":"SBBJ.BO"},{"$f":"IF(ISERROR(INDEX(Z2:$AA$4500,MATCH($A$5,Z2:$Z$4500,0),2)),\"\",INDEX(Z2:$AA$4500,MATCH($A$5,Z2:$Z$4500,0),2))","v":"SBI.BO"}]
["State bank",null,"Day","Month","Year",{"$nulls":5},{"$f":"IF(ISNUMBER(SEARCH($A$3,L3)),MAX($K$1:K2)+1,0)","v":0},"3i Infotech Ltd","532628.BO",{"$f":"C4","v":12},null,"Monthly",{"$f":"TEXT(N10,\"mmm\")","v":"Aug"},{"$nulls":3},{"$f":"U2+1","v":1992},{"$f":"V2+1","v":3},null,{"$f":"X2+1","v":3},"March",{"$f":"IFERROR(VLOOKUP(ROWS($Z$2:Z3),K3:$L$6000,2,0),\"\")","v":"State Bank of India"},{"$f":"IFERROR(VLOOKUP(ROWS($AA$2:AA3),K3:$M$6000,3,0),\"\")","v":"SBI.BO"},{"$f":"IF(ISERROR(INDEX(Z3:$AA$4500,MATCH($A$5,Z3:$Z$4500,0),2)),\"\",INDEX(Z3:$AA$4500,MATCH($A$5,Z3:$Z$4500,0),2))","v":"SBI.BO"}]
["Step 2: select the stock you need from this drop-down list",null,12,8,2002,{"$nulls":5},{"$f":"IF(ISNUMBER(SEARCH($A$3,L4)),MAX($K$1:K3)+1,0)","v":0},"3i Infotech Ltd","3IINFOTECH.NS",{"$f":"E4","v":2002},null,"Dividends only*",{"$nulls":4},{"$f":"U3+1","v":1993},{"$f":"V3+1","v":4},null,{"$f":"X3+1","v":4},"April",{"$f":"IFERROR(VLOOKUP(ROWS($Z$2:Z4),K4:$L$6000,2,0),\"\")","v":"State Bank of India"},{"$f":"IFERROR(VLOOKUP(ROWS($AA$2:AA4),K4:$M$6000,3,0),\"\")","v":"SBIN.NS"},{"$f":"IF(ISERROR(INDEX(Z4:$AA$4500,MATCH($A$5,Z4:$Z$4500,0),2)),\"\",INDEX(Z4:$AA$4500,MATCH($A$5,Z4:$Z$4500,0),2))","v":"SBIN.NS"}]
["State Bank of India",{"$nulls":9},{"$f":"IF(ISNUMBER(SEARCH($A$3,L5)),MAX($K$1:K4)+1,0)","v":0},"3M India Ltd","523395.BO",{"$f":"D8-1","v":7},{"$nulls":6},{"$f":"U4+1","v":1994},{"$f":"V4+1","v":5},null,{"$f":"X4+1","v":5},"May",{"$f":"IFERROR(VLOOKUP(ROWS($Z$2:Z5),K5:$L$6000,2,0),\"\")","v":"State Bank of Mysore"},{"$f":"IFERROR(VLOOKUP(ROWS($AA$2:AA5),K5:$M$6000,3,0),\"\")","v":"SBM.BO"},{"$f":"IF(ISERROR(INDEX(Z5:$AA$4500,MATCH($A$5,Z5:$Z$4500,0),2)),\"\",INDEX(Z5:$AA$4500,MATCH($A$5,Z5:$Z$4500,0),2))","v":""}]
["Step 3: Choose exchange:  .BO stands for BSE and .NSE stands for NSE",null,"NAV history end date",{"$nulls":7},{"$f":"IF(ISNUMBER(SEARCH($A$3,L6)),MAX($K$1:K5)+1,0)","v":0},"3M India Ltd","3MINDIA.NS",{"$f":"C8","v":9},{"$nulls":6},{"$f":"U5+1","v":1995},{"$f":"V5+1","v":6},null,{"$f":"X5+1","v":6},"June",{"$f":"IFERROR(VLOOKUP(ROWS($Z$2:Z6),K6:$L$6000,2,0),\"\")","v":"State Bank of Travancore"},{"$f":"IFERROR(VLOOKUP(ROWS($AA$2:AA6),K6:$M$6000,3,0),\"\")","v":"SBT.BO"},{"$f":"IF(ISERROR(INDEX(Z6:$AA$4500,MATCH($A$5,Z6:$Z$4500,0),2)),\"\",INDEX(Z6:$AA$4500,MATCH($A$5,Z6:$Z$4500,0),2))","v":""}]
["SBI.BO",null,"Day","Month","Year",{"$nulls":5},{"$f":"IF(ISNUMBER(SEARCH($A$3,L7)),MAX($K$1:K6)+1,0)","v":0},"8K Miles Software Services Ltd","PMSTRIPS.BO",{"$f":"E8","v":2014},{"$nulls":6},{"$f":"U6+1","v":1996},{"$f":"V6+1","v":7},null,{"$f":"X6+1","v":7},"July",{"$f":"IFERROR(VLOOKUP(ROWS($Z$2:Z7),K7:$L$6000,2,0),\"\")","v":""},{"$f":"IFERROR(VLOOKUP(ROWS($AA$2:AA7),K7:$M$6000,3,0),\"\")","v":""},{"$f":"IF(ISERROR(INDEX(Z7:$AA$4500,MATCH($A$5,Z7:$Z$4500,0),2)),\"\",INDEX(Z7:$AA$4500,MATCH($A$5,Z7:$Z$4500,0),2))","v":""}]
[null,null,9,8,2014,{"$nulls":5},{"$f":"IF(ISNUMBER(SEARCH($A$3,L8)),MAX($K$1:K7)+1,0)","v":0},"A I Champdany Industries Ltd","AICHAMPD.BO",{"$f":"IF(E10=\"Daily\",\"d\",IF(E10=\"Monthly\",\"m\",IF(E10=\"Weekly\",\"w\",IF(E10=\"Dividends Only*\",\"v\",\"\"))))","v":"m"},{"$nulls":6},{"$f":"U7+1","v":1997},{"$f":"V7+1","v":8},null,{"$f":"X7+1","v":8},"August",{"$f":"IFERROR(VLOOKUP(ROWS($Z$2:Z8),K8:$L$6000,2,0),\"\")","v":""},{"$f":"IFERROR(VLOOKUP(ROWS($AA$2:AA8),K8:$M$6000,3,0),\"\")","v":""},{"$f":"IF(ISERROR(INDEX(Z8:$AA$4500,MATCH($A$5,Z8:$Z$4500,0),2)),\"\",INDEX(Z8:$AA$4500,MATCH($A$5,Z8:$Z$4500,0),2))","v":""}]
["Step 4: ",{"$nulls":9},{"$f":"IF(ISNUMBER(SEARCH($A$3,L9)),MAX($K$1:K8)+1,0)","v":0},"A I Champdany Industries Ltd","AICHAMP.NS",{"$f":"DATE(E4,D4,C4)","v":"2002-08-12"},{"$f":"N9","v":"2002-08-12"},{"$nulls":5},{"$f":"U8+1","v":1998},{"$f":"V8+1","v":9},null,{"$f":"X8+1","v":9},"September",{"$f":"IFERROR(VLOOKUP(ROWS($Z$2:Z9),K9:$L$6000,2,0),\"\")","v":""},{"$f":"IFERROR(VLOOKUP(ROWS($AA$2:AA9),K9:$M$6000,3,0),\"\")","v":""},{"$f":"IF(ISERROR(INDEX(Z9:$AA$4500,MATCH($A$5,Z9:$Z$4500,0),2)),\"\",INDEX(Z9:$AA$4500,MATCH($A$5,Z9:$Z$4500,0),2))","v":""}]
[null,null,"Frequency? ",null,"Monthly",{"$nulls":5},{"$f":"IF(ISNUMBER(SEARCH($A$3,L10)),MAX($K$1:K9)+1,0)","v":0},"A K Capital Services Ltd","AKCAPIT.BO",{"$f":"DATE(E8,D8,C8)","v":"2014-08-09"},{"$f":"N10","v":"2014-08-09"},{"$nulls":5},{"$f":"U9+1","v":1999},{"$f":"V9+1","v":10},null,{"$f":"X9+1","v":10},"October",{"$f":"IFERROR(VLOOKUP(ROWS($Z$2:Z10),K10:$L$6000,2,0),\"\")","v":""},{"$f":"IFERROR(VLOOKUP(ROWS($AA$2:AA10),K10:$M$6000,3,0),\"\")","v":""},{"$f":"IF(ISERROR(INDEX(Z10:$AA$4500,MATCH($A$5,Z10:$Z$4500,0),2)),\"\",INDEX(Z10:$AA$4500,MATCH($A$5,Z10:$Z$4500,0),2))","v":""}]
["Do not modify this grey area",null,"Sort Ascending?",{"$nulls":7},{"$f":"IF(ISNUMBER(SEARCH($A$3,L11)),MAX($K$1:K10)+1,0)","v":0},"Aadhaar Ventures India Ltd","PRRANETA.BO",{"$nulls":7},{"$f":"U10+1","v":2000},{"$f":"V10+1","v":11},null,{"$f":"X10+1","v":11},"November",{"$f":"IFERROR(VLOOKUP(ROWS($Z$2:Z11),K11:$L$6000,2,0),\"\")","v":""},{"$f":"IFERROR(VLOOKUP(ROWS($AA$2:AA11),K11:$M$6000,3,0),\"\")","v":""},{"$f":"IF(ISERROR(INDEX(Z11:$AA$4500,MATCH($A$5,Z11:$Z$4500,0),2)),\"\",INDEX(Z11:$AA$4500,MATCH($A$5,Z11:$Z$4500,0),2))","v":""}]
[{"$f":"IF(DATE(E4,D4,C4)>DATE(E8,D8,C8),\"Please check start and end dates\",\"\")","v":""},null,null,"Yes",{"$nulls":6},{"$f":"IF(ISNUMBER(SEARCH($A$3,L12)),MAX($K$1:K11)+1,0)","v":0},"Aadi Industries Ltd","AADIIND.BO",{"$nulls":7},{"$f":"U11+1","v":2001},{"$f":"V11+1","v":12},null,{"$f":"X11+1","v":12},"December",{"$f":"IFERROR(VLOOKUP(ROWS($Z$2:Z12),K12:$L$6000,2,0),\"\")","v":""},{"$f":"IFERROR(VLOOKUP(ROWS($AA$2:AA12),K12:$M$6000,3,0),\"\")","v":""},{"$f":"IF(ISERROR(INDEX(Z12:$AA$4500,MATCH($A$5,Z12:$Z$4500,0),2)),\"\",INDEX(Z12:$AA$4500,MATCH($A$5,Z12:$Z$4500,0),2))","v":""}]
["Click to view data at Yahoo Finance or resolve errors",{"$nulls":9},{"$f":"IF(ISNUMBER(SEARCH($A$3,L13)),MAX($K$1:K12)+1,0)","v":0},"Aagam Capital Ltd","SUBHKAM.BO",{"$nulls":7},{"$f":"U12+1","v":2002},{"$f":"V12+1","v":13},{"$nulls":3},{"$f":"IFERROR(VLOOKUP(ROWS($Z$2:Z13),K13:$L$6000,2,0),\"\")","v":""},{"$f":"IFERROR(VLOOKUP(ROWS($AA$2:AA13),K13:$M$6000,3,0),\"\")","v":""},{"$f":"IF(ISERROR(INDEX(Z13:$AA$4500,MATCH($A$5,Z13:$Z$4500,0),2)),\"\",INDEX(Z13:$AA$4500,MATCH($A$5,Z13:$Z$4500,0),2))","v":""}]
[{"$nulls":10},{"$f":"IF(ISNUMBER(SEARCH($A$3,L14)),MAX($K$1:K13)+1,0)","v":0},"Aarey Drugs","AREYDRG.BO",{"$nulls":7},{"$f":"U13+1","v":2003},{"$f":"V13+1","v":14},{"$nulls":3},{"$f":"IFERROR(VLOOKUP(ROWS($Z$2:Z14),K14:$L$6000,2,0),\"\")","v":""},{"$f":"IFERROR(VLOOKUP(ROWS($AA$2:AA14),K14:$M$6000,3,0),\"\")","v":""},{"$f":"IF(ISERROR(INDEX(Z14:$AA$4500,MATCH($A$5,Z14:$Z$4500,0),2)),\"\",INDEX(Z14:$AA$4500,MATCH($A$5,Z14:$Z$4500,0),2))","v":""}]
[{"$nulls":10},{"$f":"IF(ISNUMBER(SEARCH($A$3,L15)),MAX($K$1:K14)+1,0)","v":0},"Aarti Drugs Ltd","AARTIDR.BO",{"$nulls":7},{"$f":"U14+1","v":2004},{"$f":"V14+1","v":15},{"$nulls":3},{"$f":"IFERROR(VLOOKUP(ROWS($Z$2:Z15),K15:$L$6000,2,0),\"\")","v":""},{"$f":"IFERROR(VLOOKUP(ROWS($AA$2:AA15),K15:$M$6000,3,0),\"\")","v":""},{"$f":"IF(ISERROR(INDEX(Z15:$AA$4500,MATCH($A$5,Z15:$Z$4500,0),2)),\"\",INDEX(Z15:$AA$4500,MATCH($A$5,Z15:$Z$4500,0),2))","v":""}]
[{"$nulls":10},{"$f":"IF(ISNUMBER(SEARCH($A$3,L16)),MAX($K$1:K15)+1,0)","v":0},"Aarti Drugs Ltd","AARTIDRUG.NS",{"$nulls":7},{"$f":"U15+1","v":2005},{"$f":"V15+1","v":16},{"$nulls":3},{"$f":"IFERROR(VLOOKUP(ROWS($Z$2:Z16),K16:$L$6000,2,0),\"\")","v":""},{"$f":"IFERROR(VLOOKUP(ROWS($AA$2:AA16),K16:$M$6000,3,0),\"\")","v":""},{"$f":"IF(ISERROR(INDEX(Z16:$AA$4500,MATCH($A$5,Z16:$Z$4500,0),2)),\"\",INDEX(Z16:$AA$4500,MATCH($A$5,Z16:$Z$4500,0),2))","v":""}]
[{"$nulls":10},{"$f":"IF(ISNUMBER(SEARCH($A$3,L17)),MAX($K$1:K16)+1,0)","v":0},"Aarti Industries Ltd","ARTIIND.BO",{"$nulls":7},{"$f":"U16+1","v":2006},{"$f":"V16+1","v":17},{"$nulls":3},{"$f":"IFERROR(VLOOKUP(ROWS($Z$2:Z17),K17:$L$6000,2,0),\"\")","v":""},{"$f":"IFERROR(VLOOKUP(ROWS($AA$2:AA17),K17:$M$6000,3,0),\"\")","v":""},{"$f":"IF(ISERROR(INDEX(Z17:$AA$4500,MATCH($A$5,Z17:$Z$4500,0),2)),\"\",INDEX(Z17:$AA$4500,MATCH($A$5,Z17:$Z$4500,0),2))","v":""}]
[{"$nulls":10},{"$f":"IF(ISNUMBER(SEARCH($A$3,L18)),MAX($K$1:K17)+1,0)","v":0},"Aarti Industries Ltd","AARTIIND.NS",{"$nulls":7},{"$f":"U17+1","v":2007},{"$f":"V17+1","v":18},{"$nulls":3},{"$f":"IFERROR(VLOOKUP(ROWS($Z$2:Z18),K18:$L$6000,2,0),\"\")","v":""},{"$f":"IFERROR(VLOOKUP(ROWS($AA$2:AA18),K18:$M$6000,3,0),\"\")","v":""},{"$f":"IF(ISERROR(INDEX(Z18:$AA$4500,MATCH($A$5,Z18:$Z$4500,0),2)),\"\",INDEX(Z18:$AA$4500,MATCH($A$5,Z18:$Z$4500,0),2))","v":""}]
[{"$nulls":10},{"$f":"IF(ISNUMBER(SEARCH($A$3,L19)),MAX($K$1:K18)+1,0)","v":0},"Aarvee Denims & Exports Ltd","AARVEED.BO",{"$nulls":7},{"$f":"U18+1","v":2008},{"$f":"V18+1","v":19},{"$nulls":3},{"$f":"IFERROR(VLOOKUP(ROWS($Z$2:Z19),K19:$L$6000,2,0),\"\")","v":""},{"$f":"IFERROR(VLOOKUP(ROWS($AA$2:AA19),K19:$M$6000,3,0),\"\")","v":""},{"$f":"IF(ISERROR(INDEX(Z19:$AA$4500,MATCH($A$5,Z19:$Z$4500,0),2)),\"\",INDEX(Z19:$AA$4500,MATCH($A$5,Z19:$Z$4500,0),2))","v":""}]
[{"$nulls":10},{"$f":"IF(ISNUMBER(SEARCH($A$3,L20)),MAX($K$1:K19)+1,0)","v":0},"Aarvee Denims & Exports Ltd","AARVEEDEN.NS",{"$nulls":7},{"$f":"U19+1","v":2009},{"$f":"V19+1","v":20},{"$nulls":3},{"$f":"IFERROR(VLOOKUP(ROWS($Z$2:Z20),K20:$L$6000,2,0),\"\")","v":""},{"$f":"IFERROR(VLOOKUP(ROWS($AA$2:AA20),K20:$M$6000,3,0),\"\")","v":""},{"$f":"IF(ISERROR(INDEX(Z20:$AA$4500,MATCH($A$5,Z20:$Z$4500,0),2)),\"\",INDEX(Z20:$AA$4500,MATCH($A$5,Z20:$Z$4500,0),2))","v":""}]
[{"$nulls":10},{"$f":"IF(ISNUMBER(SEARCH($A$3,L21)),MAX($K$1:K20)+1,0)","v":0},"Aarya Global Shares","KUVAM.BO",{"$nulls":7},{"$f":"U20+1","v":2010},{"$f":"V20+1","v":21},{"$nulls":3},{"$f":"IFERROR(VLOOKUP(ROWS($Z$2:Z21),K21:$L$6000,2,0),\"\")","v":""},{"$f":"IFERROR(VLOOKUP(ROWS($AA$2:AA21),K21:$M$6000,3,0),\"\")","v":""},{"$f":"IF(ISERROR(INDEX(Z21:$AA$4500,MATCH($A$5,Z21:$Z$4500,0),2)),\"\",INDEX(Z21:$AA$4500,MATCH($A$5,Z21:$Z$4500,0),2))","v":""}]
[{"$nulls":10},{"$f":"IF(ISNUMBER(SEARCH($A$3,L22)),MAX($K$1:K21)+1,0)","v":0},"Aashee Infotech Ltd","SROILS.BO",{"$nulls":7},{"$f":"U21+1","v":2011},{"$f":"V21+1","v":22},{"$nulls":3},{"$f":"IFERROR(VLOOKUP(ROWS($Z$2:Z22),K22:$L$6000,2,0),\"\")","v":""},{"$f":"IFERROR(VLOOKUP(ROWS($AA$2:AA22),K22:$M$6000,3,0),\"\")","v":""}]
[{"$nulls":10},{"$f":"IF(ISNUMBER(SEARCH($A$3,L23)),MAX($K$1:K22)+1,0)","v":0},"Aban Offshore Ltd","ABANOFFSH.BO",{"$nulls":7},{"$f":"U22+1","v":2012},{"$f":"V22+1","v":23},{"$nulls":3},{"$f":"IFERROR(VLOOKUP(ROWS($Z$2:Z23),K23:$L$6000,2,0),\"\")","v":""},{"$f":"IFERROR(VLOOKUP(ROWS($AA$2:AA23),K23:$M$6000,3,0),\"\")","v":""}]
[{"$nulls":10},{"$f":"IF(ISNUMBER(SEARCH($A$3,L24)),MAX($K$1:K23)+1,0)","v":0},"Aban Offshore Ltd","ABAN.NS",{"$nulls":7},{"$f":"U23+1","v":2013},{"$f":"V23+1","v":24},{"$nulls":3},{"$f":"IFERROR(VLOOKUP(ROWS($Z$2:Z24),K24:$L$6000,2,0),\"\")","v":""},{"$f":"IFERROR(VLOOKUP(ROWS($AA$2:AA24),K24:$M$6000,3,0),\"\")","v":""}]
[{"$nulls":10},{"$f":"IF(ISNUMBER(SEARCH($A$3,L25)),MAX($K$1:K24)+1,0)","v":0},"ABB India Ltd","ABB.BO",{"$nulls":7},{"$f":"U24+1","v":2014},{"$f":"V24+1","v":25},{"$nulls":3},{"$f":"IFERROR(VLOOKUP(ROWS($Z$2:Z25),K25:$L$6000,2,0),\"\")","v":""},{"$f":"IFERROR(VLOOKUP(ROWS($AA$2:AA25),K25:$M$6000,3,0),\"\")","v":""}]
[{"$nulls":10},{"$f":"IF(ISNUMBER(SEARCH($A$3,L26)),MAX($K$1:K25)+1,0)","v":0},"ABB India Ltd","ABB.NS",{"$nulls":7},{"$f":"U25+1","v":2015},{"$f":"V25+1","v":26},{"$nulls":3},{"$f":"IFERROR(VLOOKUP(ROWS($Z$2:Z26),K26:$L$6000,2,0),\"\")","v":""},{"$f":"IFERROR(VLOOKUP(ROWS($AA$2:AA26),K26:$M$6000,3,0),\"\")","v":""}]
[{"$nulls":10},{"$f":"IF(ISNUMBER(SEARCH($A$3,L27)),MAX($K$1:K26)+1,0)","v":0},"Abbott India Ltd","ABBOT.BO",{"$nulls":7},{"$f":"U26+1","v":2016},{"$f":"V26+1","v":27},{"$nulls":3},{"$f":"IFERROR(VLOOKUP(ROWS($Z$2:Z27),K27:$L$6000,2,0),\"\")","v":""},{"$f":"IFERROR(VLOOKUP(ROWS($AA$2:AA27),K27:$M$6000,3,0),\"\")","v":""}]
[{"$nulls":10},{"$f":"IF(ISNUMBER(SEARCH($A$3,L28)),MAX($K$1:K27)+1,0)","v":0},"ABC Bearings Ltd","ABCBEARS.BO",{"$nulls":7},{"$f":"U27+1","v":2017},{"$f":"V27+1","v":28},{"$nulls":3},{"$f":"IFERROR(VLOOKUP(ROWS($Z$2:Z28),K28:$L$6000,2,0),\"\")","v":""},{"$f":"IFERROR(VLOOKUP(ROWS($AA$2:AA28),K28:$M$6000,3,0),\"\")","v":""}]
[{"$nulls":10},{"$f":"IF(ISNUMBER(SEARCH($A$3,L29)),MAX($K$1:K28)+1,0)","v":0},"ABC Gas (International) Ltd","ABCGAS.BO",{"$nulls":7},{"$f":"U28+1","v":2018},{"$f":"V28+1","v":29},{"$nulls":3},{"$f":"IFERROR(VLOOKUP(ROWS($Z$2:Z29),K29:$L$6000,2,0),\"\")","v":""},{"$f":"IFERROR(VLOOKUP(ROWS($AA$2:AA29),K29:$M$6000,3,0),\"\")","v":""}]
[{"$nulls":10},{"$f":"IF(ISNUMBER(SEARCH($A$3,L30)),MAX($K$1:K29)+1,0)","v":0},"ABC India Ltd","ABCINDQ.BO",{"$nulls":7},{"$f":"U29+1","v":2019},{"$f":"V29+1","v":30},{"$nulls":3},{"$f":"IFERROR(VLOOKUP(ROWS($Z$2:Z30),K30:$L$6000,2,0),\"\")","v":""},{"$f":"IFERROR(VLOOKUP(ROWS($AA$2:AA30),K30:$M$6000,3,0),\"\")","v":""}]
[{"$nulls":10},{"$f":"IF(ISNUMBER(SEARCH($A$3,L31)),MAX($K$1:K30)+1,0)","v":0},"ABG Infralogistics Ltd","ABG.BO",{"$nulls":7},{"$f":"U30+1","v":2020},{"$f":"V30+1","v":31},{"$nulls":3},{"$f":"IFERROR(VLOOKUP(ROWS($Z$2:Z31),K31:$L$6000,2,0),\"\")","v":""},{"$f":"IFERROR(VLOOKUP(ROWS($AA$2:AA31),K31:$M$6000,3,0),\"\")","v":""}]
[{"$nulls":10},{"$f":"IF(ISNUMBER(SEARCH($A$3,L32)),MAX($K$1:K31)+1,0)","v":0},"ABG Shipyard Ltd","ABGSHIP.BO",{"$nulls":12},{"$f":"IFERROR(VLOOKUP(ROWS($Z$2:Z32),K32:$L$6000,2,0),\"\")","v":""},{"$f":"IFERROR(VLOOKUP(ROWS($AA$2:AA32),K32:$M$6000,3,0),\"\")","v":""}]
[{"$nulls":10},{"$f":"IF(ISNUMBER(SEARCH($A$3,L33)),MAX($K$1:K32)+1,0)","v":0},"ABG Shipyard Ltd","ABGSHIP.NS",{"$nulls":12},{"$f":"IFERROR(VLOOKUP(ROWS($Z$2:Z33),K33:$L$6000,2,0),\"\")","v":""},{"$f":"IFERROR(VLOOKUP(ROWS($AA$2:AA33),K33:$M$6000,3,0),\"\")","v":""}]
[{"$nulls":10},{"$f":"IF(ISNUMBER(SEARCH($A$3,L34)),MAX($K$1:K33)+1,0)","v":0},"Abhinav Capital Services Ltd","ABHICAP.BO",{"$nulls":12},{"$f":"IFERROR(VLOOKUP(ROWS($Z$2:Z34),K34:$L$6000,2,0),\"\")","v":""},{"$f":"IFERROR(VLOOKUP(ROWS($AA$2:AA34),K34:$M$6000,3,0),\"\")","v":""}]
[{"$nulls":10},{"$f":"IF(ISNUMBER(SEARCH($A$3,L35)),MAX($K$1:K34)+1,0)","v":0},"Abhishek Corp Ltd","ABHICOR.BO",{"$nulls":12},{"$f":"IFERROR(VLOOKUP(ROWS($Z$2:Z35),K35:$L$6000,2,0),\"\")","v":""},{"$f":"IFERROR(VLOOKUP(ROWS($AA$2:AA35),K35:$M$6000,3,0),\"\")","v":""}]
[{"$nulls":10},{"$f":"IF(ISNUMBER(SEARCH($A$3,L36)),MAX($K$1:K35)+1,0)","v":0},"Abirami Financial","ABIRAFN.BO",{"$nulls":12},{"$f":"IFERROR(VLOOKUP(ROWS($Z$2:Z36),K36:$L$6000,2,0),\"\")","v":""},{"$f":"IFERROR(VLOOKUP(ROWS($AA$2:AA36),K36:$M$6000,3,0),\"\")","v":""}]
[{"$nulls":10},{"$f":"IF(ISNUMBER(SEARCH($A$3,L37)),MAX($K$1:K36)+1,0)","v":0},"ABL Bio Technologies Ltd","ABLBIO.BO",{"$nulls":12},{"$f":"IFERROR(VLOOKUP(ROWS($Z$2:Z37),K37:$L$6000,2,0),\"\")","v":""},{"$f":"IFERROR(VLOOKUP(ROWS($AA$2:AA37),K37:$M$6000,3,0),\"\")","v":""}]
[{"$nulls":10},{"$f":"IF(ISNUMBER(SEARCH($A$3,L38)),MAX($K$1:K37)+1,0)","v":0},"ABM Knowledgeware Ltd","ABMKNO.BO",{"$nulls":12},{"$f":"IFERROR(VLOOKUP(ROWS($Z$2:Z38),K38:$L$6000,2,0),\"\")","v":""},{"$f":"IFERROR(VLOOKUP(ROWS($AA$2:AA38),K38:$M$6000,3,0),\"\")","v":""}]
[{"$nulls":10},{"$f":"IF(ISNUMBER(SEARCH($A$3,L39)),MAX($K$1:K38)+1,0)","v":0},"ACC Ltd","ACC.BO",{"$nulls":12},{"$f":"IFERROR(VLOOKUP(ROWS($Z$2:Z39),K39:$L$6000,2,0),\"\")","v":""},{"$f":"IFERROR(VLOOKUP(ROWS($AA$2:AA39),K39:$M$6000,3,0),\"\")","v":""}]
[{"$nulls":10},{"$f":"IF(ISNUMBER(SEARCH($A$3,L40)),MAX($K$1:K39)+1,0)","v":0},"ACC Ltd","ACC.NS",{"$nulls":12},{"$f":"IFERROR(VLOOKUP(ROWS($Z$2:Z40),K40:$L$6000,2,0),\"\")","v":""},{"$f":"IFERROR(VLOOKUP(ROWS($AA$2:AA40),K40:$M$6000,3,0),\"\")","v":""}]
[{"$nulls":10},{"$f":"IF(ISNUMBER(SEARCH($A$3,L41)),MAX($K$1:K40)+1,0)","v":0},"Accel Frontline Ltd","AFL.BO",{"$nulls":12},{"$f":"IFERROR(VLOOKUP(ROWS($Z$2:Z41),K41:$L$6000,2,0),\"\")","v":""},{"$f":"IFERROR(VLOOKUP(ROWS($AA$2:AA41),K41:$M$6000,3,0),\"\")","v":""}]
[{"$nulls":10},{"$f":"IF(ISNUMBER(SEARCH($A$3,L42)),MAX($K$1:K41)+1,0)","v":0},"Accel Frontline Ltd","AFL.NS",{"$nulls":12},{"$f":"IFERROR(VLOOKUP(ROWS($Z$2:Z42),K42:$L$6000,2,0),\"\")","v":""},{"$f":"IFERROR(VLOOKUP(ROWS($AA$2:AA42),K42:$M$6000,3,0),\"\")","v":""}]
[{"$nulls":10},{"$f":"IF(ISNUMBER(SEARCH($A$3,L43)),MAX($K$1:K42)+1,0)","v":0},"Accel Transmatic Ltd","ACCEL.BO",{"$nulls":12},{"$f":"IFERROR(VLOOKUP(ROWS($Z$2:Z43),K43:$L$6000,2,0),\"\")","v":""},{"$f":"IFERROR(VLOOKUP(ROWS($AA$2:AA43),K43:$M$6000,3,0),\"\")","v":""}]
[{"$nulls":10},{"$f":"IF(ISNUMBER(SEARCH($A$3,L44)),MAX($K$1:K43)+1,0)","v":0},"Accelya Kale Solutions Ltd","KALECONSUL.BO",{"$nulls":12},{"$f":"IFERROR(VLOOKUP(ROWS($Z$2:Z44),K44:$L$6000,2,0),\"\")","v":""},{"$f":"IFERROR(VLOOKUP(ROWS($AA$2:AA44),K44:$M$6000,3,0),\"\")","v":""}]
[{"$nulls":10},{"$f":"IF(ISNUMBER(SEARCH($A$3,L45)),MAX($K$1:K44)+1,0)","v":0},"Accelya Kale Solutions Ltd","KALECONSU.NS",{"$nulls":12},{"$f":"IFERROR(VLOOKUP(ROWS($Z$2:Z45),K45:$L$6000,2,0),\"\")","v":""},{"$f":"IFERROR(VLOOKUP(ROWS($AA$2:AA45),K45:$M$6000,3,0),\"\")","v":""}]
[{"$nulls":10},{"$f":"IF(ISNUMBER(SEARCH($A$3,L46)),MAX($K$1:K45)+1,0)","v":0},"Accentia Technologies Ltd GDR","ACCENTECH.BO",{"$nulls":12},{"$f":"IFERROR(VLOOKUP(ROWS($Z$2:Z46),K46:$L$6000,2,0),\"\")","v":""},{"$f":"IFERROR(VLOOKUP(ROWS($AA$2:AA46),K46:$M$6000,3,0),\"\")","v":""}]
[{"$nulls":10},{"$f":"IF(ISNUMBER(SEARCH($A$3,L47)),MAX($K$1:K46)+1,0)","v":0},"Acclaim Industries Ltd","ELPROPACKAG.BO",{"$nulls":12},{"$f":"IFERROR(VLOOKUP(ROWS($Z$2:Z47),K47:$L$6000,2,0),\"\")","v":""},{"$f":"IFERROR(VLOOKUP(ROWS($AA$2:AA47),K47:$M$6000,3,0),\"\")","v":""}]
[{"$nulls":10},{"$f":"IF(ISNUMBER(SEARCH($A$3,L48)),MAX($K$1:K47)+1,0)","v":0},"Accurate Transformers Ltd","ACCURATE.BO",{"$nulls":12},{"$f":"IFERROR(VLOOKUP(ROWS($Z$2:Z48),K48:$L$6000,2,0),\"\")","v":""},{"$f":"IFERROR(VLOOKUP(ROWS($AA$2:AA48),K48:$M$6000,3,0),\"\")","v":""}]
[{"$nulls":10},{"$f":"IF(ISNUMBER(SEARCH($A$3,L49)),MAX($K$1:K48)+1,0)","v":0},"Ace Edutrend Ltd","ACEINDI.BO",{"$nulls":12},{"$f":"IFERROR(VLOOKUP(ROWS($Z$2:Z49),K49:$L$6000,2,0),\"\")","v":""},{"$f":"IFERROR(VLOOKUP(ROWS($AA$2:AA49),K49:$M$6000,3,0),\"\")","v":""}]
[{"$nulls":10},{"$f":"IF(ISNUMBER(SEARCH($A$3,L50)),MAX($K$1:K49)+1,0)","v":0},"Ace Software Exports Ltd","ACESOFT.BO",{"$nulls":12},{"$f":"IFERROR(VLOOKUP(ROWS($Z$2:Z50),K50:$L$6000,2,0),\"\")","v":""},{"$f":"IFERROR(VLOOKUP(ROWS($AA$2:AA50),K50:$M$6000,3,0),\"\")","v":""}]
[{"$nulls":10},{"$f":"IF(ISNUMBER(SEARCH($A$3,L51)),MAX($K$1:K50)+1,0)","v":0},"Acil Cotton Industries Ltd","ACIL.BO",{"$nulls":12},{"$f":"IFERROR(VLOOKUP(ROWS($Z$2:Z51),K51:$L$6000,2,0),\"\")","v":""},{"$f":"IFERROR(VLOOKUP(ROWS($AA$2:AA51),K51:$M$6000,3,0),\"\")","v":""}]
[{"$nulls":10},{"$f":"IF(ISNUMBER(SEARCH($A$3,L52)),MAX($K$1:K51)+1,0)","v":0},"Acknit Industries Ltd","ACKNIT.BO",{"$nulls":12},{"$f":"IFERROR(VLOOKUP(ROWS($Z$2:Z52),K52:$L$6000,2,0),\"\")","v":""},{"$f":"IFERROR(VLOOKUP(ROWS($AA$2:AA52),K52:$M$6000,3,0),\"\")","v":""}]
[{"$nulls":10},{"$f":"IF(ISNUMBER(SEARCH($A$3,L53)),MAX($K$1:K52)+1,0)","v":0},"Acrow India Ltd","ACROW.BO",{"$nulls":12},{"$f":"IFERROR(VLOOKUP(ROWS($Z$2:Z53),K53:$L$6000,2,0),\"\")","v":""},{"$f":"IFERROR(VLOOKUP(ROWS($AA$2:AA53),K53:$M$6000,3,0),\"\")","v":""}]
[{"$nulls":10},{"$f":"IF(ISNUMBER(SEARCH($A$3,L54)),MAX($K$1:K53)+1,0)","v":0},"Acrysil Ltd","ACRYSIL.BO",{"$nulls":12},{"$f":"IFERROR(VLOOKUP(ROWS($Z$2:Z54),K54:$L$6000,2,0),\"\")","v":""},{"$f":"IFERROR(VLOOKUP(ROWS($AA$2:AA54),K54:$M$6000,3,0),\"\")","v":""}]
[{"$nulls":10},{"$f":"IF(ISNUMBER(SEARCH($A$3,L55)),MAX($K$1:K54)+1,0)","v":0},"Action Construction Equip","ACE.BO",{"$nulls":12},{"$f":"IFERROR(VLOOKUP(ROWS($Z$2:Z55),K55:$L$6000,2,0),\"\")","v":""},{"$f":"IFERROR(VLOOKUP(ROWS($AA$2:AA55),K55:$M$6000,3,0),\"\")","v":""}]
[{"$nulls":10},{"$f":"IF(ISNUMBER(SEARCH($A$3,L56)),MAX($K$1:K55)+1,0)","v":0},"Action Construction Equip","ACE.NS",{"$nulls":12},{"$f":"IFERROR(VLOOKUP(ROWS($Z$2:Z56),K56:$L$6000,2,0),\"\")","v":""},{"$f":"IFERROR(VLOOKUP(ROWS($AA$2:AA56),K56:$M$6000,3,0),\"\")","v":""}]
[{"$nulls":10},{"$f":"IF(ISNUMBER(SEARCH($A$3,L57)),MAX($K$1:K56)+1,0)","v":0},"Action Financial Services","ACTIONFI.BO",{"$nulls":12},{"$f":"IFERROR(VLOOKUP(ROWS($Z$2:Z57),K57:$L$6000,2,0),\"\")","v":""},{"$f":"IFERROR(VLOOKUP(ROWS($AA$2:AA57),K57:$M$6000,3,0),\"\")","v":""}]
[{"$nulls":10},{"$f":"IF(ISNUMBER(SEARCH($A$3,L58)),MAX($K$1:K57)+1,0)","v":0},"Adani Ports & Special","MUNDRAPOR.BO",{"$nulls":12},{"$f":"IFERROR(VLOOKUP(ROWS($Z$2:Z58),K58:$L$6000,2,0),\"\")","v":""},{"$f":"IFERROR(VLOOKUP(ROWS($AA$2:AA58),K58:$M$6000,3,0),\"\")","v":""}]
[{"$nulls":10},{"$f":"IF(ISNUMBER(SEARCH($A$3,L59)),MAX($K$1:K58)+1,0)","v":0},"Adani Ports & Special","MUNDRAPOR.NS",{"$nulls":12},{"$f":"IFERROR(VLOOKUP(ROWS($Z$2:Z59),K59:$L$6000,2,0),\"\")","v":""},{"$f":"IFERROR(VLOOKUP(ROWS($AA$2:AA59),K59:$M$6000,3,0),\"\")","v":""}]
[{"$nulls":10},{"$f":"IF(ISNUMBER(SEARCH($A$3,L60)),MAX($K$1:K59)+1,0)","v":0},"Adani Power Ltd","ADANIPOWER.BO",{"$nulls":12},{"$f":"IFERROR(VLOOKUP(ROWS($Z$2:Z60),K60:$L$6000,2,0),\"\")","v":""},{"$f":"IFERROR(VLOOKUP(ROWS($AA$2:AA60),K60:$M$6000,3,0),\"\")","v":""}]
[{"$nulls":10},{"$f":"IF(ISNUMBER(SEARCH($A$3,L61)),MAX($K$1:K60)+1,0)","v":0},"Adani Power Ltd","ADANIPOWE.NS",{"$nulls":12},{"$f":"IFERROR(VLOOKUP(ROWS($Z$2:Z61),K61:$L$6000,2,0),\"\")","v":""},{"$f":"IFERROR(VLOOKUP(ROWS($AA$2:AA61),K61:$M$6000,3,0),\"\")","v":""}]
[{"$nulls":10},{"$f":"IF(ISNUMBER(SEARCH($A$3,L62)),MAX($K$1:K61)+1,0)","v":0},"Adarsh Plant Protect Ltd","ADARSHPL.BO",{"$nulls":12},{"$f":"IFERROR(VLOOKUP(ROWS($Z$2:Z62),K62:$L$6000,2,0),\"\")","v":""},{"$f":"IFERROR(VLOOKUP(ROWS($AA$2:AA62),K62:$M$6000,3,0),\"\")","v":""}]
[{"$nulls":10},{"$f":"IF(ISNUMBER(SEARCH($A$3,L63)),MAX($K$1:K62)+1,0)","v":0},"Addi Industries Ltd","ADDIND.BO",{"$nulls":12},{"$f":"IFERROR(VLOOKUP(ROWS($Z$2:Z63),K63:$L$6000,2,0),\"\")","v":""},{"$f":"IFERROR(VLOOKUP(ROWS($AA$2:AA63),K63:$M$6000,3,0),\"\")","v":""}]
[{"$nulls":10},{"$f":"IF(ISNUMBER(SEARCH($A$3,L64)),MAX($K$1:K63)+1,0)","v":0},"ADF Foods Ltd","ADFFOODQ.BO",{"$nulls":12},{"$f":"IFERROR(VLOOKUP(ROWS($Z$2:Z64),K64:$L$6000,2,0),\"\")","v":""},{"$f":"IFERROR(VLOOKUP(ROWS($AA$2:AA64),K64:$M$6000,3,0),\"\")","v":""}]
[{"$nulls":10},{"$f":"IF(ISNUMBER(SEARCH($A$3,L65)),MAX($K$1:K64)+1,0)","v":0},"Adhunik Metaliks Ltd","ADHUNIK.BO",{"$nulls":12},{"$f":"IFERROR(VLOOKUP(ROWS($Z$2:Z65),K65:$L$6000,2,0),\"\")","v":""},{"$f":"IFERROR(VLOOKUP(ROWS($AA$2:AA65),K65:$M$6000,3,0),\"\")","v":""}]
[{"$nulls":10},{"$f":"IF(ISNUMBER(SEARCH($A$3,L66)),MAX($K$1:K65)+1,0)","v":0},"Adhunik Metaliks Ltd","ADHUNIK.NS",{"$nulls":12},{"$f":"IFERROR(VLOOKUP(ROWS($Z$2:Z66),K66:$L$6000,2,0),\"\")","v":""},{"$f":"IFERROR(VLOOKUP(ROWS($AA$2:AA66),K66:$M$6000,3,0),\"\")","v":""}]
[{"$nulls":10},{"$f":"IF(ISNUMBER(SEARCH($A$3,L67)),MAX($K$1:K66)+1,0)","v":0},"Adi Finechem Ltd","HKFINCHQ.BO",{"$nulls":12},{"$f":"IFERROR(VLOOKUP(ROWS($Z$2:Z67),K67:$L$6000,2,0),\"\")","v":""},{"$f":"IFERROR(VLOOKUP(ROWS($AA$2:AA67),K67:$M$6000,3,0),\"\")","v":""}]
[{"$nulls":10},{"$f":"IF(ISNUMBER(SEARCH($A$3,L68)),MAX($K$1:K67)+1,0)","v":0},"Adi RaSAyan Ltd","ADIRASA.BO",{"$nulls":12},{"$f":"IFERROR(VLOOKUP(ROWS($Z$2:Z68),K68:$L$6000,2,0),\"\")","v":""},{"$f":"IFERROR(VLOOKUP(ROWS($AA$2:AA68),K68:$M$6000,3,0),\"\")","v":""}]
[{"$nulls":10},{"$f":"IF(ISNUMBER(SEARCH($A$3,L69)),MAX($K$1:K68)+1,0)","v":0},"Adinath Bio-Labs Ltd","ADINATHBI.BO",{"$nulls":12},{"$f":"IFERROR(VLOOKUP(ROWS($Z$2:Z69),K69:$L$6000,2,0),\"\")","v":""},{"$f":"IFERROR(VLOOKUP(ROWS($AA$2:AA69),K69:$M$6000,3,0),\"\")","v":""}]
[{"$nulls":10},{"$f":"IF(ISNUMBER(SEARCH($A$3,L70)),MAX($K$1:K69)+1,0)","v":0},"Adinath Exim Resources Ltd","ADIEXRE.BO",{"$nulls":12},{"$f":"IFERROR(VLOOKUP(ROWS($Z$2:Z70),K70:$L$6000,2,0),\"\")","v":""},{"$f":"IFERROR(VLOOKUP(ROWS($AA$2:AA70),K70:$M$6000,3,0),\"\")","v":""}]
[{"$nulls":10},{"$f":"IF(ISNUMBER(SEARCH($A$3,L71)),MAX($K$1:K70)+1,0)","v":0},"Adinath Textiles Ltd","ADINATH.BO",{"$nulls":12},{"$f":"IFERROR(VLOOKUP(ROWS($Z$2:Z71),K71:$L$6000,2,0),\"\")","v":""},{"$f":"IFERROR(VLOOKUP(ROWS($AA$2:AA71),K71:$M$6000,3,0),\"\")","v":""}]
[{"$nulls":10},{"$f":"IF(ISNUMBER(SEARCH($A$3,L72)),MAX($K$1:K71)+1,0)","v":0},"Aditya Birla Chemicals (I","ABCIL.BO",{"$nulls":12},{"$f":"IFERROR(VLOOKUP(ROWS($Z$2:Z72),K72:$L$6000,2,0),\"\")","v":""},{"$f":"IFERROR(VLOOKUP(ROWS($AA$2:AA72),K72:$M$6000,3,0),\"\")","v":""}]
[{"$nulls":10},{"$f":"IF(ISNUMBER(SEARCH($A$3,L73)),MAX($K$1:K72)+1,0)","v":0},"Aditya Birla Chemicals (I","ABCIL.NS",{"$nulls":12},{"$f":"IFERROR(VLOOKUP(ROWS($Z$2:Z73),K73:$L$6000,2,0),\"\")","v":""},{"$f":"IFERROR(VLOOKUP(ROWS($AA$2:AA73),K73:$M$6000,3,0),\"\")","v":""}]
[{"$nulls":10},{"$f":"IF(ISNUMBER(SEARCH($A$3,L74)),MAX($K$1:K73)+1,0)","v":0},"Aditya Birla Money Ltd","ABML.BO",{"$nulls":12},{"$f":"IFERROR(VLOOKUP(ROWS($Z$2:Z74),K74:$L$6000,2,0),\"\")","v":""},{"$f":"IFERROR(VLOOKUP(ROWS($AA$2:AA74),K74:$M$6000,3,0),\"\")","v":""}]
[{"$nulls":10},{"$f":"IF(ISNUMBER(SEARCH($A$3,L75)),MAX($K$1:K74)+1,0)","v":0},"Aditya Birla Money Ltd","BIRLAMONE.NS",{"$nulls":12},{"$f":"IFERROR(VLOOKUP(ROWS($Z$2:Z75),K75:$L$6000,2,0),\"\")","v":""},{"$f":"IFERROR(VLOOKUP(ROWS($AA$2:AA75),K75:$M$6000,3,0),\"\")","v":""}]
[{"$nulls":10},{"$f":"IF(ISNUMBER(SEARCH($A$3,L76)),MAX($K$1:K75)+1,0)","v":0},"Aditya Birla Nuvo Ltd","ABIRLANUV.BO",{"$nulls":12},{"$f":"IFERROR(VLOOKUP(ROWS($Z$2:Z76),K76:$L$6000,2,0),\"\")","v":""},{"$f":"IFERROR(VLOOKUP(ROWS($AA$2:AA76),K76:$M$6000,3,0),\"\")","v":""}]
[{"$nulls":10},{"$f":"IF(ISNUMBER(SEARCH($A$3,L77)),MAX($K$1:K76)+1,0)","v":0},"Aditya Birla Nuvo Ltd","ABIRLANUV.NS",{"$nulls":12},{"$f":"IFERROR(VLOOKUP(ROWS($Z$2:Z77),K77:$L$6000,2,0),\"\")","v":""},{"$f":"IFERROR(VLOOKUP(ROWS($AA$2:AA77),K77:$M$6000,3,0),\"\")","v":""}]
[{"$nulls":10},{"$f":"IF(ISNUMBER(SEARCH($A$3,L78)),MAX($K$1:K77)+1,0)","v":0},"Aditya Forge Ltd","ADTYFRG.BO",{"$nulls":12},{"$f":"IFERROR(VLOOKUP(ROWS($Z$2:Z78),K78:$L$6000,2,0),\"\")","v":""},{"$f":"IFERROR(VLOOKUP(ROWS($AA$2:AA78),K78:$M$6000,3,0),\"\")","v":""}]
[{"$nulls":10},{"$f":"IF(ISNUMBER(SEARCH($A$3,L79)),MAX($K$1:K78)+1,0)","v":0},"Aditya Ispat Ltd","ADITYA.BO",{"$nulls":12},{"$f":"IFERROR(VLOOKUP(ROWS($Z$2:Z79),K79:$L$6000,2,0),\"\")","v":""},{"$f":"IFERROR(VLOOKUP(ROWS($AA$2:AA79),K79:$M$6000,3,0),\"\")","v":""}]
[{"$nulls":10},{"$f":"IF(ISNUMBER(SEARCH($A$3,L80)),MAX($K$1:K79)+1,0)","v":0},"Ad-Manum Finance Ltd","ADMANUM.BO",{"$nulls":12},{"$f":"IFERROR(VLOOKUP(ROWS($Z$2:Z80),K80:$L$6000,2,0),\"\")","v":""},{"$f":"IFERROR(VLOOKUP(ROWS($AA$2:AA80),K80:$M$6000,3,0),\"\")","v":""}]
[{"$nulls":10},{"$f":"IF(ISNUMBER(SEARCH($A$3,L81)),MAX($K$1:K80)+1,0)","v":0},"Ador Fontech Ltd","ADORFO.BO",{"$nulls":12},{"$f":"IFERROR(VLOOKUP(ROWS($Z$2:Z81),K81:$L$6000,2,0),\"\")","v":""},{"$f":"IFERROR(VLOOKUP(ROWS($AA$2:AA81),K81:$M$6000,3,0),\"\")","v":""}]
[{"$nulls":10},{"$f":"IF(ISNUMBER(SEARCH($A$3,L82)),MAX($K$1:K81)+1,0)","v":0},"Ador Multiproducts Ltd","ADORMUL.BO",{"$nulls":12},{"$f":"IFERROR(VLOOKUP(ROWS($Z$2:Z82),K82:$L$6000,2,0),\"\")","v":""},{"$f":"IFERROR(VLOOKUP(ROWS($AA$2:AA82),K82:$M$6000,3,0),\"\")","v":""}]
[{"$nulls":10},{"$f":"IF(ISNUMBER(SEARCH($A$3,L83)),MAX($K$1:K82)+1,0)","v":0},"Ador Welding Ltd","ADORWELDING.BO",{"$nulls":12},{"$f":"IFERROR(VLOOKUP(ROWS($Z$2:Z83),K83:$L$6000,2,0),\"\")","v":""},{"$f":"IFERROR(VLOOKUP(ROWS($AA$2:AA83),K83:$M$6000,3,0),\"\")","v":""}]
[{"$nulls":10},{"$f":"IF(ISNUMBER(SEARCH($A$3,L84)),MAX($K$1:K83)+1,0)","v":0},"Ador Welding Ltd","ADORWELD.NS",{"$nulls":12},{"$f":"IFERROR(VLOOKUP(ROWS($Z$2:Z84),K84:$L$6000,2,0),\"\")","v":""},{"$f":"IFERROR(VLOOKUP(ROWS($AA$2:AA84),K84:$M$6000,3,0),\"\")","v":""}]
[{"$nulls":10},{"$f":"IF(ISNUMBER(SEARCH($A$3,L85)),MAX($K$1:K84)+1,0)","v":0},"Advance Powerinfra Tech Ltd","MARSONS.BO",{"$nulls":12},{"$f":"IFERROR(VLOOKUP(ROWS($Z$2:Z85),K85:$L$6000,2,0),\"\")","v":""},{"$f":"IFERROR(VLOOKUP(ROWS($AA$2:AA85),K85:$M$6000,3,0),\"\")","v":""}]
[{"$nulls":10},{"$f":"IF(ISNUMBER(SEARCH($A$3,L86)),MAX($K$1:K85)+1,0)","v":0},"Advanced Micronic Devices Ltd","ADVNCMIC.BO",{"$nulls":12},{"$f":"IFERROR(VLOOKUP(ROWS($Z$2:Z86),K86:$L$6000,2,0),\"\")","v":""},{"$f":"IFERROR(VLOOKUP(ROWS($AA$2:AA86),K86:$M$6000,3,0),\"\")","v":""}]
[{"$nulls":10},{"$f":"IF(ISNUMBER(SEARCH($A$3,L87)),MAX($K$1:K86)+1,0)","v":0},"Advani Hotels & Resorts I","ADVANIHO.BO",{"$nulls":12},{"$f":"IFERROR(VLOOKUP(ROWS($Z$2:Z87),K87:$L$6000,2,0),\"\")","v":""},{"$f":"IFERROR(VLOOKUP(ROWS($AA$2:AA87),K87:$M$6000,3,0),\"\")","v":""}]
[{"$nulls":10},{"$f":"IF(ISNUMBER(SEARCH($A$3,L88)),MAX($K$1:K87)+1,0)","v":0},"Advani Hotels & Resorts I","ADVANIHOT.NS",{"$nulls":12},{"$f":"IFERROR(VLOOKUP(ROWS($Z$2:Z88),K88:$L$6000,2,0),\"\")","v":""},{"$f":"IFERROR(VLOOKUP(ROWS($AA$2:AA88),K88:$M$6000,3,0),\"\")","v":""}]
[{"$nulls":10},{"$f":"IF(ISNUMBER(SEARCH($A$3,L89)),MAX($K$1:K88)+1,0)","v":0},"Advanta Ltd","ADVANTA.BO",{"$nulls":12},{"$f":"IFERROR(VLOOKUP(ROWS($Z$2:Z89),K89:$L$6000,2,0),\"\")","v":""},{"$f":"IFERROR(VLOOKUP(ROWS($AA$2:AA89),K89:$M$6000,3,0),\"\")","v":""}]
[{"$nulls":10},{"$f":"IF(ISNUMBER(SEARCH($A$3,L90)),MAX($K$1:K89)+1,0)","v":0},"Advanta Ltd","ADVANTA.NS",{"$nulls":12},{"$f":"IFERROR(VLOOKUP(ROWS($Z$2:Z90),K90:$L$6000,2,0),\"\")","v":""},{"$f":"IFERROR(VLOOKUP(ROWS($AA$2:AA90),K90:$M$6000,3,0),\"\")","v":""}]
[{"$nulls":10},{"$f":"IF(ISNUMBER(SEARCH($A$3,L91)),MAX($K$1:K90)+1,0)","v":0},"Advent Computer Services Ltd","ADVENT.BO",{"$nulls":12},{"$f":"IFERROR(VLOOKUP(ROWS($Z$2:Z91),K91:$L$6000,2,0),\"\")","v":""},{"$f":"IFERROR(VLOOKUP(ROWS($AA$2:AA91),K91:$M$6000,3,0),\"\")","v":""}]
[{"$nulls":10},{"$f":"IF(ISNUMBER(SEARCH($A$3,L92)),MAX($K$1:K91)+1,0)","v":0},"Advik Laboratories Ltd","ADVIKLA.BO",{"$nulls":12},{"$f":"IFERROR(VLOOKUP(ROWS($Z$2:Z92),K92:$L$6000,2,0),\"\")","v":""},{"$f":"IFERROR(VLOOKUP(ROWS($AA$2:AA92),K92:$M$6000,3,0),\"\")","v":""}]
[{"$nulls":10},{"$f":"IF(ISNUMBER(SEARCH($A$3,L93)),MAX($K$1:K92)+1,0)","v":0},"Aegis Logistics Ltd","AEGISLOG.BO",{"$nulls":12},{"$f":"IFERROR(VLOOKUP(ROWS($Z$2:Z93),K93:$L$6000,2,0),\"\")","v":""},{"$f":"IFERROR(VLOOKUP(ROWS($AA$2:AA93),K93:$M$6000,3,0),\"\")","v":""}]
[{"$nulls":10},{"$f":"IF(ISNUMBER(SEARCH($A$3,L94)),MAX($K$1:K93)+1,0)","v":0},"Aegis Logistics Ltd","AEGISCHEM.NS",{"$nulls":12},{"$f":"IFERROR(VLOOKUP(ROWS($Z$2:Z94),K94:$L$6000,2,0),\"\")","v":""},{"$f":"IFERROR(VLOOKUP(ROWS($AA$2:AA94),K94:$M$6000,3,0),\"\")","v":""}]
[{"$nulls":10},{"$f":"IF(ISNUMBER(SEARCH($A$3,L95)),MAX($K$1:K94)+1,0)","v":0},"Aftek Ltd","AFTEKLTD.BO",{"$nulls":12},{"$f":"IFERROR(VLOOKUP(ROWS($Z$2:Z95),K95:$L$6000,2,0),\"\")","v":""},{"$f":"IFERROR(VLOOKUP(ROWS($AA$2:AA95),K95:$M$6000,3,0),\"\")","v":""}]
[{"$nulls":10},{"$f":"IF(ISNUMBER(SEARCH($A$3,L96)),MAX($K$1:K95)+1,0)","v":0},"Aftek Ltd","AFTEK.NS",{"$nulls":12},{"$f":"IFERROR(VLOOKUP(ROWS($Z$2:Z96),K96:$L$6000,2,0),\"\")","v":""},{"$f":"IFERROR(VLOOKUP(ROWS($AA$2:AA96),K96:$M$6000,3,0),\"\")","v":""}]
[{"$nulls":10},{"$f":"IF(ISNUMBER(SEARCH($A$3,L97)),MAX($K$1:K96)+1,0)","v":0},"Agarwal Industrial Corp Ltd","AGARIND.BO",{"$nulls":12},{"$f":"IFERROR(VLOOKUP(ROWS($Z$2:Z97),K97:$L$6000,2,0),\"\")","v":""},{"$f":"IFERROR(VLOOKUP(ROWS($AA$2:AA97),K97:$M$6000,3,0),\"\")","v":""}]
[{"$nulls":10},{"$f":"IF(ISNUMBER(SEARCH($A$3,L98)),MAX($K$1:K97)+1,0)","v":0},"AGC Networks Ltd","AVAYA.BO",{"$nulls":12},{"$f":"IFERROR(VLOOKUP(ROWS($Z$2:Z98),K98:$L$6000,2,0),\"\")","v":""},{"$f":"IFERROR(VLOOKUP(ROWS($AA$2:AA98),K98:$M$6000,3,0),\"\")","v":""}]
[{"$nulls":10},{"$f":"IF(ISNUMBER(SEARCH($A$3,L99)),MAX($K$1:K98)+1,0)","v":0},"AGC Networks Ltd","AGCNET.NS",{"$nulls":12},{"$f":"IFERROR(VLOOKUP(ROWS($Z$2:Z99),K99:$L$6000,2,0),\"\")","v":""},{"$f":"IFERROR(VLOOKUP(ROWS($AA$2:AA99),K99:$M$6000,3,0),\"\")","v":""}]
[{"$nulls":10},{"$f":"IF(ISNUMBER(SEARCH($A$3,L100)),MAX($K$1:K99)+1,0)","v":0},"Agio Paper & Industries Ltd","AGIOPAPER.BO",{"$nulls":12},{"$f":"IFERROR(VLOOKUP(ROWS($Z$2:Z100),K100:$L$6000,2,0),\"\")","v":""},{"$f":"IFERROR(VLOOKUP(ROWS($AA$2:AA100),K100:$M$6000,3,0),\"\")","v":""}]
[{"$nulls":10},{"$f":"IF(ISNUMBER(SEARCH($A$3,L101)),MAX($K$1:K100)+1,0)","v":0},"Agro Dutch Industries Ltd","AGRODUT.BO",{"$nulls":12},{"$f":"IFERROR(VLOOKUP(ROWS($Z$2:Z101),K101:$L$6000,2,0),\"\")","v":""},{"$f":"IFERROR(VLOOKUP(ROWS($AA$2:AA101),K101:$M$6000,3,0),\"\")","v":""}]
[{"$nulls":10},{"$f":"IF(ISNUMBER(SEARCH($A$3,L102)),MAX($K$1:K101)+1,0)","v":0},"Agro Dutch Industries Ltd","AGRODUTCH.NS",{"$nulls":12},{"$f":"IFERROR(VLOOKUP(ROWS($Z$2:Z102),K102:$L$6000,2,0),\"\")","v":""},{"$f":"IFERROR(VLOOKUP(ROWS($AA$2:AA102),K102:$M$6000,3,0),\"\")","v":""}]
[{"$nulls":10},{"$f":"IF(ISNUMBER(SEARCH($A$3,L103)),MAX($K$1:K102)+1,0)","v":0},"Agro Tech Foods Ltd","AGROTECHFO.BO",{"$nulls":12},{"$f":"IFERROR(VLOOKUP(ROWS($Z$2:Z103),K103:$L$6000,2,0),\"\")","v":""},{"$f":"IFERROR(VLOOKUP(ROWS($AA$2:AA103),K103:$M$6000,3,0),\"\")","v":""}]
[{"$nulls":10},{"$f":"IF(ISNUMBER(SEARCH($A$3,L104)),MAX($K$1:K103)+1,0)","v":0},"Agro Tech Foods Ltd","ATFL.NS",{"$nulls":12},{"$f":"IFERROR(VLOOKUP(ROWS($Z$2:Z104),K104:$L$6000,2,0),\"\")","v":""},{"$f":"IFERROR(VLOOKUP(ROWS($AA$2:AA104),K104:$M$6000,3,0),\"\")","v":""}]
[{"$nulls":10},{"$f":"IF(ISNUMBER(SEARCH($A$3,L105)),MAX($K$1:K104)+1,0)","v":0},"Ahlcon Parenterals India Ltd","AHLCONQ.BO",{"$nulls":12},{"$f":"IFERROR(VLOOKUP(ROWS($Z$2:Z105),K105:$L$6000,2,0),\"\")","v":""},{"$f":"IFERROR(VLOOKUP(ROWS($AA$2:AA105),K105:$M$6000,3,0),\"\")","v":""}]
[{"$nulls":10},{"$f":"IF(ISNUMBER(SEARCH($A$3,L106)),MAX($K$1:K105)+1,0)","v":0},"Ahluwalia Contracts India Ltd","AHLUCONT.BO",{"$nulls":12},{"$f":"IFERROR(VLOOKUP(ROWS($Z$2:Z106),K106:$L$6000,2,0),\"\")","v":""},{"$f":"IFERROR(VLOOKUP(ROWS($AA$2:AA106),K106:$M$6000,3,0),\"\")","v":""}]
[{"$nulls":10},{"$f":"IF(ISNUMBER(SEARCH($A$3,L107)),MAX($K$1:K106)+1,0)","v":0},"Ahmedabad Steelcraft Ltd","AHMDSTE.BO",{"$nulls":12},{"$f":"IFERROR(VLOOKUP(ROWS($Z$2:Z107),K107:$L$6000,2,0),\"\")","v":""},{"$f":"IFERROR(VLOOKUP(ROWS($AA$2:AA107),K107:$M$6000,3,0),\"\")","v":""}]
[{"$nulls":10},{"$f":"IF(ISNUMBER(SEARCH($A$3,L108)),MAX($K$1:K107)+1,0)","v":0},"Ahmednagar Forgings Ltd","AHMEDFO.BO",{"$nulls":12},{"$f":"IFERROR(VLOOKUP(ROWS($Z$2:Z108),K108:$L$6000,2,0),\"\")","v":""},{"$f":"IFERROR(VLOOKUP(ROWS($AA$2:AA108),K108:$M$6000,3,0),\"\")","v":""}]
[{"$nulls":10},{"$f":"IF(ISNUMBER(SEARCH($A$3,L109)),MAX($K$1:K108)+1,0)","v":0},"Ahmednagar Forgings Ltd","AHMEDFORG.NS",{"$nulls":12},{"$f":"IFERROR(VLOOKUP(ROWS($Z$2:Z109),K109:$L$6000,2,0),\"\")","v":""},{"$f":"IFERROR(VLOOKUP(ROWS($AA$2:AA109),K109:$M$6000,3,0),\"\")","v":""}]
[{"$nulls":10},{"$f":"IF(ISNUMBER(SEARCH($A$3,L110)),MAX($K$1:K109)+1,0)","v":0},"AIA Engineering Ltd","AIAENG.BO",{"$nulls":12},{"$f":"IFERROR(VLOOKUP(ROWS($Z$2:Z110),K110:$L$6000,2,0),\"\")","v":""},{"$f":"IFERROR(VLOOKUP(ROWS($AA$2:AA110),K110:$M$6000,3,0),\"\")","v":""}]
[{"$nulls":10},{"$f":"IF(ISNUMBER(SEARCH($A$3,L111)),MAX($K$1:K110)+1,0)","v":0},"AIA Engineering Ltd","AIAENG.NS",{"$nulls":12},{"$f":"IFERROR(VLOOKUP(ROWS($Z$2:Z111),K111:$L$6000,2,0),\"\")","v":""},{"$f":"IFERROR(VLOOKUP(ROWS($AA$2:AA111),K111:$M$6000,3,0),\"\")","v":""}]
[{"$nulls":10},{"$f":"IF(ISNUMBER(SEARCH($A$3,L112)),MAX($K$1:K111)+1,0)","v":0},"Aimco Pesticides Ltd","AIMCO.BO",{"$nulls":12},{"$f":"IFERROR(VLOOKUP(ROWS($Z$2:Z112),K112:$L$6000,2,0),\"\")","v":""},{"$f":"IFERROR(VLOOKUP(ROWS($AA$2:AA112),K112:$M$6000,3,0),\"\")","v":""}]
[{"$nulls":10},{"$f":"IF(ISNUMBER(SEARCH($A$3,L113)),MAX($K$1:K112)+1,0)","v":0},"Aishwarya Technologies","AISHWARYA.BO",{"$nulls":12},{"$f":"IFERROR(VLOOKUP(ROWS($Z$2:Z113),K113:$L$6000,2,0),\"\")","v":""},{"$f":"IFERROR(VLOOKUP(ROWS($AA$2:AA113),K113:$M$6000,3,0),\"\")","v":""}]
[{"$nulls":10},{"$f":"IF(ISNUMBER(SEARCH($A$3,L114)),MAX($K$1:K113)+1,0)","v":0},"Ajanta Soya Ltd","AJANTSOY.BO",{"$nulls":12},{"$f":"IFERROR(VLOOKUP(ROWS($Z$2:Z114),K114:$L$6000,2,0),\"\")","v":""},{"$f":"IFERROR(VLOOKUP(ROWS($AA$2:AA114),K114:$M$6000,3,0),\"\")","v":""}]
[{"$nulls":10},{"$f":"IF(ISNUMBER(SEARCH($A$3,L115)),MAX($K$1:K114)+1,0)","v":0},"Ajcon Global Services Ltd","AJCON.BO",{"$nulls":12},{"$f":"IFERROR(VLOOKUP(ROWS($Z$2:Z115),K115:$L$6000,2,0),\"\")","v":""},{"$f":"IFERROR(VLOOKUP(ROWS($AA$2:AA115),K115:$M$6000,3,0),\"\")","v":""}]
[{"$nulls":10},{"$f":"IF(ISNUMBER(SEARCH($A$3,L116)),MAX($K$1:K115)+1,0)","v":0},"Ajel Ltd","AJEL.BO",{"$nulls":12},{"$f":"IFERROR(VLOOKUP(ROWS($Z$2:Z116),K116:$L$6000,2,0),\"\")","v":""},{"$f":"IFERROR(VLOOKUP(ROWS($AA$2:AA116),K116:$M$6000,3,0),\"\")","v":""}]
[{"$nulls":10},{"$f":"IF(ISNUMBER(SEARCH($A$3,L117)),MAX($K$1:K116)+1,0)","v":0},"Ajmera Realty & Infra Ind","AJMERA.BO",{"$nulls":12},{"$f":"IFERROR(VLOOKUP(ROWS($Z$2:Z117),K117:$L$6000,2,0),\"\")","v":""},{"$f":"IFERROR(VLOOKUP(ROWS($AA$2:AA117),K117:$M$6000,3,0),\"\")","v":""}]
[{"$nulls":10},{"$f":"IF(ISNUMBER(SEARCH($A$3,L118)),MAX($K$1:K117)+1,0)","v":0},"Ajmera Realty & Infra Ind","AJMERA.NS",{"$nulls":12},{"$f":"IFERROR(VLOOKUP(ROWS($Z$2:Z118),K118:$L$6000,2,0),\"\")","v":""},{"$f":"IFERROR(VLOOKUP(ROWS($AA$2:AA118),K118:$M$6000,3,0),\"\")","v":""}]
[{"$nulls":10},{"$f":"IF(ISNUMBER(SEARCH($A$3,L119)),MAX($K$1:K118)+1,0)","v":0},"Ajwa Fun World & Resort Ltd","AJWAFUN.BO",{"$nulls":12},{"$f":"IFERROR(VLOOKUP(ROWS($Z$2:Z119),K119:$L$6000,2,0),\"\")","v":""},{"$f":"IFERROR(VLOOKUP(ROWS($AA$2:AA119),K119:$M$6000,3,0),\"\")","v":""}]
[{"$nulls":10},{"$f":"IF(ISNUMBER(SEARCH($A$3,L120)),MAX($K$1:K119)+1,0)","v":0},"Akar Tools Ltd","AKARTOOL.BO",{"$nulls":12},{"$f":"IFERROR(VLOOKUP(ROWS($Z$2:Z120),K120:$L$6000,2,0),\"\")","v":""},{"$f":"IFERROR(VLOOKUP(ROWS($AA$2:AA120),K120:$M$6000,3,0),\"\")","v":""}]
[{"$nulls":10},{"$f":"IF(ISNUMBER(SEARCH($A$3,L121)),MAX($K$1:K120)+1,0)","v":0},"Aksh Optifibre Ltd","AKSHOPTFBR.BO",{"$nulls":12},{"$f":"IFERROR(VLOOKUP(ROWS($Z$2:Z121),K121:$L$6000,2,0),\"\")","v":""},{"$f":"IFERROR(VLOOKUP(ROWS($AA$2:AA121),K121:$M$6000,3,0),\"\")","v":""}]
[{"$nulls":10},{"$f":"IF(ISNUMBER(SEARCH($A$3,L122)),MAX($K$1:K121)+1,0)","v":0},"Aksh Optifibre Ltd","AKSHOPTFB.NS",{"$nulls":12},{"$f":"IFERROR(VLOOKUP(ROWS($Z$2:Z122),K122:$L$6000,2,0),\"\")","v":""},{"$f":"IFERROR(VLOOKUP(ROWS($AA$2:AA122),K122:$M$6000,3,0),\"\")","v":""}]
[{"$nulls":10},{"$f":"IF(ISNUMBER(SEARCH($A$3,L123)),MAX($K$1:K122)+1,0)","v":0},"AksharChem (India) Ltd","AKSCHEM.BO",{"$nulls":12},{"$f":"IFERROR(VLOOKUP(ROWS($Z$2:Z123),K123:$L$6000,2,0),\"\")","v":""},{"$f":"IFERROR(VLOOKUP(ROWS($AA$2:AA123),K123:$M$6000,3,0),\"\")","v":""}]
[{"$nulls":10},{"$f":"IF(ISNUMBER(SEARCH($A$3,L124)),MAX($K$1:K123)+1,0)","v":0},"Akzo Nobel India Ltd","ICI.BO",{"$nulls":12},{"$f":"IFERROR(VLOOKUP(ROWS($Z$2:Z124),K124:$L$6000,2,0),\"\")","v":""},{"$f":"IFERROR(VLOOKUP(ROWS($AA$2:AA124),K124:$M$6000,3,0),\"\")","v":""}]
[{"$nulls":10},{"$f":"IF(ISNUMBER(SEARCH($A$3,L125)),MAX($K$1:K124)+1,0)","v":0},"Akzo Nobel India Ltd","AKZOINDIA.NS",{"$nulls":12},{"$f":"IFERROR(VLOOKUP(ROWS($Z$2:Z125),K125:$L$6000,2,0),\"\")","v":""},{"$f":"IFERROR(VLOOKUP(ROWS($AA$2:AA125),K125:$M$6000,3,0),\"\")","v":""}]
[{"$nulls":10},{"$f":"IF(ISNUMBER(SEARCH($A$3,L126)),MAX($K$1:K125)+1,0)","v":0},"Alang Industrial Gases Ltd","ALANGIND.BO",{"$nulls":12},{"$f":"IFERROR(VLOOKUP(ROWS($Z$2:Z126),K126:$L$6000,2,0),\"\")","v":""},{"$f":"IFERROR(VLOOKUP(ROWS($AA$2:AA126),K126:$M$6000,3,0),\"\")","v":""}]
[{"$nulls":10},{"$f":"IF(ISNUMBER(SEARCH($A$3,L127)),MAX($K$1:K126)+1,0)","v":0},"Albert David Ltd","ALBERTDA.BO",{"$nulls":12},{"$f":"IFERROR(VLOOKUP(ROWS($Z$2:Z127),K127:$L$6000,2,0),\"\")","v":""},{"$f":"IFERROR(VLOOKUP(ROWS($AA$2:AA127),K127:$M$6000,3,0),\"\")","v":""}]
[{"$nulls":10},{"$f":"IF(ISNUMBER(SEARCH($A$3,L128)),MAX($K$1:K127)+1,0)","v":0},"Alchemist Corp Ltd","ALCHCORP.BO",{"$nulls":12},{"$f":"IFERROR(VLOOKUP(ROWS($Z$2:Z128),K128:$L$6000,2,0),\"\")","v":""},{"$f":"IFERROR(VLOOKUP(ROWS($AA$2:AA128),K128:$M$6000,3,0),\"\")","v":""}]
[{"$nulls":10},{"$f":"IF(ISNUMBER(SEARCH($A$3,L129)),MAX($K$1:K128)+1,0)","v":0},"Alchemist Ltd","ALCHEMIST.BO",{"$nulls":12},{"$f":"IFERROR(VLOOKUP(ROWS($Z$2:Z129),K129:$L$6000,2,0),\"\")","v":""},{"$f":"IFERROR(VLOOKUP(ROWS($AA$2:AA129),K129:$M$6000,3,0),\"\")","v":""}]
[{"$nulls":10},{"$f":"IF(ISNUMBER(SEARCH($A$3,L130)),MAX($K$1:K129)+1,0)","v":0},"Alchemist Ltd","ALCHEM.NS",{"$nulls":12},{"$f":"IFERROR(VLOOKUP(ROWS($Z$2:Z130),K130:$L$6000,2,0),\"\")","v":""},{"$f":"IFERROR(VLOOKUP(ROWS($AA$2:AA130),K130:$M$6000,3,0),\"\")","v":""}]
[{"$nulls":10},{"$f":"IF(ISNUMBER(SEARCH($A$3,L131)),MAX($K$1:K130)+1,0)","v":0},"Alchemist Realty Ltd","AREALTY.BO",{"$nulls":12},{"$f":"IFERROR(VLOOKUP(ROWS($Z$2:Z131),K131:$L$6000,2,0),\"\")","v":""},{"$f":"IFERROR(VLOOKUP(ROWS($AA$2:AA131),K131:$M$6000,3,0),\"\")","v":""}]
[{"$nulls":10},{"$f":"IF(ISNUMBER(SEARCH($A$3,L132)),MAX($K$1:K131)+1,0)","v":0},"Alembic Ltd","ALEMBICLTD.BO",{"$nulls":12},{"$f":"IFERROR(VLOOKUP(ROWS($Z$2:Z132),K132:$L$6000,2,0),\"\")","v":""},{"$f":"IFERROR(VLOOKUP(ROWS($AA$2:AA132),K132:$M$6000,3,0),\"\")","v":""}]
[{"$nulls":10},{"$f":"IF(ISNUMBER(SEARCH($A$3,L133)),MAX($K$1:K132)+1,0)","v":0},"Alembic Ltd","ALEMBICLT.NS",{"$nulls":12},{"$f":"IFERROR(VLOOKUP(ROWS($Z$2:Z133),K133:$L$6000,2,0),\"\")","v":""},{"$f":"IFERROR(VLOOKUP(ROWS($AA$2:AA133),K133:$M$6000,3,0),\"\")","v":""}]
[{"$nulls":10},{"$f":"IF(ISNUMBER(SEARCH($A$3,L134)),MAX($K$1:K133)+1,0)","v":0},"Alfa Ica (India) Ltd","ALFAICA.BO",{"$nulls":12},{"$f":"IFERROR(VLOOKUP(ROWS($Z$2:Z134),K134:$L$6000,2,0),\"\")","v":""},{"$f":"IFERROR(VLOOKUP(ROWS($AA$2:AA134),K134:$M$6000,3,0),\"\")","v":""}]
[{"$nulls":10},{"$f":"IF(ISNUMBER(SEARCH($A$3,L135)),MAX($K$1:K134)+1,0)","v":0},"Alfa Transformers Ltd","ALFATRAN.BO",{"$nulls":12},{"$f":"IFERROR(VLOOKUP(ROWS($Z$2:Z135),K135:$L$6000,2,0),\"\")","v":""},{"$f":"IFERROR(VLOOKUP(ROWS($AA$2:AA135),K135:$M$6000,3,0),\"\")","v":""}]
[{"$nulls":10},{"$f":"IF(ISNUMBER(SEARCH($A$3,L136)),MAX($K$1:K135)+1,0)","v":0},"Alfavision Overseas","ALFAVIO.BO",{"$nulls":12},{"$f":"IFERROR(VLOOKUP(ROWS($Z$2:Z136),K136:$L$6000,2,0),\"\")","v":""},{"$f":"IFERROR(VLOOKUP(ROWS($AA$2:AA136),K136:$M$6000,3,0),\"\")","v":""}]
[{"$nulls":10},{"$f":"IF(ISNUMBER(SEARCH($A$3,L137)),MAX($K$1:K136)+1,0)","v":0},"Alfred Herbert India Ltd","ALFREDHE.BO",{"$nulls":12},{"$f":"IFERROR(VLOOKUP(ROWS($Z$2:Z137),K137:$L$6000,2,0),\"\")","v":""},{"$f":"IFERROR(VLOOKUP(ROWS($AA$2:AA137),K137:$M$6000,3,0),\"\")","v":""}]
[{"$nulls":10},{"$f":"IF(ISNUMBER(SEARCH($A$3,L138)),MAX($K$1:K137)+1,0)","v":0},"Alicon Castalloy Ltd","ENKEICAQ.BO",{"$nulls":12},{"$f":"IFERROR(VLOOKUP(ROWS($Z$2:Z138),K138:$L$6000,2,0),\"\")","v":""},{"$f":"IFERROR(VLOOKUP(ROWS($AA$2:AA138),K138:$M$6000,3,0),\"\")","v":""}]
[{"$nulls":10},{"$f":"IF(ISNUMBER(SEARCH($A$3,L139)),MAX($K$1:K138)+1,0)","v":0},"Alicon Castalloy Ltd","ENKEI.NS",{"$nulls":12},{"$f":"IFERROR(VLOOKUP(ROWS($Z$2:Z139),K139:$L$6000,2,0),\"\")","v":""},{"$f":"IFERROR(VLOOKUP(ROWS($AA$2:AA139),K139:$M$6000,3,0),\"\")","v":""}]
[{"$nulls":10},{"$f":"IF(ISNUMBER(SEARCH($A$3,L140)),MAX($K$1:K139)+1,0)","v":0},"Alka Diamond Industries Ltd","ALKADIA.BO",{"$nulls":12},{"$f":"IFERROR(VLOOKUP(ROWS($Z$2:Z140),K140:$L$6000,2,0),\"\")","v":""},{"$f":"IFERROR(VLOOKUP(ROWS($AA$2:AA140),K140:$M$6000,3,0),\"\")","v":""}]
[{"$nulls":10},{"$f":"IF(ISNUMBER(SEARCH($A$3,L141)),MAX($K$1:K140)+1,0)","v":0},"Alka India Ltd","ALKA.BO",{"$nulls":12},{"$f":"IFERROR(VLOOKUP(ROWS($Z$2:Z141),K141:$L$6000,2,0),\"\")","v":""},{"$f":"IFERROR(VLOOKUP(ROWS($AA$2:AA141),K141:$M$6000,3,0),\"\")","v":""}]
[{"$nulls":10},{"$f":"IF(ISNUMBER(SEARCH($A$3,L142)),MAX($K$1:K141)+1,0)","v":0},"Alka Securities Ltd","ALKASEC.BO",{"$nulls":12},{"$f":"IFERROR(VLOOKUP(ROWS($Z$2:Z142),K142:$L$6000,2,0),\"\")","v":""},{"$f":"IFERROR(VLOOKUP(ROWS($AA$2:AA142),K142:$M$6000,3,0),\"\")","v":""}]
[{"$nulls":10},{"$f":"IF(ISNUMBER(SEARCH($A$3,L143)),MAX($K$1:K142)+1,0)","v":0},"Alkyl Amines Chemicals Ltd","ALKYLAM.BO",{"$nulls":12},{"$f":"IFERROR(VLOOKUP(ROWS($Z$2:Z143),K143:$L$6000,2,0),\"\")","v":""},{"$f":"IFERROR(VLOOKUP(ROWS($AA$2:AA143),K143:$M$6000,3,0),\"\")","v":""}]
[{"$nulls":10},{"$f":"IF(ISNUMBER(SEARCH($A$3,L144)),MAX($K$1:K143)+1,0)","v":0},"Alkyl Amines Chemicals Ltd","ALKYLAMIN.NS",{"$nulls":12},{"$f":"IFERROR(VLOOKUP(ROWS($Z$2:Z144),K144:$L$6000,2,0),\"\")","v":""},{"$f":"IFERROR(VLOOKUP(ROWS($AA$2:AA144),K144:$M$6000,3,0),\"\")","v":""}]
[{"$nulls":10},{"$f":"IF(ISNUMBER(SEARCH($A$3,L145)),MAX($K$1:K144)+1,0)","v":0},"Allahabad Bank","ALLBANKSL.BO",{"$nulls":12},{"$f":"IFERROR(VLOOKUP(ROWS($Z$2:Z145),K145:$L$6000,2,0),\"\")","v":""},{"$f":"IFERROR(VLOOKUP(ROWS($AA$2:AA145),K145:$M$6000,3,0),\"\")","v":""}]
[{"$nulls":10},{"$f":"IF(ISNUMBER(SEARCH($A$3,L146)),MAX($K$1:K145)+1,0)","v":0},"Allahabad Bank","ALBK.NS",{"$nulls":12},{"$f":"IFERROR(VLOOKUP(ROWS($Z$2:Z146),K146:$L$6000,2,0),\"\")","v":""},{"$f":"IFERROR(VLOOKUP(ROWS($AA$2:AA146),K146:$M$6000,3,0),\"\")","v":""}]
[{"$nulls":10},{"$f":"IF(ISNUMBER(SEARCH($A$3,L147)),MAX($K$1:K146)+1,0)","v":0},"Allcargo Logistics Ltd","ALLCARGO.BO",{"$nulls":12},{"$f":"IFERROR(VLOOKUP(ROWS($Z$2:Z147),K147:$L$6000,2,0),\"\")","v":""},{"$f":"IFERROR(VLOOKUP(ROWS($AA$2:AA147),K147:$M$6000,3,0),\"\")","v":""}]
[{"$nulls":10},{"$f":"IF(ISNUMBER(SEARCH($A$3,L148)),MAX($K$1:K147)+1,0)","v":0},"Allcargo Logistics Ltd","ALLCARGO.NS",{"$nulls":12},{"$f":"IFERROR(VLOOKUP(ROWS($Z$2:Z148),K148:$L$6000,2,0),\"\")","v":""},{"$f":"IFERROR(VLOOKUP(ROWS($AA$2:AA148),K148:$M$6000,3,0),\"\")","v":""}]
[{"$nulls":10},{"$f":"IF(ISNUMBER(SEARCH($A$3,L149)),MAX($K$1:K148)+1,0)","v":0},"Allied Computers Internat","ACIASIA.BO",{"$nulls":12},{"$f":"IFERROR(VLOOKUP(ROWS($Z$2:Z149),K149:$L$6000,2,0),\"\")","v":""},{"$f":"IFERROR(VLOOKUP(ROWS($AA$2:AA149),K149:$M$6000,3,0),\"\")","v":""}]
[{"$nulls":10},{"$f":"IF(ISNUMBER(SEARCH($A$3,L150)),MAX($K$1:K149)+1,0)","v":0},"Allied Digital Services Ltd","ADSL.BO",{"$nulls":12},{"$f":"IFERROR(VLOOKUP(ROWS($Z$2:Z150),K150:$L$6000,2,0),\"\")","v":""},{"$f":"IFERROR(VLOOKUP(ROWS($AA$2:AA150),K150:$M$6000,3,0),\"\")","v":""}]
[{"$nulls":10},{"$f":"IF(ISNUMBER(SEARCH($A$3,L151)),MAX($K$1:K150)+1,0)","v":0},"Allied Digital Services Ltd","ADSL.NS",{"$nulls":12},{"$f":"IFERROR(VLOOKUP(ROWS($Z$2:Z151),K151:$L$6000,2,0),\"\")","v":""},{"$f":"IFERROR(VLOOKUP(ROWS($AA$2:AA151),K151:$M$6000,3,0),\"\")","v":""}]
[{"$nulls":10},{"$f":"IF(ISNUMBER(SEARCH($A$3,L152)),MAX($K$1:K151)+1,0)","v":0},"Allied Herbals Ltd","RAJDHNIL.BO",{"$nulls":12},{"$f":"IFERROR(VLOOKUP(ROWS($Z$2:Z152),K152:$L$6000,2,0),\"\")","v":""},{"$f":"IFERROR(VLOOKUP(ROWS($AA$2:AA152),K152:$M$6000,3,0),\"\")","v":""}]
[{"$nulls":10},{"$f":"IF(ISNUMBER(SEARCH($A$3,L153)),MAX($K$1:K152)+1,0)","v":0},"Allsec Technologies Ltd","ALLSEC.BO",{"$nulls":12},{"$f":"IFERROR(VLOOKUP(ROWS($Z$2:Z153),K153:$L$6000,2,0),\"\")","v":""},{"$f":"IFERROR(VLOOKUP(ROWS($AA$2:AA153),K153:$M$6000,3,0),\"\")","v":""}]
[{"$nulls":10},{"$f":"IF(ISNUMBER(SEARCH($A$3,L154)),MAX($K$1:K153)+1,0)","v":0},"Allsec Technologies Ltd","ALLSEC.NS",{"$nulls":12},{"$f":"IFERROR(VLOOKUP(ROWS($Z$2:Z154),K154:$L$6000,2,0),\"\")","v":""},{"$f":"IFERROR(VLOOKUP(ROWS($AA$2:AA154),K154:$M$6000,3,0),\"\")","v":""}]
[{"$nulls":10},{"$f":"IF(ISNUMBER(SEARCH($A$3,L155)),MAX($K$1:K154)+1,0)","v":0},"Almondz Capital","ALMONDZ.BO",{"$nulls":12},{"$f":"IFERROR(VLOOKUP(ROWS($Z$2:Z155),K155:$L$6000,2,0),\"\")","v":""},{"$f":"IFERROR(VLOOKUP(ROWS($AA$2:AA155),K155:$M$6000,3,0),\"\")","v":""}]
[{"$nulls":10},{"$f":"IF(ISNUMBER(SEARCH($A$3,L156)),MAX($K$1:K155)+1,0)","v":0},"Almondz Global Securities Ltd","ALMONDZGL.BO",{"$nulls":12},{"$f":"IFERROR(VLOOKUP(ROWS($Z$2:Z156),K156:$L$6000,2,0),\"\")","v":""},{"$f":"IFERROR(VLOOKUP(ROWS($AA$2:AA156),K156:$M$6000,3,0),\"\")","v":""}]
[{"$nulls":10},{"$f":"IF(ISNUMBER(SEARCH($A$3,L157)),MAX($K$1:K156)+1,0)","v":0},"Almondz Global Securities Ltd","ALMONDZ.NS",{"$nulls":12},{"$f":"IFERROR(VLOOKUP(ROWS($Z$2:Z157),K157:$L$6000,2,0),\"\")","v":""},{"$f":"IFERROR(VLOOKUP(ROWS($AA$2:AA157),K157:$M$6000,3,0),\"\")","v":""}]
[{"$nulls":10},{"$f":"IF(ISNUMBER(SEARCH($A$3,L158)),MAX($K$1:K157)+1,0)","v":0},"Alok Industries Ltd","ALOKIND.BO",{"$nulls":12},{"$f":"IFERROR(VLOOKUP(ROWS($Z$2:Z158),K158:$L$6000,2,0),\"\")","v":""},{"$f":"IFERROR(VLOOKUP(ROWS($AA$2:AA158),K158:$M$6000,3,0),\"\")","v":""}]
[{"$nulls":10},{"$f":"IF(ISNUMBER(SEARCH($A$3,L159)),MAX($K$1:K158)+1,0)","v":0},"Alok Industries Ltd","ALOKTEXT.NS",{"$nulls":12},{"$f":"IFERROR(VLOOKUP(ROWS($Z$2:Z159),K159:$L$6000,2,0),\"\")","v":""},{"$f":"IFERROR(VLOOKUP(ROWS($AA$2:AA159),K159:$M$6000,3,0),\"\")","v":""}]
[{"$nulls":10},{"$f":"IF(ISNUMBER(SEARCH($A$3,L160)),MAX($K$1:K159)+1,0)","v":0},"Alpa Laboratories Ltd","ALPA.BO",{"$nulls":12},{"$f":"IFERROR(VLOOKUP(ROWS($Z$2:Z160),K160:$L$6000,2,0),\"\")","v":""},{"$f":"IFERROR(VLOOKUP(ROWS($AA$2:AA160),K160:$M$6000,3,0),\"\")","v":""}]
[{"$nulls":10},{"$f":"IF(ISNUMBER(SEARCH($A$3,L161)),MAX($K$1:K160)+1,0)","v":0},"Alpa Laboratories Ltd","ALPA.NS",{"$nulls":12},{"$f":"IFERROR(VLOOKUP(ROWS($Z$2:Z161),K161:$L$6000,2,0),\"\")","v":""},{"$f":"IFERROR(VLOOKUP(ROWS($AA$2:AA161),K161:$M$6000,3,0),\"\")","v":""}]
[{"$nulls":10},{"$f":"IF(ISNUMBER(SEARCH($A$3,L162)),MAX($K$1:K161)+1,0)","v":0},"Alpha Graphic India Ltd","ALPGRAPH.BO",{"$nulls":12},{"$f":"IFERROR(VLOOKUP(ROWS($Z$2:Z162),K162:$L$6000,2,0),\"\")","v":""},{"$f":"IFERROR(VLOOKUP(ROWS($AA$2:AA162),K162:$M$6000,3,0),\"\")","v":""}]
[{"$nulls":10},{"$f":"IF(ISNUMBER(SEARCH($A$3,L163)),MAX($K$1:K162)+1,0)","v":0},"Alpha Hi-Tech Fuel Ltd","ALPHA.BO",{"$nulls":12},{"$f":"IFERROR(VLOOKUP(ROWS($Z$2:Z163),K163:$L$6000,2,0),\"\")","v":""},{"$f":"IFERROR(VLOOKUP(ROWS($AA$2:AA163),K163:$M$6000,3,0),\"\")","v":""}]
[{"$nulls":10},{"$f":"IF(ISNUMBER(SEARCH($A$3,L164)),MAX($K$1:K163)+1,0)","v":0},"Alphageo India Ltd","ALPHAGEO.BO",{"$nulls":12},{"$f":"IFERROR(VLOOKUP(ROWS($Z$2:Z164),K164:$L$6000,2,0),\"\")","v":""},{"$f":"IFERROR(VLOOKUP(ROWS($AA$2:AA164),K164:$M$6000,3,0),\"\")","v":""}]
[{"$nulls":10},{"$f":"IF(ISNUMBER(SEARCH($A$3,L165)),MAX($K$1:K164)+1,0)","v":0},"Alphageo India Ltd","ALPHAGEO.NS",{"$nulls":12},{"$f":"IFERROR(VLOOKUP(ROWS($Z$2:Z165),K165:$L$6000,2,0),\"\")","v":""},{"$f":"IFERROR(VLOOKUP(ROWS($AA$2:AA165),K165:$M$6000,3,0),\"\")","v":""}]
[{"$nulls":10},{"$f":"IF(ISNUMBER(SEARCH($A$3,L166)),MAX($K$1:K165)+1,0)","v":0},"Alpine Housing Developmen","ALPINEHO.BO",{"$nulls":12},{"$f":"IFERROR(VLOOKUP(ROWS($Z$2:Z166),K166:$L$6000,2,0),\"\")","v":""},{"$f":"IFERROR(VLOOKUP(ROWS($AA$2:AA166),K166:$M$6000,3,0),\"\")","v":""}]
[{"$nulls":10},{"$f":"IF(ISNUMBER(SEARCH($A$3,L167)),MAX($K$1:K166)+1,0)","v":0},"Alps Industries Ltd","ALPSIND.BO",{"$nulls":12},{"$f":"IFERROR(VLOOKUP(ROWS($Z$2:Z167),K167:$L$6000,2,0),\"\")","v":""},{"$f":"IFERROR(VLOOKUP(ROWS($AA$2:AA167),K167:$M$6000,3,0),\"\")","v":""}]
[{"$nulls":10},{"$f":"IF(ISNUMBER(SEARCH($A$3,L168)),MAX($K$1:K167)+1,0)","v":0},"Alps Industries Ltd","ALPSINDUS.NS",{"$nulls":12},{"$f":"IFERROR(VLOOKUP(ROWS($Z$2:Z168),K168:$L$6000,2,0),\"\")","v":""},{"$f":"IFERROR(VLOOKUP(ROWS($AA$2:AA168),K168:$M$6000,3,0),\"\")","v":""}]
[{"$nulls":10},{"$f":"IF(ISNUMBER(SEARCH($A$3,L169)),MAX($K$1:K168)+1,0)","v":0},"Alstom India Ltd","ALSTOMPROJ.BO",{"$nulls":12},{"$f":"IFERROR(VLOOKUP(ROWS($Z$2:Z169),K169:$L$6000,2,0),\"\")","v":""},{"$f":"IFERROR(VLOOKUP(ROWS($AA$2:AA169),K169:$M$6000,3,0),\"\")","v":""}]
[{"$nulls":10},{"$f":"IF(ISNUMBER(SEARCH($A$3,L170)),MAX($K$1:K169)+1,0)","v":0},"Alstom India Ltd","APIL.NS",{"$nulls":12},{"$f":"IFERROR(VLOOKUP(ROWS($Z$2:Z170),K170:$L$6000,2,0),\"\")","v":""},{"$f":"IFERROR(VLOOKUP(ROWS($AA$2:AA170),K170:$M$6000,3,0),\"\")","v":""}]
[{"$nulls":10},{"$f":"IF(ISNUMBER(SEARCH($A$3,L171)),MAX($K$1:K170)+1,0)","v":0},"ALSTOM T&D India Ltd","AREVA.BO",{"$nulls":12},{"$f":"IFERROR(VLOOKUP(ROWS($Z$2:Z171),K171:$L$6000,2,0),\"\")","v":""},{"$f":"IFERROR(VLOOKUP(ROWS($AA$2:AA171),K171:$M$6000,3,0),\"\")","v":""}]
[{"$nulls":10},{"$f":"IF(ISNUMBER(SEARCH($A$3,L172)),MAX($K$1:K171)+1,0)","v":0},"Alufluoride Ltd","ALUFLUOR.BO",{"$nulls":12},{"$f":"IFERROR(VLOOKUP(ROWS($Z$2:Z172),K172:$L$6000,2,0),\"\")","v":""},{"$f":"IFERROR(VLOOKUP(ROWS($AA$2:AA172),K172:$M$6000,3,0),\"\")","v":""}]
[{"$nulls":10},{"$f":"IF(ISNUMBER(SEARCH($A$3,L173)),MAX($K$1:K172)+1,0)","v":0},"Alumeco India Extrusion Ltd","ALUMECO.BO",{"$nulls":12},{"$f":"IFERROR(VLOOKUP(ROWS($Z$2:Z173),K173:$L$6000,2,0),\"\")","v":""},{"$f":"IFERROR(VLOOKUP(ROWS($AA$2:AA173),K173:$M$6000,3,0),\"\")","v":""}]
[{"$nulls":10},{"$f":"IF(ISNUMBER(SEARCH($A$3,L174)),MAX($K$1:K173)+1,0)","v":0},"Amal Ltd","AMAL.BO",{"$nulls":12},{"$f":"IFERROR(VLOOKUP(ROWS($Z$2:Z174),K174:$L$6000,2,0),\"\")","v":""},{"$f":"IFERROR(VLOOKUP(ROWS($AA$2:AA174),K174:$M$6000,3,0),\"\")","v":""}]
[{"$nulls":10},{"$f":"IF(ISNUMBER(SEARCH($A$3,L175)),MAX($K$1:K174)+1,0)","v":0},"Amani Trading & Exports Ltd","AMANITRA.BO",{"$nulls":12},{"$f":"IFERROR(VLOOKUP(ROWS($Z$2:Z175),K175:$L$6000,2,0),\"\")","v":""},{"$f":"IFERROR(VLOOKUP(ROWS($AA$2:AA175),K175:$M$6000,3,0),\"\")","v":""}]
[{"$nulls":10},{"$f":"IF(ISNUMBER(SEARCH($A$3,L176)),MAX($K$1:K175)+1,0)","v":0},"Amarjothi Spinning Mills Ltd","AMARJOSP.BO",{"$nulls":12},{"$f":"IFERROR(VLOOKUP(ROWS($Z$2:Z176),K176:$L$6000,2,0),\"\")","v":""},{"$f":"IFERROR(VLOOKUP(ROWS($AA$2:AA176),K176:$M$6000,3,0),\"\")","v":""}]
[{"$nulls":10},{"$f":"IF(ISNUMBER(SEARCH($A$3,L177)),MAX($K$1:K176)+1,0)","v":0},"Ambalal Sarabhai Enterpri","AMBALALSA.BO",{"$nulls":12},{"$f":"IFERROR(VLOOKUP(ROWS($Z$2:Z177),K177:$L$6000,2,0),\"\")","v":""},{"$f":"IFERROR(VLOOKUP(ROWS($AA$2:AA177),K177:$M$6000,3,0),\"\")","v":""}]
[{"$nulls":10},{"$f":"IF(ISNUMBER(SEARCH($A$3,L178)),MAX($K$1:K177)+1,0)","v":0},"Ambica Agarbathies & Arom","AMBICAGR.BO",{"$nulls":12},{"$f":"IFERROR(VLOOKUP(ROWS($Z$2:Z178),K178:$L$6000,2,0),\"\")","v":""},{"$f":"IFERROR(VLOOKUP(ROWS($AA$2:AA178),K178:$M$6000,3,0),\"\")","v":""}]
[{"$nulls":10},{"$f":"IF(ISNUMBER(SEARCH($A$3,L179)),MAX($K$1:K178)+1,0)","v":0},"Ambika Cotton Mills Ltd","AMBIKCO.BO",{"$nulls":12},{"$f":"IFERROR(VLOOKUP(ROWS($Z$2:Z179),K179:$L$6000,2,0),\"\")","v":""},{"$f":"IFERROR(VLOOKUP(ROWS($AA$2:AA179),K179:$M$6000,3,0),\"\")","v":""}]
[{"$nulls":10},{"$f":"IF(ISNUMBER(SEARCH($A$3,L180)),MAX($K$1:K179)+1,0)","v":0},"Ambika Cotton Mills Ltd","AMBIKCO.NS",{"$nulls":12},{"$f":"IFERROR(VLOOKUP(ROWS($Z$2:Z180),K180:$L$6000,2,0),\"\")","v":""},{"$f":"IFERROR(VLOOKUP(ROWS($AA$2:AA180),K180:$M$6000,3,0),\"\")","v":""}]
[{"$nulls":10},{"$f":"IF(ISNUMBER(SEARCH($A$3,L181)),MAX($K$1:K180)+1,0)","v":0},"Ambitious Plastomac Co Ltd","AMBIT.BO",{"$nulls":12},{"$f":"IFERROR(VLOOKUP(ROWS($Z$2:Z181),K181:$L$6000,2,0),\"\")","v":""},{"$f":"IFERROR(VLOOKUP(ROWS($AA$2:AA181),K181:$M$6000,3,0),\"\")","v":""}]
[{"$nulls":10},{"$f":"IF(ISNUMBER(SEARCH($A$3,L182)),MAX($K$1:K181)+1,0)","v":0},"Ambuja Cements Ltd","ACL.BO",{"$nulls":12},{"$f":"IFERROR(VLOOKUP(ROWS($Z$2:Z182),K182:$L$6000,2,0),\"\")","v":""},{"$f":"IFERROR(VLOOKUP(ROWS($AA$2:AA182),K182:$M$6000,3,0),\"\")","v":""}]
[{"$nulls":10},{"$f":"IF(ISNUMBER(SEARCH($A$3,L183)),MAX($K$1:K182)+1,0)","v":0},"Ambuja Cements Ltd","AMBUJACEM.NS",{"$nulls":12},{"$f":"IFERROR(VLOOKUP(ROWS($Z$2:Z183),K183:$L$6000,2,0),\"\")","v":""},{"$f":"IFERROR(VLOOKUP(ROWS($AA$2:AA183),K183:$M$6000,3,0),\"\")","v":""}]
[{"$nulls":10},{"$f":"IF(ISNUMBER(SEARCH($A$3,L184)),MAX($K$1:K183)+1,0)","v":0},"Amco India Ltd","AMCOIND.BO",{"$nulls":12},{"$f":"IFERROR(VLOOKUP(ROWS($Z$2:Z184),K184:$L$6000,2,0),\"\")","v":""},{"$f":"IFERROR(VLOOKUP(ROWS($AA$2:AA184),K184:$M$6000,3,0),\"\")","v":""}]
[{"$nulls":10},{"$f":"IF(ISNUMBER(SEARCH($A$3,L185)),MAX($K$1:K184)+1,0)","v":0},"AMD Industries Ltd","AMDINDUS.BO",{"$nulls":12},{"$f":"IFERROR(VLOOKUP(ROWS($Z$2:Z185),K185:$L$6000,2,0),\"\")","v":""},{"$f":"IFERROR(VLOOKUP(ROWS($AA$2:AA185),K185:$M$6000,3,0),\"\")","v":""}]
[{"$nulls":10},{"$f":"IF(ISNUMBER(SEARCH($A$3,L186)),MAX($K$1:K185)+1,0)","v":0},"AMD Industries Ltd","AMDIND.NS",{"$nulls":12},{"$f":"IFERROR(VLOOKUP(ROWS($Z$2:Z186),K186:$L$6000,2,0),\"\")","v":""},{"$f":"IFERROR(VLOOKUP(ROWS($AA$2:AA186),K186:$M$6000,3,0),\"\")","v":""}]
[{"$nulls":10},{"$f":"IF(ISNUMBER(SEARCH($A$3,L187)),MAX($K$1:K186)+1,0)","v":0},"Amforge Industries Ltd","AMFORG.BO",{"$nulls":12},{"$f":"IFERROR(VLOOKUP(ROWS($Z$2:Z187),K187:$L$6000,2,0),\"\")","v":""},{"$f":"IFERROR(VLOOKUP(ROWS($AA$2:AA187),K187:$M$6000,3,0),\"\")","v":""}]
[{"$nulls":10},{"$f":"IF(ISNUMBER(SEARCH($A$3,L188)),MAX($K$1:K187)+1,0)","v":0},"Amines & Plasticizers Ltd","AMNPLST.BO",{"$nulls":12},{"$f":"IFERROR(VLOOKUP(ROWS($Z$2:Z188),K188:$L$6000,2,0),\"\")","v":""},{"$f":"IFERROR(VLOOKUP(ROWS($AA$2:AA188),K188:$M$6000,3,0),\"\")","v":""}]
[{"$nulls":10},{"$f":"IF(ISNUMBER(SEARCH($A$3,L189)),MAX($K$1:K188)+1,0)","v":0},"Amit International Ltd","AMITINT.BO",{"$nulls":12},{"$f":"IFERROR(VLOOKUP(ROWS($Z$2:Z189),K189:$L$6000,2,0),\"\")","v":""},{"$f":"IFERROR(VLOOKUP(ROWS($AA$2:AA189),K189:$M$6000,3,0),\"\")","v":""}]
[{"$nulls":10},{"$f":"IF(ISNUMBER(SEARCH($A$3,L190)),MAX($K$1:K189)+1,0)","v":0},"Amit Securities Ltd","AMITSEC.BO",{"$nulls":12},{"$f":"IFERROR(VLOOKUP(ROWS($Z$2:Z190),K190:$L$6000,2,0),\"\")","v":""},{"$f":"IFERROR(VLOOKUP(ROWS($AA$2:AA190),K190:$M$6000,3,0),\"\")","v":""}]
[{"$nulls":10},{"$f":"IF(ISNUMBER(SEARCH($A$3,L191)),MAX($K$1:K190)+1,0)","v":0},"Amit Spinning Industries Ltd","AMITSPG.BO",{"$nulls":12},{"$f":"IFERROR(VLOOKUP(ROWS($Z$2:Z191),K191:$L$6000,2,0),\"\")","v":""},{"$f":"IFERROR(VLOOKUP(ROWS($AA$2:AA191),K191:$M$6000,3,0),\"\")","v":""}]
[{"$nulls":10},{"$f":"IF(ISNUMBER(SEARCH($A$3,L192)),MAX($K$1:K191)+1,0)","v":0},"Amit Spinning Industries Ltd","ASIL.NS",{"$nulls":12},{"$f":"IFERROR(VLOOKUP(ROWS($Z$2:Z192),K192:$L$6000,2,0),\"\")","v":""},{"$f":"IFERROR(VLOOKUP(ROWS($AA$2:AA192),K192:$M$6000,3,0),\"\")","v":""}]
[{"$nulls":10},{"$f":"IF(ISNUMBER(SEARCH($A$3,L193)),MAX($K$1:K192)+1,0)","v":0},"AML Steel Ltd","AMLSTEEL.NS",{"$nulls":12},{"$f":"IFERROR(VLOOKUP(ROWS($Z$2:Z193),K193:$L$6000,2,0),\"\")","v":""},{"$f":"IFERROR(VLOOKUP(ROWS($AA$2:AA193),K193:$M$6000,3,0),\"\")","v":""}]
[{"$nulls":10},{"$f":"IF(ISNUMBER(SEARCH($A$3,L194)),MAX($K$1:K193)+1,0)","v":0},"Amradeep Industries Ltd","AMARDEE.BO",{"$nulls":12},{"$f":"IFERROR(VLOOKUP(ROWS($Z$2:Z194),K194:$L$6000,2,0),\"\")","v":""},{"$f":"IFERROR(VLOOKUP(ROWS($AA$2:AA194),K194:$M$6000,3,0),\"\")","v":""}]
[{"$nulls":10},{"$f":"IF(ISNUMBER(SEARCH($A$3,L195)),MAX($K$1:K194)+1,0)","v":0},"Amrapali Industries Ltd","AMRAPLIN.BO",{"$nulls":12},{"$f":"IFERROR(VLOOKUP(ROWS($Z$2:Z195),K195:$L$6000,2,0),\"\")","v":""},{"$f":"IFERROR(VLOOKUP(ROWS($AA$2:AA195),K195:$M$6000,3,0),\"\")","v":""}]
[{"$nulls":10},{"$f":"IF(ISNUMBER(SEARCH($A$3,L196)),MAX($K$1:K195)+1,0)","v":0},"Amraworld Agrico Ltd","AMRAAGRI.BO",{"$nulls":12},{"$f":"IFERROR(VLOOKUP(ROWS($Z$2:Z196),K196:$L$6000,2,0),\"\")","v":""},{"$f":"IFERROR(VLOOKUP(ROWS($AA$2:AA196),K196:$M$6000,3,0),\"\")","v":""}]
[{"$nulls":10},{"$f":"IF(ISNUMBER(SEARCH($A$3,L197)),MAX($K$1:K196)+1,0)","v":0},"Amrit Corp Ltd","AMRITCORP.BO",{"$nulls":12},{"$f":"IFERROR(VLOOKUP(ROWS($Z$2:Z197),K197:$L$6000,2,0),\"\")","v":""},{"$f":"IFERROR(VLOOKUP(ROWS($AA$2:AA197),K197:$M$6000,3,0),\"\")","v":""}]
[{"$nulls":10},{"$f":"IF(ISNUMBER(SEARCH($A$3,L198)),MAX($K$1:K197)+1,0)","v":0},"Amtek Auto Ltd","AMTEKAUTO.BO",{"$nulls":12},{"$f":"IFERROR(VLOOKUP(ROWS($Z$2:Z198),K198:$L$6000,2,0),\"\")","v":""},{"$f":"IFERROR(VLOOKUP(ROWS($AA$2:AA198),K198:$M$6000,3,0),\"\")","v":""}]
[{"$nulls":10},{"$f":"IF(ISNUMBER(SEARCH($A$3,L199)),MAX($K$1:K198)+1,0)","v":0},"Amtek Auto Ltd","AMTEKAUTO.NS",{"$nulls":12},{"$f":"IFERROR(VLOOKUP(ROWS($Z$2:Z199),K199:$L$6000,2,0),\"\")","v":""},{"$f":"IFERROR(VLOOKUP(ROWS($AA$2:AA199),K199:$M$6000,3,0),\"\")","v":""}]
[{"$nulls":10},{"$f":"IF(ISNUMBER(SEARCH($A$3,L200)),MAX($K$1:K199)+1,0)","v":0},"Amtek India Ltd","AMTEKIN.BO",{"$nulls":12},{"$f":"IFERROR(VLOOKUP(ROWS($Z$2:Z200),K200:$L$6000,2,0),\"\")","v":""},{"$f":"IFERROR(VLOOKUP(ROWS($AA$2:AA200),K200:$M$6000,3,0),\"\")","v":""}]
[{"$nulls":10},{"$f":"IF(ISNUMBER(SEARCH($A$3,L201)),MAX($K$1:K200)+1,0)","v":0},"Amtek India Ltd","AMTEKINDI.NS",{"$nulls":12},{"$f":"IFERROR(VLOOKUP(ROWS($Z$2:Z201),K201:$L$6000,2,0),\"\")","v":""},{"$f":"IFERROR(VLOOKUP(ROWS($AA$2:AA201),K201:$M$6000,3,0),\"\")","v":""}]
[{"$nulls":10},{"$f":"IF(ISNUMBER(SEARCH($A$3,L202)),MAX($K$1:K201)+1,0)","v":0},"Amulya Leasing & Finance Ltd","AMULEAS.BO",{"$nulls":12},{"$f":"IFERROR(VLOOKUP(ROWS($Z$2:Z202),K202:$L$6000,2,0),\"\")","v":""},{"$f":"IFERROR(VLOOKUP(ROWS($AA$2:AA202),K202:$M$6000,3,0),\"\")","v":""}]
[{"$nulls":10},{"$f":"IF(ISNUMBER(SEARCH($A$3,L203)),MAX($K$1:K202)+1,0)","v":0},"Anant Raj Ltd","ANANTRAJ.BO",{"$nulls":12},{"$f":"IFERROR(VLOOKUP(ROWS($Z$2:Z203),K203:$L$6000,2,0),\"\")","v":""},{"$f":"IFERROR(VLOOKUP(ROWS($AA$2:AA203),K203:$M$6000,3,0),\"\")","v":""}]
[{"$nulls":10},{"$f":"IF(ISNUMBER(SEARCH($A$3,L204)),MAX($K$1:K203)+1,0)","v":0},"Anant Raj Ltd","ANANTRAJ.NS",{"$nulls":12},{"$f":"IFERROR(VLOOKUP(ROWS($Z$2:Z204),K204:$L$6000,2,0),\"\")","v":""},{"$f":"IFERROR(VLOOKUP(ROWS($AA$2:AA204),K204:$M$6000,3,0),\"\")","v":""}]
[{"$nulls":10},{"$f":"IF(ISNUMBER(SEARCH($A$3,L205)),MAX($K$1:K204)+1,0)","v":0},"Ananthi Constructions Ltd","ANNTHMS.BO",{"$nulls":12},{"$f":"IFERROR(VLOOKUP(ROWS($Z$2:Z205),K205:$L$6000,2,0),\"\")","v":""},{"$f":"IFERROR(VLOOKUP(ROWS($AA$2:AA205),K205:$M$6000,3,0),\"\")","v":""}]
[{"$nulls":10},{"$f":"IF(ISNUMBER(SEARCH($A$3,L206)),MAX($K$1:K205)+1,0)","v":0},"Anar Industries Ltd","ENRICH.BO",{"$nulls":12},{"$f":"IFERROR(VLOOKUP(ROWS($Z$2:Z206),K206:$L$6000,2,0),\"\")","v":""},{"$f":"IFERROR(VLOOKUP(ROWS($AA$2:AA206),K206:$M$6000,3,0),\"\")","v":""}]
[{"$nulls":10},{"$f":"IF(ISNUMBER(SEARCH($A$3,L207)),MAX($K$1:K206)+1,0)","v":0},"Andhra Bank","ANDHRABANK.BO",{"$nulls":12},{"$f":"IFERROR(VLOOKUP(ROWS($Z$2:Z207),K207:$L$6000,2,0),\"\")","v":""},{"$f":"IFERROR(VLOOKUP(ROWS($AA$2:AA207),K207:$M$6000,3,0),\"\")","v":""}]
[{"$nulls":10},{"$f":"IF(ISNUMBER(SEARCH($A$3,L208)),MAX($K$1:K207)+1,0)","v":0},"Andhra Bank","ANDHRABAN.NS",{"$nulls":12},{"$f":"IFERROR(VLOOKUP(ROWS($Z$2:Z208),K208:$L$6000,2,0),\"\")","v":""},{"$f":"IFERROR(VLOOKUP(ROWS($AA$2:AA208),K208:$M$6000,3,0),\"\")","v":""}]
[{"$nulls":10},{"$f":"IF(ISNUMBER(SEARCH($A$3,L209)),MAX($K$1:K208)+1,0)","v":0},"Andhra Cements Ltd","ANDHRCM.BO",{"$nulls":12},{"$f":"IFERROR(VLOOKUP(ROWS($Z$2:Z209),K209:$L$6000,2,0),\"\")","v":""},{"$f":"IFERROR(VLOOKUP(ROWS($AA$2:AA209),K209:$M$6000,3,0),\"\")","v":""}]
[{"$nulls":10},{"$f":"IF(ISNUMBER(SEARCH($A$3,L210)),MAX($K$1:K209)+1,0)","v":0},"Andhra Petrochemicals Ltd","ANDHRAPE.BO",{"$nulls":12},{"$f":"IFERROR(VLOOKUP(ROWS($Z$2:Z210),K210:$L$6000,2,0),\"\")","v":""},{"$f":"IFERROR(VLOOKUP(ROWS($AA$2:AA210),K210:$M$6000,3,0),\"\")","v":""}]
[{"$nulls":10},{"$f":"IF(ISNUMBER(SEARCH($A$3,L211)),MAX($K$1:K210)+1,0)","v":0},"Andhra Sugars Ltd","ANDHRASUGAR.BO",{"$nulls":12},{"$f":"IFERROR(VLOOKUP(ROWS($Z$2:Z211),K211:$L$6000,2,0),\"\")","v":""},{"$f":"IFERROR(VLOOKUP(ROWS($AA$2:AA211),K211:$M$6000,3,0),\"\")","v":""}]
[{"$nulls":10},{"$f":"IF(ISNUMBER(SEARCH($A$3,L212)),MAX($K$1:K211)+1,0)","v":0},"Andhra Sugars Ltd","ANDHRSUGA.NS",{"$nulls":12},{"$f":"IFERROR(VLOOKUP(ROWS($Z$2:Z212),K212:$L$6000,2,0),\"\")","v":""},{"$f":"IFERROR(VLOOKUP(ROWS($AA$2:AA212),K212:$M$6000,3,0),\"\")","v":""}]
[{"$nulls":10},{"$f":"IF(ISNUMBER(SEARCH($A$3,L213)),MAX($K$1:K212)+1,0)","v":0},"Andrew Yule & Co Ltd","ANDREWYU.BO",{"$nulls":12},{"$f":"IFERROR(VLOOKUP(ROWS($Z$2:Z213),K213:$L$6000,2,0),\"\")","v":""},{"$f":"IFERROR(VLOOKUP(ROWS($AA$2:AA213),K213:$M$6000,3,0),\"\")","v":""}]
[{"$nulls":10},{"$f":"IF(ISNUMBER(SEARCH($A$3,L214)),MAX($K$1:K213)+1,0)","v":0},"ANG Industries Ltd","ANGAUTO.BO",{"$nulls":12},{"$f":"IFERROR(VLOOKUP(ROWS($Z$2:Z214),K214:$L$6000,2,0),\"\")","v":""},{"$f":"IFERROR(VLOOKUP(ROWS($AA$2:AA214),K214:$M$6000,3,0),\"\")","v":""}]
[{"$nulls":10},{"$f":"IF(ISNUMBER(SEARCH($A$3,L215)),MAX($K$1:K214)+1,0)","v":0},"ANG Industries Ltd","ANGIND.NS",{"$nulls":12},{"$f":"IFERROR(VLOOKUP(ROWS($Z$2:Z215),K215:$L$6000,2,0),\"\")","v":""},{"$f":"IFERROR(VLOOKUP(ROWS($AA$2:AA215),K215:$M$6000,3,0),\"\")","v":""}]
[{"$nulls":10},{"$f":"IF(ISNUMBER(SEARCH($A$3,L216)),MAX($K$1:K215)+1,0)","v":0},"Anik Industries Ltd","ANIKINDS.BO",{"$nulls":12},{"$f":"IFERROR(VLOOKUP(ROWS($Z$2:Z216),K216:$L$6000,2,0),\"\")","v":""},{"$f":"IFERROR(VLOOKUP(ROWS($AA$2:AA216),K216:$M$6000,3,0),\"\")","v":""}]
[{"$nulls":10},{"$f":"IF(ISNUMBER(SEARCH($A$3,L217)),MAX($K$1:K216)+1,0)","v":0},"Anik Industries Ltd","ANIKINDS.NS",{"$nulls":12},{"$f":"IFERROR(VLOOKUP(ROWS($Z$2:Z217),K217:$L$6000,2,0),\"\")","v":""},{"$f":"IFERROR(VLOOKUP(ROWS($AA$2:AA217),K217:$M$6000,3,0),\"\")","v":""}]
[{"$nulls":10},{"$f":"IF(ISNUMBER(SEARCH($A$3,L218)),MAX($K$1:K217)+1,0)","v":0},"Anil Ltd","ANILPROD.BO",{"$nulls":12},{"$f":"IFERROR(VLOOKUP(ROWS($Z$2:Z218),K218:$L$6000,2,0),\"\")","v":""},{"$f":"IFERROR(VLOOKUP(ROWS($AA$2:AA218),K218:$M$6000,3,0),\"\")","v":""}]
[{"$nulls":10},{"$f":"IF(ISNUMBER(SEARCH($A$3,L219)),MAX($K$1:K218)+1,0)","v":0},"Anil Special Steel","ANILSPL.BO",{"$nulls":12},{"$f":"IFERROR(VLOOKUP(ROWS($Z$2:Z219),K219:$L$6000,2,0),\"\")","v":""},{"$f":"IFERROR(VLOOKUP(ROWS($AA$2:AA219),K219:$M$6000,3,0),\"\")","v":""}]
[{"$nulls":10},{"$f":"IF(ISNUMBER(SEARCH($A$3,L220)),MAX($K$1:K219)+1,0)","v":0},"Anjani Dham Industries Ltd","ANJANIFA.BO",{"$nulls":12},{"$f":"IFERROR(VLOOKUP(ROWS($Z$2:Z220),K220:$L$6000,2,0),\"\")","v":""},{"$f":"IFERROR(VLOOKUP(ROWS($AA$2:AA220),K220:$M$6000,3,0),\"\")","v":""}]
[{"$nulls":10},{"$f":"IF(ISNUMBER(SEARCH($A$3,L221)),MAX($K$1:K220)+1,0)","v":0},"Anjani Finance Ltd","ANJANIFIN.BO",{"$nulls":12},{"$f":"IFERROR(VLOOKUP(ROWS($Z$2:Z221),K221:$L$6000,2,0),\"\")","v":""},{"$f":"IFERROR(VLOOKUP(ROWS($AA$2:AA221),K221:$M$6000,3,0),\"\")","v":""}]
[{"$nulls":10},{"$f":"IF(ISNUMBER(SEARCH($A$3,L222)),MAX($K$1:K221)+1,0)","v":0},"Anjani Synthetics Ltd","APCL.BO",{"$nulls":12},{"$f":"IFERROR(VLOOKUP(ROWS($Z$2:Z222),K222:$L$6000,2,0),\"\")","v":""},{"$f":"IFERROR(VLOOKUP(ROWS($AA$2:AA222),K222:$M$6000,3,0),\"\")","v":""}]
[{"$nulls":10},{"$f":"IF(ISNUMBER(SEARCH($A$3,L223)),MAX($K$1:K222)+1,0)","v":0},"Ankit Metal & Power Ltd","ANKITMET.BO",{"$nulls":12},{"$f":"IFERROR(VLOOKUP(ROWS($Z$2:Z223),K223:$L$6000,2,0),\"\")","v":""},{"$f":"IFERROR(VLOOKUP(ROWS($AA$2:AA223),K223:$M$6000,3,0),\"\")","v":""}]
[{"$nulls":10},{"$f":"IF(ISNUMBER(SEARCH($A$3,L224)),MAX($K$1:K223)+1,0)","v":0},"Ankush Finstock Ltd","ANKUSHFI.BO",{"$nulls":12},{"$f":"IFERROR(VLOOKUP(ROWS($Z$2:Z224),K224:$L$6000,2,0),\"\")","v":""},{"$f":"IFERROR(VLOOKUP(ROWS($AA$2:AA224),K224:$M$6000,3,0),\"\")","v":""}]
[{"$nulls":10},{"$f":"IF(ISNUMBER(SEARCH($A$3,L225)),MAX($K$1:K224)+1,0)","v":0},"Anna Infrastructures Ltd","ANNAINFRA.BO",{"$nulls":12},{"$f":"IFERROR(VLOOKUP(ROWS($Z$2:Z225),K225:$L$6000,2,0),\"\")","v":""},{"$f":"IFERROR(VLOOKUP(ROWS($AA$2:AA225),K225:$M$6000,3,0),\"\")","v":""}]
[{"$nulls":10},{"$f":"IF(ISNUMBER(SEARCH($A$3,L226)),MAX($K$1:K225)+1,0)","v":0},"ANS Industries Ltd","ANSLTD.BO",{"$nulls":12},{"$f":"IFERROR(VLOOKUP(ROWS($Z$2:Z226),K226:$L$6000,2,0),\"\")","v":""},{"$f":"IFERROR(VLOOKUP(ROWS($AA$2:AA226),K226:$M$6000,3,0),\"\")","v":""}]
[{"$nulls":10},{"$f":"IF(ISNUMBER(SEARCH($A$3,L227)),MAX($K$1:K226)+1,0)","v":0},"Ansal Buildwell Ltd","ANSALBU.BO",{"$nulls":12},{"$f":"IFERROR(VLOOKUP(ROWS($Z$2:Z227),K227:$L$6000,2,0),\"\")","v":""},{"$f":"IFERROR(VLOOKUP(ROWS($AA$2:AA227),K227:$M$6000,3,0),\"\")","v":""}]
[{"$nulls":10},{"$f":"IF(ISNUMBER(SEARCH($A$3,L228)),MAX($K$1:K227)+1,0)","v":0},"Ansal Housing & Construct","ANSALHSG.BO",{"$nulls":12},{"$f":"IFERROR(VLOOKUP(ROWS($Z$2:Z228),K228:$L$6000,2,0),\"\")","v":""},{"$f":"IFERROR(VLOOKUP(ROWS($AA$2:AA228),K228:$M$6000,3,0),\"\")","v":""}]
[{"$nulls":10},{"$f":"IF(ISNUMBER(SEARCH($A$3,L229)),MAX($K$1:K228)+1,0)","v":0},"Ansal Housing & Construct","ANSALHSG.NS",{"$nulls":12},{"$f":"IFERROR(VLOOKUP(ROWS($Z$2:Z229),K229:$L$6000,2,0),\"\")","v":""},{"$f":"IFERROR(VLOOKUP(ROWS($AA$2:AA229),K229:$M$6000,3,0),\"\")","v":""}]
[{"$nulls":10},{"$f":"IF(ISNUMBER(SEARCH($A$3,L230)),MAX($K$1:K229)+1,0)","v":0},"Ansal Properties & Infras","ANSALINFR.BO",{"$nulls":12},{"$f":"IFERROR(VLOOKUP(ROWS($Z$2:Z230),K230:$L$6000,2,0),\"\")","v":""},{"$f":"IFERROR(VLOOKUP(ROWS($AA$2:AA230),K230:$M$6000,3,0),\"\")","v":""}]
[{"$nulls":10},{"$f":"IF(ISNUMBER(SEARCH($A$3,L231)),MAX($K$1:K230)+1,0)","v":0},"Ansal Properties & Infras","ANSALAPI.NS",{"$nulls":12},{"$f":"IFERROR(VLOOKUP(ROWS($Z$2:Z231),K231:$L$6000,2,0),\"\")","v":""},{"$f":"IFERROR(VLOOKUP(ROWS($AA$2:AA231),K231:$M$6000,3,0),\"\")","v":""}]
[{"$nulls":10},{"$f":"IF(ISNUMBER(SEARCH($A$3,L232)),MAX($K$1:K231)+1,0)","v":0},"Antarctica Ltd","ANTGRAPHI.NS",{"$nulls":12},{"$f":"IFERROR(VLOOKUP(ROWS($Z$2:Z232),K232:$L$6000,2,0),\"\")","v":""},{"$f":"IFERROR(VLOOKUP(ROWS($AA$2:AA232),K232:$M$6000,3,0),\"\")","v":""}]
[{"$nulls":10},{"$f":"IF(ISNUMBER(SEARCH($A$3,L233)),MAX($K$1:K232)+1,0)","v":0},"Anuh Pharma Ltd","ANUHPHR.BO",{"$nulls":12},{"$f":"IFERROR(VLOOKUP(ROWS($Z$2:Z233),K233:$L$6000,2,0),\"\")","v":""},{"$f":"IFERROR(VLOOKUP(ROWS($AA$2:AA233),K233:$M$6000,3,0),\"\")","v":""}]
[{"$nulls":10},{"$f":"IF(ISNUMBER(SEARCH($A$3,L234)),MAX($K$1:K233)+1,0)","v":0},"Anukaran Commercial","ZANUKCOM.BO",{"$nulls":12},{"$f":"IFERROR(VLOOKUP(ROWS($Z$2:Z234),K234:$L$6000,2,0),\"\")","v":""},{"$f":"IFERROR(VLOOKUP(ROWS($AA$2:AA234),K234:$M$6000,3,0),\"\")","v":""}]
[{"$nulls":10},{"$f":"IF(ISNUMBER(SEARCH($A$3,L235)),MAX($K$1:K234)+1,0)","v":0},"Anu's Laboratories Ltd","ANULABS.BO",{"$nulls":12},{"$f":"IFERROR(VLOOKUP(ROWS($Z$2:Z235),K235:$L$6000,2,0),\"\")","v":""},{"$f":"IFERROR(VLOOKUP(ROWS($AA$2:AA235),K235:$M$6000,3,0),\"\")","v":""}]
[{"$nulls":10},{"$f":"IF(ISNUMBER(SEARCH($A$3,L236)),MAX($K$1:K235)+1,0)","v":0},"Apar Industries Ltd","APARIND.BO",{"$nulls":12},{"$f":"IFERROR(VLOOKUP(ROWS($Z$2:Z236),K236:$L$6000,2,0),\"\")","v":""},{"$f":"IFERROR(VLOOKUP(ROWS($AA$2:AA236),K236:$M$6000,3,0),\"\")","v":""}]
[{"$nulls":10},{"$f":"IF(ISNUMBER(SEARCH($A$3,L237)),MAX($K$1:K236)+1,0)","v":0},"Apar Industries Ltd","APARINDS.NS",{"$nulls":12},{"$f":"IFERROR(VLOOKUP(ROWS($Z$2:Z237),K237:$L$6000,2,0),\"\")","v":""},{"$f":"IFERROR(VLOOKUP(ROWS($AA$2:AA237),K237:$M$6000,3,0),\"\")","v":""}]
[{"$nulls":10},{"$f":"IF(ISNUMBER(SEARCH($A$3,L238)),MAX($K$1:K237)+1,0)","v":0},"APL Apollo Tubes Ltd","BIHARTUBE.BO",{"$nulls":12},{"$f":"IFERROR(VLOOKUP(ROWS($Z$2:Z238),K238:$L$6000,2,0),\"\")","v":""},{"$f":"IFERROR(VLOOKUP(ROWS($AA$2:AA238),K238:$M$6000,3,0),\"\")","v":""}]
[{"$nulls":10},{"$f":"IF(ISNUMBER(SEARCH($A$3,L239)),MAX($K$1:K238)+1,0)","v":0},"Aplab Ltd","APLAB.BO",{"$nulls":12},{"$f":"IFERROR(VLOOKUP(ROWS($Z$2:Z239),K239:$L$6000,2,0),\"\")","v":""},{"$f":"IFERROR(VLOOKUP(ROWS($AA$2:AA239),K239:$M$6000,3,0),\"\")","v":""}]
[{"$nulls":10},{"$f":"IF(ISNUMBER(SEARCH($A$3,L240)),MAX($K$1:K239)+1,0)","v":0},"APM Industries Ltd","APMIN.BO",{"$nulls":12},{"$f":"IFERROR(VLOOKUP(ROWS($Z$2:Z240),K240:$L$6000,2,0),\"\")","v":""},{"$f":"IFERROR(VLOOKUP(ROWS($AA$2:AA240),K240:$M$6000,3,0),\"\")","v":""}]
[{"$nulls":10},{"$f":"IF(ISNUMBER(SEARCH($A$3,L241)),MAX($K$1:K240)+1,0)","v":0},"Apollo Finvest India Ltd","APOLLOFI.BO",{"$nulls":12},{"$f":"IFERROR(VLOOKUP(ROWS($Z$2:Z241),K241:$L$6000,2,0),\"\")","v":""},{"$f":"IFERROR(VLOOKUP(ROWS($AA$2:AA241),K241:$M$6000,3,0),\"\")","v":""}]
[{"$nulls":10},{"$f":"IF(ISNUMBER(SEARCH($A$3,L242)),MAX($K$1:K241)+1,0)","v":0},"Apollo Hospitals","APOLLOHOSP.BO",{"$nulls":12},{"$f":"IFERROR(VLOOKUP(ROWS($Z$2:Z242),K242:$L$6000,2,0),\"\")","v":""},{"$f":"IFERROR(VLOOKUP(ROWS($AA$2:AA242),K242:$M$6000,3,0),\"\")","v":""}]
[{"$nulls":10},{"$f":"IF(ISNUMBER(SEARCH($A$3,L243)),MAX($K$1:K242)+1,0)","v":0},"Apollo Hospitals","APOLLOHOS.NS",{"$nulls":12},{"$f":"IFERROR(VLOOKUP(ROWS($Z$2:Z243),K243:$L$6000,2,0),\"\")","v":""},{"$f":"IFERROR(VLOOKUP(ROWS($AA$2:AA243),K243:$M$6000,3,0),\"\")","v":""}]
[{"$nulls":10},{"$f":"IF(ISNUMBER(SEARCH($A$3,L244)),MAX($K$1:K243)+1,0)","v":0},"Apollo Tyres Ltd","APOLLOTYRE.BO",{"$nulls":12},{"$f":"IFERROR(VLOOKUP(ROWS($Z$2:Z244),K244:$L$6000,2,0),\"\")","v":""},{"$f":"IFERROR(VLOOKUP(ROWS($AA$2:AA244),K244:$M$6000,3,0),\"\")","v":""}]
[{"$nulls":10},{"$f":"IF(ISNUMBER(SEARCH($A$3,L245)),MAX($K$1:K244)+1,0)","v":0},"Apollo Tyres Ltd","APOLLOTYR.NS",{"$nulls":12},{"$f":"IFERROR(VLOOKUP(ROWS($Z$2:Z245),K245:$L$6000,2,0),\"\")","v":""},{"$f":"IFERROR(VLOOKUP(ROWS($AA$2:AA245),K245:$M$6000,3,0),\"\")","v":""}]
[{"$nulls":10},{"$f":"IF(ISNUMBER(SEARCH($A$3,L246)),MAX($K$1:K245)+1,0)","v":0},"Apple Finance Ltd","APPLEFIN.BO",{"$nulls":12},{"$f":"IFERROR(VLOOKUP(ROWS($Z$2:Z246),K246:$L$6000,2,0),\"\")","v":""},{"$f":"IFERROR(VLOOKUP(ROWS($AA$2:AA246),K246:$M$6000,3,0),\"\")","v":""}]
[{"$nulls":10},{"$f":"IF(ISNUMBER(SEARCH($A$3,L247)),MAX($K$1:K246)+1,0)","v":0},"Aptech Ltd","APTECH.BO",{"$nulls":12},{"$f":"IFERROR(VLOOKUP(ROWS($Z$2:Z247),K247:$L$6000,2,0),\"\")","v":""},{"$f":"IFERROR(VLOOKUP(ROWS($AA$2:AA247),K247:$M$6000,3,0),\"\")","v":""}]
[{"$nulls":10},{"$f":"IF(ISNUMBER(SEARCH($A$3,L248)),MAX($K$1:K247)+1,0)","v":0},"Aptech Ltd","APTECHT.NS",{"$nulls":12},{"$f":"IFERROR(VLOOKUP(ROWS($Z$2:Z248),K248:$L$6000,2,0),\"\")","v":""},{"$f":"IFERROR(VLOOKUP(ROWS($AA$2:AA248),K248:$M$6000,3,0),\"\")","v":""}]
[{"$nulls":10},{"$f":"IF(ISNUMBER(SEARCH($A$3,L249)),MAX($K$1:K248)+1,0)","v":0},"Aravali Securities & Fina","ARAVALIS.BO",{"$nulls":12},{"$f":"IFERROR(VLOOKUP(ROWS($Z$2:Z249),K249:$L$6000,2,0),\"\")","v":""},{"$f":"IFERROR(VLOOKUP(ROWS($AA$2:AA249),K249:$M$6000,3,0),\"\")","v":""}]
[{"$nulls":10},{"$f":"IF(ISNUMBER(SEARCH($A$3,L250)),MAX($K$1:K249)+1,0)","v":0},"Arcee Industries Ltd","ARCEEIN.BO",{"$nulls":12},{"$f":"IFERROR(VLOOKUP(ROWS($Z$2:Z250),K250:$L$6000,2,0),\"\")","v":""},{"$f":"IFERROR(VLOOKUP(ROWS($AA$2:AA250),K250:$M$6000,3,0),\"\")","v":""}]
[{"$nulls":10},{"$f":"IF(ISNUMBER(SEARCH($A$3,L251)),MAX($K$1:K250)+1,0)","v":0},"Archana Software Ltd","ARCHSOFT.BO",{"$nulls":12},{"$f":"IFERROR(VLOOKUP(ROWS($Z$2:Z251),K251:$L$6000,2,0),\"\")","v":""},{"$f":"IFERROR(VLOOKUP(ROWS($AA$2:AA251),K251:$M$6000,3,0),\"\")","v":""}]
[{"$nulls":10},{"$f":"IF(ISNUMBER(SEARCH($A$3,L252)),MAX($K$1:K251)+1,0)","v":0},"Archidply Industries Ltd","ARCHIDPLY.BO",{"$nulls":12},{"$f":"IFERROR(VLOOKUP(ROWS($Z$2:Z252),K252:$L$6000,2,0),\"\")","v":""},{"$f":"IFERROR(VLOOKUP(ROWS($AA$2:AA252),K252:$M$6000,3,0),\"\")","v":""}]
[{"$nulls":10},{"$f":"IF(ISNUMBER(SEARCH($A$3,L253)),MAX($K$1:K252)+1,0)","v":0},"Archidply Industries Ltd","ARCHIDPLY.NS",{"$nulls":12},{"$f":"IFERROR(VLOOKUP(ROWS($Z$2:Z253),K253:$L$6000,2,0),\"\")","v":""},{"$f":"IFERROR(VLOOKUP(ROWS($AA$2:AA253),K253:$M$6000,3,0),\"\")","v":""}]
[{"$nulls":10},{"$f":"IF(ISNUMBER(SEARCH($A$3,L254)),MAX($K$1:K253)+1,0)","v":0},"Archies Ltd","ARCHIES.BO",{"$nulls":12},{"$f":"IFERROR(VLOOKUP(ROWS($Z$2:Z254),K254:$L$6000,2,0),\"\")","v":""},{"$f":"IFERROR(VLOOKUP(ROWS($AA$2:AA254),K254:$M$6000,3,0),\"\")","v":""}]
[{"$nulls":10},{"$f":"IF(ISNUMBER(SEARCH($A$3,L255)),MAX($K$1:K254)+1,0)","v":0},"Archit Organosys Ltd","SHCHOLC.BO",{"$nulls":12},{"$f":"IFERROR(VLOOKUP(ROWS($Z$2:Z255),K255:$L$6000,2,0),\"\")","v":""},{"$f":"IFERROR(VLOOKUP(ROWS($AA$2:AA255),K255:$M$6000,3,0),\"\")","v":""}]
[{"$nulls":10},{"$f":"IF(ISNUMBER(SEARCH($A$3,L256)),MAX($K$1:K255)+1,0)","v":0},"Arcotech Ltd","ARCOTECH.BO",{"$nulls":12},{"$f":"IFERROR(VLOOKUP(ROWS($Z$2:Z256),K256:$L$6000,2,0),\"\")","v":""},{"$f":"IFERROR(VLOOKUP(ROWS($AA$2:AA256),K256:$M$6000,3,0),\"\")","v":""}]
[{"$nulls":10},{"$f":"IF(ISNUMBER(SEARCH($A$3,L257)),MAX($K$1:K256)+1,0)","v":0},"Arcuttipore Tea Co Ltd","ARCUTTIP.BO",{"$nulls":12},{"$f":"IFERROR(VLOOKUP(ROWS($Z$2:Z257),K257:$L$6000,2,0),\"\")","v":""},{"$f":"IFERROR(VLOOKUP(ROWS($AA$2:AA257),K257:$M$6000,3,0),\"\")","v":""}]
[{"$nulls":10},{"$f":"IF(ISNUMBER(SEARCH($A$3,L258)),MAX($K$1:K257)+1,0)","v":0},"Arex Industries Ltd","AREXMIS.BO",{"$nulls":12},{"$f":"IFERROR(VLOOKUP(ROWS($Z$2:Z258),K258:$L$6000,2,0),\"\")","v":""},{"$f":"IFERROR(VLOOKUP(ROWS($AA$2:AA258),K258:$M$6000,3,0),\"\")","v":""}]
[{"$nulls":10},{"$f":"IF(ISNUMBER(SEARCH($A$3,L259)),MAX($K$1:K258)+1,0)","v":0},"Aries Agro Ltd","ARIES.BO",{"$nulls":12},{"$f":"IFERROR(VLOOKUP(ROWS($Z$2:Z259),K259:$L$6000,2,0),\"\")","v":""},{"$f":"IFERROR(VLOOKUP(ROWS($AA$2:AA259),K259:$M$6000,3,0),\"\")","v":""}]
[{"$nulls":10},{"$f":"IF(ISNUMBER(SEARCH($A$3,L260)),MAX($K$1:K259)+1,0)","v":0},"Aries Agro Ltd","ARIES.NS",{"$nulls":12},{"$f":"IFERROR(VLOOKUP(ROWS($Z$2:Z260),K260:$L$6000,2,0),\"\")","v":""},{"$f":"IFERROR(VLOOKUP(ROWS($AA$2:AA260),K260:$M$6000,3,0),\"\")","v":""}]
[{"$nulls":10},{"$f":"IF(ISNUMBER(SEARCH($A$3,L261)),MAX($K$1:K260)+1,0)","v":0},"Arihant Avenues & Credit Ltd","ARIAC.BO",{"$nulls":12},{"$f":"IFERROR(VLOOKUP(ROWS($Z$2:Z261),K261:$L$6000,2,0),\"\")","v":""},{"$f":"IFERROR(VLOOKUP(ROWS($AA$2:AA261),K261:$M$6000,3,0),\"\")","v":""}]
[{"$nulls":10},{"$f":"IF(ISNUMBER(SEARCH($A$3,L262)),MAX($K$1:K261)+1,0)","v":0},"Arihant Capital Markets Ltd","ARIHCAPM.BO",{"$nulls":12},{"$f":"IFERROR(VLOOKUP(ROWS($Z$2:Z262),K262:$L$6000,2,0),\"\")","v":""},{"$f":"IFERROR(VLOOKUP(ROWS($AA$2:AA262),K262:$M$6000,3,0),\"\")","v":""}]
[{"$nulls":10},{"$f":"IF(ISNUMBER(SEARCH($A$3,L263)),MAX($K$1:K262)+1,0)","v":0},"Arihant Foundations & Hou","ARIHFOU.BO",{"$nulls":12},{"$f":"IFERROR(VLOOKUP(ROWS($Z$2:Z263),K263:$L$6000,2,0),\"\")","v":""},{"$f":"IFERROR(VLOOKUP(ROWS($AA$2:AA263),K263:$M$6000,3,0),\"\")","v":""}]
[{"$nulls":10},{"$f":"IF(ISNUMBER(SEARCH($A$3,L264)),MAX($K$1:K263)+1,0)","v":0},"Arihant Foundations & Hou","ARIHANT.NS",{"$nulls":12},{"$f":"IFERROR(VLOOKUP(ROWS($Z$2:Z264),K264:$L$6000,2,0),\"\")","v":""},{"$f":"IFERROR(VLOOKUP(ROWS($AA$2:AA264),K264:$M$6000,3,0),\"\")","v":""}]
[{"$nulls":10},{"$f":"IF(ISNUMBER(SEARCH($A$3,L265)),MAX($K$1:K264)+1,0)","v":0},"Arihant Superstructures Ltd","ARIHSUPER.BO",{"$nulls":12},{"$f":"IFERROR(VLOOKUP(ROWS($Z$2:Z265),K265:$L$6000,2,0),\"\")","v":""},{"$f":"IFERROR(VLOOKUP(ROWS($AA$2:AA265),K265:$M$6000,3,0),\"\")","v":""}]
[{"$nulls":10},{"$f":"IF(ISNUMBER(SEARCH($A$3,L266)),MAX($K$1:K265)+1,0)","v":0},"Arihant'S Securities Ltd","ARISE.BO",{"$nulls":12},{"$f":"IFERROR(VLOOKUP(ROWS($Z$2:Z266),K266:$L$6000,2,0),\"\")","v":""},{"$f":"IFERROR(VLOOKUP(ROWS($AA$2:AA266),K266:$M$6000,3,0),\"\")","v":""}]
[{"$nulls":10},{"$f":"IF(ISNUMBER(SEARCH($A$3,L267)),MAX($K$1:K266)+1,0)","v":0},"Arman Financial Services Ltd","ARMANFIN.BO",{"$nulls":12},{"$f":"IFERROR(VLOOKUP(ROWS($Z$2:Z267),K267:$L$6000,2,0),\"\")","v":""},{"$f":"IFERROR(VLOOKUP(ROWS($AA$2:AA267),K267:$M$6000,3,0),\"\")","v":""}]
[{"$nulls":10},{"$f":"IF(ISNUMBER(SEARCH($A$3,L268)),MAX($K$1:K267)+1,0)","v":0},"Arms Paper Ltd","ARMSPAPER.BO",{"$nulls":12},{"$f":"IFERROR(VLOOKUP(ROWS($Z$2:Z268),K268:$L$6000,2,0),\"\")","v":""},{"$f":"IFERROR(VLOOKUP(ROWS($AA$2:AA268),K268:$M$6000,3,0),\"\")","v":""}]
[{"$nulls":10},{"$f":"IF(ISNUMBER(SEARCH($A$3,L269)),MAX($K$1:K268)+1,0)","v":0},"ARNAV Corp Ltd","POLYPRO.BO",{"$nulls":12},{"$f":"IFERROR(VLOOKUP(ROWS($Z$2:Z269),K269:$L$6000,2,0),\"\")","v":""},{"$f":"IFERROR(VLOOKUP(ROWS($AA$2:AA269),K269:$M$6000,3,0),\"\")","v":""}]
[{"$nulls":10},{"$f":"IF(ISNUMBER(SEARCH($A$3,L270)),MAX($K$1:K269)+1,0)","v":0},"Aro Granite Industries Ltd","AROGRANI.BO",{"$nulls":12},{"$f":"IFERROR(VLOOKUP(ROWS($Z$2:Z270),K270:$L$6000,2,0),\"\")","v":""},{"$f":"IFERROR(VLOOKUP(ROWS($AA$2:AA270),K270:$M$6000,3,0),\"\")","v":""}]
[{"$nulls":10},{"$f":"IF(ISNUMBER(SEARCH($A$3,L271)),MAX($K$1:K270)+1,0)","v":0},"Aro Granite Industries Ltd","AROGRANIT.NS",{"$nulls":12},{"$f":"IFERROR(VLOOKUP(ROWS($Z$2:Z271),K271:$L$6000,2,0),\"\")","v":""},{"$f":"IFERROR(VLOOKUP(ROWS($AA$2:AA271),K271:$M$6000,3,0),\"\")","v":""}]
[{"$nulls":10},{"$f":"IF(ISNUMBER(SEARCH($A$3,L272)),MAX($K$1:K271)+1,0)","v":0},"Aroni Commercials Ltd","ARONICOMM.BO",{"$nulls":12},{"$f":"IFERROR(VLOOKUP(ROWS($Z$2:Z272),K272:$L$6000,2,0),\"\")","v":""},{"$f":"IFERROR(VLOOKUP(ROWS($AA$2:AA272),K272:$M$6000,3,0),\"\")","v":""}]
[{"$nulls":10},{"$f":"IF(ISNUMBER(SEARCH($A$3,L273)),MAX($K$1:K272)+1,0)","v":0},"Arora Fibres Ltd","ARORAFIB.BO",{"$nulls":12},{"$f":"IFERROR(VLOOKUP(ROWS($Z$2:Z273),K273:$L$6000,2,0),\"\")","v":""},{"$f":"IFERROR(VLOOKUP(ROWS($AA$2:AA273),K273:$M$6000,3,0),\"\")","v":""}]
[{"$nulls":10},{"$f":"IF(ISNUMBER(SEARCH($A$3,L274)),MAX($K$1:K273)+1,0)","v":0},"Arrow Coated Products Ltd","ARCPR.BO",{"$nulls":12},{"$f":"IFERROR(VLOOKUP(ROWS($Z$2:Z274),K274:$L$6000,2,0),\"\")","v":""},{"$f":"IFERROR(VLOOKUP(ROWS($AA$2:AA274),K274:$M$6000,3,0),\"\")","v":""}]
[{"$nulls":10},{"$f":"IF(ISNUMBER(SEARCH($A$3,L275)),MAX($K$1:K274)+1,0)","v":0},"Arrow Textiles Ltd","ARROWTEX.BO",{"$nulls":12},{"$f":"IFERROR(VLOOKUP(ROWS($Z$2:Z275),K275:$L$6000,2,0),\"\")","v":""},{"$f":"IFERROR(VLOOKUP(ROWS($AA$2:AA275),K275:$M$6000,3,0),\"\")","v":""}]
[{"$nulls":10},{"$f":"IF(ISNUMBER(SEARCH($A$3,L276)),MAX($K$1:K275)+1,0)","v":0},"Arshiya Ltd","ARSHIYA.BO",{"$nulls":12},{"$f":"IFERROR(VLOOKUP(ROWS($Z$2:Z276),K276:$L$6000,2,0),\"\")","v":""},{"$f":"IFERROR(VLOOKUP(ROWS($AA$2:AA276),K276:$M$6000,3,0),\"\")","v":""}]
[{"$nulls":10},{"$f":"IF(ISNUMBER(SEARCH($A$3,L277)),MAX($K$1:K276)+1,0)","v":0},"ARSS Infrastructure","ARSSINFRA.BO",{"$nulls":12},{"$f":"IFERROR(VLOOKUP(ROWS($Z$2:Z277),K277:$L$6000,2,0),\"\")","v":""},{"$f":"IFERROR(VLOOKUP(ROWS($AA$2:AA277),K277:$M$6000,3,0),\"\")","v":""}]
[{"$nulls":10},{"$f":"IF(ISNUMBER(SEARCH($A$3,L278)),MAX($K$1:K277)+1,0)","v":0},"Artefact Projects Ltd","ARTEFACT.BO",{"$nulls":12},{"$f":"IFERROR(VLOOKUP(ROWS($Z$2:Z278),K278:$L$6000,2,0),\"\")","v":""},{"$f":"IFERROR(VLOOKUP(ROWS($AA$2:AA278),K278:$M$6000,3,0),\"\")","v":""}]
[{"$nulls":10},{"$f":"IF(ISNUMBER(SEARCH($A$3,L279)),MAX($K$1:K278)+1,0)","v":0},"Artson Engineering Ltd","ARTSONEN.BO",{"$nulls":12},{"$f":"IFERROR(VLOOKUP(ROWS($Z$2:Z279),K279:$L$6000,2,0),\"\")","v":""},{"$f":"IFERROR(VLOOKUP(ROWS($AA$2:AA279),K279:$M$6000,3,0),\"\")","v":""}]
[{"$nulls":10},{"$f":"IF(ISNUMBER(SEARCH($A$3,L280)),MAX($K$1:K279)+1,0)","v":0},"Arvind International Ltd","ARVINDIN.BO",{"$nulls":12},{"$f":"IFERROR(VLOOKUP(ROWS($Z$2:Z280),K280:$L$6000,2,0),\"\")","v":""},{"$f":"IFERROR(VLOOKUP(ROWS($AA$2:AA280),K280:$M$6000,3,0),\"\")","v":""}]
[{"$nulls":10},{"$f":"IF(ISNUMBER(SEARCH($A$3,L281)),MAX($K$1:K280)+1,0)","v":0},"Arvind Ltd","ARVIND.BO",{"$nulls":12},{"$f":"IFERROR(VLOOKUP(ROWS($Z$2:Z281),K281:$L$6000,2,0),\"\")","v":""},{"$f":"IFERROR(VLOOKUP(ROWS($AA$2:AA281),K281:$M$6000,3,0),\"\")","v":""}]
[{"$nulls":10},{"$f":"IF(ISNUMBER(SEARCH($A$3,L282)),MAX($K$1:K281)+1,0)","v":0},"Arvind Ltd","ARVIND.NS",{"$nulls":12},{"$f":"IFERROR(VLOOKUP(ROWS($Z$2:Z282),K282:$L$6000,2,0),\"\")","v":""},{"$f":"IFERROR(VLOOKUP(ROWS($AA$2:AA282),K282:$M$6000,3,0),\"\")","v":""}]
[{"$nulls":10},{"$f":"IF(ISNUMBER(SEARCH($A$3,L283)),MAX($K$1:K282)+1,0)","v":0},"Aryaman Financial Services Ltd","ARYAMAN.BO",{"$nulls":12},{"$f":"IFERROR(VLOOKUP(ROWS($Z$2:Z283),K283:$L$6000,2,0),\"\")","v":""},{"$f":"IFERROR(VLOOKUP(ROWS($AA$2:AA283),K283:$M$6000,3,0),\"\")","v":""}]
[{"$nulls":10},{"$f":"IF(ISNUMBER(SEARCH($A$3,L284)),MAX($K$1:K283)+1,0)","v":0},"Asahi India Glass Ltd","ASAHI.BO",{"$nulls":12},{"$f":"IFERROR(VLOOKUP(ROWS($Z$2:Z284),K284:$L$6000,2,0),\"\")","v":""},{"$f":"IFERROR(VLOOKUP(ROWS($AA$2:AA284),K284:$M$6000,3,0),\"\")","v":""}]
[{"$nulls":10},{"$f":"IF(ISNUMBER(SEARCH($A$3,L285)),MAX($K$1:K284)+1,0)","v":0},"Asahi India Glass Ltd","ASAHIINDI.NS",{"$nulls":12},{"$f":"IFERROR(VLOOKUP(ROWS($Z$2:Z285),K285:$L$6000,2,0),\"\")","v":""},{"$f":"IFERROR(VLOOKUP(ROWS($AA$2:AA285),K285:$M$6000,3,0),\"\")","v":""}]
[{"$nulls":10},{"$f":"IF(ISNUMBER(SEARCH($A$3,L286)),MAX($K$1:K285)+1,0)","v":0},"Asahi Industries Ltd","ASHIFIR.BO",{"$nulls":12},{"$f":"IFERROR(VLOOKUP(ROWS($Z$2:Z286),K286:$L$6000,2,0),\"\")","v":""},{"$f":"IFERROR(VLOOKUP(ROWS($AA$2:AA286),K286:$M$6000,3,0),\"\")","v":""}]
[{"$nulls":10},{"$f":"IF(ISNUMBER(SEARCH($A$3,L287)),MAX($K$1:K286)+1,0)","v":0},"Asahi Infrastructure and","ASAHINFRA.BO",{"$nulls":12},{"$f":"IFERROR(VLOOKUP(ROWS($Z$2:Z287),K287:$L$6000,2,0),\"\")","v":""},{"$f":"IFERROR(VLOOKUP(ROWS($AA$2:AA287),K287:$M$6000,3,0),\"\")","v":""}]
[{"$nulls":10},{"$f":"IF(ISNUMBER(SEARCH($A$3,L288)),MAX($K$1:K287)+1,0)","v":0},"Asahi Songwon Colors Ltd","ASCL.BO",{"$nulls":12},{"$f":"IFERROR(VLOOKUP(ROWS($Z$2:Z288),K288:$L$6000,2,0),\"\")","v":""},{"$f":"IFERROR(VLOOKUP(ROWS($AA$2:AA288),K288:$M$6000,3,0),\"\")","v":""}]
[{"$nulls":10},{"$f":"IF(ISNUMBER(SEARCH($A$3,L289)),MAX($K$1:K288)+1,0)","v":0},"Ashiana Agro Industries Ltd","ASHAI.BO",{"$nulls":12},{"$f":"IFERROR(VLOOKUP(ROWS($Z$2:Z289),K289:$L$6000,2,0),\"\")","v":""},{"$f":"IFERROR(VLOOKUP(ROWS($AA$2:AA289),K289:$M$6000,3,0),\"\")","v":""}]
[{"$nulls":10},{"$f":"IF(ISNUMBER(SEARCH($A$3,L290)),MAX($K$1:K289)+1,0)","v":0},"Ashiana Ispat Ltd","ASHIS.BO",{"$nulls":12},{"$f":"IFERROR(VLOOKUP(ROWS($Z$2:Z290),K290:$L$6000,2,0),\"\")","v":""},{"$f":"IFERROR(VLOOKUP(ROWS($AA$2:AA290),K290:$M$6000,3,0),\"\")","v":""}]
[{"$nulls":10},{"$f":"IF(ISNUMBER(SEARCH($A$3,L291)),MAX($K$1:K290)+1,0)","v":0},"Ashima Ltd","ASHIMA.BO",{"$nulls":12},{"$f":"IFERROR(VLOOKUP(ROWS($Z$2:Z291),K291:$L$6000,2,0),\"\")","v":""},{"$f":"IFERROR(VLOOKUP(ROWS($AA$2:AA291),K291:$M$6000,3,0),\"\")","v":""}]
[{"$nulls":10},{"$f":"IF(ISNUMBER(SEARCH($A$3,L292)),MAX($K$1:K291)+1,0)","v":0},"Ashima Ltd","ASHIMASYN.NS",{"$nulls":12},{"$f":"IFERROR(VLOOKUP(ROWS($Z$2:Z292),K292:$L$6000,2,0),\"\")","v":""},{"$f":"IFERROR(VLOOKUP(ROWS($AA$2:AA292),K292:$M$6000,3,0),\"\")","v":""}]
[{"$nulls":10},{"$f":"IF(ISNUMBER(SEARCH($A$3,L293)),MAX($K$1:K292)+1,0)","v":0},"Ashirwad Capital Ltd","ASHCAP.BO",{"$nulls":12},{"$f":"IFERROR(VLOOKUP(ROWS($Z$2:Z293),K293:$L$6000,2,0),\"\")","v":""},{"$f":"IFERROR(VLOOKUP(ROWS($AA$2:AA293),K293:$M$6000,3,0),\"\")","v":""}]
[{"$nulls":10},{"$f":"IF(ISNUMBER(SEARCH($A$3,L294)),MAX($K$1:K293)+1,0)","v":0},"Ashirwad Steels & Indus","ASHSI.BO",{"$nulls":12},{"$f":"IFERROR(VLOOKUP(ROWS($Z$2:Z294),K294:$L$6000,2,0),\"\")","v":""},{"$f":"IFERROR(VLOOKUP(ROWS($AA$2:AA294),K294:$M$6000,3,0),\"\")","v":""}]
[{"$nulls":10},{"$f":"IF(ISNUMBER(SEARCH($A$3,L295)),MAX($K$1:K294)+1,0)","v":0},"Ashish Polyplast Ltd","ASHISHPO.BO",{"$nulls":12},{"$f":"IFERROR(VLOOKUP(ROWS($Z$2:Z295),K295:$L$6000,2,0),\"\")","v":""},{"$f":"IFERROR(VLOOKUP(ROWS($AA$2:AA295),K295:$M$6000,3,0),\"\")","v":""}]
[{"$nulls":10},{"$f":"IF(ISNUMBER(SEARCH($A$3,L296)),MAX($K$1:K295)+1,0)","v":0},"Ashnoor Textile Mills Ltd","ASHNOOR.BO",{"$nulls":12},{"$f":"IFERROR(VLOOKUP(ROWS($Z$2:Z296),K296:$L$6000,2,0),\"\")","v":""},{"$f":"IFERROR(VLOOKUP(ROWS($AA$2:AA296),K296:$M$6000,3,0),\"\")","v":""}]
[{"$nulls":10},{"$f":"IF(ISNUMBER(SEARCH($A$3,L297)),MAX($K$1:K296)+1,0)","v":0},"Ashok Alcochem Ltd","ASHOKALC.BO",{"$nulls":12},{"$f":"IFERROR(VLOOKUP(ROWS($Z$2:Z297),K297:$L$6000,2,0),\"\")","v":""},{"$f":"IFERROR(VLOOKUP(ROWS($AA$2:AA297),K297:$M$6000,3,0),\"\")","v":""}]
[{"$nulls":10},{"$f":"IF(ISNUMBER(SEARCH($A$3,L298)),MAX($K$1:K297)+1,0)","v":0},"Ashok Leyland","ASHOKLEY.BO",{"$nulls":12},{"$f":"IFERROR(VLOOKUP(ROWS($Z$2:Z298),K298:$L$6000,2,0),\"\")","v":""},{"$f":"IFERROR(VLOOKUP(ROWS($AA$2:AA298),K298:$M$6000,3,0),\"\")","v":""}]
[{"$nulls":10},{"$f":"IF(ISNUMBER(SEARCH($A$3,L299)),MAX($K$1:K298)+1,0)","v":0},"Ashok Leyland","ASHOKLEY.NS",{"$nulls":12},{"$f":"IFERROR(VLOOKUP(ROWS($Z$2:Z299),K299:$L$6000,2,0),\"\")","v":""},{"$f":"IFERROR(VLOOKUP(ROWS($AA$2:AA299),K299:$M$6000,3,0),\"\")","v":""}]
[{"$nulls":10},{"$f":"IF(ISNUMBER(SEARCH($A$3,L300)),MAX($K$1:K299)+1,0)","v":0},"Ashram Onlinecom Ltd","ASHRAM.BO",{"$nulls":12},{"$f":"IFERROR(VLOOKUP(ROWS($Z$2:Z300),K300:$L$6000,2,0),\"\")","v":""},{"$f":"IFERROR(VLOOKUP(ROWS($AA$2:AA300),K300:$M$6000,3,0),\"\")","v":""}]
[{"$nulls":10},{"$f":"IF(ISNUMBER(SEARCH($A$3,L301)),MAX($K$1:K300)+1,0)","v":0},"Ashutosh Paper Mills Ltd","ASHUTPM.BO",{"$nulls":12},{"$f":"IFERROR(VLOOKUP(ROWS($Z$2:Z301),K301:$L$6000,2,0),\"\")","v":""},{"$f":"IFERROR(VLOOKUP(ROWS($AA$2:AA301),K301:$M$6000,3,0),\"\")","v":""}]
[{"$nulls":10},{"$f":"IF(ISNUMBER(SEARCH($A$3,L302)),MAX($K$1:K301)+1,0)","v":0},"Asian Electronics Ltd","ASIANEL.BO",{"$nulls":12},{"$f":"IFERROR(VLOOKUP(ROWS($Z$2:Z302),K302:$L$6000,2,0),\"\")","v":""},{"$f":"IFERROR(VLOOKUP(ROWS($AA$2:AA302),K302:$M$6000,3,0),\"\")","v":""}]
[{"$nulls":10},{"$f":"IF(ISNUMBER(SEARCH($A$3,L303)),MAX($K$1:K302)+1,0)","v":0},"Asian Granito India Ltd","ASIANTILES.BO",{"$nulls":12},{"$f":"IFERROR(VLOOKUP(ROWS($Z$2:Z303),K303:$L$6000,2,0),\"\")","v":""},{"$f":"IFERROR(VLOOKUP(ROWS($AA$2:AA303),K303:$M$6000,3,0),\"\")","v":""}]
[{"$nulls":10},{"$f":"IF(ISNUMBER(SEARCH($A$3,L304)),MAX($K$1:K303)+1,0)","v":0},"Asian Granito India Ltd","ASIANTILE.NS",{"$nulls":12},{"$f":"IFERROR(VLOOKUP(ROWS($Z$2:Z304),K304:$L$6000,2,0),\"\")","v":""},{"$f":"IFERROR(VLOOKUP(ROWS($AA$2:AA304),K304:$M$6000,3,0),\"\")","v":""}]
[{"$nulls":10},{"$f":"IF(ISNUMBER(SEARCH($A$3,L305)),MAX($K$1:K304)+1,0)","v":0},"Asian Hotels (East) Ltd","ASIANHTLE.BO",{"$nulls":12},{"$f":"IFERROR(VLOOKUP(ROWS($Z$2:Z305),K305:$L$6000,2,0),\"\")","v":""},{"$f":"IFERROR(VLOOKUP(ROWS($AA$2:AA305),K305:$M$6000,3,0),\"\")","v":""}]
[{"$nulls":10},{"$f":"IF(ISNUMBER(SEARCH($A$3,L306)),MAX($K$1:K305)+1,0)","v":0},"Asian Hotels (North) Ltd","ASIANHOTN.NS",{"$nulls":12},{"$f":"IFERROR(VLOOKUP(ROWS($Z$2:Z306),K306:$L$6000,2,0),\"\")","v":""},{"$f":"IFERROR(VLOOKUP(ROWS($AA$2:AA306),K306:$M$6000,3,0),\"\")","v":""}]
[{"$nulls":10},{"$f":"IF(ISNUMBER(SEARCH($A$3,L307)),MAX($K$1:K306)+1,0)","v":0},"Asian Hotels (West) Ltd","ASIANHTLW.BO",{"$nulls":12},{"$f":"IFERROR(VLOOKUP(ROWS($Z$2:Z307),K307:$L$6000,2,0),\"\")","v":""},{"$f":"IFERROR(VLOOKUP(ROWS($AA$2:AA307),K307:$M$6000,3,0),\"\")","v":""}]
[{"$nulls":10},{"$f":"IF(ISNUMBER(SEARCH($A$3,L308)),MAX($K$1:K307)+1,0)","v":0},"Asian Oilfield Services Ltd","ASIANOI.BO",{"$nulls":12},{"$f":"IFERROR(VLOOKUP(ROWS($Z$2:Z308),K308:$L$6000,2,0),\"\")","v":""},{"$f":"IFERROR(VLOOKUP(ROWS($AA$2:AA308),K308:$M$6000,3,0),\"\")","v":""}]
[{"$nulls":10},{"$f":"IF(ISNUMBER(SEARCH($A$3,L309)),MAX($K$1:K308)+1,0)","v":0},"Asian Petroproducts","ASINPET.BO",{"$nulls":12},{"$f":"IFERROR(VLOOKUP(ROWS($Z$2:Z309),K309:$L$6000,2,0),\"\")","v":""},{"$f":"IFERROR(VLOOKUP(ROWS($AA$2:AA309),K309:$M$6000,3,0),\"\")","v":""}]
[{"$nulls":10},{"$f":"IF(ISNUMBER(SEARCH($A$3,L310)),MAX($K$1:K309)+1,0)","v":0},"Asian Star Co Ltd","ASTAR.BO",{"$nulls":12},{"$f":"IFERROR(VLOOKUP(ROWS($Z$2:Z310),K310:$L$6000,2,0),\"\")","v":""},{"$f":"IFERROR(VLOOKUP(ROWS($AA$2:AA310),K310:$M$6000,3,0),\"\")","v":""}]
[{"$nulls":10},{"$f":"IF(ISNUMBER(SEARCH($A$3,L311)),MAX($K$1:K310)+1,0)","v":0},"Asian Tea & Exports Ltd","ASIANTNE.BO",{"$nulls":12},{"$f":"IFERROR(VLOOKUP(ROWS($Z$2:Z311),K311:$L$6000,2,0),\"\")","v":""},{"$f":"IFERROR(VLOOKUP(ROWS($AA$2:AA311),K311:$M$6000,3,0),\"\")","v":""}]
[{"$nulls":10},{"$f":"IF(ISNUMBER(SEARCH($A$3,L312)),MAX($K$1:K311)+1,0)","v":0},"Asis Logistics Ltd","ZPARANLT.BO",{"$nulls":12},{"$f":"IFERROR(VLOOKUP(ROWS($Z$2:Z312),K312:$L$6000,2,0),\"\")","v":""},{"$f":"IFERROR(VLOOKUP(ROWS($AA$2:AA312),K312:$M$6000,3,0),\"\")","v":""}]
[{"$nulls":10},{"$f":"IF(ISNUMBER(SEARCH($A$3,L313)),MAX($K$1:K312)+1,0)","v":0},"Asit C Mehta Financial","ASITCFIN.BO",{"$nulls":12},{"$f":"IFERROR(VLOOKUP(ROWS($Z$2:Z313),K313:$L$6000,2,0),\"\")","v":""},{"$f":"IFERROR(VLOOKUP(ROWS($AA$2:AA313),K313:$M$6000,3,0),\"\")","v":""}]
[{"$nulls":10},{"$f":"IF(ISNUMBER(SEARCH($A$3,L314)),MAX($K$1:K313)+1,0)","v":0},"ASM Technologies Ltd","ASMTEC.BO",{"$nulls":12},{"$f":"IFERROR(VLOOKUP(ROWS($Z$2:Z314),K314:$L$6000,2,0),\"\")","v":""},{"$f":"IFERROR(VLOOKUP(ROWS($AA$2:AA314),K314:$M$6000,3,0),\"\")","v":""}]
[{"$nulls":10},{"$f":"IF(ISNUMBER(SEARCH($A$3,L315)),MAX($K$1:K314)+1,0)","v":0},"Assam Co India Ltd","ASSAMCO.BO",{"$nulls":12},{"$f":"IFERROR(VLOOKUP(ROWS($Z$2:Z315),K315:$L$6000,2,0),\"\")","v":""},{"$f":"IFERROR(VLOOKUP(ROWS($AA$2:AA315),K315:$M$6000,3,0),\"\")","v":""}]
[{"$nulls":10},{"$f":"IF(ISNUMBER(SEARCH($A$3,L316)),MAX($K$1:K315)+1,0)","v":0},"Assam Co India Ltd","ASSAMCO.NS",{"$nulls":12},{"$f":"IFERROR(VLOOKUP(ROWS($Z$2:Z316),K316:$L$6000,2,0),\"\")","v":""},{"$f":"IFERROR(VLOOKUP(ROWS($AA$2:AA316),K316:$M$6000,3,0),\"\")","v":""}]
[{"$nulls":10},{"$f":"IF(ISNUMBER(SEARCH($A$3,L317)),MAX($K$1:K316)+1,0)","v":0},"Associated Alcohols & Bre","ASALCBR.BO",{"$nulls":12},{"$f":"IFERROR(VLOOKUP(ROWS($Z$2:Z317),K317:$L$6000,2,0),\"\")","v":""},{"$f":"IFERROR(VLOOKUP(ROWS($AA$2:AA317),K317:$M$6000,3,0),\"\")","v":""}]
[{"$nulls":10},{"$f":"IF(ISNUMBER(SEARCH($A$3,L318)),MAX($K$1:K317)+1,0)","v":0},"Associated Profiles","HINDALUMI.BO",{"$nulls":12},{"$f":"IFERROR(VLOOKUP(ROWS($Z$2:Z318),K318:$L$6000,2,0),\"\")","v":""},{"$f":"IFERROR(VLOOKUP(ROWS($AA$2:AA318),K318:$M$6000,3,0),\"\")","v":""}]
[{"$nulls":10},{"$f":"IF(ISNUMBER(SEARCH($A$3,L319)),MAX($K$1:K318)+1,0)","v":0},"Associated Stone Industri","ASSOSTNB.BO",{"$nulls":12},{"$f":"IFERROR(VLOOKUP(ROWS($Z$2:Z319),K319:$L$6000,2,0),\"\")","v":""},{"$f":"IFERROR(VLOOKUP(ROWS($AA$2:AA319),K319:$M$6000,3,0),\"\")","v":""}]
[{"$nulls":10},{"$f":"IF(ISNUMBER(SEARCH($A$3,L320)),MAX($K$1:K319)+1,0)","v":0},"Astec Lifesciences Ltd","ASTEC.BO",{"$nulls":12},{"$f":"IFERROR(VLOOKUP(ROWS($Z$2:Z320),K320:$L$6000,2,0),\"\")","v":""},{"$f":"IFERROR(VLOOKUP(ROWS($AA$2:AA320),K320:$M$6000,3,0),\"\")","v":""}]
[{"$nulls":10},{"$f":"IF(ISNUMBER(SEARCH($A$3,L321)),MAX($K$1:K320)+1,0)","v":0},"Astec Lifesciences Ltd","ASTEC.NS",{"$nulls":12},{"$f":"IFERROR(VLOOKUP(ROWS($Z$2:Z321),K321:$L$6000,2,0),\"\")","v":""},{"$f":"IFERROR(VLOOKUP(ROWS($AA$2:AA321),K321:$M$6000,3,0),\"\")","v":""}]
[{"$nulls":10},{"$f":"IF(ISNUMBER(SEARCH($A$3,L322)),MAX($K$1:K321)+1,0)","v":0},"Astra Microwave Products Ltd","ASTRAMIC.BO",{"$nulls":12},{"$f":"IFERROR(VLOOKUP(ROWS($Z$2:Z322),K322:$L$6000,2,0),\"\")","v":""},{"$f":"IFERROR(VLOOKUP(ROWS($AA$2:AA322),K322:$M$6000,3,0),\"\")","v":""}]
[{"$nulls":10},{"$f":"IF(ISNUMBER(SEARCH($A$3,L323)),MAX($K$1:K322)+1,0)","v":0},"Astra Microwave Products Ltd","ASTRAMICR.NS",{"$nulls":12},{"$f":"IFERROR(VLOOKUP(ROWS($Z$2:Z323),K323:$L$6000,2,0),\"\")","v":""},{"$f":"IFERROR(VLOOKUP(ROWS($AA$2:AA323),K323:$M$6000,3,0),\"\")","v":""}]
[{"$nulls":10},{"$f":"IF(ISNUMBER(SEARCH($A$3,L324)),MAX($K$1:K323)+1,0)","v":0},"AstraZeneca Pharma India Ltd","ASTRAZEN.BO",{"$nulls":12},{"$f":"IFERROR(VLOOKUP(ROWS($Z$2:Z324),K324:$L$6000,2,0),\"\")","v":""},{"$f":"IFERROR(VLOOKUP(ROWS($AA$2:AA324),K324:$M$6000,3,0),\"\")","v":""}]
[{"$nulls":10},{"$f":"IF(ISNUMBER(SEARCH($A$3,L325)),MAX($K$1:K324)+1,0)","v":0},"AstraZeneca Pharma India Ltd","ASTRAZEN.NS",{"$nulls":12},{"$f":"IFERROR(VLOOKUP(ROWS($Z$2:Z325),K325:$L$6000,2,0),\"\")","v":""},{"$f":"IFERROR(VLOOKUP(ROWS($AA$2:AA325),K325:$M$6000,3,0),\"\")","v":""}]
[{"$nulls":10},{"$f":"IF(ISNUMBER(SEARCH($A$3,L326)),MAX($K$1:K325)+1,0)","v":0},"ASYA Infosoft Ltd","SAYAHOU.BO",{"$nulls":12},{"$f":"IFERROR(VLOOKUP(ROWS($Z$2:Z326),K326:$L$6000,2,0),\"\")","v":""},{"$f":"IFERROR(VLOOKUP(ROWS($AA$2:AA326),K326:$M$6000,3,0),\"\")","v":""}]
[{"$nulls":10},{"$f":"IF(ISNUMBER(SEARCH($A$3,L327)),MAX($K$1:K326)+1,0)","v":0},"Atharv Enterprises Limited","ATHARVENT.BO",{"$nulls":12},{"$f":"IFERROR(VLOOKUP(ROWS($Z$2:Z327),K327:$L$6000,2,0),\"\")","v":""},{"$f":"IFERROR(VLOOKUP(ROWS($AA$2:AA327),K327:$M$6000,3,0),\"\")","v":""}]
[{"$nulls":10},{"$f":"IF(ISNUMBER(SEARCH($A$3,L328)),MAX($K$1:K327)+1,0)","v":0},"Atlanta Devcon Ltd","SEAXGLOB.BO",{"$nulls":12},{"$f":"IFERROR(VLOOKUP(ROWS($Z$2:Z328),K328:$L$6000,2,0),\"\")","v":""},{"$f":"IFERROR(VLOOKUP(ROWS($AA$2:AA328),K328:$M$6000,3,0),\"\")","v":""}]
[{"$nulls":10},{"$f":"IF(ISNUMBER(SEARCH($A$3,L329)),MAX($K$1:K328)+1,0)","v":0},"Atlanta Infrastructure","KADVANI.BO",{"$nulls":12},{"$f":"IFERROR(VLOOKUP(ROWS($Z$2:Z329),K329:$L$6000,2,0),\"\")","v":""},{"$f":"IFERROR(VLOOKUP(ROWS($AA$2:AA329),K329:$M$6000,3,0),\"\")","v":""}]
[{"$nulls":10},{"$f":"IF(ISNUMBER(SEARCH($A$3,L330)),MAX($K$1:K329)+1,0)","v":0},"Atlanta Ltd","ATLANTA.BO",{"$nulls":12},{"$f":"IFERROR(VLOOKUP(ROWS($Z$2:Z330),K330:$L$6000,2,0),\"\")","v":""},{"$f":"IFERROR(VLOOKUP(ROWS($AA$2:AA330),K330:$M$6000,3,0),\"\")","v":""}]
[{"$nulls":10},{"$f":"IF(ISNUMBER(SEARCH($A$3,L331)),MAX($K$1:K330)+1,0)","v":0},"Atlas Cycles (Haryana) Ltd","ATLAS.BO",{"$nulls":12},{"$f":"IFERROR(VLOOKUP(ROWS($Z$2:Z331),K331:$L$6000,2,0),\"\")","v":""},{"$f":"IFERROR(VLOOKUP(ROWS($AA$2:AA331),K331:$M$6000,3,0),\"\")","v":""}]
[{"$nulls":10},{"$f":"IF(ISNUMBER(SEARCH($A$3,L332)),MAX($K$1:K331)+1,0)","v":0},"Atlas Cycles (Haryana) Ltd","ATLASCYCL.NS",{"$nulls":12},{"$f":"IFERROR(VLOOKUP(ROWS($Z$2:Z332),K332:$L$6000,2,0),\"\")","v":""},{"$f":"IFERROR(VLOOKUP(ROWS($AA$2:AA332),K332:$M$6000,3,0),\"\")","v":""}]
[{"$nulls":10},{"$f":"IF(ISNUMBER(SEARCH($A$3,L333)),MAX($K$1:K332)+1,0)","v":0},"ATN International Ltd","ATN.BO",{"$nulls":12},{"$f":"IFERROR(VLOOKUP(ROWS($Z$2:Z333),K333:$L$6000,2,0),\"\")","v":""},{"$f":"IFERROR(VLOOKUP(ROWS($AA$2:AA333),K333:$M$6000,3,0),\"\")","v":""}]
[{"$nulls":10},{"$f":"IF(ISNUMBER(SEARCH($A$3,L334)),MAX($K$1:K333)+1,0)","v":0},"ATN International Ltd","ATNINTER.NS",{"$nulls":12},{"$f":"IFERROR(VLOOKUP(ROWS($Z$2:Z334),K334:$L$6000,2,0),\"\")","v":""},{"$f":"IFERROR(VLOOKUP(ROWS($AA$2:AA334),K334:$M$6000,3,0),\"\")","v":""}]
[{"$nulls":10},{"$f":"IF(ISNUMBER(SEARCH($A$3,L335)),MAX($K$1:K334)+1,0)","v":0},"Atul Auto Ltd","ATULAUTO.BO",{"$nulls":12},{"$f":"IFERROR(VLOOKUP(ROWS($Z$2:Z335),K335:$L$6000,2,0),\"\")","v":""},{"$f":"IFERROR(VLOOKUP(ROWS($AA$2:AA335),K335:$M$6000,3,0),\"\")","v":""}]
[{"$nulls":10},{"$f":"IF(ISNUMBER(SEARCH($A$3,L336)),MAX($K$1:K335)+1,0)","v":0},"Atul Ltd","ATULLTD.BO",{"$nulls":12},{"$f":"IFERROR(VLOOKUP(ROWS($Z$2:Z336),K336:$L$6000,2,0),\"\")","v":""},{"$f":"IFERROR(VLOOKUP(ROWS($AA$2:AA336),K336:$M$6000,3,0),\"\")","v":""}]
[{"$nulls":10},{"$f":"IF(ISNUMBER(SEARCH($A$3,L337)),MAX($K$1:K336)+1,0)","v":0},"Atul Ltd","ATUL.NS",{"$nulls":12},{"$f":"IFERROR(VLOOKUP(ROWS($Z$2:Z337),K337:$L$6000,2,0),\"\")","v":""},{"$f":"IFERROR(VLOOKUP(ROWS($AA$2:AA337),K337:$M$6000,3,0),\"\")","v":""}]
[{"$nulls":10},{"$f":"IF(ISNUMBER(SEARCH($A$3,L338)),MAX($K$1:K337)+1,0)","v":0},"ATV Projects India Ltd","ATVPR.BO",{"$nulls":12},{"$f":"IFERROR(VLOOKUP(ROWS($Z$2:Z338),K338:$L$6000,2,0),\"\")","v":""},{"$f":"IFERROR(VLOOKUP(ROWS($AA$2:AA338),K338:$M$6000,3,0),\"\")","v":""}]
[{"$nulls":10},{"$f":"IF(ISNUMBER(SEARCH($A$3,L339)),MAX($K$1:K338)+1,0)","v":0},"AUNDE India Ltd","AUNDEFAZE.BO",{"$nulls":12},{"$f":"IFERROR(VLOOKUP(ROWS($Z$2:Z339),K339:$L$6000,2,0),\"\")","v":""},{"$f":"IFERROR(VLOOKUP(ROWS($AA$2:AA339),K339:$M$6000,3,0),\"\")","v":""}]
[{"$nulls":10},{"$f":"IF(ISNUMBER(SEARCH($A$3,L340)),MAX($K$1:K339)+1,0)","v":0},"Aurangabad Paper Mills Ltd","AURANPAP.BO",{"$nulls":12},{"$f":"IFERROR(VLOOKUP(ROWS($Z$2:Z340),K340:$L$6000,2,0),\"\")","v":""},{"$f":"IFERROR(VLOOKUP(ROWS($AA$2:AA340),K340:$M$6000,3,0),\"\")","v":""}]
[{"$nulls":10},{"$f":"IF(ISNUMBER(SEARCH($A$3,L341)),MAX($K$1:K340)+1,0)","v":0},"Aurionpro Solutions Ltd","AURIONPRO.BO",{"$nulls":12},{"$f":"IFERROR(VLOOKUP(ROWS($Z$2:Z341),K341:$L$6000,2,0),\"\")","v":""},{"$f":"IFERROR(VLOOKUP(ROWS($AA$2:AA341),K341:$M$6000,3,0),\"\")","v":""}]
[{"$nulls":10},{"$f":"IF(ISNUMBER(SEARCH($A$3,L342)),MAX($K$1:K341)+1,0)","v":0},"Aurionpro Solutions Ltd","AURIONPRO.NS",{"$nulls":12},{"$f":"IFERROR(VLOOKUP(ROWS($Z$2:Z342),K342:$L$6000,2,0),\"\")","v":""},{"$f":"IFERROR(VLOOKUP(ROWS($AA$2:AA342),K342:$M$6000,3,0),\"\")","v":""}]
[{"$nulls":10},{"$f":"IF(ISNUMBER(SEARCH($A$3,L343)),MAX($K$1:K342)+1,0)","v":0},"Auro Laboratories Ltd","AUROLAB.BO",{"$nulls":12},{"$f":"IFERROR(VLOOKUP(ROWS($Z$2:Z343),K343:$L$6000,2,0),\"\")","v":""},{"$f":"IFERROR(VLOOKUP(ROWS($AA$2:AA343),K343:$M$6000,3,0),\"\")","v":""}]
[{"$nulls":10},{"$f":"IF(ISNUMBER(SEARCH($A$3,L344)),MAX($K$1:K343)+1,0)","v":0},"Aurobindo Pharma Ltd","AUROBINDOP.BO",{"$nulls":12},{"$f":"IFERROR(VLOOKUP(ROWS($Z$2:Z344),K344:$L$6000,2,0),\"\")","v":""},{"$f":"IFERROR(VLOOKUP(ROWS($AA$2:AA344),K344:$M$6000,3,0),\"\")","v":""}]
[{"$nulls":10},{"$f":"IF(ISNUMBER(SEARCH($A$3,L345)),MAX($K$1:K344)+1,0)","v":0},"Aurum Soft Systems Ltd","JAISALSE.BO",{"$nulls":12},{"$f":"IFERROR(VLOOKUP(ROWS($Z$2:Z345),K345:$L$6000,2,0),\"\")","v":""},{"$f":"IFERROR(VLOOKUP(ROWS($AA$2:AA345),K345:$M$6000,3,0),\"\")","v":""}]
[{"$nulls":10},{"$f":"IF(ISNUMBER(SEARCH($A$3,L346)),MAX($K$1:K345)+1,0)","v":0},"Ausom Enterprise Ltd","AUSOMENT.BO",{"$nulls":12},{"$f":"IFERROR(VLOOKUP(ROWS($Z$2:Z346),K346:$L$6000,2,0),\"\")","v":""},{"$f":"IFERROR(VLOOKUP(ROWS($AA$2:AA346),K346:$M$6000,3,0),\"\")","v":""}]
[{"$nulls":10},{"$f":"IF(ISNUMBER(SEARCH($A$3,L347)),MAX($K$1:K346)+1,0)","v":0},"Austin Engineering Co Ltd","AUSTENG.BO",{"$nulls":12},{"$f":"IFERROR(VLOOKUP(ROWS($Z$2:Z347),K347:$L$6000,2,0),\"\")","v":""},{"$f":"IFERROR(VLOOKUP(ROWS($AA$2:AA347),K347:$M$6000,3,0),\"\")","v":""}]
[{"$nulls":10},{"$f":"IF(ISNUMBER(SEARCH($A$3,L348)),MAX($K$1:K347)+1,0)","v":0},"Autoline Industries Ltd","AUTOIND.BO",{"$nulls":12},{"$f":"IFERROR(VLOOKUP(ROWS($Z$2:Z348),K348:$L$6000,2,0),\"\")","v":""},{"$f":"IFERROR(VLOOKUP(ROWS($AA$2:AA348),K348:$M$6000,3,0),\"\")","v":""}]
[{"$nulls":10},{"$f":"IF(ISNUMBER(SEARCH($A$3,L349)),MAX($K$1:K348)+1,0)","v":0},"Autoline Industries Ltd","AUTOIND.NS",{"$nulls":12},{"$f":"IFERROR(VLOOKUP(ROWS($Z$2:Z349),K349:$L$6000,2,0),\"\")","v":""},{"$f":"IFERROR(VLOOKUP(ROWS($AA$2:AA349),K349:$M$6000,3,0),\"\")","v":""}]
[{"$nulls":10},{"$f":"IF(ISNUMBER(SEARCH($A$3,L350)),MAX($K$1:K349)+1,0)","v":0},"Autolite (India) Ltd","AUTOLITE.BO",{"$nulls":12},{"$f":"IFERROR(VLOOKUP(ROWS($Z$2:Z350),K350:$L$6000,2,0),\"\")","v":""},{"$f":"IFERROR(VLOOKUP(ROWS($AA$2:AA350),K350:$M$6000,3,0),\"\")","v":""}]
[{"$nulls":10},{"$f":"IF(ISNUMBER(SEARCH($A$3,L351)),MAX($K$1:K350)+1,0)","v":0},"Automobile Corp of GOA Ltd","ACGL.BO",{"$nulls":12},{"$f":"IFERROR(VLOOKUP(ROWS($Z$2:Z351),K351:$L$6000,2,0),\"\")","v":""},{"$f":"IFERROR(VLOOKUP(ROWS($AA$2:AA351),K351:$M$6000,3,0),\"\")","v":""}]
[{"$nulls":10},{"$f":"IF(ISNUMBER(SEARCH($A$3,L352)),MAX($K$1:K351)+1,0)","v":0},"Automotive Axles Ltd","AUTOAXLES.BO",{"$nulls":12},{"$f":"IFERROR(VLOOKUP(ROWS($Z$2:Z352),K352:$L$6000,2,0),\"\")","v":""},{"$f":"IFERROR(VLOOKUP(ROWS($AA$2:AA352),K352:$M$6000,3,0),\"\")","v":""}]
[{"$nulls":10},{"$f":"IF(ISNUMBER(SEARCH($A$3,L353)),MAX($K$1:K352)+1,0)","v":0},"Automotive Axles Ltd","AUTOAXLES.NS",{"$nulls":12},{"$f":"IFERROR(VLOOKUP(ROWS($Z$2:Z353),K353:$L$6000,2,0),\"\")","v":""},{"$f":"IFERROR(VLOOKUP(ROWS($AA$2:AA353),K353:$M$6000,3,0),\"\")","v":""}]
[{"$nulls":10},{"$f":"IF(ISNUMBER(SEARCH($A$3,L354)),MAX($K$1:K353)+1,0)","v":0},"Automotive Stampings","ASAL.BO",{"$nulls":12},{"$f":"IFERROR(VLOOKUP(ROWS($Z$2:Z354),K354:$L$6000,2,0),\"\")","v":""},{"$f":"IFERROR(VLOOKUP(ROWS($AA$2:AA354),K354:$M$6000,3,0),\"\")","v":""}]
[{"$nulls":10},{"$f":"IF(ISNUMBER(SEARCH($A$3,L355)),MAX($K$1:K354)+1,0)","v":0},"Automotive Stampings","ASAL.NS",{"$nulls":12},{"$f":"IFERROR(VLOOKUP(ROWS($Z$2:Z355),K355:$L$6000,2,0),\"\")","v":""},{"$f":"IFERROR(VLOOKUP(ROWS($AA$2:AA355),K355:$M$6000,3,0),\"\")","v":""}]
[{"$nulls":10},{"$f":"IF(ISNUMBER(SEARCH($A$3,L356)),MAX($K$1:K355)+1,0)","v":0},"Autoriders Finance Ltd","AUTORIDF.BO",{"$nulls":12},{"$f":"IFERROR(VLOOKUP(ROWS($Z$2:Z356),K356:$L$6000,2,0),\"\")","v":""},{"$f":"IFERROR(VLOOKUP(ROWS($AA$2:AA356),K356:$M$6000,3,0),\"\")","v":""}]
[{"$nulls":10},{"$f":"IF(ISNUMBER(SEARCH($A$3,L357)),MAX($K$1:K356)+1,0)","v":0},"Available Finance Ltd","AVAILFC.BO",{"$nulls":12},{"$f":"IFERROR(VLOOKUP(ROWS($Z$2:Z357),K357:$L$6000,2,0),\"\")","v":""},{"$f":"IFERROR(VLOOKUP(ROWS($AA$2:AA357),K357:$M$6000,3,0),\"\")","v":""}]
[{"$nulls":10},{"$f":"IF(ISNUMBER(SEARCH($A$3,L358)),MAX($K$1:K357)+1,0)","v":0},"Avance Technologies Ltd","AVANCE.BO",{"$nulls":12},{"$f":"IFERROR(VLOOKUP(ROWS($Z$2:Z358),K358:$L$6000,2,0),\"\")","v":""},{"$f":"IFERROR(VLOOKUP(ROWS($AA$2:AA358),K358:$M$6000,3,0),\"\")","v":""}]
[{"$nulls":10},{"$f":"IF(ISNUMBER(SEARCH($A$3,L359)),MAX($K$1:K358)+1,0)","v":0},"Avantel Ltd","AVANTEL.BO",{"$nulls":12},{"$f":"IFERROR(VLOOKUP(ROWS($Z$2:Z359),K359:$L$6000,2,0),\"\")","v":""},{"$f":"IFERROR(VLOOKUP(ROWS($AA$2:AA359),K359:$M$6000,3,0),\"\")","v":""}]
[{"$nulls":10},{"$f":"IF(ISNUMBER(SEARCH($A$3,L360)),MAX($K$1:K359)+1,0)","v":0},"Avanti Feeds Ltd","AVANTIFE.BO",{"$nulls":12},{"$f":"IFERROR(VLOOKUP(ROWS($Z$2:Z360),K360:$L$6000,2,0),\"\")","v":""},{"$f":"IFERROR(VLOOKUP(ROWS($AA$2:AA360),K360:$M$6000,3,0),\"\")","v":""}]
[{"$nulls":10},{"$f":"IF(ISNUMBER(SEARCH($A$3,L361)),MAX($K$1:K360)+1,0)","v":0},"Aviva Industries Ltd","AVIVA.BO",{"$nulls":12},{"$f":"IFERROR(VLOOKUP(ROWS($Z$2:Z361),K361:$L$6000,2,0),\"\")","v":""},{"$f":"IFERROR(VLOOKUP(ROWS($AA$2:AA361),K361:$M$6000,3,0),\"\")","v":""}]
[{"$nulls":10},{"$f":"IF(ISNUMBER(SEARCH($A$3,L362)),MAX($K$1:K361)+1,0)","v":0},"Avon Corp Ltd","AVONCORP.BO",{"$nulls":12},{"$f":"IFERROR(VLOOKUP(ROWS($Z$2:Z362),K362:$L$6000,2,0),\"\")","v":""},{"$f":"IFERROR(VLOOKUP(ROWS($AA$2:AA362),K362:$M$6000,3,0),\"\")","v":""}]
[{"$nulls":10},{"$f":"IF(ISNUMBER(SEARCH($A$3,L363)),MAX($K$1:K362)+1,0)","v":0},"Avon Organics Ltd","AVONORG.BO",{"$nulls":12},{"$f":"IFERROR(VLOOKUP(ROWS($Z$2:Z363),K363:$L$6000,2,0),\"\")","v":""},{"$f":"IFERROR(VLOOKUP(ROWS($AA$2:AA363),K363:$M$6000,3,0),\"\")","v":""}]
[{"$nulls":10},{"$f":"IF(ISNUMBER(SEARCH($A$3,L364)),MAX($K$1:K363)+1,0)","v":0},"Axel Polymers Ltd","AXELPOLY.BO",{"$nulls":12},{"$f":"IFERROR(VLOOKUP(ROWS($Z$2:Z364),K364:$L$6000,2,0),\"\")","v":""},{"$f":"IFERROR(VLOOKUP(ROWS($AA$2:AA364),K364:$M$6000,3,0),\"\")","v":""}]
[{"$nulls":10},{"$f":"IF(ISNUMBER(SEARCH($A$3,L365)),MAX($K$1:K364)+1,0)","v":0},"Axis Bank Ltd","AXISBANK.BO",{"$nulls":12},{"$f":"IFERROR(VLOOKUP(ROWS($Z$2:Z365),K365:$L$6000,2,0),\"\")","v":""},{"$f":"IFERROR(VLOOKUP(ROWS($AA$2:AA365),K365:$M$6000,3,0),\"\")","v":""}]
[{"$nulls":10},{"$f":"IF(ISNUMBER(SEARCH($A$3,L366)),MAX($K$1:K365)+1,0)","v":0},"Axis Bank Ltd","AXISBANK.NS",{"$nulls":12},{"$f":"IFERROR(VLOOKUP(ROWS($Z$2:Z366),K366:$L$6000,2,0),\"\")","v":""},{"$f":"IFERROR(VLOOKUP(ROWS($AA$2:AA366),K366:$M$6000,3,0),\"\")","v":""}]
[{"$nulls":10},{"$f":"IF(ISNUMBER(SEARCH($A$3,L367)),MAX($K$1:K366)+1,0)","v":0},"Axis Capital Markets (Ind","AXISCAP.BO",{"$nulls":12},{"$f":"IFERROR(VLOOKUP(ROWS($Z$2:Z367),K367:$L$6000,2,0),\"\")","v":""},{"$f":"IFERROR(VLOOKUP(ROWS($AA$2:AA367),K367:$M$6000,3,0),\"\")","v":""}]
[{"$nulls":10},{"$f":"IF(ISNUMBER(SEARCH($A$3,L368)),MAX($K$1:K367)+1,0)","v":0},"Axis-IT&T Ltd","AXISITNT.BO",{"$nulls":12},{"$f":"IFERROR(VLOOKUP(ROWS($Z$2:Z368),K368:$L$6000,2,0),\"\")","v":""},{"$f":"IFERROR(VLOOKUP(ROWS($AA$2:AA368),K368:$M$6000,3,0),\"\")","v":""}]
[{"$nulls":10},{"$f":"IF(ISNUMBER(SEARCH($A$3,L369)),MAX($K$1:K368)+1,0)","v":0},"Axon Finance Ltd","AXON.BO",{"$nulls":12},{"$f":"IFERROR(VLOOKUP(ROWS($Z$2:Z369),K369:$L$6000,2,0),\"\")","v":""},{"$f":"IFERROR(VLOOKUP(ROWS($AA$2:AA369),K369:$M$6000,3,0),\"\")","v":""}]
[{"$nulls":10},{"$f":"IF(ISNUMBER(SEARCH($A$3,L370)),MAX($K$1:K369)+1,0)","v":0},"Axtel Industries Ltd","AXTEL.BO",{"$nulls":12},{"$f":"IFERROR(VLOOKUP(ROWS($Z$2:Z370),K370:$L$6000,2,0),\"\")","v":""},{"$f":"IFERROR(VLOOKUP(ROWS($AA$2:AA370),K370:$M$6000,3,0),\"\")","v":""}]
[{"$nulls":10},{"$f":"IF(ISNUMBER(SEARCH($A$3,L371)),MAX($K$1:K370)+1,0)","v":0},"Azure Exim Services Ltd","HNCONTI.BO",{"$nulls":12},{"$f":"IFERROR(VLOOKUP(ROWS($Z$2:Z371),K371:$L$6000,2,0),\"\")","v":""},{"$f":"IFERROR(VLOOKUP(ROWS($AA$2:AA371),K371:$M$6000,3,0),\"\")","v":""}]
[{"$nulls":10},{"$f":"IF(ISNUMBER(SEARCH($A$3,L372)),MAX($K$1:K371)+1,0)","v":0},"B A G Films & Media Ltd","BAGFILMED.BO",{"$nulls":12},{"$f":"IFERROR(VLOOKUP(ROWS($Z$2:Z372),K372:$L$6000,2,0),\"\")","v":""},{"$f":"IFERROR(VLOOKUP(ROWS($AA$2:AA372),K372:$M$6000,3,0),\"\")","v":""}]
[{"$nulls":10},{"$f":"IF(ISNUMBER(SEARCH($A$3,L373)),MAX($K$1:K372)+1,0)","v":0},"B A G Films & Media Ltd","BAGFILMS.NS",{"$nulls":12},{"$f":"IFERROR(VLOOKUP(ROWS($Z$2:Z373),K373:$L$6000,2,0),\"\")","v":""},{"$f":"IFERROR(VLOOKUP(ROWS($AA$2:AA373),K373:$M$6000,3,0),\"\")","v":""}]
[{"$nulls":10},{"$f":"IF(ISNUMBER(SEARCH($A$3,L374)),MAX($K$1:K373)+1,0)","v":0},"B L Kashyap and Sons Ltd","BLKASHYAP.BO",{"$nulls":12},{"$f":"IFERROR(VLOOKUP(ROWS($Z$2:Z374),K374:$L$6000,2,0),\"\")","v":""},{"$f":"IFERROR(VLOOKUP(ROWS($AA$2:AA374),K374:$M$6000,3,0),\"\")","v":""}]
[{"$nulls":10},{"$f":"IF(ISNUMBER(SEARCH($A$3,L375)),MAX($K$1:K374)+1,0)","v":0},"B N Rathi Securities Ltd","BNRSEC.BO",{"$nulls":12},{"$f":"IFERROR(VLOOKUP(ROWS($Z$2:Z375),K375:$L$6000,2,0),\"\")","v":""},{"$f":"IFERROR(VLOOKUP(ROWS($AA$2:AA375),K375:$M$6000,3,0),\"\")","v":""}]
[{"$nulls":10},{"$f":"IF(ISNUMBER(SEARCH($A$3,L376)),MAX($K$1:K375)+1,0)","v":0},"B Nanji Enterprises Ltd","BNANJEN.BO",{"$nulls":12},{"$f":"IFERROR(VLOOKUP(ROWS($Z$2:Z376),K376:$L$6000,2,0),\"\")","v":""},{"$f":"IFERROR(VLOOKUP(ROWS($AA$2:AA376),K376:$M$6000,3,0),\"\")","v":""}]
[{"$nulls":10},{"$f":"IF(ISNUMBER(SEARCH($A$3,L377)),MAX($K$1:K376)+1,0)","v":0},"B&A Ltd","BNALTD.BO",{"$nulls":12},{"$f":"IFERROR(VLOOKUP(ROWS($Z$2:Z377),K377:$L$6000,2,0),\"\")","v":""},{"$f":"IFERROR(VLOOKUP(ROWS($AA$2:AA377),K377:$M$6000,3,0),\"\")","v":""}]
[{"$nulls":10},{"$f":"IF(ISNUMBER(SEARCH($A$3,L378)),MAX($K$1:K377)+1,0)","v":0},"B2B Software Technologies Ltd","B2BSOFT.BO",{"$nulls":12},{"$f":"IFERROR(VLOOKUP(ROWS($Z$2:Z378),K378:$L$6000,2,0),\"\")","v":""},{"$f":"IFERROR(VLOOKUP(ROWS($AA$2:AA378),K378:$M$6000,3,0),\"\")","v":""}]
[{"$nulls":10},{"$f":"IF(ISNUMBER(SEARCH($A$3,L379)),MAX($K$1:K378)+1,0)","v":0},"Baba Arts Ltd","BABA.BO",{"$nulls":12},{"$f":"IFERROR(VLOOKUP(ROWS($Z$2:Z379),K379:$L$6000,2,0),\"\")","v":""},{"$f":"IFERROR(VLOOKUP(ROWS($AA$2:AA379),K379:$M$6000,3,0),\"\")","v":""}]
[{"$nulls":10},{"$f":"IF(ISNUMBER(SEARCH($A$3,L380)),MAX($K$1:K379)+1,0)","v":0},"Bacil Pharma Ltd","BACPHAR.BO",{"$nulls":12},{"$f":"IFERROR(VLOOKUP(ROWS($Z$2:Z380),K380:$L$6000,2,0),\"\")","v":""},{"$f":"IFERROR(VLOOKUP(ROWS($AA$2:AA380),K380:$M$6000,3,0),\"\")","v":""}]
[{"$nulls":10},{"$f":"IF(ISNUMBER(SEARCH($A$3,L381)),MAX($K$1:K380)+1,0)","v":0},"Bafna Pharmaceuticals Ltd","BAFNAPHAR.BO",{"$nulls":12},{"$f":"IFERROR(VLOOKUP(ROWS($Z$2:Z381),K381:$L$6000,2,0),\"\")","v":""},{"$f":"IFERROR(VLOOKUP(ROWS($AA$2:AA381),K381:$M$6000,3,0),\"\")","v":""}]
[{"$nulls":10},{"$f":"IF(ISNUMBER(SEARCH($A$3,L382)),MAX($K$1:K381)+1,0)","v":0},"Bagadia Colourchem Ltd","BAGADIA.BO",{"$nulls":12},{"$f":"IFERROR(VLOOKUP(ROWS($Z$2:Z382),K382:$L$6000,2,0),\"\")","v":""},{"$f":"IFERROR(VLOOKUP(ROWS($AA$2:AA382),K382:$M$6000,3,0),\"\")","v":""}]
[{"$nulls":10},{"$f":"IF(ISNUMBER(SEARCH($A$3,L383)),MAX($K$1:K382)+1,0)","v":0},"Baid Leasing & Finance Co Ltd","BALFC.BO",{"$nulls":12},{"$f":"IFERROR(VLOOKUP(ROWS($Z$2:Z383),K383:$L$6000,2,0),\"\")","v":""},{"$f":"IFERROR(VLOOKUP(ROWS($AA$2:AA383),K383:$M$6000,3,0),\"\")","v":""}]
[{"$nulls":10},{"$f":"IF(ISNUMBER(SEARCH($A$3,L384)),MAX($K$1:K383)+1,0)","v":0},"Bajaj Auto Ltd","BAJAJAUT.BO",{"$nulls":12},{"$f":"IFERROR(VLOOKUP(ROWS($Z$2:Z384),K384:$L$6000,2,0),\"\")","v":""},{"$f":"IFERROR(VLOOKUP(ROWS($AA$2:AA384),K384:$M$6000,3,0),\"\")","v":""}]
[{"$nulls":10},{"$f":"IF(ISNUMBER(SEARCH($A$3,L385)),MAX($K$1:K384)+1,0)","v":0},"Bajaj Auto Ltd","BAJAJ-AUT.NS",{"$nulls":12},{"$f":"IFERROR(VLOOKUP(ROWS($Z$2:Z385),K385:$L$6000,2,0),\"\")","v":""},{"$f":"IFERROR(VLOOKUP(ROWS($AA$2:AA385),K385:$M$6000,3,0),\"\")","v":""}]
[{"$nulls":10},{"$f":"IF(ISNUMBER(SEARCH($A$3,L386)),MAX($K$1:K385)+1,0)","v":0},"Bajaj Corp Ltd","BAJAJCORP.BO",{"$nulls":12},{"$f":"IFERROR(VLOOKUP(ROWS($Z$2:Z386),K386:$L$6000,2,0),\"\")","v":""},{"$f":"IFERROR(VLOOKUP(ROWS($AA$2:AA386),K386:$M$6000,3,0),\"\")","v":""}]
[{"$nulls":10},{"$f":"IF(ISNUMBER(SEARCH($A$3,L387)),MAX($K$1:K386)+1,0)","v":0},"Bajaj Electricals Ltd","BAJAJELE.BO",{"$nulls":12},{"$f":"IFERROR(VLOOKUP(ROWS($Z$2:Z387),K387:$L$6000,2,0),\"\")","v":""},{"$f":"IFERROR(VLOOKUP(ROWS($AA$2:AA387),K387:$M$6000,3,0),\"\")","v":""}]
[{"$nulls":10},{"$f":"IF(ISNUMBER(SEARCH($A$3,L388)),MAX($K$1:K387)+1,0)","v":0},"Bajaj Electricals Ltd","BAJAJELEC.NS",{"$nulls":12},{"$f":"IFERROR(VLOOKUP(ROWS($Z$2:Z388),K388:$L$6000,2,0),\"\")","v":""},{"$f":"IFERROR(VLOOKUP(ROWS($AA$2:AA388),K388:$M$6000,3,0),\"\")","v":""}]
[{"$nulls":10},{"$f":"IF(ISNUMBER(SEARCH($A$3,L389)),MAX($K$1:K388)+1,0)","v":0},"Bajaj Finance Ltd","BAJAUTOFIN.BO",{"$nulls":12},{"$f":"IFERROR(VLOOKUP(ROWS($Z$2:Z389),K389:$L$6000,2,0),\"\")","v":""},{"$f":"IFERROR(VLOOKUP(ROWS($AA$2:AA389),K389:$M$6000,3,0),\"\")","v":""}]
[{"$nulls":10},{"$f":"IF(ISNUMBER(SEARCH($A$3,L390)),MAX($K$1:K389)+1,0)","v":0},"Bajaj Finance Ltd","BAJAUTOFI.NS",{"$nulls":12},{"$f":"IFERROR(VLOOKUP(ROWS($Z$2:Z390),K390:$L$6000,2,0),\"\")","v":""},{"$f":"IFERROR(VLOOKUP(ROWS($AA$2:AA390),K390:$M$6000,3,0),\"\")","v":""}]
[{"$nulls":10},{"$f":"IF(ISNUMBER(SEARCH($A$3,L391)),MAX($K$1:K390)+1,0)","v":0},"Bajaj Finserv Ltd","BAJAJFINS.BO",{"$nulls":12},{"$f":"IFERROR(VLOOKUP(ROWS($Z$2:Z391),K391:$L$6000,2,0),\"\")","v":""},{"$f":"IFERROR(VLOOKUP(ROWS($AA$2:AA391),K391:$M$6000,3,0),\"\")","v":""}]
[{"$nulls":10},{"$f":"IF(ISNUMBER(SEARCH($A$3,L392)),MAX($K$1:K391)+1,0)","v":0},"Bajaj Finserv Ltd","BAJAJFINSV.NS",{"$nulls":12},{"$f":"IFERROR(VLOOKUP(ROWS($Z$2:Z392),K392:$L$6000,2,0),\"\")","v":""},{"$f":"IFERROR(VLOOKUP(ROWS($AA$2:AA392),K392:$M$6000,3,0),\"\")","v":""}]
[{"$nulls":10},{"$f":"IF(ISNUMBER(SEARCH($A$3,L393)),MAX($K$1:K392)+1,0)","v":0},"Bajaj Hindusthan Ltd","BAJAJHIND.BO",{"$nulls":12},{"$f":"IFERROR(VLOOKUP(ROWS($Z$2:Z393),K393:$L$6000,2,0),\"\")","v":""},{"$f":"IFERROR(VLOOKUP(ROWS($AA$2:AA393),K393:$M$6000,3,0),\"\")","v":""}]
[{"$nulls":10},{"$f":"IF(ISNUMBER(SEARCH($A$3,L394)),MAX($K$1:K393)+1,0)","v":0},"Bajaj Hindusthan Ltd","BAJAJHIND.NS",{"$nulls":12},{"$f":"IFERROR(VLOOKUP(ROWS($Z$2:Z394),K394:$L$6000,2,0),\"\")","v":""},{"$f":"IFERROR(VLOOKUP(ROWS($AA$2:AA394),K394:$M$6000,3,0),\"\")","v":""}]
[{"$nulls":10},{"$f":"IF(ISNUMBER(SEARCH($A$3,L395)),MAX($K$1:K394)+1,0)","v":0},"Bajaj Holdings","BAJAJHOIN.BO",{"$nulls":12},{"$f":"IFERROR(VLOOKUP(ROWS($Z$2:Z395),K395:$L$6000,2,0),\"\")","v":""},{"$f":"IFERROR(VLOOKUP(ROWS($AA$2:AA395),K395:$M$6000,3,0),\"\")","v":""}]
[{"$nulls":10},{"$f":"IF(ISNUMBER(SEARCH($A$3,L396)),MAX($K$1:K395)+1,0)","v":0},"Bajaj Holdings","BAJAJHLDN.NS",{"$nulls":12},{"$f":"IFERROR(VLOOKUP(ROWS($Z$2:Z396),K396:$L$6000,2,0),\"\")","v":""},{"$f":"IFERROR(VLOOKUP(ROWS($AA$2:AA396),K396:$M$6000,3,0),\"\")","v":""}]
[{"$nulls":10},{"$f":"IF(ISNUMBER(SEARCH($A$3,L397)),MAX($K$1:K396)+1,0)","v":0},"Bajaj Steel Industries Ltd","BAJAJST.BO",{"$nulls":12},{"$f":"IFERROR(VLOOKUP(ROWS($Z$2:Z397),K397:$L$6000,2,0),\"\")","v":""},{"$f":"IFERROR(VLOOKUP(ROWS($AA$2:AA397),K397:$M$6000,3,0),\"\")","v":""}]
[{"$nulls":10},{"$f":"IF(ISNUMBER(SEARCH($A$3,L398)),MAX($K$1:K397)+1,0)","v":0},"Bal Pharma Ltd","BALPH.BO",{"$nulls":12},{"$f":"IFERROR(VLOOKUP(ROWS($Z$2:Z398),K398:$L$6000,2,0),\"\")","v":""},{"$f":"IFERROR(VLOOKUP(ROWS($AA$2:AA398),K398:$M$6000,3,0),\"\")","v":""}]
[{"$nulls":10},{"$f":"IF(ISNUMBER(SEARCH($A$3,L399)),MAX($K$1:K398)+1,0)","v":0},"Bal Pharma Ltd","BALPHARMA.NS",{"$nulls":12},{"$f":"IFERROR(VLOOKUP(ROWS($Z$2:Z399),K399:$L$6000,2,0),\"\")","v":""},{"$f":"IFERROR(VLOOKUP(ROWS($AA$2:AA399),K399:$M$6000,3,0),\"\")","v":""}]
[{"$nulls":10},{"$f":"IF(ISNUMBER(SEARCH($A$3,L400)),MAX($K$1:K399)+1,0)","v":0},"Bala Techno Global Ltd","BALATECGL.BO",{"$nulls":12},{"$f":"IFERROR(VLOOKUP(ROWS($Z$2:Z400),K400:$L$6000,2,0),\"\")","v":""},{"$f":"IFERROR(VLOOKUP(ROWS($AA$2:AA400),K400:$M$6000,3,0),\"\")","v":""}]
[{"$nulls":10},{"$f":"IF(ISNUMBER(SEARCH($A$3,L401)),MAX($K$1:K400)+1,0)","v":0},"Bala Techno Industries Ltd","BALATECIN.BO",{"$nulls":12},{"$f":"IFERROR(VLOOKUP(ROWS($Z$2:Z401),K401:$L$6000,2,0),\"\")","v":""},{"$f":"IFERROR(VLOOKUP(ROWS($AA$2:AA401),K401:$M$6000,3,0),\"\")","v":""}]
[{"$nulls":10},{"$f":"IF(ISNUMBER(SEARCH($A$3,L402)),MAX($K$1:K401)+1,0)","v":0},"Balaji Amines Limited","BALAMINES.NS",{"$nulls":12},{"$f":"IFERROR(VLOOKUP(ROWS($Z$2:Z402),K402:$L$6000,2,0),\"\")","v":""},{"$f":"IFERROR(VLOOKUP(ROWS($AA$2:AA402),K402:$M$6000,3,0),\"\")","v":""}]
[{"$nulls":10},{"$f":"IF(ISNUMBER(SEARCH($A$3,L403)),MAX($K$1:K402)+1,0)","v":0},"Balaji Amines Ltd","BALAJIAM.BO",{"$nulls":12},{"$f":"IFERROR(VLOOKUP(ROWS($Z$2:Z403),K403:$L$6000,2,0),\"\")","v":""},{"$f":"IFERROR(VLOOKUP(ROWS($AA$2:AA403),K403:$M$6000,3,0),\"\")","v":""}]
[{"$nulls":10},{"$f":"IF(ISNUMBER(SEARCH($A$3,L404)),MAX($K$1:K403)+1,0)","v":0},"Balaji Telefilms Ltd","BALAJITELE.BO",{"$nulls":12},{"$f":"IFERROR(VLOOKUP(ROWS($Z$2:Z404),K404:$L$6000,2,0),\"\")","v":""},{"$f":"IFERROR(VLOOKUP(ROWS($AA$2:AA404),K404:$M$6000,3,0),\"\")","v":""}]
[{"$nulls":10},{"$f":"IF(ISNUMBER(SEARCH($A$3,L405)),MAX($K$1:K404)+1,0)","v":0},"Balaji Telefilms Ltd","BALAJITEL.NS",{"$nulls":12},{"$f":"IFERROR(VLOOKUP(ROWS($Z$2:Z405),K405:$L$6000,2,0),\"\")","v":""},{"$f":"IFERROR(VLOOKUP(ROWS($AA$2:AA405),K405:$M$6000,3,0),\"\")","v":""}]
[{"$nulls":10},{"$f":"IF(ISNUMBER(SEARCH($A$3,L406)),MAX($K$1:K405)+1,0)","v":0},"Balasore Alloys Ltd","BALASORE.BO",{"$nulls":12},{"$f":"IFERROR(VLOOKUP(ROWS($Z$2:Z406),K406:$L$6000,2,0),\"\")","v":""},{"$f":"IFERROR(VLOOKUP(ROWS($AA$2:AA406),K406:$M$6000,3,0),\"\")","v":""}]
[{"$nulls":10},{"$f":"IF(ISNUMBER(SEARCH($A$3,L407)),MAX($K$1:K406)+1,0)","v":0},"Balkrishna Industries Ltd","BALKRISI.BO",{"$nulls":12},{"$f":"IFERROR(VLOOKUP(ROWS($Z$2:Z407),K407:$L$6000,2,0),\"\")","v":""},{"$f":"IFERROR(VLOOKUP(ROWS($AA$2:AA407),K407:$M$6000,3,0),\"\")","v":""}]
[{"$nulls":10},{"$f":"IF(ISNUMBER(SEARCH($A$3,L408)),MAX($K$1:K407)+1,0)","v":0},"Ballarpur Industries Ltd","BILT.BO",{"$nulls":12},{"$f":"IFERROR(VLOOKUP(ROWS($Z$2:Z408),K408:$L$6000,2,0),\"\")","v":""},{"$f":"IFERROR(VLOOKUP(ROWS($AA$2:AA408),K408:$M$6000,3,0),\"\")","v":""}]
[{"$nulls":10},{"$f":"IF(ISNUMBER(SEARCH($A$3,L409)),MAX($K$1:K408)+1,0)","v":0},"Ballarpur Industries Ltd","BALLARPUR.NS",{"$nulls":12},{"$f":"IFERROR(VLOOKUP(ROWS($Z$2:Z409),K409:$L$6000,2,0),\"\")","v":""},{"$f":"IFERROR(VLOOKUP(ROWS($AA$2:AA409),K409:$M$6000,3,0),\"\")","v":""}]
[{"$nulls":10},{"$f":"IF(ISNUMBER(SEARCH($A$3,L410)),MAX($K$1:K409)+1,0)","v":0},"Balmer Lawrie & Company Ltd","BALMLAW.BO",{"$nulls":12},{"$f":"IFERROR(VLOOKUP(ROWS($Z$2:Z410),K410:$L$6000,2,0),\"\")","v":""},{"$f":"IFERROR(VLOOKUP(ROWS($AA$2:AA410),K410:$M$6000,3,0),\"\")","v":""}]
[{"$nulls":10},{"$f":"IF(ISNUMBER(SEARCH($A$3,L411)),MAX($K$1:K410)+1,0)","v":0},"Balmer Lawrie & Company Ltd","BALMLAWRI.NS",{"$nulls":12},{"$f":"IFERROR(VLOOKUP(ROWS($Z$2:Z411),K411:$L$6000,2,0),\"\")","v":""},{"$f":"IFERROR(VLOOKUP(ROWS($AA$2:AA411),K411:$M$6000,3,0),\"\")","v":""}]
[{"$nulls":10},{"$f":"IF(ISNUMBER(SEARCH($A$3,L412)),MAX($K$1:K411)+1,0)","v":0},"Balmer Lawrie Investments Ltd","BLIL.BO",{"$nulls":12},{"$f":"IFERROR(VLOOKUP(ROWS($Z$2:Z412),K412:$L$6000,2,0),\"\")","v":""},{"$f":"IFERROR(VLOOKUP(ROWS($AA$2:AA412),K412:$M$6000,3,0),\"\")","v":""}]
[{"$nulls":10},{"$f":"IF(ISNUMBER(SEARCH($A$3,L413)),MAX($K$1:K412)+1,0)","v":0},"Balrampur Chini Mills Ltd","BALRAMCHIN.BO",{"$nulls":12},{"$f":"IFERROR(VLOOKUP(ROWS($Z$2:Z413),K413:$L$6000,2,0),\"\")","v":""},{"$f":"IFERROR(VLOOKUP(ROWS($AA$2:AA413),K413:$M$6000,3,0),\"\")","v":""}]
[{"$nulls":10},{"$f":"IF(ISNUMBER(SEARCH($A$3,L414)),MAX($K$1:K413)+1,0)","v":0},"Balrampur Chini Mills Ltd","BALRAMCHI.NS",{"$nulls":12},{"$f":"IFERROR(VLOOKUP(ROWS($Z$2:Z414),K414:$L$6000,2,0),\"\")","v":""},{"$f":"IFERROR(VLOOKUP(ROWS($AA$2:AA414),K414:$M$6000,3,0),\"\")","v":""}]
[{"$nulls":10},{"$f":"IF(ISNUMBER(SEARCH($A$3,L415)),MAX($K$1:K414)+1,0)","v":0},"Balurghat Technologies Ltd","BALTE.BO",{"$nulls":12},{"$f":"IFERROR(VLOOKUP(ROWS($Z$2:Z415),K415:$L$6000,2,0),\"\")","v":""},{"$f":"IFERROR(VLOOKUP(ROWS($AA$2:AA415),K415:$M$6000,3,0),\"\")","v":""}]
[{"$nulls":10},{"$f":"IF(ISNUMBER(SEARCH($A$3,L416)),MAX($K$1:K415)+1,0)","v":0},"Bambino Agro Industries Ltd","BAMBINO.BO",{"$nulls":12},{"$f":"IFERROR(VLOOKUP(ROWS($Z$2:Z416),K416:$L$6000,2,0),\"\")","v":""},{"$f":"IFERROR(VLOOKUP(ROWS($AA$2:AA416),K416:$M$6000,3,0),\"\")","v":""}]
[{"$nulls":10},{"$f":"IF(ISNUMBER(SEARCH($A$3,L417)),MAX($K$1:K416)+1,0)","v":0},"BAMPSL Securities Ltd","BAMPSL.BO",{"$nulls":12},{"$f":"IFERROR(VLOOKUP(ROWS($Z$2:Z417),K417:$L$6000,2,0),\"\")","v":""},{"$f":"IFERROR(VLOOKUP(ROWS($AA$2:AA417),K417:$M$6000,3,0),\"\")","v":""}]
[{"$nulls":10},{"$f":"IF(ISNUMBER(SEARCH($A$3,L418)),MAX($K$1:K417)+1,0)","v":0},"Banaras Beads Ltd","BANARASB.BO",{"$nulls":12},{"$f":"IFERROR(VLOOKUP(ROWS($Z$2:Z418),K418:$L$6000,2,0),\"\")","v":""},{"$f":"IFERROR(VLOOKUP(ROWS($AA$2:AA418),K418:$M$6000,3,0),\"\")","v":""}]
[{"$nulls":10},{"$f":"IF(ISNUMBER(SEARCH($A$3,L419)),MAX($K$1:K418)+1,0)","v":0},"Banco Products India Ltd","BANCO.BO",{"$nulls":12},{"$f":"IFERROR(VLOOKUP(ROWS($Z$2:Z419),K419:$L$6000,2,0),\"\")","v":""},{"$f":"IFERROR(VLOOKUP(ROWS($AA$2:AA419),K419:$M$6000,3,0),\"\")","v":""}]
[{"$nulls":10},{"$f":"IF(ISNUMBER(SEARCH($A$3,L420)),MAX($K$1:K419)+1,0)","v":0},"Banco Products India Ltd","BANCOINDI.NS",{"$nulls":12},{"$f":"IFERROR(VLOOKUP(ROWS($Z$2:Z420),K420:$L$6000,2,0),\"\")","v":""},{"$f":"IFERROR(VLOOKUP(ROWS($AA$2:AA420),K420:$M$6000,3,0),\"\")","v":""}]
[{"$nulls":10},{"$f":"IF(ISNUMBER(SEARCH($A$3,L421)),MAX($K$1:K420)+1,0)","v":0},"Bang Overseas Ltd","BANG.BO",{"$nulls":12},{"$f":"IFERROR(VLOOKUP(ROWS($Z$2:Z421),K421:$L$6000,2,0),\"\")","v":""},{"$f":"IFERROR(VLOOKUP(ROWS($AA$2:AA421),K421:$M$6000,3,0),\"\")","v":""}]
[{"$nulls":10},{"$f":"IF(ISNUMBER(SEARCH($A$3,L422)),MAX($K$1:K421)+1,0)","v":0},"Bang Overseas Ltd","BANG.NS",{"$nulls":12},{"$f":"IFERROR(VLOOKUP(ROWS($Z$2:Z422),K422:$L$6000,2,0),\"\")","v":""},{"$f":"IFERROR(VLOOKUP(ROWS($AA$2:AA422),K422:$M$6000,3,0),\"\")","v":""}]
[{"$nulls":10},{"$f":"IF(ISNUMBER(SEARCH($A$3,L423)),MAX($K$1:K422)+1,0)","v":0},"Bank of Baroda","BOB.BO",{"$nulls":12},{"$f":"IFERROR(VLOOKUP(ROWS($Z$2:Z423),K423:$L$6000,2,0),\"\")","v":""},{"$f":"IFERROR(VLOOKUP(ROWS($AA$2:AA423),K423:$M$6000,3,0),\"\")","v":""}]
[{"$nulls":10},{"$f":"IF(ISNUMBER(SEARCH($A$3,L424)),MAX($K$1:K423)+1,0)","v":0},"Bank of Baroda","BANKBAROD.NS",{"$nulls":12},{"$f":"IFERROR(VLOOKUP(ROWS($Z$2:Z424),K424:$L$6000,2,0),\"\")","v":""},{"$f":"IFERROR(VLOOKUP(ROWS($AA$2:AA424),K424:$M$6000,3,0),\"\")","v":""}]
[{"$nulls":10},{"$f":"IF(ISNUMBER(SEARCH($A$3,L425)),MAX($K$1:K424)+1,0)","v":0},"Bank Of India","BOI.BO",{"$nulls":12},{"$f":"IFERROR(VLOOKUP(ROWS($Z$2:Z425),K425:$L$6000,2,0),\"\")","v":""},{"$f":"IFERROR(VLOOKUP(ROWS($AA$2:AA425),K425:$M$6000,3,0),\"\")","v":""}]
[{"$nulls":10},{"$f":"IF(ISNUMBER(SEARCH($A$3,L426)),MAX($K$1:K425)+1,0)","v":0},"Bank Of India","BANKINDIA.NS",{"$nulls":12},{"$f":"IFERROR(VLOOKUP(ROWS($Z$2:Z426),K426:$L$6000,2,0),\"\")","v":""},{"$f":"IFERROR(VLOOKUP(ROWS($AA$2:AA426),K426:$M$6000,3,0),\"\")","v":""}]
[{"$nulls":10},{"$f":"IF(ISNUMBER(SEARCH($A$3,L427)),MAX($K$1:K426)+1,0)","v":0},"Bank of Maharashtra","MAHABANK.BO",{"$nulls":12},{"$f":"IFERROR(VLOOKUP(ROWS($Z$2:Z427),K427:$L$6000,2,0),\"\")","v":""},{"$f":"IFERROR(VLOOKUP(ROWS($AA$2:AA427),K427:$M$6000,3,0),\"\")","v":""}]
[{"$nulls":10},{"$f":"IF(ISNUMBER(SEARCH($A$3,L428)),MAX($K$1:K427)+1,0)","v":0},"Bank of Maharashtra","MAHABANK.NS",{"$nulls":12},{"$f":"IFERROR(VLOOKUP(ROWS($Z$2:Z428),K428:$L$6000,2,0),\"\")","v":""},{"$f":"IFERROR(VLOOKUP(ROWS($AA$2:AA428),K428:$M$6000,3,0),\"\")","v":""}]
[{"$nulls":10},{"$f":"IF(ISNUMBER(SEARCH($A$3,L429)),MAX($K$1:K428)+1,0)","v":0},"Bannari Amman Spinning","BANNARI.BO",{"$nulls":12},{"$f":"IFERROR(VLOOKUP(ROWS($Z$2:Z429),K429:$L$6000,2,0),\"\")","v":""},{"$f":"IFERROR(VLOOKUP(ROWS($AA$2:AA429),K429:$M$6000,3,0),\"\")","v":""}]
[{"$nulls":10},{"$f":"IF(ISNUMBER(SEARCH($A$3,L430)),MAX($K$1:K429)+1,0)","v":0},"Bannari Amman Spinning","BASML.NS",{"$nulls":12},{"$f":"IFERROR(VLOOKUP(ROWS($Z$2:Z430),K430:$L$6000,2,0),\"\")","v":""},{"$f":"IFERROR(VLOOKUP(ROWS($AA$2:AA430),K430:$M$6000,3,0),\"\")","v":""}]
[{"$nulls":10},{"$f":"IF(ISNUMBER(SEARCH($A$3,L431)),MAX($K$1:K430)+1,0)","v":0},"Bannari Amman Sugars Ltd","BANNARIAM.BO",{"$nulls":12},{"$f":"IFERROR(VLOOKUP(ROWS($Z$2:Z431),K431:$L$6000,2,0),\"\")","v":""},{"$f":"IFERROR(VLOOKUP(ROWS($AA$2:AA431),K431:$M$6000,3,0),\"\")","v":""}]
[{"$nulls":10},{"$f":"IF(ISNUMBER(SEARCH($A$3,L432)),MAX($K$1:K431)+1,0)","v":0},"Bannari Amman Sugars Ltd","BANARISUG.NS",{"$nulls":12},{"$f":"IFERROR(VLOOKUP(ROWS($Z$2:Z432),K432:$L$6000,2,0),\"\")","v":""},{"$f":"IFERROR(VLOOKUP(ROWS($AA$2:AA432),K432:$M$6000,3,0),\"\")","v":""}]
[{"$nulls":10},{"$f":"IF(ISNUMBER(SEARCH($A$3,L433)),MAX($K$1:K432)+1,0)","v":0},"Banswara Syntex Ltd","BANSWRAS.BO",{"$nulls":12},{"$f":"IFERROR(VLOOKUP(ROWS($Z$2:Z433),K433:$L$6000,2,0),\"\")","v":""},{"$f":"IFERROR(VLOOKUP(ROWS($AA$2:AA433),K433:$M$6000,3,0),\"\")","v":""}]
[{"$nulls":10},{"$f":"IF(ISNUMBER(SEARCH($A$3,L434)),MAX($K$1:K433)+1,0)","v":0},"Banswara Syntex Ltd","BANSWRAS.NS",{"$nulls":12},{"$f":"IFERROR(VLOOKUP(ROWS($Z$2:Z434),K434:$L$6000,2,0),\"\")","v":""},{"$f":"IFERROR(VLOOKUP(ROWS($AA$2:AA434),K434:$M$6000,3,0),\"\")","v":""}]
[{"$nulls":10},{"$f":"IF(ISNUMBER(SEARCH($A$3,L435)),MAX($K$1:K434)+1,0)","v":0},"Barak Valley Cements Ltd","BVCL.BO",{"$nulls":12},{"$f":"IFERROR(VLOOKUP(ROWS($Z$2:Z435),K435:$L$6000,2,0),\"\")","v":""},{"$f":"IFERROR(VLOOKUP(ROWS($AA$2:AA435),K435:$M$6000,3,0),\"\")","v":""}]
[{"$nulls":10},{"$f":"IF(ISNUMBER(SEARCH($A$3,L436)),MAX($K$1:K435)+1,0)","v":0},"Barak Valley Cements Ltd","BVCL.NS",{"$nulls":12},{"$f":"IFERROR(VLOOKUP(ROWS($Z$2:Z436),K436:$L$6000,2,0),\"\")","v":""},{"$f":"IFERROR(VLOOKUP(ROWS($AA$2:AA436),K436:$M$6000,3,0),\"\")","v":""}]
[{"$nulls":10},{"$f":"IF(ISNUMBER(SEARCH($A$3,L437)),MAX($K$1:K436)+1,0)","v":0},"Bartronics India Ltd","BARTRONICS.BO",{"$nulls":12},{"$f":"IFERROR(VLOOKUP(ROWS($Z$2:Z437),K437:$L$6000,2,0),\"\")","v":""},{"$f":"IFERROR(VLOOKUP(ROWS($AA$2:AA437),K437:$M$6000,3,0),\"\")","v":""}]
[{"$nulls":10},{"$f":"IF(ISNUMBER(SEARCH($A$3,L438)),MAX($K$1:K437)+1,0)","v":0},"Bartronics India Ltd","BARTRONIC.NS",{"$nulls":12},{"$f":"IFERROR(VLOOKUP(ROWS($Z$2:Z438),K438:$L$6000,2,0),\"\")","v":""},{"$f":"IFERROR(VLOOKUP(ROWS($AA$2:AA438),K438:$M$6000,3,0),\"\")","v":""}]
[{"$nulls":10},{"$f":"IF(ISNUMBER(SEARCH($A$3,L439)),MAX($K$1:K438)+1,0)","v":0},"Basant Agro-Tech India Ltd","BASANTGL.BO",{"$nulls":12},{"$f":"IFERROR(VLOOKUP(ROWS($Z$2:Z439),K439:$L$6000,2,0),\"\")","v":""},{"$f":"IFERROR(VLOOKUP(ROWS($AA$2:AA439),K439:$M$6000,3,0),\"\")","v":""}]
[{"$nulls":10},{"$f":"IF(ISNUMBER(SEARCH($A$3,L440)),MAX($K$1:K439)+1,0)","v":0},"BASF India Ltd","BASF.BO",{"$nulls":12},{"$f":"IFERROR(VLOOKUP(ROWS($Z$2:Z440),K440:$L$6000,2,0),\"\")","v":""},{"$f":"IFERROR(VLOOKUP(ROWS($AA$2:AA440),K440:$M$6000,3,0),\"\")","v":""}]
[{"$nulls":10},{"$f":"IF(ISNUMBER(SEARCH($A$3,L441)),MAX($K$1:K440)+1,0)","v":0},"BASF India Ltd","BASF.NS",{"$nulls":12},{"$f":"IFERROR(VLOOKUP(ROWS($Z$2:Z441),K441:$L$6000,2,0),\"\")","v":""},{"$f":"IFERROR(VLOOKUP(ROWS($AA$2:AA441),K441:$M$6000,3,0),\"\")","v":""}]
[{"$nulls":10},{"$f":"IF(ISNUMBER(SEARCH($A$3,L442)),MAX($K$1:K441)+1,0)","v":0},"Basil Infrastructure Proj","BASILINF.BO",{"$nulls":12},{"$f":"IFERROR(VLOOKUP(ROWS($Z$2:Z442),K442:$L$6000,2,0),\"\")","v":""},{"$f":"IFERROR(VLOOKUP(ROWS($AA$2:AA442),K442:$M$6000,3,0),\"\")","v":""}]
[{"$nulls":10},{"$f":"IF(ISNUMBER(SEARCH($A$3,L443)),MAX($K$1:K442)+1,0)","v":0},"Batliboi Ltd","BATLIBOI.BO",{"$nulls":12},{"$f":"IFERROR(VLOOKUP(ROWS($Z$2:Z443),K443:$L$6000,2,0),\"\")","v":""},{"$f":"IFERROR(VLOOKUP(ROWS($AA$2:AA443),K443:$M$6000,3,0),\"\")","v":""}]
[{"$nulls":10},{"$f":"IF(ISNUMBER(SEARCH($A$3,L444)),MAX($K$1:K443)+1,0)","v":0},"Bayer CropScience Ltd","BAYER.BO",{"$nulls":12},{"$f":"IFERROR(VLOOKUP(ROWS($Z$2:Z444),K444:$L$6000,2,0),\"\")","v":""},{"$f":"IFERROR(VLOOKUP(ROWS($AA$2:AA444),K444:$M$6000,3,0),\"\")","v":""}]
[{"$nulls":10},{"$f":"IF(ISNUMBER(SEARCH($A$3,L445)),MAX($K$1:K444)+1,0)","v":0},"Bayer CropScience Ltd","BAYERCROP.NS",{"$nulls":12},{"$f":"IFERROR(VLOOKUP(ROWS($Z$2:Z445),K445:$L$6000,2,0),\"\")","v":""},{"$f":"IFERROR(VLOOKUP(ROWS($AA$2:AA445),K445:$M$6000,3,0),\"\")","v":""}]
[{"$nulls":10},{"$f":"IF(ISNUMBER(SEARCH($A$3,L446)),MAX($K$1:K445)+1,0)","v":0},"BCC Fuba India Ltd","BCCFUBA.BO",{"$nulls":12},{"$f":"IFERROR(VLOOKUP(ROWS($Z$2:Z446),K446:$L$6000,2,0),\"\")","v":""},{"$f":"IFERROR(VLOOKUP(ROWS($AA$2:AA446),K446:$M$6000,3,0),\"\")","v":""}]
[{"$nulls":10},{"$f":"IF(ISNUMBER(SEARCH($A$3,L447)),MAX($K$1:K446)+1,0)","v":0},"BCL Industries","BHATICH.BO",{"$nulls":12},{"$f":"IFERROR(VLOOKUP(ROWS($Z$2:Z447),K447:$L$6000,2,0),\"\")","v":""},{"$f":"IFERROR(VLOOKUP(ROWS($AA$2:AA447),K447:$M$6000,3,0),\"\")","v":""}]
[{"$nulls":10},{"$f":"IF(ISNUMBER(SEARCH($A$3,L448)),MAX($K$1:K447)+1,0)","v":0},"Bdh Industries Ltd","BDH.BO",{"$nulls":12},{"$f":"IFERROR(VLOOKUP(ROWS($Z$2:Z448),K448:$L$6000,2,0),\"\")","v":""},{"$f":"IFERROR(VLOOKUP(ROWS($AA$2:AA448),K448:$M$6000,3,0),\"\")","v":""}]
[{"$nulls":10},{"$f":"IF(ISNUMBER(SEARCH($A$3,L449)),MAX($K$1:K448)+1,0)","v":0},"Beardsell Ltd","BEARDSELL.NS",{"$nulls":12},{"$f":"IFERROR(VLOOKUP(ROWS($Z$2:Z449),K449:$L$6000,2,0),\"\")","v":""},{"$f":"IFERROR(VLOOKUP(ROWS($AA$2:AA449),K449:$M$6000,3,0),\"\")","v":""}]
[{"$nulls":10},{"$f":"IF(ISNUMBER(SEARCH($A$3,L450)),MAX($K$1:K449)+1,0)","v":0},"Beckons Industries Ltd","BECKONIN.BO",{"$nulls":12},{"$f":"IFERROR(VLOOKUP(ROWS($Z$2:Z450),K450:$L$6000,2,0),\"\")","v":""},{"$f":"IFERROR(VLOOKUP(ROWS($AA$2:AA450),K450:$M$6000,3,0),\"\")","v":""}]
[{"$nulls":10},{"$f":"IF(ISNUMBER(SEARCH($A$3,L451)),MAX($K$1:K450)+1,0)","v":0},"Beeyu Overseas Ltd","BEEYU.BO",{"$nulls":12},{"$f":"IFERROR(VLOOKUP(ROWS($Z$2:Z451),K451:$L$6000,2,0),\"\")","v":""},{"$f":"IFERROR(VLOOKUP(ROWS($AA$2:AA451),K451:$M$6000,3,0),\"\")","v":""}]
[{"$nulls":10},{"$f":"IF(ISNUMBER(SEARCH($A$3,L452)),MAX($K$1:K451)+1,0)","v":0},"Bell AGromachina Ltd","BELAGRO.BO",{"$nulls":12},{"$f":"IFERROR(VLOOKUP(ROWS($Z$2:Z452),K452:$L$6000,2,0),\"\")","v":""},{"$f":"IFERROR(VLOOKUP(ROWS($AA$2:AA452),K452:$M$6000,3,0),\"\")","v":""}]
[{"$nulls":10},{"$f":"IF(ISNUMBER(SEARCH($A$3,L453)),MAX($K$1:K452)+1,0)","v":0},"Bemco Hydraulics Ltd","BEMHY.BO",{"$nulls":12},{"$f":"IFERROR(VLOOKUP(ROWS($Z$2:Z453),K453:$L$6000,2,0),\"\")","v":""},{"$f":"IFERROR(VLOOKUP(ROWS($AA$2:AA453),K453:$M$6000,3,0),\"\")","v":""}]
[{"$nulls":10},{"$f":"IF(ISNUMBER(SEARCH($A$3,L454)),MAX($K$1:K453)+1,0)","v":0},"BEML Ltd","BEML.BO",{"$nulls":12},{"$f":"IFERROR(VLOOKUP(ROWS($Z$2:Z454),K454:$L$6000,2,0),\"\")","v":""},{"$f":"IFERROR(VLOOKUP(ROWS($AA$2:AA454),K454:$M$6000,3,0),\"\")","v":""}]
[{"$nulls":10},{"$f":"IF(ISNUMBER(SEARCH($A$3,L455)),MAX($K$1:K454)+1,0)","v":0},"BEML Ltd","BEML.NS",{"$nulls":12},{"$f":"IFERROR(VLOOKUP(ROWS($Z$2:Z455),K455:$L$6000,2,0),\"\")","v":""},{"$f":"IFERROR(VLOOKUP(ROWS($AA$2:AA455),K455:$M$6000,3,0),\"\")","v":""}]
[{"$nulls":10},{"$f":"IF(ISNUMBER(SEARCH($A$3,L456)),MAX($K$1:K455)+1,0)","v":0},"Benares Hotels Ltd","BENARAS.BO",{"$nulls":12},{"$f":"IFERROR(VLOOKUP(ROWS($Z$2:Z456),K456:$L$6000,2,0),\"\")","v":""},{"$f":"IFERROR(VLOOKUP(ROWS($AA$2:AA456),K456:$M$6000,3,0),\"\")","v":""}]
[{"$nulls":10},{"$f":"IF(ISNUMBER(SEARCH($A$3,L457)),MAX($K$1:K456)+1,0)","v":0},"Bengal & Assam Co Ltd","BENGALASM.BO",{"$nulls":12},{"$f":"IFERROR(VLOOKUP(ROWS($Z$2:Z457),K457:$L$6000,2,0),\"\")","v":""},{"$f":"IFERROR(VLOOKUP(ROWS($AA$2:AA457),K457:$M$6000,3,0),\"\")","v":""}]
[{"$nulls":10},{"$f":"IF(ISNUMBER(SEARCH($A$3,L458)),MAX($K$1:K457)+1,0)","v":0},"Bengal Tea & Fabrics Ltd","BENGALT.BO",{"$nulls":12},{"$f":"IFERROR(VLOOKUP(ROWS($Z$2:Z458),K458:$L$6000,2,0),\"\")","v":""},{"$f":"IFERROR(VLOOKUP(ROWS($AA$2:AA458),K458:$M$6000,3,0),\"\")","v":""}]
[{"$nulls":10},{"$f":"IF(ISNUMBER(SEARCH($A$3,L459)),MAX($K$1:K458)+1,0)","v":0},"Berger Paints India Ltd","BERGEPAINT.BO",{"$nulls":12},{"$f":"IFERROR(VLOOKUP(ROWS($Z$2:Z459),K459:$L$6000,2,0),\"\")","v":""},{"$f":"IFERROR(VLOOKUP(ROWS($AA$2:AA459),K459:$M$6000,3,0),\"\")","v":""}]
[{"$nulls":10},{"$f":"IF(ISNUMBER(SEARCH($A$3,L460)),MAX($K$1:K459)+1,0)","v":0},"Berger Paints India Ltd","BERGEPAIN.NS",{"$nulls":12},{"$f":"IFERROR(VLOOKUP(ROWS($Z$2:Z460),K460:$L$6000,2,0),\"\")","v":""},{"$f":"IFERROR(VLOOKUP(ROWS($AA$2:AA460),K460:$M$6000,3,0),\"\")","v":""}]
[{"$nulls":10},{"$f":"IF(ISNUMBER(SEARCH($A$3,L461)),MAX($K$1:K460)+1,0)","v":0},"Bervin Investment","BERVINL.BO",{"$nulls":12},{"$f":"IFERROR(VLOOKUP(ROWS($Z$2:Z461),K461:$L$6000,2,0),\"\")","v":""},{"$f":"IFERROR(VLOOKUP(ROWS($AA$2:AA461),K461:$M$6000,3,0),\"\")","v":""}]
[{"$nulls":10},{"$f":"IF(ISNUMBER(SEARCH($A$3,L462)),MAX($K$1:K461)+1,0)","v":0},"Beryl Drugs Ltd","BERLDRG.BO",{"$nulls":12},{"$f":"IFERROR(VLOOKUP(ROWS($Z$2:Z462),K462:$L$6000,2,0),\"\")","v":""},{"$f":"IFERROR(VLOOKUP(ROWS($AA$2:AA462),K462:$M$6000,3,0),\"\")","v":""}]
[{"$nulls":10},{"$f":"IF(ISNUMBER(SEARCH($A$3,L463)),MAX($K$1:K462)+1,0)","v":0},"Beryl Securities Ltd","BERYLSE.BO",{"$nulls":12},{"$f":"IFERROR(VLOOKUP(ROWS($Z$2:Z463),K463:$L$6000,2,0),\"\")","v":""},{"$f":"IFERROR(VLOOKUP(ROWS($AA$2:AA463),K463:$M$6000,3,0),\"\")","v":""}]
[{"$nulls":10},{"$f":"IF(ISNUMBER(SEARCH($A$3,L464)),MAX($K$1:K463)+1,0)","v":0},"Best & Crompton","BSTCR.BO",{"$nulls":12},{"$f":"IFERROR(VLOOKUP(ROWS($Z$2:Z464),K464:$L$6000,2,0),\"\")","v":""},{"$f":"IFERROR(VLOOKUP(ROWS($AA$2:AA464),K464:$M$6000,3,0),\"\")","v":""}]
[{"$nulls":10},{"$f":"IF(ISNUMBER(SEARCH($A$3,L465)),MAX($K$1:K464)+1,0)","v":0},"BF Utilities Ltd","BFUTI.BO",{"$nulls":12},{"$f":"IFERROR(VLOOKUP(ROWS($Z$2:Z465),K465:$L$6000,2,0),\"\")","v":""},{"$f":"IFERROR(VLOOKUP(ROWS($AA$2:AA465),K465:$M$6000,3,0),\"\")","v":""}]
[{"$nulls":10},{"$f":"IF(ISNUMBER(SEARCH($A$3,L466)),MAX($K$1:K465)+1,0)","v":0},"BF Utilities Ltd","BFUTILITI.NS",{"$nulls":12},{"$f":"IFERROR(VLOOKUP(ROWS($Z$2:Z466),K466:$L$6000,2,0),\"\")","v":""},{"$f":"IFERROR(VLOOKUP(ROWS($AA$2:AA466),K466:$M$6000,3,0),\"\")","v":""}]
[{"$nulls":10},{"$f":"IF(ISNUMBER(SEARCH($A$3,L467)),MAX($K$1:K466)+1,0)","v":0},"BGIL Films & Technologies Ltd","BGIL.BO",{"$nulls":12},{"$f":"IFERROR(VLOOKUP(ROWS($Z$2:Z467),K467:$L$6000,2,0),\"\")","v":""},{"$f":"IFERROR(VLOOKUP(ROWS($AA$2:AA467),K467:$M$6000,3,0),\"\")","v":""}]
[{"$nulls":10},{"$f":"IF(ISNUMBER(SEARCH($A$3,L468)),MAX($K$1:K467)+1,0)","v":0},"BGR Energy Systems Ltd","BGRENERGY.BO",{"$nulls":12},{"$f":"IFERROR(VLOOKUP(ROWS($Z$2:Z468),K468:$L$6000,2,0),\"\")","v":""},{"$f":"IFERROR(VLOOKUP(ROWS($AA$2:AA468),K468:$M$6000,3,0),\"\")","v":""}]
[{"$nulls":10},{"$f":"IF(ISNUMBER(SEARCH($A$3,L469)),MAX($K$1:K468)+1,0)","v":0},"BGR Energy Systems Ltd","BGRENERGY.NS",{"$nulls":12},{"$f":"IFERROR(VLOOKUP(ROWS($Z$2:Z469),K469:$L$6000,2,0),\"\")","v":""},{"$f":"IFERROR(VLOOKUP(ROWS($AA$2:AA469),K469:$M$6000,3,0),\"\")","v":""}]
[{"$nulls":10},{"$f":"IF(ISNUMBER(SEARCH($A$3,L470)),MAX($K$1:K469)+1,0)","v":0},"Bhagawati Gas Ltd","BHAGGAS.BO",{"$nulls":12},{"$f":"IFERROR(VLOOKUP(ROWS($Z$2:Z470),K470:$L$6000,2,0),\"\")","v":""},{"$f":"IFERROR(VLOOKUP(ROWS($AA$2:AA470),K470:$M$6000,3,0),\"\")","v":""}]
[{"$nulls":10},{"$f":"IF(ISNUMBER(SEARCH($A$3,L471)),MAX($K$1:K470)+1,0)","v":0},"Bhageria Dye Chem Ltd","BHAGERIA.BO",{"$nulls":12},{"$f":"IFERROR(VLOOKUP(ROWS($Z$2:Z471),K471:$L$6000,2,0),\"\")","v":""},{"$f":"IFERROR(VLOOKUP(ROWS($AA$2:AA471),K471:$M$6000,3,0),\"\")","v":""}]
[{"$nulls":10},{"$f":"IF(ISNUMBER(SEARCH($A$3,L472)),MAX($K$1:K471)+1,0)","v":0},"Bhagiradha Chemicals","BHAGCHEM.BO",{"$nulls":12},{"$f":"IFERROR(VLOOKUP(ROWS($Z$2:Z472),K472:$L$6000,2,0),\"\")","v":""},{"$f":"IFERROR(VLOOKUP(ROWS($AA$2:AA472),K472:$M$6000,3,0),\"\")","v":""}]
[{"$nulls":10},{"$f":"IF(ISNUMBER(SEARCH($A$3,L473)),MAX($K$1:K472)+1,0)","v":0},"Bhagwandas Metals Ltd","BHAGWNME.BO",{"$nulls":12},{"$f":"IFERROR(VLOOKUP(ROWS($Z$2:Z473),K473:$L$6000,2,0),\"\")","v":""},{"$f":"IFERROR(VLOOKUP(ROWS($AA$2:AA473),K473:$M$6000,3,0),\"\")","v":""}]
[{"$nulls":10},{"$f":"IF(ISNUMBER(SEARCH($A$3,L474)),MAX($K$1:K473)+1,0)","v":0},"Bhagwati Autocast Ltd","BGWTATO.BO",{"$nulls":12},{"$f":"IFERROR(VLOOKUP(ROWS($Z$2:Z474),K474:$L$6000,2,0),\"\")","v":""},{"$f":"IFERROR(VLOOKUP(ROWS($AA$2:AA474),K474:$M$6000,3,0),\"\")","v":""}]
[{"$nulls":10},{"$f":"IF(ISNUMBER(SEARCH($A$3,L475)),MAX($K$1:K474)+1,0)","v":0},"Bhagyanagar India Ltd","BHAGYAIND.BO",{"$nulls":12},{"$f":"IFERROR(VLOOKUP(ROWS($Z$2:Z475),K475:$L$6000,2,0),\"\")","v":""},{"$f":"IFERROR(VLOOKUP(ROWS($AA$2:AA475),K475:$M$6000,3,0),\"\")","v":""}]
[{"$nulls":10},{"$f":"IF(ISNUMBER(SEARCH($A$3,L476)),MAX($K$1:K475)+1,0)","v":0},"Bhagyanagar India Ltd","BHAGYNAGA.NS",{"$nulls":12},{"$f":"IFERROR(VLOOKUP(ROWS($Z$2:Z476),K476:$L$6000,2,0),\"\")","v":""},{"$f":"IFERROR(VLOOKUP(ROWS($AA$2:AA476),K476:$M$6000,3,0),\"\")","v":""}]
[{"$nulls":10},{"$f":"IF(ISNUMBER(SEARCH($A$3,L477)),MAX($K$1:K476)+1,0)","v":0},"Bhagyashree Leasing","BHAGYFN.BO",{"$nulls":12},{"$f":"IFERROR(VLOOKUP(ROWS($Z$2:Z477),K477:$L$6000,2,0),\"\")","v":""},{"$f":"IFERROR(VLOOKUP(ROWS($AA$2:AA477),K477:$M$6000,3,0),\"\")","v":""}]
[{"$nulls":10},{"$f":"IF(ISNUMBER(SEARCH($A$3,L478)),MAX($K$1:K477)+1,0)","v":0},"Bhandari Hosiery Exports Ltd","BHANDHOS.BO",{"$nulls":12},{"$f":"IFERROR(VLOOKUP(ROWS($Z$2:Z478),K478:$L$6000,2,0),\"\")","v":""},{"$f":"IFERROR(VLOOKUP(ROWS($AA$2:AA478),K478:$M$6000,3,0),\"\")","v":""}]
[{"$nulls":10},{"$f":"IF(ISNUMBER(SEARCH($A$3,L479)),MAX($K$1:K478)+1,0)","v":0},"Bhansali Engineering Poly","BEPL.BO",{"$nulls":12},{"$f":"IFERROR(VLOOKUP(ROWS($Z$2:Z479),K479:$L$6000,2,0),\"\")","v":""},{"$f":"IFERROR(VLOOKUP(ROWS($AA$2:AA479),K479:$M$6000,3,0),\"\")","v":""}]
[{"$nulls":10},{"$f":"IF(ISNUMBER(SEARCH($A$3,L480)),MAX($K$1:K479)+1,0)","v":0},"Bhansali Engineering Poly","BEPL.NS",{"$nulls":12},{"$f":"IFERROR(VLOOKUP(ROWS($Z$2:Z480),K480:$L$6000,2,0),\"\")","v":""},{"$f":"IFERROR(VLOOKUP(ROWS($AA$2:AA480),K480:$M$6000,3,0),\"\")","v":""}]
[{"$nulls":10},{"$f":"IF(ISNUMBER(SEARCH($A$3,L481)),MAX($K$1:K480)+1,0)","v":0},"Bharat Agri Fert & Realty Ltd","BFIL.BO",{"$nulls":12},{"$f":"IFERROR(VLOOKUP(ROWS($Z$2:Z481),K481:$L$6000,2,0),\"\")","v":""},{"$f":"IFERROR(VLOOKUP(ROWS($AA$2:AA481),K481:$M$6000,3,0),\"\")","v":""}]
[{"$nulls":10},{"$f":"IF(ISNUMBER(SEARCH($A$3,L482)),MAX($K$1:K481)+1,0)","v":0},"Bharat Bhushan Share & Co","BHARAT.BO",{"$nulls":12},{"$f":"IFERROR(VLOOKUP(ROWS($Z$2:Z482),K482:$L$6000,2,0),\"\")","v":""},{"$f":"IFERROR(VLOOKUP(ROWS($AA$2:AA482),K482:$M$6000,3,0),\"\")","v":""}]
[{"$nulls":10},{"$f":"IF(ISNUMBER(SEARCH($A$3,L483)),MAX($K$1:K482)+1,0)","v":0},"Bharat Bijlee Ltd","BBL.BO",{"$nulls":12},{"$f":"IFERROR(VLOOKUP(ROWS($Z$2:Z483),K483:$L$6000,2,0),\"\")","v":""},{"$f":"IFERROR(VLOOKUP(ROWS($AA$2:AA483),K483:$M$6000,3,0),\"\")","v":""}]
[{"$nulls":10},{"$f":"IF(ISNUMBER(SEARCH($A$3,L484)),MAX($K$1:K483)+1,0)","v":0},"Bharat Bijlee Ltd","BBL.NS",{"$nulls":12},{"$f":"IFERROR(VLOOKUP(ROWS($Z$2:Z484),K484:$L$6000,2,0),\"\")","v":""},{"$f":"IFERROR(VLOOKUP(ROWS($AA$2:AA484),K484:$M$6000,3,0),\"\")","v":""}]
[{"$nulls":10},{"$f":"IF(ISNUMBER(SEARCH($A$3,L485)),MAX($K$1:K484)+1,0)","v":0},"Bharat Electronics Ltd","BEL.BO",{"$nulls":12},{"$f":"IFERROR(VLOOKUP(ROWS($Z$2:Z485),K485:$L$6000,2,0),\"\")","v":""},{"$f":"IFERROR(VLOOKUP(ROWS($AA$2:AA485),K485:$M$6000,3,0),\"\")","v":""}]
[{"$nulls":10},{"$f":"IF(ISNUMBER(SEARCH($A$3,L486)),MAX($K$1:K485)+1,0)","v":0},"Bharat Electronics Ltd","BEL.NS",{"$nulls":12},{"$f":"IFERROR(VLOOKUP(ROWS($Z$2:Z486),K486:$L$6000,2,0),\"\")","v":""},{"$f":"IFERROR(VLOOKUP(ROWS($AA$2:AA486),K486:$M$6000,3,0),\"\")","v":""}]
[{"$nulls":10},{"$f":"IF(ISNUMBER(SEARCH($A$3,L487)),MAX($K$1:K486)+1,0)","v":0},"Bharat Forge Ltd","BHARATFORG.BO",{"$nulls":12},{"$f":"IFERROR(VLOOKUP(ROWS($Z$2:Z487),K487:$L$6000,2,0),\"\")","v":""},{"$f":"IFERROR(VLOOKUP(ROWS($AA$2:AA487),K487:$M$6000,3,0),\"\")","v":""}]
[{"$nulls":10},{"$f":"IF(ISNUMBER(SEARCH($A$3,L488)),MAX($K$1:K487)+1,0)","v":0},"Bharat Forge Ltd","BHARATFOR.NS",{"$nulls":12},{"$f":"IFERROR(VLOOKUP(ROWS($Z$2:Z488),K488:$L$6000,2,0),\"\")","v":""},{"$f":"IFERROR(VLOOKUP(ROWS($AA$2:AA488),K488:$M$6000,3,0),\"\")","v":""}]
[{"$nulls":10},{"$f":"IF(ISNUMBER(SEARCH($A$3,L489)),MAX($K$1:K488)+1,0)","v":0},"Bharat Gears Ltd","BHARATGE.BO",{"$nulls":12},{"$f":"IFERROR(VLOOKUP(ROWS($Z$2:Z489),K489:$L$6000,2,0),\"\")","v":""},{"$f":"IFERROR(VLOOKUP(ROWS($AA$2:AA489),K489:$M$6000,3,0),\"\")","v":""}]
[{"$nulls":10},{"$f":"IF(ISNUMBER(SEARCH($A$3,L490)),MAX($K$1:K489)+1,0)","v":0},"Bharat Gears Ltd","BHARATGEA.NS",{"$nulls":12},{"$f":"IFERROR(VLOOKUP(ROWS($Z$2:Z490),K490:$L$6000,2,0),\"\")","v":""},{"$f":"IFERROR(VLOOKUP(ROWS($AA$2:AA490),K490:$M$6000,3,0),\"\")","v":""}]
[{"$nulls":10},{"$f":"IF(ISNUMBER(SEARCH($A$3,L491)),MAX($K$1:K490)+1,0)","v":0},"Bharat Heavy Electricals","BHEL.NS",{"$nulls":12},{"$f":"IFERROR(VLOOKUP(ROWS($Z$2:Z491),K491:$L$6000,2,0),\"\")","v":""},{"$f":"IFERROR(VLOOKUP(ROWS($AA$2:AA491),K491:$M$6000,3,0),\"\")","v":""}]
[{"$nulls":10},{"$f":"IF(ISNUMBER(SEARCH($A$3,L492)),MAX($K$1:K491)+1,0)","v":0},"Bharat Heavy Electricals","BHEL.BO",{"$nulls":12},{"$f":"IFERROR(VLOOKUP(ROWS($Z$2:Z492),K492:$L$6000,2,0),\"\")","v":""},{"$f":"IFERROR(VLOOKUP(ROWS($AA$2:AA492),K492:$M$6000,3,0),\"\")","v":""}]
[{"$nulls":10},{"$f":"IF(ISNUMBER(SEARCH($A$3,L493)),MAX($K$1:K492)+1,0)","v":0},"Bharat Immunologies","BIBCL.BO",{"$nulls":12},{"$f":"IFERROR(VLOOKUP(ROWS($Z$2:Z493),K493:$L$6000,2,0),\"\")","v":""},{"$f":"IFERROR(VLOOKUP(ROWS($AA$2:AA493),K493:$M$6000,3,0),\"\")","v":""}]
[{"$nulls":10},{"$f":"IF(ISNUMBER(SEARCH($A$3,L494)),MAX($K$1:K493)+1,0)","v":0},"Bharat Petroleum Corp Ltd","BPCL.BO",{"$nulls":12},{"$f":"IFERROR(VLOOKUP(ROWS($Z$2:Z494),K494:$L$6000,2,0),\"\")","v":""},{"$f":"IFERROR(VLOOKUP(ROWS($AA$2:AA494),K494:$M$6000,3,0),\"\")","v":""}]
[{"$nulls":10},{"$f":"IF(ISNUMBER(SEARCH($A$3,L495)),MAX($K$1:K494)+1,0)","v":0},"Bharat Petroleum Corp Ltd","BPCL.NS",{"$nulls":12},{"$f":"IFERROR(VLOOKUP(ROWS($Z$2:Z495),K495:$L$6000,2,0),\"\")","v":""},{"$f":"IFERROR(VLOOKUP(ROWS($AA$2:AA495),K495:$M$6000,3,0),\"\")","v":""}]
[{"$nulls":10},{"$f":"IF(ISNUMBER(SEARCH($A$3,L496)),MAX($K$1:K495)+1,0)","v":0},"Bharat Rasayan Ltd","BHTRAS.BO",{"$nulls":12},{"$f":"IFERROR(VLOOKUP(ROWS($Z$2:Z496),K496:$L$6000,2,0),\"\")","v":""},{"$f":"IFERROR(VLOOKUP(ROWS($AA$2:AA496),K496:$M$6000,3,0),\"\")","v":""}]
[{"$nulls":10},{"$f":"IF(ISNUMBER(SEARCH($A$3,L497)),MAX($K$1:K496)+1,0)","v":0},"Bharat Rasayan Ltd","BHARATRAS.NS",{"$nulls":12},{"$f":"IFERROR(VLOOKUP(ROWS($Z$2:Z497),K497:$L$6000,2,0),\"\")","v":""},{"$f":"IFERROR(VLOOKUP(ROWS($AA$2:AA497),K497:$M$6000,3,0),\"\")","v":""}]
[{"$nulls":10},{"$f":"IF(ISNUMBER(SEARCH($A$3,L498)),MAX($K$1:K497)+1,0)","v":0},"Bharat Seats Ltd","BHARATSE.BO",{"$nulls":12},{"$f":"IFERROR(VLOOKUP(ROWS($Z$2:Z498),K498:$L$6000,2,0),\"\")","v":""},{"$f":"IFERROR(VLOOKUP(ROWS($AA$2:AA498),K498:$M$6000,3,0),\"\")","v":""}]
[{"$nulls":10},{"$f":"IF(ISNUMBER(SEARCH($A$3,L499)),MAX($K$1:K498)+1,0)","v":0},"Bharati Shipyard Ltd","BHARSHIP.BO",{"$nulls":12},{"$f":"IFERROR(VLOOKUP(ROWS($Z$2:Z499),K499:$L$6000,2,0),\"\")","v":""},{"$f":"IFERROR(VLOOKUP(ROWS($AA$2:AA499),K499:$M$6000,3,0),\"\")","v":""}]
[{"$nulls":10},{"$f":"IF(ISNUMBER(SEARCH($A$3,L500)),MAX($K$1:K499)+1,0)","v":0},"Bharati Shipyard Ltd","BHARTISHI.NS",{"$nulls":12},{"$f":"IFERROR(VLOOKUP(ROWS($Z$2:Z500),K500:$L$6000,2,0),\"\")","v":""},{"$f":"IFERROR(VLOOKUP(ROWS($AA$2:AA500),K500:$M$6000,3,0),\"\")","v":""}]
[{"$nulls":10},{"$f":"IF(ISNUMBER(SEARCH($A$3,L501)),MAX($K$1:K500)+1,0)","v":0},"Bharti Airtel Ltd","BHARTIARTL.BO",{"$nulls":12},{"$f":"IFERROR(VLOOKUP(ROWS($Z$2:Z501),K501:$L$6000,2,0),\"\")","v":""},{"$f":"IFERROR(VLOOKUP(ROWS($AA$2:AA501),K501:$M$6000,3,0),\"\")","v":""}]
[{"$nulls":10},{"$f":"IF(ISNUMBER(SEARCH($A$3,L502)),MAX($K$1:K501)+1,0)","v":0},"Bharti Airtel Ltd","BHARTIART.NS",{"$nulls":12},{"$f":"IFERROR(VLOOKUP(ROWS($Z$2:Z502),K502:$L$6000,2,0),\"\")","v":""},{"$f":"IFERROR(VLOOKUP(ROWS($AA$2:AA502),K502:$M$6000,3,0),\"\")","v":""}]
[{"$nulls":10},{"$f":"IF(ISNUMBER(SEARCH($A$3,L503)),MAX($K$1:K502)+1,0)","v":0},"Bhartiya International Ltd","BIL.BO",{"$nulls":12},{"$f":"IFERROR(VLOOKUP(ROWS($Z$2:Z503),K503:$L$6000,2,0),\"\")","v":""},{"$f":"IFERROR(VLOOKUP(ROWS($AA$2:AA503),K503:$M$6000,3,0),\"\")","v":""}]
[{"$nulls":10},{"$f":"IF(ISNUMBER(SEARCH($A$3,L504)),MAX($K$1:K503)+1,0)","v":0},"Bhartiya International Ltd","BIL.NS",{"$nulls":12},{"$f":"IFERROR(VLOOKUP(ROWS($Z$2:Z504),K504:$L$6000,2,0),\"\")","v":""},{"$f":"IFERROR(VLOOKUP(ROWS($AA$2:AA504),K504:$M$6000,3,0),\"\")","v":""}]
[{"$nulls":10},{"$f":"IF(ISNUMBER(SEARCH($A$3,L505)),MAX($K$1:K504)+1,0)","v":0},"Bheema Cements Ltd","BHEEMACEM.BO",{"$nulls":12},{"$f":"IFERROR(VLOOKUP(ROWS($Z$2:Z505),K505:$L$6000,2,0),\"\")","v":""},{"$f":"IFERROR(VLOOKUP(ROWS($AA$2:AA505),K505:$M$6000,3,0),\"\")","v":""}]
[{"$nulls":10},{"$f":"IF(ISNUMBER(SEARCH($A$3,L506)),MAX($K$1:K505)+1,0)","v":0},"Bhilwara Spinners Ltd","BHILSPIN.BO",{"$nulls":12},{"$f":"IFERROR(VLOOKUP(ROWS($Z$2:Z506),K506:$L$6000,2,0),\"\")","v":""},{"$f":"IFERROR(VLOOKUP(ROWS($AA$2:AA506),K506:$M$6000,3,0),\"\")","v":""}]
[{"$nulls":10},{"$f":"IF(ISNUMBER(SEARCH($A$3,L507)),MAX($K$1:K506)+1,0)","v":0},"Bhilwara Technical","BTTL.BO",{"$nulls":12},{"$f":"IFERROR(VLOOKUP(ROWS($Z$2:Z507),K507:$L$6000,2,0),\"\")","v":""},{"$f":"IFERROR(VLOOKUP(ROWS($AA$2:AA507),K507:$M$6000,3,0),\"\")","v":""}]
[{"$nulls":10},{"$f":"IF(ISNUMBER(SEARCH($A$3,L508)),MAX($K$1:K507)+1,0)","v":0},"Bhoruka Aluminium Ltd","BHRKALM.BO",{"$nulls":12},{"$f":"IFERROR(VLOOKUP(ROWS($Z$2:Z508),K508:$L$6000,2,0),\"\")","v":""},{"$f":"IFERROR(VLOOKUP(ROWS($AA$2:AA508),K508:$M$6000,3,0),\"\")","v":""}]
[{"$nulls":10},{"$f":"IF(ISNUMBER(SEARCH($A$3,L509)),MAX($K$1:K508)+1,0)","v":0},"Bhushan Steel Ltd","BHUSSTEEL.BO",{"$nulls":12},{"$f":"IFERROR(VLOOKUP(ROWS($Z$2:Z509),K509:$L$6000,2,0),\"\")","v":""},{"$f":"IFERROR(VLOOKUP(ROWS($AA$2:AA509),K509:$M$6000,3,0),\"\")","v":""}]
[{"$nulls":10},{"$f":"IF(ISNUMBER(SEARCH($A$3,L510)),MAX($K$1:K509)+1,0)","v":0},"Bhushan Steel Ltd","BHUSANSTL.NS",{"$nulls":12},{"$f":"IFERROR(VLOOKUP(ROWS($Z$2:Z510),K510:$L$6000,2,0),\"\")","v":""},{"$f":"IFERROR(VLOOKUP(ROWS($AA$2:AA510),K510:$M$6000,3,0),\"\")","v":""}]
[{"$nulls":10},{"$f":"IF(ISNUMBER(SEARCH($A$3,L511)),MAX($K$1:K510)+1,0)","v":0},"Bhuwalka Steel Industries Ltd","BHUWALST.BO",{"$nulls":12},{"$f":"IFERROR(VLOOKUP(ROWS($Z$2:Z511),K511:$L$6000,2,0),\"\")","v":""},{"$f":"IFERROR(VLOOKUP(ROWS($AA$2:AA511),K511:$M$6000,3,0),\"\")","v":""}]
[{"$nulls":10},{"$f":"IF(ISNUMBER(SEARCH($A$3,L512)),MAX($K$1:K511)+1,0)","v":0},"Bihar Sponge Iron Ltd","BIHSPONG.BO",{"$nulls":12},{"$f":"IFERROR(VLOOKUP(ROWS($Z$2:Z512),K512:$L$6000,2,0),\"\")","v":""},{"$f":"IFERROR(VLOOKUP(ROWS($AA$2:AA512),K512:$M$6000,3,0),\"\")","v":""}]
[{"$nulls":10},{"$f":"IF(ISNUMBER(SEARCH($A$3,L513)),MAX($K$1:K512)+1,0)","v":0},"Bilcare Ltd","BI.BO",{"$nulls":12},{"$f":"IFERROR(VLOOKUP(ROWS($Z$2:Z513),K513:$L$6000,2,0),\"\")","v":""},{"$f":"IFERROR(VLOOKUP(ROWS($AA$2:AA513),K513:$M$6000,3,0),\"\")","v":""}]
[{"$nulls":10},{"$f":"IF(ISNUMBER(SEARCH($A$3,L514)),MAX($K$1:K513)+1,0)","v":0},"Bilpower Ltd","BILPOWERQ.BO",{"$nulls":12},{"$f":"IFERROR(VLOOKUP(ROWS($Z$2:Z514),K514:$L$6000,2,0),\"\")","v":""},{"$f":"IFERROR(VLOOKUP(ROWS($AA$2:AA514),K514:$M$6000,3,0),\"\")","v":""}]
[{"$nulls":10},{"$f":"IF(ISNUMBER(SEARCH($A$3,L515)),MAX($K$1:K514)+1,0)","v":0},"Bilpower Ltd","BILPOWER.NS",{"$nulls":12},{"$f":"IFERROR(VLOOKUP(ROWS($Z$2:Z515),K515:$L$6000,2,0),\"\")","v":""},{"$f":"IFERROR(VLOOKUP(ROWS($AA$2:AA515),K515:$M$6000,3,0),\"\")","v":""}]
[{"$nulls":10},{"$f":"IF(ISNUMBER(SEARCH($A$3,L516)),MAX($K$1:K515)+1,0)","v":0},"Bimetal Bearings Ltd","BIMETAL.BO",{"$nulls":12},{"$f":"IFERROR(VLOOKUP(ROWS($Z$2:Z516),K516:$L$6000,2,0),\"\")","v":""},{"$f":"IFERROR(VLOOKUP(ROWS($AA$2:AA516),K516:$M$6000,3,0),\"\")","v":""}]
[{"$nulls":10},{"$f":"IF(ISNUMBER(SEARCH($A$3,L517)),MAX($K$1:K516)+1,0)","v":0},"Binani Industries Ltd","BINANIZINC.BO",{"$nulls":12},{"$f":"IFERROR(VLOOKUP(ROWS($Z$2:Z517),K517:$L$6000,2,0),\"\")","v":""},{"$f":"IFERROR(VLOOKUP(ROWS($AA$2:AA517),K517:$M$6000,3,0),\"\")","v":""}]
[{"$nulls":10},{"$f":"IF(ISNUMBER(SEARCH($A$3,L518)),MAX($K$1:K517)+1,0)","v":0},"Binani Industries Ltd","BINANIIND.NS",{"$nulls":12},{"$f":"IFERROR(VLOOKUP(ROWS($Z$2:Z518),K518:$L$6000,2,0),\"\")","v":""},{"$f":"IFERROR(VLOOKUP(ROWS($AA$2:AA518),K518:$M$6000,3,0),\"\")","v":""}]
[{"$nulls":10},{"$f":"IF(ISNUMBER(SEARCH($A$3,L519)),MAX($K$1:K518)+1,0)","v":0},"Binayak Tex Processors Ltd","ZBINTXPP.BO",{"$nulls":12},{"$f":"IFERROR(VLOOKUP(ROWS($Z$2:Z519),K519:$L$6000,2,0),\"\")","v":""},{"$f":"IFERROR(VLOOKUP(ROWS($AA$2:AA519),K519:$M$6000,3,0),\"\")","v":""}]
[{"$nulls":10},{"$f":"IF(ISNUMBER(SEARCH($A$3,L520)),MAX($K$1:K519)+1,0)","v":0},"Binny Ltd","BINNY.BO",{"$nulls":12},{"$f":"IFERROR(VLOOKUP(ROWS($Z$2:Z520),K520:$L$6000,2,0),\"\")","v":""},{"$f":"IFERROR(VLOOKUP(ROWS($AA$2:AA520),K520:$M$6000,3,0),\"\")","v":""}]
[{"$nulls":10},{"$f":"IF(ISNUMBER(SEARCH($A$3,L521)),MAX($K$1:K520)+1,0)","v":0},"Biocon Ltd","BIOCON.BO",{"$nulls":12},{"$f":"IFERROR(VLOOKUP(ROWS($Z$2:Z521),K521:$L$6000,2,0),\"\")","v":""},{"$f":"IFERROR(VLOOKUP(ROWS($AA$2:AA521),K521:$M$6000,3,0),\"\")","v":""}]
[{"$nulls":10},{"$f":"IF(ISNUMBER(SEARCH($A$3,L522)),MAX($K$1:K521)+1,0)","v":0},"Biocon Ltd","BIOCON.NS",{"$nulls":12},{"$f":"IFERROR(VLOOKUP(ROWS($Z$2:Z522),K522:$L$6000,2,0),\"\")","v":""},{"$f":"IFERROR(VLOOKUP(ROWS($AA$2:AA522),K522:$M$6000,3,0),\"\")","v":""}]
[{"$nulls":10},{"$f":"IF(ISNUMBER(SEARCH($A$3,L523)),MAX($K$1:K522)+1,0)","v":0},"Biofil Chemicals & Pharma","BIOFIL.BO",{"$nulls":12},{"$f":"IFERROR(VLOOKUP(ROWS($Z$2:Z523),K523:$L$6000,2,0),\"\")","v":""},{"$f":"IFERROR(VLOOKUP(ROWS($AA$2:AA523),K523:$M$6000,3,0),\"\")","v":""}]
[{"$nulls":10},{"$f":"IF(ISNUMBER(SEARCH($A$3,L524)),MAX($K$1:K523)+1,0)","v":0},"Biopac India Corp Ltd","BIOPAC.BO",{"$nulls":12},{"$f":"IFERROR(VLOOKUP(ROWS($Z$2:Z524),K524:$L$6000,2,0),\"\")","v":""},{"$f":"IFERROR(VLOOKUP(ROWS($AA$2:AA524),K524:$M$6000,3,0),\"\")","v":""}]
[{"$nulls":10},{"$f":"IF(ISNUMBER(SEARCH($A$3,L525)),MAX($K$1:K524)+1,0)","v":0},"Birla Capital & Financial","BIRLACAP.BO",{"$nulls":12},{"$f":"IFERROR(VLOOKUP(ROWS($Z$2:Z525),K525:$L$6000,2,0),\"\")","v":""},{"$f":"IFERROR(VLOOKUP(ROWS($AA$2:AA525),K525:$M$6000,3,0),\"\")","v":""}]
[{"$nulls":10},{"$f":"IF(ISNUMBER(SEARCH($A$3,L526)),MAX($K$1:K525)+1,0)","v":0},"Birla Corp Ltd","BIRLACORP.BO",{"$nulls":12},{"$f":"IFERROR(VLOOKUP(ROWS($Z$2:Z526),K526:$L$6000,2,0),\"\")","v":""},{"$f":"IFERROR(VLOOKUP(ROWS($AA$2:AA526),K526:$M$6000,3,0),\"\")","v":""}]
[{"$nulls":10},{"$f":"IF(ISNUMBER(SEARCH($A$3,L527)),MAX($K$1:K526)+1,0)","v":0},"Birla Corp Ltd","BIRLACORP.NS",{"$nulls":12},{"$f":"IFERROR(VLOOKUP(ROWS($Z$2:Z527),K527:$L$6000,2,0),\"\")","v":""},{"$f":"IFERROR(VLOOKUP(ROWS($AA$2:AA527),K527:$M$6000,3,0),\"\")","v":""}]
[{"$nulls":10},{"$f":"IF(ISNUMBER(SEARCH($A$3,L528)),MAX($K$1:K527)+1,0)","v":0},"Birla Cotsyn (India) Ltd","BIRLACOT.BO",{"$nulls":12},{"$f":"IFERROR(VLOOKUP(ROWS($Z$2:Z528),K528:$L$6000,2,0),\"\")","v":""},{"$f":"IFERROR(VLOOKUP(ROWS($AA$2:AA528),K528:$M$6000,3,0),\"\")","v":""}]
[{"$nulls":10},{"$f":"IF(ISNUMBER(SEARCH($A$3,L529)),MAX($K$1:K528)+1,0)","v":0},"Birla Cotsyn (India) Ltd","BIRLACOT.NS",{"$nulls":12},{"$f":"IFERROR(VLOOKUP(ROWS($Z$2:Z529),K529:$L$6000,2,0),\"\")","v":""},{"$f":"IFERROR(VLOOKUP(ROWS($AA$2:AA529),K529:$M$6000,3,0),\"\")","v":""}]
[{"$nulls":10},{"$f":"IF(ISNUMBER(SEARCH($A$3,L530)),MAX($K$1:K529)+1,0)","v":0},"Birla Ericsson Optical Ltd","BIRLAERI.BO",{"$nulls":12},{"$f":"IFERROR(VLOOKUP(ROWS($Z$2:Z530),K530:$L$6000,2,0),\"\")","v":""},{"$f":"IFERROR(VLOOKUP(ROWS($AA$2:AA530),K530:$M$6000,3,0),\"\")","v":""}]
[{"$nulls":10},{"$f":"IF(ISNUMBER(SEARCH($A$3,L531)),MAX($K$1:K530)+1,0)","v":0},"Birla Ericsson Optical Ltd","BIRLAERIC.NS",{"$nulls":12},{"$f":"IFERROR(VLOOKUP(ROWS($Z$2:Z531),K531:$L$6000,2,0),\"\")","v":""},{"$f":"IFERROR(VLOOKUP(ROWS($AA$2:AA531),K531:$M$6000,3,0),\"\")","v":""}]
[{"$nulls":10},{"$f":"IF(ISNUMBER(SEARCH($A$3,L532)),MAX($K$1:K531)+1,0)","v":0},"Birla Power Solutions Ltd","BIRLAPOWER.BO",{"$nulls":12},{"$f":"IFERROR(VLOOKUP(ROWS($Z$2:Z532),K532:$L$6000,2,0),\"\")","v":""},{"$f":"IFERROR(VLOOKUP(ROWS($AA$2:AA532),K532:$M$6000,3,0),\"\")","v":""}]
[{"$nulls":10},{"$f":"IF(ISNUMBER(SEARCH($A$3,L533)),MAX($K$1:K532)+1,0)","v":0},"Birla Precision Technolog","BIRLAPREC.BO",{"$nulls":12},{"$f":"IFERROR(VLOOKUP(ROWS($Z$2:Z533),K533:$L$6000,2,0),\"\")","v":""},{"$f":"IFERROR(VLOOKUP(ROWS($AA$2:AA533),K533:$M$6000,3,0),\"\")","v":""}]
[{"$nulls":10},{"$f":"IF(ISNUMBER(SEARCH($A$3,L534)),MAX($K$1:K533)+1,0)","v":0},"Birla Shloka Edutech Ltd","BIRSHLEDU.BO",{"$nulls":12},{"$f":"IFERROR(VLOOKUP(ROWS($Z$2:Z534),K534:$L$6000,2,0),\"\")","v":""},{"$f":"IFERROR(VLOOKUP(ROWS($AA$2:AA534),K534:$M$6000,3,0),\"\")","v":""}]
[{"$nulls":10},{"$f":"IF(ISNUMBER(SEARCH($A$3,L535)),MAX($K$1:K534)+1,0)","v":0},"Bisleri Gujarat Ltd","BISIL.BO",{"$nulls":12},{"$f":"IFERROR(VLOOKUP(ROWS($Z$2:Z535),K535:$L$6000,2,0),\"\")","v":""},{"$f":"IFERROR(VLOOKUP(ROWS($AA$2:AA535),K535:$M$6000,3,0),\"\")","v":""}]
[{"$nulls":10},{"$f":"IF(ISNUMBER(SEARCH($A$3,L536)),MAX($K$1:K535)+1,0)","v":0},"BITS Ltd","BITS.BO",{"$nulls":12},{"$f":"IFERROR(VLOOKUP(ROWS($Z$2:Z536),K536:$L$6000,2,0),\"\")","v":""},{"$f":"IFERROR(VLOOKUP(ROWS($AA$2:AA536),K536:$M$6000,3,0),\"\")","v":""}]
[{"$nulls":10},{"$f":"IF(ISNUMBER(SEARCH($A$3,L537)),MAX($K$1:K536)+1,0)","v":0},"Black Rose Industries Ltd","BLACKROSE.BO",{"$nulls":12},{"$f":"IFERROR(VLOOKUP(ROWS($Z$2:Z537),K537:$L$6000,2,0),\"\")","v":""},{"$f":"IFERROR(VLOOKUP(ROWS($AA$2:AA537),K537:$M$6000,3,0),\"\")","v":""}]
[{"$nulls":10},{"$f":"IF(ISNUMBER(SEARCH($A$3,L538)),MAX($K$1:K537)+1,0)","v":0},"Blazon Marbles Ltd","SHGRANI.BO",{"$nulls":12},{"$f":"IFERROR(VLOOKUP(ROWS($Z$2:Z538),K538:$L$6000,2,0),\"\")","v":""},{"$f":"IFERROR(VLOOKUP(ROWS($AA$2:AA538),K538:$M$6000,3,0),\"\")","v":""}]
[{"$nulls":10},{"$f":"IF(ISNUMBER(SEARCH($A$3,L539)),MAX($K$1:K538)+1,0)","v":0},"BLB Ltd","BLB.BO",{"$nulls":12},{"$f":"IFERROR(VLOOKUP(ROWS($Z$2:Z539),K539:$L$6000,2,0),\"\")","v":""},{"$f":"IFERROR(VLOOKUP(ROWS($AA$2:AA539),K539:$M$6000,3,0),\"\")","v":""}]
[{"$nulls":10},{"$f":"IF(ISNUMBER(SEARCH($A$3,L540)),MAX($K$1:K539)+1,0)","v":0},"BLB Ltd","BLBLIMITE.NS",{"$nulls":12},{"$f":"IFERROR(VLOOKUP(ROWS($Z$2:Z540),K540:$L$6000,2,0),\"\")","v":""},{"$f":"IFERROR(VLOOKUP(ROWS($AA$2:AA540),K540:$M$6000,3,0),\"\")","v":""}]
[{"$nulls":10},{"$f":"IF(ISNUMBER(SEARCH($A$3,L541)),MAX($K$1:K540)+1,0)","v":0},"Bliss GVS Pharma Ltd","BLISSGVS.BO",{"$nulls":12},{"$f":"IFERROR(VLOOKUP(ROWS($Z$2:Z541),K541:$L$6000,2,0),\"\")","v":""},{"$f":"IFERROR(VLOOKUP(ROWS($AA$2:AA541),K541:$M$6000,3,0),\"\")","v":""}]
[{"$nulls":10},{"$f":"IF(ISNUMBER(SEARCH($A$3,L542)),MAX($K$1:K541)+1,0)","v":0},"Bloom Dekor Ltd","BLOOM.BO",{"$nulls":12},{"$f":"IFERROR(VLOOKUP(ROWS($Z$2:Z542),K542:$L$6000,2,0),\"\")","v":""},{"$f":"IFERROR(VLOOKUP(ROWS($AA$2:AA542),K542:$M$6000,3,0),\"\")","v":""}]
[{"$nulls":10},{"$f":"IF(ISNUMBER(SEARCH($A$3,L543)),MAX($K$1:K542)+1,0)","v":0},"Bloom Industries Ltd","BLOIN.BO",{"$nulls":12},{"$f":"IFERROR(VLOOKUP(ROWS($Z$2:Z543),K543:$L$6000,2,0),\"\")","v":""},{"$f":"IFERROR(VLOOKUP(ROWS($AA$2:AA543),K543:$M$6000,3,0),\"\")","v":""}]
[{"$nulls":10},{"$f":"IF(ISNUMBER(SEARCH($A$3,L544)),MAX($K$1:K543)+1,0)","v":0},"BLS Infotech Ltd","BLSINFOTE.BO",{"$nulls":12},{"$f":"IFERROR(VLOOKUP(ROWS($Z$2:Z544),K544:$L$6000,2,0),\"\")","v":""},{"$f":"IFERROR(VLOOKUP(ROWS($AA$2:AA544),K544:$M$6000,3,0),\"\")","v":""}]
[{"$nulls":10},{"$f":"IF(ISNUMBER(SEARCH($A$3,L545)),MAX($K$1:K544)+1,0)","v":0},"Blue Chip India Ltd","BLUECHIPI.BO",{"$nulls":12},{"$f":"IFERROR(VLOOKUP(ROWS($Z$2:Z545),K545:$L$6000,2,0),\"\")","v":""},{"$f":"IFERROR(VLOOKUP(ROWS($AA$2:AA545),K545:$M$6000,3,0),\"\")","v":""}]
[{"$nulls":10},{"$f":"IF(ISNUMBER(SEARCH($A$3,L546)),MAX($K$1:K545)+1,0)","v":0},"Blue Chip India Ltd","BLUECHIP.NS",{"$nulls":12},{"$f":"IFERROR(VLOOKUP(ROWS($Z$2:Z546),K546:$L$6000,2,0),\"\")","v":""},{"$f":"IFERROR(VLOOKUP(ROWS($AA$2:AA546),K546:$M$6000,3,0),\"\")","v":""}]
[{"$nulls":10},{"$f":"IF(ISNUMBER(SEARCH($A$3,L547)),MAX($K$1:K546)+1,0)","v":0},"Blue Chip Tex Industries Ltd","BLUECHIPT.BO",{"$nulls":12},{"$f":"IFERROR(VLOOKUP(ROWS($Z$2:Z547),K547:$L$6000,2,0),\"\")","v":""},{"$f":"IFERROR(VLOOKUP(ROWS($AA$2:AA547),K547:$M$6000,3,0),\"\")","v":""}]
[{"$nulls":10},{"$f":"IF(ISNUMBER(SEARCH($A$3,L548)),MAX($K$1:K547)+1,0)","v":0},"Blue Coast Hotels Ltd","MOREPENH.BO",{"$nulls":12},{"$f":"IFERROR(VLOOKUP(ROWS($Z$2:Z548),K548:$L$6000,2,0),\"\")","v":""},{"$f":"IFERROR(VLOOKUP(ROWS($AA$2:AA548),K548:$M$6000,3,0),\"\")","v":""}]
[{"$nulls":10},{"$f":"IF(ISNUMBER(SEARCH($A$3,L549)),MAX($K$1:K548)+1,0)","v":0},"Blue Coast Hotels Ltd","BLUECOAST.NS",{"$nulls":12},{"$f":"IFERROR(VLOOKUP(ROWS($Z$2:Z549),K549:$L$6000,2,0),\"\")","v":""},{"$f":"IFERROR(VLOOKUP(ROWS($AA$2:AA549),K549:$M$6000,3,0),\"\")","v":""}]
[{"$nulls":10},{"$f":"IF(ISNUMBER(SEARCH($A$3,L550)),MAX($K$1:K549)+1,0)","v":0},"Blue Dart Express Ltd","BLUEDART.BO",{"$nulls":12},{"$f":"IFERROR(VLOOKUP(ROWS($Z$2:Z550),K550:$L$6000,2,0),\"\")","v":""},{"$f":"IFERROR(VLOOKUP(ROWS($AA$2:AA550),K550:$M$6000,3,0),\"\")","v":""}]
[{"$nulls":10},{"$f":"IF(ISNUMBER(SEARCH($A$3,L551)),MAX($K$1:K550)+1,0)","v":0},"Blue Dart Express Ltd","BLUEDART.NS",{"$nulls":12},{"$f":"IFERROR(VLOOKUP(ROWS($Z$2:Z551),K551:$L$6000,2,0),\"\")","v":""},{"$f":"IFERROR(VLOOKUP(ROWS($AA$2:AA551),K551:$M$6000,3,0),\"\")","v":""}]
[{"$nulls":10},{"$f":"IF(ISNUMBER(SEARCH($A$3,L552)),MAX($K$1:K551)+1,0)","v":0},"Blue Star Infotech Ltd","BLUESTINFO.BO",{"$nulls":12},{"$f":"IFERROR(VLOOKUP(ROWS($Z$2:Z552),K552:$L$6000,2,0),\"\")","v":""},{"$f":"IFERROR(VLOOKUP(ROWS($AA$2:AA552),K552:$M$6000,3,0),\"\")","v":""}]
[{"$nulls":10},{"$f":"IF(ISNUMBER(SEARCH($A$3,L553)),MAX($K$1:K552)+1,0)","v":0},"Blue Star Infotech Ltd","BLUESTINF.NS",{"$nulls":12},{"$f":"IFERROR(VLOOKUP(ROWS($Z$2:Z553),K553:$L$6000,2,0),\"\")","v":""},{"$f":"IFERROR(VLOOKUP(ROWS($AA$2:AA553),K553:$M$6000,3,0),\"\")","v":""}]
[{"$nulls":10},{"$f":"IF(ISNUMBER(SEARCH($A$3,L554)),MAX($K$1:K553)+1,0)","v":0},"Blue Star Ltd","BLUESTAR.BO",{"$nulls":12},{"$f":"IFERROR(VLOOKUP(ROWS($Z$2:Z554),K554:$L$6000,2,0),\"\")","v":""},{"$f":"IFERROR(VLOOKUP(ROWS($AA$2:AA554),K554:$M$6000,3,0),\"\")","v":""}]
[{"$nulls":10},{"$f":"IF(ISNUMBER(SEARCH($A$3,L555)),MAX($K$1:K554)+1,0)","v":0},"Blue Star Ltd","BLUESTARC.NS",{"$nulls":12},{"$f":"IFERROR(VLOOKUP(ROWS($Z$2:Z555),K555:$L$6000,2,0),\"\")","v":""},{"$f":"IFERROR(VLOOKUP(ROWS($AA$2:AA555),K555:$M$6000,3,0),\"\")","v":""}]
[{"$nulls":10},{"$f":"IF(ISNUMBER(SEARCH($A$3,L556)),MAX($K$1:K555)+1,0)","v":0},"Bluechip Stockspin Ltd","BLUCHIP.BO",{"$nulls":12},{"$f":"IFERROR(VLOOKUP(ROWS($Z$2:Z556),K556:$L$6000,2,0),\"\")","v":""},{"$f":"IFERROR(VLOOKUP(ROWS($AA$2:AA556),K556:$M$6000,3,0),\"\")","v":""}]
[{"$nulls":10},{"$f":"IF(ISNUMBER(SEARCH($A$3,L557)),MAX($K$1:K556)+1,0)","v":0},"BMB Music & Magnetics Ltd","BMBMUMG.BO",{"$nulls":12},{"$f":"IFERROR(VLOOKUP(ROWS($Z$2:Z557),K557:$L$6000,2,0),\"\")","v":""},{"$f":"IFERROR(VLOOKUP(ROWS($AA$2:AA557),K557:$M$6000,3,0),\"\")","v":""}]
[{"$nulls":10},{"$f":"IF(ISNUMBER(SEARCH($A$3,L558)),MAX($K$1:K557)+1,0)","v":0},"BNK Capital Markets Ltd","BNKCAP.BO",{"$nulls":12},{"$f":"IFERROR(VLOOKUP(ROWS($Z$2:Z558),K558:$L$6000,2,0),\"\")","v":""},{"$f":"IFERROR(VLOOKUP(ROWS($AA$2:AA558),K558:$M$6000,3,0),\"\")","v":""}]
[{"$nulls":10},{"$f":"IF(ISNUMBER(SEARCH($A$3,L559)),MAX($K$1:K558)+1,0)","v":0},"BNR Udyog Ltd","BNRUDY.BO",{"$nulls":12},{"$f":"IFERROR(VLOOKUP(ROWS($Z$2:Z559),K559:$L$6000,2,0),\"\")","v":""},{"$f":"IFERROR(VLOOKUP(ROWS($AA$2:AA559),K559:$M$6000,3,0),\"\")","v":""}]
[{"$nulls":10},{"$f":"IF(ISNUMBER(SEARCH($A$3,L560)),MAX($K$1:K559)+1,0)","v":0},"Bodal Chemicals Ltd","BODALCHEM.BO",{"$nulls":12},{"$f":"IFERROR(VLOOKUP(ROWS($Z$2:Z560),K560:$L$6000,2,0),\"\")","v":""},{"$f":"IFERROR(VLOOKUP(ROWS($AA$2:AA560),K560:$M$6000,3,0),\"\")","v":""}]
[{"$nulls":10},{"$f":"IF(ISNUMBER(SEARCH($A$3,L561)),MAX($K$1:K560)+1,0)","v":0},"Bodhtree Consulting Ltd","BODHTREE.NS",{"$nulls":12},{"$f":"IFERROR(VLOOKUP(ROWS($Z$2:Z561),K561:$L$6000,2,0),\"\")","v":""},{"$f":"IFERROR(VLOOKUP(ROWS($AA$2:AA561),K561:$M$6000,3,0),\"\")","v":""}]
[{"$nulls":10},{"$f":"IF(ISNUMBER(SEARCH($A$3,L562)),MAX($K$1:K561)+1,0)","v":0},"Bombay Burmah Trading","BOMBURH.BO",{"$nulls":12},{"$f":"IFERROR(VLOOKUP(ROWS($Z$2:Z562),K562:$L$6000,2,0),\"\")","v":""},{"$f":"IFERROR(VLOOKUP(ROWS($AA$2:AA562),K562:$M$6000,3,0),\"\")","v":""}]
[{"$nulls":10},{"$f":"IF(ISNUMBER(SEARCH($A$3,L563)),MAX($K$1:K562)+1,0)","v":0},"Bombay Cycle & Motor","BOMBCYC.BO",{"$nulls":12},{"$f":"IFERROR(VLOOKUP(ROWS($Z$2:Z563),K563:$L$6000,2,0),\"\")","v":""},{"$f":"IFERROR(VLOOKUP(ROWS($AA$2:AA563),K563:$M$6000,3,0),\"\")","v":""}]
[{"$nulls":10},{"$f":"IF(ISNUMBER(SEARCH($A$3,L564)),MAX($K$1:K563)+1,0)","v":0},"Bombay Dyeing","BOMBAYDY.BO",{"$nulls":12},{"$f":"IFERROR(VLOOKUP(ROWS($Z$2:Z564),K564:$L$6000,2,0),\"\")","v":""},{"$f":"IFERROR(VLOOKUP(ROWS($AA$2:AA564),K564:$M$6000,3,0),\"\")","v":""}]
[{"$nulls":10},{"$f":"IF(ISNUMBER(SEARCH($A$3,L565)),MAX($K$1:K564)+1,0)","v":0},"Bombay Dyeing","BOMDYEING.NS",{"$nulls":12},{"$f":"IFERROR(VLOOKUP(ROWS($Z$2:Z565),K565:$L$6000,2,0),\"\")","v":""},{"$f":"IFERROR(VLOOKUP(ROWS($AA$2:AA565),K565:$M$6000,3,0),\"\")","v":""}]
[{"$nulls":10},{"$f":"IF(ISNUMBER(SEARCH($A$3,L566)),MAX($K$1:K565)+1,0)","v":0},"Bombay Rayon Fashions Ltd","BRFL.BO",{"$nulls":12},{"$f":"IFERROR(VLOOKUP(ROWS($Z$2:Z566),K566:$L$6000,2,0),\"\")","v":""},{"$f":"IFERROR(VLOOKUP(ROWS($AA$2:AA566),K566:$M$6000,3,0),\"\")","v":""}]
[{"$nulls":10},{"$f":"IF(ISNUMBER(SEARCH($A$3,L567)),MAX($K$1:K566)+1,0)","v":0},"Bombay Rayon Fashions Ltd","BRFL.NS",{"$nulls":12},{"$f":"IFERROR(VLOOKUP(ROWS($Z$2:Z567),K567:$L$6000,2,0),\"\")","v":""},{"$f":"IFERROR(VLOOKUP(ROWS($AA$2:AA567),K567:$M$6000,3,0),\"\")","v":""}]
[{"$nulls":10},{"$f":"IF(ISNUMBER(SEARCH($A$3,L568)),MAX($K$1:K567)+1,0)","v":0},"Bombay Swadeshi Stores Ltd","BOMSS.BO",{"$nulls":12},{"$f":"IFERROR(VLOOKUP(ROWS($Z$2:Z568),K568:$L$6000,2,0),\"\")","v":""},{"$f":"IFERROR(VLOOKUP(ROWS($AA$2:AA568),K568:$M$6000,3,0),\"\")","v":""}]
[{"$nulls":10},{"$f":"IF(ISNUMBER(SEARCH($A$3,L569)),MAX($K$1:K568)+1,0)","v":0},"Bombay Talkies Ltd","WHITELIO.BO",{"$nulls":12},{"$f":"IFERROR(VLOOKUP(ROWS($Z$2:Z569),K569:$L$6000,2,0),\"\")","v":""},{"$f":"IFERROR(VLOOKUP(ROWS($AA$2:AA569),K569:$M$6000,3,0),\"\")","v":""}]
[{"$nulls":10},{"$f":"IF(ISNUMBER(SEARCH($A$3,L570)),MAX($K$1:K569)+1,0)","v":0},"Bonanza Industries Ltd","BONINDL.BO",{"$nulls":12},{"$f":"IFERROR(VLOOKUP(ROWS($Z$2:Z570),K570:$L$6000,2,0),\"\")","v":""},{"$f":"IFERROR(VLOOKUP(ROWS($AA$2:AA570),K570:$M$6000,3,0),\"\")","v":""}]
[{"$nulls":10},{"$f":"IF(ISNUMBER(SEARCH($A$3,L571)),MAX($K$1:K570)+1,0)","v":0},"Borax Morarji Ltd","BORAX.BO",{"$nulls":12},{"$f":"IFERROR(VLOOKUP(ROWS($Z$2:Z571),K571:$L$6000,2,0),\"\")","v":""},{"$f":"IFERROR(VLOOKUP(ROWS($AA$2:AA571),K571:$M$6000,3,0),\"\")","v":""}]
[{"$nulls":10},{"$f":"IF(ISNUMBER(SEARCH($A$3,L572)),MAX($K$1:K571)+1,0)","v":0},"Bosch Ltd","BOSCHL.BO",{"$nulls":12},{"$f":"IFERROR(VLOOKUP(ROWS($Z$2:Z572),K572:$L$6000,2,0),\"\")","v":""},{"$f":"IFERROR(VLOOKUP(ROWS($AA$2:AA572),K572:$M$6000,3,0),\"\")","v":""}]
[{"$nulls":10},{"$f":"IF(ISNUMBER(SEARCH($A$3,L573)),MAX($K$1:K572)+1,0)","v":0},"Bosch Ltd","BOSCHLTD.NS",{"$nulls":12},{"$f":"IFERROR(VLOOKUP(ROWS($Z$2:Z573),K573:$L$6000,2,0),\"\")","v":""},{"$f":"IFERROR(VLOOKUP(ROWS($AA$2:AA573),K573:$M$6000,3,0),\"\")","v":""}]
[{"$nulls":10},{"$f":"IF(ISNUMBER(SEARCH($A$3,L574)),MAX($K$1:K573)+1,0)","v":0},"BPL Ltd","BPL.BO",{"$nulls":12},{"$f":"IFERROR(VLOOKUP(ROWS($Z$2:Z574),K574:$L$6000,2,0),\"\")","v":""},{"$f":"IFERROR(VLOOKUP(ROWS($AA$2:AA574),K574:$M$6000,3,0),\"\")","v":""}]
[{"$nulls":10},{"$f":"IF(ISNUMBER(SEARCH($A$3,L575)),MAX($K$1:K574)+1,0)","v":0},"BPL Ltd","BPL.NS",{"$nulls":12},{"$f":"IFERROR(VLOOKUP(ROWS($Z$2:Z575),K575:$L$6000,2,0),\"\")","v":""},{"$f":"IFERROR(VLOOKUP(ROWS($AA$2:AA575),K575:$M$6000,3,0),\"\")","v":""}]
[{"$nulls":10},{"$f":"IF(ISNUMBER(SEARCH($A$3,L576)),MAX($K$1:K575)+1,0)","v":0},"Brady & Morris","BRADYM.BO",{"$nulls":12},{"$f":"IFERROR(VLOOKUP(ROWS($Z$2:Z576),K576:$L$6000,2,0),\"\")","v":""},{"$f":"IFERROR(VLOOKUP(ROWS($AA$2:AA576),K576:$M$6000,3,0),\"\")","v":""}]
[{"$nulls":10},{"$f":"IF(ISNUMBER(SEARCH($A$3,L577)),MAX($K$1:K576)+1,0)","v":0},"Brahmanand Himghar Ltd","BRAHMANAN.BO",{"$nulls":12},{"$f":"IFERROR(VLOOKUP(ROWS($Z$2:Z577),K577:$L$6000,2,0),\"\")","v":""},{"$f":"IFERROR(VLOOKUP(ROWS($AA$2:AA577),K577:$M$6000,3,0),\"\")","v":""}]
[{"$nulls":10},{"$f":"IF(ISNUMBER(SEARCH($A$3,L578)),MAX($K$1:K577)+1,0)","v":0},"Brakes Auto (India) Ltd","BRAKAUT.BO",{"$nulls":12},{"$f":"IFERROR(VLOOKUP(ROWS($Z$2:Z578),K578:$L$6000,2,0),\"\")","v":""},{"$f":"IFERROR(VLOOKUP(ROWS($AA$2:AA578),K578:$M$6000,3,0),\"\")","v":""}]
[{"$nulls":10},{"$f":"IF(ISNUMBER(SEARCH($A$3,L579)),MAX($K$1:K578)+1,0)","v":0},"Brand Realty Services Ltd","BRANDREAL.BO",{"$nulls":12},{"$f":"IFERROR(VLOOKUP(ROWS($Z$2:Z579),K579:$L$6000,2,0),\"\")","v":""},{"$f":"IFERROR(VLOOKUP(ROWS($AA$2:AA579),K579:$M$6000,3,0),\"\")","v":""}]
[{"$nulls":10},{"$f":"IF(ISNUMBER(SEARCH($A$3,L580)),MAX($K$1:K579)+1,0)","v":0},"Brandhouse Retails Ltd","BRANDHOUS.BO",{"$nulls":12},{"$f":"IFERROR(VLOOKUP(ROWS($Z$2:Z580),K580:$L$6000,2,0),\"\")","v":""},{"$f":"IFERROR(VLOOKUP(ROWS($AA$2:AA580),K580:$M$6000,3,0),\"\")","v":""}]
[{"$nulls":10},{"$f":"IF(ISNUMBER(SEARCH($A$3,L581)),MAX($K$1:K580)+1,0)","v":0},"Brandhouse Retails Ltd","BRANDHOUS.NS",{"$nulls":12},{"$f":"IFERROR(VLOOKUP(ROWS($Z$2:Z581),K581:$L$6000,2,0),\"\")","v":""},{"$f":"IFERROR(VLOOKUP(ROWS($AA$2:AA581),K581:$M$6000,3,0),\"\")","v":""}]
[{"$nulls":10},{"$f":"IF(ISNUMBER(SEARCH($A$3,L582)),MAX($K$1:K581)+1,0)","v":0},"Brawn Biotech Ltd","BRAWN.BO",{"$nulls":12},{"$f":"IFERROR(VLOOKUP(ROWS($Z$2:Z582),K582:$L$6000,2,0),\"\")","v":""},{"$f":"IFERROR(VLOOKUP(ROWS($AA$2:AA582),K582:$M$6000,3,0),\"\")","v":""}]
[{"$nulls":10},{"$f":"IF(ISNUMBER(SEARCH($A$3,L583)),MAX($K$1:K582)+1,0)","v":0},"Bridge Securities Ltd","BRIDGESE.BO",{"$nulls":12},{"$f":"IFERROR(VLOOKUP(ROWS($Z$2:Z583),K583:$L$6000,2,0),\"\")","v":""},{"$f":"IFERROR(VLOOKUP(ROWS($AA$2:AA583),K583:$M$6000,3,0),\"\")","v":""}]
[{"$nulls":10},{"$f":"IF(ISNUMBER(SEARCH($A$3,L584)),MAX($K$1:K583)+1,0)","v":0},"Brigade Enterprises Ltd","BRIGADE.BO",{"$nulls":12},{"$f":"IFERROR(VLOOKUP(ROWS($Z$2:Z584),K584:$L$6000,2,0),\"\")","v":""},{"$f":"IFERROR(VLOOKUP(ROWS($AA$2:AA584),K584:$M$6000,3,0),\"\")","v":""}]
[{"$nulls":10},{"$f":"IF(ISNUMBER(SEARCH($A$3,L585)),MAX($K$1:K584)+1,0)","v":0},"Bright Brothers Ltd","BRIGHTBR.BO",{"$nulls":12},{"$f":"IFERROR(VLOOKUP(ROWS($Z$2:Z585),K585:$L$6000,2,0),\"\")","v":""},{"$f":"IFERROR(VLOOKUP(ROWS($AA$2:AA585),K585:$M$6000,3,0),\"\")","v":""}]
[{"$nulls":10},{"$f":"IF(ISNUMBER(SEARCH($A$3,L586)),MAX($K$1:K585)+1,0)","v":0},"Brijlaxmi Leasing","BRIJLEAS.BO",{"$nulls":12},{"$f":"IFERROR(VLOOKUP(ROWS($Z$2:Z586),K586:$L$6000,2,0),\"\")","v":""},{"$f":"IFERROR(VLOOKUP(ROWS($AA$2:AA586),K586:$M$6000,3,0),\"\")","v":""}]
[{"$nulls":10},{"$f":"IF(ISNUMBER(SEARCH($A$3,L587)),MAX($K$1:K586)+1,0)","v":0},"Britannia Industries Ltd","BRITANNIA.BO",{"$nulls":12},{"$f":"IFERROR(VLOOKUP(ROWS($Z$2:Z587),K587:$L$6000,2,0),\"\")","v":""},{"$f":"IFERROR(VLOOKUP(ROWS($AA$2:AA587),K587:$M$6000,3,0),\"\")","v":""}]
[{"$nulls":10},{"$f":"IF(ISNUMBER(SEARCH($A$3,L588)),MAX($K$1:K587)+1,0)","v":0},"Britannia Industries Ltd","BRITANNIA.NS",{"$nulls":12},{"$f":"IFERROR(VLOOKUP(ROWS($Z$2:Z588),K588:$L$6000,2,0),\"\")","v":""},{"$f":"IFERROR(VLOOKUP(ROWS($AA$2:AA588),K588:$M$6000,3,0),\"\")","v":""}]
[{"$nulls":10},{"$f":"IF(ISNUMBER(SEARCH($A$3,L589)),MAX($K$1:K588)+1,0)","v":0},"Broadcast Initiatives Ltd","BROADCAST.BO",{"$nulls":12},{"$f":"IFERROR(VLOOKUP(ROWS($Z$2:Z589),K589:$L$6000,2,0),\"\")","v":""},{"$f":"IFERROR(VLOOKUP(ROWS($AA$2:AA589),K589:$M$6000,3,0),\"\")","v":""}]
[{"$nulls":10},{"$f":"IF(ISNUMBER(SEARCH($A$3,L590)),MAX($K$1:K589)+1,0)","v":0},"Broadcast Initiatives Ltd","BROADCAST.NS",{"$nulls":12},{"$f":"IFERROR(VLOOKUP(ROWS($Z$2:Z590),K590:$L$6000,2,0),\"\")","v":""},{"$f":"IFERROR(VLOOKUP(ROWS($AA$2:AA590),K590:$M$6000,3,0),\"\")","v":""}]
[{"$nulls":10},{"$f":"IF(ISNUMBER(SEARCH($A$3,L591)),MAX($K$1:K590)+1,0)","v":0},"Brushman (India) Ltd","BRUSHMAN.BO",{"$nulls":12},{"$f":"IFERROR(VLOOKUP(ROWS($Z$2:Z591),K591:$L$6000,2,0),\"\")","v":""},{"$f":"IFERROR(VLOOKUP(ROWS($AA$2:AA591),K591:$M$6000,3,0),\"\")","v":""}]
[{"$nulls":10},{"$f":"IF(ISNUMBER(SEARCH($A$3,L592)),MAX($K$1:K591)+1,0)","v":0},"BSEL Infrastructure Realty Ltd","BSELINFRA.BO",{"$nulls":12},{"$f":"IFERROR(VLOOKUP(ROWS($Z$2:Z592),K592:$L$6000,2,0),\"\")","v":""},{"$f":"IFERROR(VLOOKUP(ROWS($AA$2:AA592),K592:$M$6000,3,0),\"\")","v":""}]
[{"$nulls":10},{"$f":"IF(ISNUMBER(SEARCH($A$3,L593)),MAX($K$1:K592)+1,0)","v":0},"BSEL Infrastructure Realty Ltd","BSELINFRA.NS",{"$nulls":12},{"$f":"IFERROR(VLOOKUP(ROWS($Z$2:Z593),K593:$L$6000,2,0),\"\")","v":""},{"$f":"IFERROR(VLOOKUP(ROWS($AA$2:AA593),K593:$M$6000,3,0),\"\")","v":""}]
[{"$nulls":10},{"$f":"IF(ISNUMBER(SEARCH($A$3,L594)),MAX($K$1:K593)+1,0)","v":0},"BSL Ltd","BSL.BO",{"$nulls":12},{"$f":"IFERROR(VLOOKUP(ROWS($Z$2:Z594),K594:$L$6000,2,0),\"\")","v":""},{"$f":"IFERROR(VLOOKUP(ROWS($AA$2:AA594),K594:$M$6000,3,0),\"\")","v":""}]
[{"$nulls":10},{"$f":"IF(ISNUMBER(SEARCH($A$3,L595)),MAX($K$1:K594)+1,0)","v":0},"BSL Ltd","BSL.NS",{"$nulls":12},{"$f":"IFERROR(VLOOKUP(ROWS($Z$2:Z595),K595:$L$6000,2,0),\"\")","v":""},{"$f":"IFERROR(VLOOKUP(ROWS($AA$2:AA595),K595:$M$6000,3,0),\"\")","v":""}]
[{"$nulls":10},{"$f":"IF(ISNUMBER(SEARCH($A$3,L596)),MAX($K$1:K595)+1,0)","v":0},"Burnpur Cement Ltd","BURNPUR.BO",{"$nulls":12},{"$f":"IFERROR(VLOOKUP(ROWS($Z$2:Z596),K596:$L$6000,2,0),\"\")","v":""},{"$f":"IFERROR(VLOOKUP(ROWS($AA$2:AA596),K596:$M$6000,3,0),\"\")","v":""}]
[{"$nulls":10},{"$f":"IF(ISNUMBER(SEARCH($A$3,L597)),MAX($K$1:K596)+1,0)","v":0},"Burnpur Cement Ltd","BURNPUR.NS",{"$nulls":12},{"$f":"IFERROR(VLOOKUP(ROWS($Z$2:Z597),K597:$L$6000,2,0),\"\")","v":""},{"$f":"IFERROR(VLOOKUP(ROWS($AA$2:AA597),K597:$M$6000,3,0),\"\")","v":""}]
[{"$nulls":10},{"$f":"IF(ISNUMBER(SEARCH($A$3,L598)),MAX($K$1:K597)+1,0)","v":0},"Butterfly Gandhimathi","GANDHIAP.BO",{"$nulls":12},{"$f":"IFERROR(VLOOKUP(ROWS($Z$2:Z598),K598:$L$6000,2,0),\"\")","v":""},{"$f":"IFERROR(VLOOKUP(ROWS($AA$2:AA598),K598:$M$6000,3,0),\"\")","v":""}]
[{"$nulls":10},{"$f":"IF(ISNUMBER(SEARCH($A$3,L599)),MAX($K$1:K598)+1,0)","v":0},"Byke Hospitality Ltd","SUAVE.BO",{"$nulls":12},{"$f":"IFERROR(VLOOKUP(ROWS($Z$2:Z599),K599:$L$6000,2,0),\"\")","v":""},{"$f":"IFERROR(VLOOKUP(ROWS($AA$2:AA599),K599:$M$6000,3,0),\"\")","v":""}]
[{"$nulls":10},{"$f":"IF(ISNUMBER(SEARCH($A$3,L600)),MAX($K$1:K599)+1,0)","v":0},"C & C Constructions Ltd","CANDC.BO",{"$nulls":12},{"$f":"IFERROR(VLOOKUP(ROWS($Z$2:Z600),K600:$L$6000,2,0),\"\")","v":""},{"$f":"IFERROR(VLOOKUP(ROWS($AA$2:AA600),K600:$M$6000,3,0),\"\")","v":""}]
[{"$nulls":10},{"$f":"IF(ISNUMBER(SEARCH($A$3,L601)),MAX($K$1:K600)+1,0)","v":0},"C & C Constructions Ltd","CANDC.NS",{"$nulls":12},{"$f":"IFERROR(VLOOKUP(ROWS($Z$2:Z601),K601:$L$6000,2,0),\"\")","v":""},{"$f":"IFERROR(VLOOKUP(ROWS($AA$2:AA601),K601:$M$6000,3,0),\"\")","v":""}]
[{"$nulls":10},{"$f":"IF(ISNUMBER(SEARCH($A$3,L602)),MAX($K$1:K601)+1,0)","v":0},"C J Gelatine Products Ltd","CJGEL.BO",{"$nulls":12},{"$f":"IFERROR(VLOOKUP(ROWS($Z$2:Z602),K602:$L$6000,2,0),\"\")","v":""},{"$f":"IFERROR(VLOOKUP(ROWS($AA$2:AA602),K602:$M$6000,3,0),\"\")","v":""}]
[{"$nulls":10},{"$f":"IF(ISNUMBER(SEARCH($A$3,L603)),MAX($K$1:K602)+1,0)","v":0},"Cadila Healthcare Ltd","CADILAHC.BO",{"$nulls":12},{"$f":"IFERROR(VLOOKUP(ROWS($Z$2:Z603),K603:$L$6000,2,0),\"\")","v":""},{"$f":"IFERROR(VLOOKUP(ROWS($AA$2:AA603),K603:$M$6000,3,0),\"\")","v":""}]
[{"$nulls":10},{"$f":"IF(ISNUMBER(SEARCH($A$3,L604)),MAX($K$1:K603)+1,0)","v":0},"Cadila Healthcare Ltd","CADILAHC.NS",{"$nulls":12},{"$f":"IFERROR(VLOOKUP(ROWS($Z$2:Z604),K604:$L$6000,2,0),\"\")","v":""},{"$f":"IFERROR(VLOOKUP(ROWS($AA$2:AA604),K604:$M$6000,3,0),\"\")","v":""}]
[{"$nulls":10},{"$f":"IF(ISNUMBER(SEARCH($A$3,L605)),MAX($K$1:K604)+1,0)","v":0},"Cairn India Ltd","CAIRN.BO",{"$nulls":12},{"$f":"IFERROR(VLOOKUP(ROWS($Z$2:Z605),K605:$L$6000,2,0),\"\")","v":""},{"$f":"IFERROR(VLOOKUP(ROWS($AA$2:AA605),K605:$M$6000,3,0),\"\")","v":""}]
[{"$nulls":10},{"$f":"IF(ISNUMBER(SEARCH($A$3,L606)),MAX($K$1:K605)+1,0)","v":0},"Cairn India Ltd","CAIRN.NS",{"$nulls":12},{"$f":"IFERROR(VLOOKUP(ROWS($Z$2:Z606),K606:$L$6000,2,0),\"\")","v":""},{"$f":"IFERROR(VLOOKUP(ROWS($AA$2:AA606),K606:$M$6000,3,0),\"\")","v":""}]
[{"$nulls":10},{"$f":"IF(ISNUMBER(SEARCH($A$3,L607)),MAX($K$1:K606)+1,0)","v":0},"Calcom Vision Ltd","CALCOM.BO",{"$nulls":12},{"$f":"IFERROR(VLOOKUP(ROWS($Z$2:Z607),K607:$L$6000,2,0),\"\")","v":""},{"$f":"IFERROR(VLOOKUP(ROWS($AA$2:AA607),K607:$M$6000,3,0),\"\")","v":""}]
[{"$nulls":10},{"$f":"IF(ISNUMBER(SEARCH($A$3,L608)),MAX($K$1:K607)+1,0)","v":0},"California Software Co Ltd","CALIFSOF.BO",{"$nulls":12},{"$f":"IFERROR(VLOOKUP(ROWS($Z$2:Z608),K608:$L$6000,2,0),\"\")","v":""},{"$f":"IFERROR(VLOOKUP(ROWS($AA$2:AA608),K608:$M$6000,3,0),\"\")","v":""}]
[{"$nulls":10},{"$f":"IF(ISNUMBER(SEARCH($A$3,L609)),MAX($K$1:K608)+1,0)","v":0},"California Software Co Ltd","CALSOFT.NS",{"$nulls":12},{"$f":"IFERROR(VLOOKUP(ROWS($Z$2:Z609),K609:$L$6000,2,0),\"\")","v":""},{"$f":"IFERROR(VLOOKUP(ROWS($AA$2:AA609),K609:$M$6000,3,0),\"\")","v":""}]
[{"$nulls":10},{"$f":"IF(ISNUMBER(SEARCH($A$3,L610)),MAX($K$1:K609)+1,0)","v":0},"Cals Refineries Ltd","CALSREF.BO",{"$nulls":12},{"$f":"IFERROR(VLOOKUP(ROWS($Z$2:Z610),K610:$L$6000,2,0),\"\")","v":""},{"$f":"IFERROR(VLOOKUP(ROWS($AA$2:AA610),K610:$M$6000,3,0),\"\")","v":""}]
[{"$nulls":10},{"$f":"IF(ISNUMBER(SEARCH($A$3,L611)),MAX($K$1:K610)+1,0)","v":0},"Cambridge Technology Ente","CTE.BO",{"$nulls":12},{"$f":"IFERROR(VLOOKUP(ROWS($Z$2:Z611),K611:$L$6000,2,0),\"\")","v":""},{"$f":"IFERROR(VLOOKUP(ROWS($AA$2:AA611),K611:$M$6000,3,0),\"\")","v":""}]
[{"$nulls":10},{"$f":"IF(ISNUMBER(SEARCH($A$3,L612)),MAX($K$1:K611)+1,0)","v":0},"Cambridge Technology Ente","CTE.NS",{"$nulls":12},{"$f":"IFERROR(VLOOKUP(ROWS($Z$2:Z612),K612:$L$6000,2,0),\"\")","v":""},{"$f":"IFERROR(VLOOKUP(ROWS($AA$2:AA612),K612:$M$6000,3,0),\"\")","v":""}]
[{"$nulls":10},{"$f":"IF(ISNUMBER(SEARCH($A$3,L613)),MAX($K$1:K612)+1,0)","v":0},"Camex Ltd","CAMEXLTD.BO",{"$nulls":12},{"$f":"IFERROR(VLOOKUP(ROWS($Z$2:Z613),K613:$L$6000,2,0),\"\")","v":""},{"$f":"IFERROR(VLOOKUP(ROWS($AA$2:AA613),K613:$M$6000,3,0),\"\")","v":""}]
[{"$nulls":10},{"$f":"IF(ISNUMBER(SEARCH($A$3,L614)),MAX($K$1:K613)+1,0)","v":0},"Camlin Fine Sciences Ltd","CAMLNFINE.BO",{"$nulls":12},{"$f":"IFERROR(VLOOKUP(ROWS($Z$2:Z614),K614:$L$6000,2,0),\"\")","v":""},{"$f":"IFERROR(VLOOKUP(ROWS($AA$2:AA614),K614:$M$6000,3,0),\"\")","v":""}]
[{"$nulls":10},{"$f":"IF(ISNUMBER(SEARCH($A$3,L615)),MAX($K$1:K614)+1,0)","v":0},"Camlin Ltd","CAMLIN.BO",{"$nulls":12},{"$f":"IFERROR(VLOOKUP(ROWS($Z$2:Z615),K615:$L$6000,2,0),\"\")","v":""},{"$f":"IFERROR(VLOOKUP(ROWS($AA$2:AA615),K615:$M$6000,3,0),\"\")","v":""}]
[{"$nulls":10},{"$f":"IF(ISNUMBER(SEARCH($A$3,L616)),MAX($K$1:K615)+1,0)","v":0},"Camlin Ltd","CAMLIN.NS",{"$nulls":12},{"$f":"IFERROR(VLOOKUP(ROWS($Z$2:Z616),K616:$L$6000,2,0),\"\")","v":""},{"$f":"IFERROR(VLOOKUP(ROWS($AA$2:AA616),K616:$M$6000,3,0),\"\")","v":""}]
[{"$nulls":10},{"$f":"IF(ISNUMBER(SEARCH($A$3,L617)),MAX($K$1:K616)+1,0)","v":0},"Camphor & Allied Products Ltd","CAMPHOR.BO",{"$nulls":12},{"$f":"IFERROR(VLOOKUP(ROWS($Z$2:Z617),K617:$L$6000,2,0),\"\")","v":""},{"$f":"IFERROR(VLOOKUP(ROWS($AA$2:AA617),K617:$M$6000,3,0),\"\")","v":""}]
[{"$nulls":10},{"$f":"IF(ISNUMBER(SEARCH($A$3,L618)),MAX($K$1:K617)+1,0)","v":0},"Camson Bio Technologies Ltd","CAMSONBIO.BO",{"$nulls":12},{"$f":"IFERROR(VLOOKUP(ROWS($Z$2:Z618),K618:$L$6000,2,0),\"\")","v":""},{"$f":"IFERROR(VLOOKUP(ROWS($AA$2:AA618),K618:$M$6000,3,0),\"\")","v":""}]
[{"$nulls":10},{"$f":"IF(ISNUMBER(SEARCH($A$3,L619)),MAX($K$1:K618)+1,0)","v":0},"Can Fin Homes Ltd","CANFINHOME.BO",{"$nulls":12},{"$f":"IFERROR(VLOOKUP(ROWS($Z$2:Z619),K619:$L$6000,2,0),\"\")","v":""},{"$f":"IFERROR(VLOOKUP(ROWS($AA$2:AA619),K619:$M$6000,3,0),\"\")","v":""}]
[{"$nulls":10},{"$f":"IF(ISNUMBER(SEARCH($A$3,L620)),MAX($K$1:K619)+1,0)","v":0},"Can Fin Homes Ltd","CANFINHOM.NS",{"$nulls":12},{"$f":"IFERROR(VLOOKUP(ROWS($Z$2:Z620),K620:$L$6000,2,0),\"\")","v":""},{"$f":"IFERROR(VLOOKUP(ROWS($AA$2:AA620),K620:$M$6000,3,0),\"\")","v":""}]
[{"$nulls":10},{"$f":"IF(ISNUMBER(SEARCH($A$3,L621)),MAX($K$1:K620)+1,0)","v":0},"Canara Bank","CANARABANK.BO",{"$nulls":12},{"$f":"IFERROR(VLOOKUP(ROWS($Z$2:Z621),K621:$L$6000,2,0),\"\")","v":""},{"$f":"IFERROR(VLOOKUP(ROWS($AA$2:AA621),K621:$M$6000,3,0),\"\")","v":""}]
[{"$nulls":10},{"$f":"IF(ISNUMBER(SEARCH($A$3,L622)),MAX($K$1:K621)+1,0)","v":0},"Canara Bank","CANBK.NS",{"$nulls":12},{"$f":"IFERROR(VLOOKUP(ROWS($Z$2:Z622),K622:$L$6000,2,0),\"\")","v":""},{"$f":"IFERROR(VLOOKUP(ROWS($AA$2:AA622),K622:$M$6000,3,0),\"\")","v":""}]
[{"$nulls":10},{"$f":"IF(ISNUMBER(SEARCH($A$3,L623)),MAX($K$1:K622)+1,0)","v":0},"Cantabil Retail India Ltd","CANTABIL.NS",{"$nulls":12},{"$f":"IFERROR(VLOOKUP(ROWS($Z$2:Z623),K623:$L$6000,2,0),\"\")","v":""},{"$f":"IFERROR(VLOOKUP(ROWS($AA$2:AA623),K623:$M$6000,3,0),\"\")","v":""}]
[{"$nulls":10},{"$f":"IF(ISNUMBER(SEARCH($A$3,L624)),MAX($K$1:K623)+1,0)","v":0},"Capital First Ltd","FCH.BO",{"$nulls":12},{"$f":"IFERROR(VLOOKUP(ROWS($Z$2:Z624),K624:$L$6000,2,0),\"\")","v":""},{"$f":"IFERROR(VLOOKUP(ROWS($AA$2:AA624),K624:$M$6000,3,0),\"\")","v":""}]
[{"$nulls":10},{"$f":"IF(ISNUMBER(SEARCH($A$3,L625)),MAX($K$1:K624)+1,0)","v":0},"Capital First Ltd","FCH.NS",{"$nulls":12},{"$f":"IFERROR(VLOOKUP(ROWS($Z$2:Z625),K625:$L$6000,2,0),\"\")","v":""},{"$f":"IFERROR(VLOOKUP(ROWS($AA$2:AA625),K625:$M$6000,3,0),\"\")","v":""}]
[{"$nulls":10},{"$f":"IF(ISNUMBER(SEARCH($A$3,L626)),MAX($K$1:K625)+1,0)","v":0},"Capital Trust Ltd","CAPITALT.BO",{"$nulls":12},{"$f":"IFERROR(VLOOKUP(ROWS($Z$2:Z626),K626:$L$6000,2,0),\"\")","v":""},{"$f":"IFERROR(VLOOKUP(ROWS($AA$2:AA626),K626:$M$6000,3,0),\"\")","v":""}]
[{"$nulls":10},{"$f":"IF(ISNUMBER(SEARCH($A$3,L627)),MAX($K$1:K626)+1,0)","v":0},"Caplin Point Laboratories Ltd","CAPPL.BO",{"$nulls":12},{"$f":"IFERROR(VLOOKUP(ROWS($Z$2:Z627),K627:$L$6000,2,0),\"\")","v":""},{"$f":"IFERROR(VLOOKUP(ROWS($AA$2:AA627),K627:$M$6000,3,0),\"\")","v":""}]
[{"$nulls":10},{"$f":"IF(ISNUMBER(SEARCH($A$3,L628)),MAX($K$1:K627)+1,0)","v":0},"Capman Financials Ltd","CAPMANFI.BO",{"$nulls":12},{"$f":"IFERROR(VLOOKUP(ROWS($Z$2:Z628),K628:$L$6000,2,0),\"\")","v":""},{"$f":"IFERROR(VLOOKUP(ROWS($AA$2:AA628),K628:$M$6000,3,0),\"\")","v":""}]
[{"$nulls":10},{"$f":"IF(ISNUMBER(SEARCH($A$3,L629)),MAX($K$1:K628)+1,0)","v":0},"Capri Global Capital Ltd","MONEYMATF.BO",{"$nulls":12},{"$f":"IFERROR(VLOOKUP(ROWS($Z$2:Z629),K629:$L$6000,2,0),\"\")","v":""},{"$f":"IFERROR(VLOOKUP(ROWS($AA$2:AA629),K629:$M$6000,3,0),\"\")","v":""}]
[{"$nulls":10},{"$f":"IF(ISNUMBER(SEARCH($A$3,L630)),MAX($K$1:K629)+1,0)","v":0},"Capricorn Systems Global","BADALEX.BO",{"$nulls":12},{"$f":"IFERROR(VLOOKUP(ROWS($Z$2:Z630),K630:$L$6000,2,0),\"\")","v":""},{"$f":"IFERROR(VLOOKUP(ROWS($AA$2:AA630),K630:$M$6000,3,0),\"\")","v":""}]
[{"$nulls":10},{"$f":"IF(ISNUMBER(SEARCH($A$3,L631)),MAX($K$1:K630)+1,0)","v":0},"Caprihans India Ltd","CAPRIHAN.BO",{"$nulls":12},{"$f":"IFERROR(VLOOKUP(ROWS($Z$2:Z631),K631:$L$6000,2,0),\"\")","v":""},{"$f":"IFERROR(VLOOKUP(ROWS($AA$2:AA631),K631:$M$6000,3,0),\"\")","v":""}]
[{"$nulls":10},{"$f":"IF(ISNUMBER(SEARCH($A$3,L632)),MAX($K$1:K631)+1,0)","v":0},"Carnation Industries Ltd","CARNATIN.BO",{"$nulls":12},{"$f":"IFERROR(VLOOKUP(ROWS($Z$2:Z632),K632:$L$6000,2,0),\"\")","v":""},{"$f":"IFERROR(VLOOKUP(ROWS($AA$2:AA632),K632:$M$6000,3,0),\"\")","v":""}]
[{"$nulls":10},{"$f":"IF(ISNUMBER(SEARCH($A$3,L633)),MAX($K$1:K632)+1,0)","v":0},"CAT Technologies Ltd","CATECH.BO",{"$nulls":12},{"$f":"IFERROR(VLOOKUP(ROWS($Z$2:Z633),K633:$L$6000,2,0),\"\")","v":""},{"$f":"IFERROR(VLOOKUP(ROWS($AA$2:AA633),K633:$M$6000,3,0),\"\")","v":""}]
[{"$nulls":10},{"$f":"IF(ISNUMBER(SEARCH($A$3,L634)),MAX($K$1:K633)+1,0)","v":0},"Catvision Products Ltd","CATVISIO.BO",{"$nulls":12},{"$f":"IFERROR(VLOOKUP(ROWS($Z$2:Z634),K634:$L$6000,2,0),\"\")","v":""},{"$f":"IFERROR(VLOOKUP(ROWS($AA$2:AA634),K634:$M$6000,3,0),\"\")","v":""}]
[{"$nulls":10},{"$f":"IF(ISNUMBER(SEARCH($A$3,L635)),MAX($K$1:K634)+1,0)","v":0},"CCS Infotech Ltd","CCSIN.BO",{"$nulls":12},{"$f":"IFERROR(VLOOKUP(ROWS($Z$2:Z635),K635:$L$6000,2,0),\"\")","v":""},{"$f":"IFERROR(VLOOKUP(ROWS($AA$2:AA635),K635:$M$6000,3,0),\"\")","v":""}]
[{"$nulls":10},{"$f":"IF(ISNUMBER(SEARCH($A$3,L636)),MAX($K$1:K635)+1,0)","v":0},"CDI International Ltd","COMDI.BO",{"$nulls":12},{"$f":"IFERROR(VLOOKUP(ROWS($Z$2:Z636),K636:$L$6000,2,0),\"\")","v":""},{"$f":"IFERROR(VLOOKUP(ROWS($AA$2:AA636),K636:$M$6000,3,0),\"\")","v":""}]
[{"$nulls":10},{"$f":"IF(ISNUMBER(SEARCH($A$3,L637)),MAX($K$1:K636)+1,0)","v":0},"Ceat Ltd","CEAT.BO",{"$nulls":12},{"$f":"IFERROR(VLOOKUP(ROWS($Z$2:Z637),K637:$L$6000,2,0),\"\")","v":""},{"$f":"IFERROR(VLOOKUP(ROWS($AA$2:AA637),K637:$M$6000,3,0),\"\")","v":""}]
[{"$nulls":10},{"$f":"IF(ISNUMBER(SEARCH($A$3,L638)),MAX($K$1:K637)+1,0)","v":0},"Ceat Ltd","CEATLTD.NS",{"$nulls":12},{"$f":"IFERROR(VLOOKUP(ROWS($Z$2:Z638),K638:$L$6000,2,0),\"\")","v":""},{"$f":"IFERROR(VLOOKUP(ROWS($AA$2:AA638),K638:$M$6000,3,0),\"\")","v":""}]
[{"$nulls":10},{"$f":"IF(ISNUMBER(SEARCH($A$3,L639)),MAX($K$1:K638)+1,0)","v":0},"Ceejay Finance Ltd","CEEJAY.BO",{"$nulls":12},{"$f":"IFERROR(VLOOKUP(ROWS($Z$2:Z639),K639:$L$6000,2,0),\"\")","v":""},{"$f":"IFERROR(VLOOKUP(ROWS($AA$2:AA639),K639:$M$6000,3,0),\"\")","v":""}]
[{"$nulls":10},{"$f":"IF(ISNUMBER(SEARCH($A$3,L640)),MAX($K$1:K639)+1,0)","v":0},"Ceenik Exports (India) Ltd","CEENIK.BO",{"$nulls":12},{"$f":"IFERROR(VLOOKUP(ROWS($Z$2:Z640),K640:$L$6000,2,0),\"\")","v":""},{"$f":"IFERROR(VLOOKUP(ROWS($AA$2:AA640),K640:$M$6000,3,0),\"\")","v":""}]
[{"$nulls":10},{"$f":"IF(ISNUMBER(SEARCH($A$3,L641)),MAX($K$1:K640)+1,0)","v":0},"Celebrity Fashions Ltd","CELEBRITY.BO",{"$nulls":12},{"$f":"IFERROR(VLOOKUP(ROWS($Z$2:Z641),K641:$L$6000,2,0),\"\")","v":""},{"$f":"IFERROR(VLOOKUP(ROWS($AA$2:AA641),K641:$M$6000,3,0),\"\")","v":""}]
[{"$nulls":10},{"$f":"IF(ISNUMBER(SEARCH($A$3,L642)),MAX($K$1:K641)+1,0)","v":0},"Celebrity Fashions Ltd","CELEBRITY.NS",{"$nulls":12},{"$f":"IFERROR(VLOOKUP(ROWS($Z$2:Z642),K642:$L$6000,2,0),\"\")","v":""},{"$f":"IFERROR(VLOOKUP(ROWS($AA$2:AA642),K642:$M$6000,3,0),\"\")","v":""}]
[{"$nulls":10},{"$f":"IF(ISNUMBER(SEARCH($A$3,L643)),MAX($K$1:K642)+1,0)","v":0},"Celestial Biolabs Ltd","CELESTIAL.BO",{"$nulls":12},{"$f":"IFERROR(VLOOKUP(ROWS($Z$2:Z643),K643:$L$6000,2,0),\"\")","v":""},{"$f":"IFERROR(VLOOKUP(ROWS($AA$2:AA643),K643:$M$6000,3,0),\"\")","v":""}]
[{"$nulls":10},{"$f":"IF(ISNUMBER(SEARCH($A$3,L644)),MAX($K$1:K643)+1,0)","v":0},"Celestial Biolabs Ltd","CELESTIAL.NS",{"$nulls":12},{"$f":"IFERROR(VLOOKUP(ROWS($Z$2:Z644),K644:$L$6000,2,0),\"\")","v":""},{"$f":"IFERROR(VLOOKUP(ROWS($AA$2:AA644),K644:$M$6000,3,0),\"\")","v":""}]
[{"$nulls":10},{"$f":"IF(ISNUMBER(SEARCH($A$3,L645)),MAX($K$1:K644)+1,0)","v":0},"Cenlub Industries Ltd","CENLUB.BO",{"$nulls":12},{"$f":"IFERROR(VLOOKUP(ROWS($Z$2:Z645),K645:$L$6000,2,0),\"\")","v":""},{"$f":"IFERROR(VLOOKUP(ROWS($AA$2:AA645),K645:$M$6000,3,0),\"\")","v":""}]
[{"$nulls":10},{"$f":"IF(ISNUMBER(SEARCH($A$3,L646)),MAX($K$1:K645)+1,0)","v":0},"Centenial Surgical Suture Ltd","CSURGSU.BO",{"$nulls":12},{"$f":"IFERROR(VLOOKUP(ROWS($Z$2:Z646),K646:$L$6000,2,0),\"\")","v":""},{"$f":"IFERROR(VLOOKUP(ROWS($AA$2:AA646),K646:$M$6000,3,0),\"\")","v":""}]
[{"$nulls":10},{"$f":"IF(ISNUMBER(SEARCH($A$3,L647)),MAX($K$1:K646)+1,0)","v":0},"Central Bank of India","CENTRALBK.BO",{"$nulls":12},{"$f":"IFERROR(VLOOKUP(ROWS($Z$2:Z647),K647:$L$6000,2,0),\"\")","v":""},{"$f":"IFERROR(VLOOKUP(ROWS($AA$2:AA647),K647:$M$6000,3,0),\"\")","v":""}]
[{"$nulls":10},{"$f":"IF(ISNUMBER(SEARCH($A$3,L648)),MAX($K$1:K647)+1,0)","v":0},"Central Bank of India","CENTRALBK.NS",{"$nulls":12},{"$f":"IFERROR(VLOOKUP(ROWS($Z$2:Z648),K648:$L$6000,2,0),\"\")","v":""},{"$f":"IFERROR(VLOOKUP(ROWS($AA$2:AA648),K648:$M$6000,3,0),\"\")","v":""}]
[{"$nulls":10},{"$f":"IF(ISNUMBER(SEARCH($A$3,L649)),MAX($K$1:K648)+1,0)","v":0},"Central Provinces","CENTPROV.BO",{"$nulls":12},{"$f":"IFERROR(VLOOKUP(ROWS($Z$2:Z649),K649:$L$6000,2,0),\"\")","v":""},{"$f":"IFERROR(VLOOKUP(ROWS($AA$2:AA649),K649:$M$6000,3,0),\"\")","v":""}]
[{"$nulls":10},{"$f":"IF(ISNUMBER(SEARCH($A$3,L650)),MAX($K$1:K649)+1,0)","v":0},"Centum Electronics Ltd","CENTUM.BO",{"$nulls":12},{"$f":"IFERROR(VLOOKUP(ROWS($Z$2:Z650),K650:$L$6000,2,0),\"\")","v":""},{"$f":"IFERROR(VLOOKUP(ROWS($AA$2:AA650),K650:$M$6000,3,0),\"\")","v":""}]
[{"$nulls":10},{"$f":"IF(ISNUMBER(SEARCH($A$3,L651)),MAX($K$1:K650)+1,0)","v":0},"Centum Electronics Ltd","CENTUM.NS",{"$nulls":12},{"$f":"IFERROR(VLOOKUP(ROWS($Z$2:Z651),K651:$L$6000,2,0),\"\")","v":""},{"$f":"IFERROR(VLOOKUP(ROWS($AA$2:AA651),K651:$M$6000,3,0),\"\")","v":""}]
[{"$nulls":10},{"$f":"IF(ISNUMBER(SEARCH($A$3,L652)),MAX($K$1:K651)+1,0)","v":0},"Century 21St Portfolio Ltd","CENPORT.BO",{"$nulls":12},{"$f":"IFERROR(VLOOKUP(ROWS($Z$2:Z652),K652:$L$6000,2,0),\"\")","v":""},{"$f":"IFERROR(VLOOKUP(ROWS($AA$2:AA652),K652:$M$6000,3,0),\"\")","v":""}]
[{"$nulls":10},{"$f":"IF(ISNUMBER(SEARCH($A$3,L653)),MAX($K$1:K652)+1,0)","v":0},"Century Enka Ltd","CENTENKA.BO",{"$nulls":12},{"$f":"IFERROR(VLOOKUP(ROWS($Z$2:Z653),K653:$L$6000,2,0),\"\")","v":""},{"$f":"IFERROR(VLOOKUP(ROWS($AA$2:AA653),K653:$M$6000,3,0),\"\")","v":""}]
[{"$nulls":10},{"$f":"IF(ISNUMBER(SEARCH($A$3,L654)),MAX($K$1:K653)+1,0)","v":0},"Century Enka Ltd","CENTENKA.NS",{"$nulls":12},{"$f":"IFERROR(VLOOKUP(ROWS($Z$2:Z654),K654:$L$6000,2,0),\"\")","v":""},{"$f":"IFERROR(VLOOKUP(ROWS($AA$2:AA654),K654:$M$6000,3,0),\"\")","v":""}]
[{"$nulls":10},{"$f":"IF(ISNUMBER(SEARCH($A$3,L655)),MAX($K$1:K654)+1,0)","v":0},"Century Extrusions Ltd","CENTEXTR.BO",{"$nulls":12},{"$f":"IFERROR(VLOOKUP(ROWS($Z$2:Z655),K655:$L$6000,2,0),\"\")","v":""},{"$f":"IFERROR(VLOOKUP(ROWS($AA$2:AA655),K655:$M$6000,3,0),\"\")","v":""}]
[{"$nulls":10},{"$f":"IF(ISNUMBER(SEARCH($A$3,L656)),MAX($K$1:K655)+1,0)","v":0},"Century Extrusions Ltd","CENTEXT.NS",{"$nulls":12},{"$f":"IFERROR(VLOOKUP(ROWS($Z$2:Z656),K656:$L$6000,2,0),\"\")","v":""},{"$f":"IFERROR(VLOOKUP(ROWS($AA$2:AA656),K656:$M$6000,3,0),\"\")","v":""}]
[{"$nulls":10},{"$f":"IF(ISNUMBER(SEARCH($A$3,L657)),MAX($K$1:K656)+1,0)","v":0},"Century Plyboards India Ltd","CENTPLY.BO",{"$nulls":12},{"$f":"IFERROR(VLOOKUP(ROWS($Z$2:Z657),K657:$L$6000,2,0),\"\")","v":""},{"$f":"IFERROR(VLOOKUP(ROWS($AA$2:AA657),K657:$M$6000,3,0),\"\")","v":""}]
[{"$nulls":10},{"$f":"IF(ISNUMBER(SEARCH($A$3,L658)),MAX($K$1:K657)+1,0)","v":0},"Century Plyboards India Ltd","CENTURYPL.NS",{"$nulls":12},{"$f":"IFERROR(VLOOKUP(ROWS($Z$2:Z658),K658:$L$6000,2,0),\"\")","v":""},{"$f":"IFERROR(VLOOKUP(ROWS($AA$2:AA658),K658:$M$6000,3,0),\"\")","v":""}]
[{"$nulls":10},{"$f":"IF(ISNUMBER(SEARCH($A$3,L659)),MAX($K$1:K658)+1,0)","v":0},"Century Textiles & Indus","CENTURYTEX.BO",{"$nulls":12},{"$f":"IFERROR(VLOOKUP(ROWS($Z$2:Z659),K659:$L$6000,2,0),\"\")","v":""},{"$f":"IFERROR(VLOOKUP(ROWS($AA$2:AA659),K659:$M$6000,3,0),\"\")","v":""}]
[{"$nulls":10},{"$f":"IF(ISNUMBER(SEARCH($A$3,L660)),MAX($K$1:K659)+1,0)","v":0},"Century Textiles & Indus","CENTURYTE.NS",{"$nulls":12},{"$f":"IFERROR(VLOOKUP(ROWS($Z$2:Z660),K660:$L$6000,2,0),\"\")","v":""},{"$f":"IFERROR(VLOOKUP(ROWS($AA$2:AA660),K660:$M$6000,3,0),\"\")","v":""}]
[{"$nulls":10},{"$f":"IF(ISNUMBER(SEARCH($A$3,L661)),MAX($K$1:K660)+1,0)","v":0},"Cera Sanitaryware Ltd","CERASAN.BO",{"$nulls":12},{"$f":"IFERROR(VLOOKUP(ROWS($Z$2:Z661),K661:$L$6000,2,0),\"\")","v":""},{"$f":"IFERROR(VLOOKUP(ROWS($AA$2:AA661),K661:$M$6000,3,0),\"\")","v":""}]
[{"$nulls":10},{"$f":"IF(ISNUMBER(SEARCH($A$3,L662)),MAX($K$1:K661)+1,0)","v":0},"Cera Sanitaryware Ltd","CERA.NS",{"$nulls":12},{"$f":"IFERROR(VLOOKUP(ROWS($Z$2:Z662),K662:$L$6000,2,0),\"\")","v":""},{"$f":"IFERROR(VLOOKUP(ROWS($AA$2:AA662),K662:$M$6000,3,0),\"\")","v":""}]
[{"$nulls":10},{"$f":"IF(ISNUMBER(SEARCH($A$3,L663)),MAX($K$1:K662)+1,0)","v":0},"Cerebra Integrated Techno","CEREBRA.BO",{"$nulls":12},{"$f":"IFERROR(VLOOKUP(ROWS($Z$2:Z663),K663:$L$6000,2,0),\"\")","v":""},{"$f":"IFERROR(VLOOKUP(ROWS($AA$2:AA663),K663:$M$6000,3,0),\"\")","v":""}]
[{"$nulls":10},{"$f":"IF(ISNUMBER(SEARCH($A$3,L664)),MAX($K$1:K663)+1,0)","v":0},"Cesc Ltd","CESC.BO",{"$nulls":12},{"$f":"IFERROR(VLOOKUP(ROWS($Z$2:Z664),K664:$L$6000,2,0),\"\")","v":""},{"$f":"IFERROR(VLOOKUP(ROWS($AA$2:AA664),K664:$M$6000,3,0),\"\")","v":""}]
[{"$nulls":10},{"$f":"IF(ISNUMBER(SEARCH($A$3,L665)),MAX($K$1:K664)+1,0)","v":0},"Cesc Ltd","CESC.NS",{"$nulls":12},{"$f":"IFERROR(VLOOKUP(ROWS($Z$2:Z665),K665:$L$6000,2,0),\"\")","v":""},{"$f":"IFERROR(VLOOKUP(ROWS($AA$2:AA665),K665:$M$6000,3,0),\"\")","v":""}]
[{"$nulls":10},{"$f":"IF(ISNUMBER(SEARCH($A$3,L666)),MAX($K$1:K665)+1,0)","v":0},"CFL Capital Financial Ser","CFLCAP.BO",{"$nulls":12},{"$f":"IFERROR(VLOOKUP(ROWS($Z$2:Z666),K666:$L$6000,2,0),\"\")","v":""},{"$f":"IFERROR(VLOOKUP(ROWS($AA$2:AA666),K666:$M$6000,3,0),\"\")","v":""}]
[{"$nulls":10},{"$f":"IF(ISNUMBER(SEARCH($A$3,L667)),MAX($K$1:K666)+1,0)","v":0},"CG-Vak Software & Exports Ltd","CGVAK.BO",{"$nulls":12},{"$f":"IFERROR(VLOOKUP(ROWS($Z$2:Z667),K667:$L$6000,2,0),\"\")","v":""},{"$f":"IFERROR(VLOOKUP(ROWS($AA$2:AA667),K667:$M$6000,3,0),\"\")","v":""}]
[{"$nulls":10},{"$f":"IF(ISNUMBER(SEARCH($A$3,L668)),MAX($K$1:K667)+1,0)","v":0},"Chaman Lal Setia Exports Ltd","CHAMANSEQ.BO",{"$nulls":12},{"$f":"IFERROR(VLOOKUP(ROWS($Z$2:Z668),K668:$L$6000,2,0),\"\")","v":""},{"$f":"IFERROR(VLOOKUP(ROWS($AA$2:AA668),K668:$M$6000,3,0),\"\")","v":""}]
[{"$nulls":10},{"$f":"IF(ISNUMBER(SEARCH($A$3,L669)),MAX($K$1:K668)+1,0)","v":0},"Chambal Fertilisers & Che","CHAMBAL.BO",{"$nulls":12},{"$f":"IFERROR(VLOOKUP(ROWS($Z$2:Z669),K669:$L$6000,2,0),\"\")","v":""},{"$f":"IFERROR(VLOOKUP(ROWS($AA$2:AA669),K669:$M$6000,3,0),\"\")","v":""}]
[{"$nulls":10},{"$f":"IF(ISNUMBER(SEARCH($A$3,L670)),MAX($K$1:K669)+1,0)","v":0},"Chambal Fertilisers & Che","CHAMBLFER.NS",{"$nulls":12},{"$f":"IFERROR(VLOOKUP(ROWS($Z$2:Z670),K670:$L$6000,2,0),\"\")","v":""},{"$f":"IFERROR(VLOOKUP(ROWS($AA$2:AA670),K670:$M$6000,3,0),\"\")","v":""}]
[{"$nulls":10},{"$f":"IF(ISNUMBER(SEARCH($A$3,L671)),MAX($K$1:K670)+1,0)","v":0},"Champion Finsec Ltd","MONOSEC.BO",{"$nulls":12},{"$f":"IFERROR(VLOOKUP(ROWS($Z$2:Z671),K671:$L$6000,2,0),\"\")","v":""},{"$f":"IFERROR(VLOOKUP(ROWS($AA$2:AA671),K671:$M$6000,3,0),\"\")","v":""}]
[{"$nulls":10},{"$f":"IF(ISNUMBER(SEARCH($A$3,L672)),MAX($K$1:K671)+1,0)","v":0},"Chandra Prabhu","CHANDRAP.BO",{"$nulls":12},{"$f":"IFERROR(VLOOKUP(ROWS($Z$2:Z672),K672:$L$6000,2,0),\"\")","v":""},{"$f":"IFERROR(VLOOKUP(ROWS($AA$2:AA672),K672:$M$6000,3,0),\"\")","v":""}]
[{"$nulls":10},{"$f":"IF(ISNUMBER(SEARCH($A$3,L673)),MAX($K$1:K672)+1,0)","v":0},"Charms Industries Ltd","CHARMS.BO",{"$nulls":12},{"$f":"IFERROR(VLOOKUP(ROWS($Z$2:Z673),K673:$L$6000,2,0),\"\")","v":""},{"$f":"IFERROR(VLOOKUP(ROWS($AA$2:AA673),K673:$M$6000,3,0),\"\")","v":""}]
[{"$nulls":10},{"$f":"IF(ISNUMBER(SEARCH($A$3,L674)),MAX($K$1:K673)+1,0)","v":0},"Chartered Capital & Inves","CHRTEDCA.BO",{"$nulls":12},{"$f":"IFERROR(VLOOKUP(ROWS($Z$2:Z674),K674:$L$6000,2,0),\"\")","v":""},{"$f":"IFERROR(VLOOKUP(ROWS($AA$2:AA674),K674:$M$6000,3,0),\"\")","v":""}]
[{"$nulls":10},{"$f":"IF(ISNUMBER(SEARCH($A$3,L675)),MAX($K$1:K674)+1,0)","v":0},"Chartered Logistics Ltd","CHLOGIST.BO",{"$nulls":12},{"$f":"IFERROR(VLOOKUP(ROWS($Z$2:Z675),K675:$L$6000,2,0),\"\")","v":""},{"$f":"IFERROR(VLOOKUP(ROWS($AA$2:AA675),K675:$M$6000,3,0),\"\")","v":""}]
[{"$nulls":10},{"$f":"IF(ISNUMBER(SEARCH($A$3,L676)),MAX($K$1:K675)+1,0)","v":0},"CHD Developers Ltd","CHDDLTD.BO",{"$nulls":12},{"$f":"IFERROR(VLOOKUP(ROWS($Z$2:Z676),K676:$L$6000,2,0),\"\")","v":""},{"$f":"IFERROR(VLOOKUP(ROWS($AA$2:AA676),K676:$M$6000,3,0),\"\")","v":""}]
[{"$nulls":10},{"$f":"IF(ISNUMBER(SEARCH($A$3,L677)),MAX($K$1:K676)+1,0)","v":0},"Chembond Chemicals Ltd","CHEMBOND.BO",{"$nulls":12},{"$f":"IFERROR(VLOOKUP(ROWS($Z$2:Z677),K677:$L$6000,2,0),\"\")","v":""},{"$f":"IFERROR(VLOOKUP(ROWS($AA$2:AA677),K677:$M$6000,3,0),\"\")","v":""}]
[{"$nulls":10},{"$f":"IF(ISNUMBER(SEARCH($A$3,L678)),MAX($K$1:K677)+1,0)","v":0},"Chemfab Alkalies Ltd","CHEMALK.BO",{"$nulls":12},{"$f":"IFERROR(VLOOKUP(ROWS($Z$2:Z678),K678:$L$6000,2,0),\"\")","v":""},{"$f":"IFERROR(VLOOKUP(ROWS($AA$2:AA678),K678:$M$6000,3,0),\"\")","v":""}]
[{"$nulls":10},{"$f":"IF(ISNUMBER(SEARCH($A$3,L679)),MAX($K$1:K678)+1,0)","v":0},"Chemfab Alkalies Ltd","CHEMFALKA.NS",{"$nulls":12},{"$f":"IFERROR(VLOOKUP(ROWS($Z$2:Z679),K679:$L$6000,2,0),\"\")","v":""},{"$f":"IFERROR(VLOOKUP(ROWS($AA$2:AA679),K679:$M$6000,3,0),\"\")","v":""}]
[{"$nulls":10},{"$f":"IF(ISNUMBER(SEARCH($A$3,L680)),MAX($K$1:K679)+1,0)","v":0},"Chennai Meenakshi Multisp","CMMHOSP.BO",{"$nulls":12},{"$f":"IFERROR(VLOOKUP(ROWS($Z$2:Z680),K680:$L$6000,2,0),\"\")","v":""},{"$f":"IFERROR(VLOOKUP(ROWS($AA$2:AA680),K680:$M$6000,3,0),\"\")","v":""}]
[{"$nulls":10},{"$f":"IF(ISNUMBER(SEARCH($A$3,L681)),MAX($K$1:K680)+1,0)","v":0},"Chennai Petroleum Corp Ltd","CHENNPETRO.BO",{"$nulls":12},{"$f":"IFERROR(VLOOKUP(ROWS($Z$2:Z681),K681:$L$6000,2,0),\"\")","v":""},{"$f":"IFERROR(VLOOKUP(ROWS($AA$2:AA681),K681:$M$6000,3,0),\"\")","v":""}]
[{"$nulls":10},{"$f":"IF(ISNUMBER(SEARCH($A$3,L682)),MAX($K$1:K681)+1,0)","v":0},"Chennai Petroleum Corp Ltd","CHENNPETR.NS",{"$nulls":12},{"$f":"IFERROR(VLOOKUP(ROWS($Z$2:Z682),K682:$L$6000,2,0),\"\")","v":""},{"$f":"IFERROR(VLOOKUP(ROWS($AA$2:AA682),K682:$M$6000,3,0),\"\")","v":""}]
[{"$nulls":10},{"$f":"IF(ISNUMBER(SEARCH($A$3,L683)),MAX($K$1:K682)+1,0)","v":0},"Cheslind Textiles Ltd","CHESLITE.BO",{"$nulls":12},{"$f":"IFERROR(VLOOKUP(ROWS($Z$2:Z683),K683:$L$6000,2,0),\"\")","v":""},{"$f":"IFERROR(VLOOKUP(ROWS($AA$2:AA683),K683:$M$6000,3,0),\"\")","v":""}]
[{"$nulls":10},{"$f":"IF(ISNUMBER(SEARCH($A$3,L684)),MAX($K$1:K683)+1,0)","v":0},"Cheslind Textiles Ltd","CHESLINTE.NS",{"$nulls":12},{"$f":"IFERROR(VLOOKUP(ROWS($Z$2:Z684),K684:$L$6000,2,0),\"\")","v":""},{"$f":"IFERROR(VLOOKUP(ROWS($AA$2:AA684),K684:$M$6000,3,0),\"\")","v":""}]
[{"$nulls":10},{"$f":"IF(ISNUMBER(SEARCH($A$3,L685)),MAX($K$1:K684)+1,0)","v":0},"Cheviot Co Ltd","CHEVIOT.BO",{"$nulls":12},{"$f":"IFERROR(VLOOKUP(ROWS($Z$2:Z685),K685:$L$6000,2,0),\"\")","v":""},{"$f":"IFERROR(VLOOKUP(ROWS($AA$2:AA685),K685:$M$6000,3,0),\"\")","v":""}]
[{"$nulls":10},{"$f":"IF(ISNUMBER(SEARCH($A$3,L686)),MAX($K$1:K685)+1,0)","v":0},"Chhattisgarh Industries Ltd","CHHATTIND.BO",{"$nulls":12},{"$f":"IFERROR(VLOOKUP(ROWS($Z$2:Z686),K686:$L$6000,2,0),\"\")","v":""},{"$f":"IFERROR(VLOOKUP(ROWS($AA$2:AA686),K686:$M$6000,3,0),\"\")","v":""}]
[{"$nulls":10},{"$f":"IF(ISNUMBER(SEARCH($A$3,L687)),MAX($K$1:K686)+1,0)","v":0},"Chitradurga Spintex Ltd","CHITRTX.BO",{"$nulls":12},{"$f":"IFERROR(VLOOKUP(ROWS($Z$2:Z687),K687:$L$6000,2,0),\"\")","v":""},{"$f":"IFERROR(VLOOKUP(ROWS($AA$2:AA687),K687:$M$6000,3,0),\"\")","v":""}]
[{"$nulls":10},{"$f":"IF(ISNUMBER(SEARCH($A$3,L688)),MAX($K$1:K687)+1,0)","v":0},"Choice Infra Ventures Ltd","ZENUINFO.BO",{"$nulls":12},{"$f":"IFERROR(VLOOKUP(ROWS($Z$2:Z688),K688:$L$6000,2,0),\"\")","v":""},{"$f":"IFERROR(VLOOKUP(ROWS($AA$2:AA688),K688:$M$6000,3,0),\"\")","v":""}]
[{"$nulls":10},{"$f":"IF(ISNUMBER(SEARCH($A$3,L689)),MAX($K$1:K688)+1,0)","v":0},"Choice International Ltd","CHOICEIN.BO",{"$nulls":12},{"$f":"IFERROR(VLOOKUP(ROWS($Z$2:Z689),K689:$L$6000,2,0),\"\")","v":""},{"$f":"IFERROR(VLOOKUP(ROWS($AA$2:AA689),K689:$M$6000,3,0),\"\")","v":""}]
[{"$nulls":10},{"$f":"IF(ISNUMBER(SEARCH($A$3,L690)),MAX($K$1:K689)+1,0)","v":0},"Chokhani Securities Ltd","CHOKSEC.BO",{"$nulls":12},{"$f":"IFERROR(VLOOKUP(ROWS($Z$2:Z690),K690:$L$6000,2,0),\"\")","v":""},{"$f":"IFERROR(VLOOKUP(ROWS($AA$2:AA690),K690:$M$6000,3,0),\"\")","v":""}]
[{"$nulls":10},{"$f":"IF(ISNUMBER(SEARCH($A$3,L691)),MAX($K$1:K690)+1,0)","v":0},"Choksi Imaging Ltd","CHOKSI.BO",{"$nulls":12},{"$f":"IFERROR(VLOOKUP(ROWS($Z$2:Z691),K691:$L$6000,2,0),\"\")","v":""},{"$f":"IFERROR(VLOOKUP(ROWS($AA$2:AA691),K691:$M$6000,3,0),\"\")","v":""}]
[{"$nulls":10},{"$f":"IF(ISNUMBER(SEARCH($A$3,L692)),MAX($K$1:K691)+1,0)","v":0},"Choksi Laboratories Ltd","CHOKSILA.BO",{"$nulls":12},{"$f":"IFERROR(VLOOKUP(ROWS($Z$2:Z692),K692:$L$6000,2,0),\"\")","v":""},{"$f":"IFERROR(VLOOKUP(ROWS($AA$2:AA692),K692:$M$6000,3,0),\"\")","v":""}]
[{"$nulls":10},{"$f":"IF(ISNUMBER(SEARCH($A$3,L693)),MAX($K$1:K692)+1,0)","v":0},"Cholamandalam Investment","CHOLADBS.BO",{"$nulls":12},{"$f":"IFERROR(VLOOKUP(ROWS($Z$2:Z693),K693:$L$6000,2,0),\"\")","v":""},{"$f":"IFERROR(VLOOKUP(ROWS($AA$2:AA693),K693:$M$6000,3,0),\"\")","v":""}]
[{"$nulls":10},{"$f":"IF(ISNUMBER(SEARCH($A$3,L694)),MAX($K$1:K693)+1,0)","v":0},"Cholamandalam Investment","CHOLAFIN.NS",{"$nulls":12},{"$f":"IFERROR(VLOOKUP(ROWS($Z$2:Z694),K694:$L$6000,2,0),\"\")","v":""},{"$f":"IFERROR(VLOOKUP(ROWS($AA$2:AA694),K694:$M$6000,3,0),\"\")","v":""}]
[{"$nulls":10},{"$f":"IF(ISNUMBER(SEARCH($A$3,L695)),MAX($K$1:K694)+1,0)","v":0},"Chordia Food Products Ltd","CHORDIA.BO",{"$nulls":12},{"$f":"IFERROR(VLOOKUP(ROWS($Z$2:Z695),K695:$L$6000,2,0),\"\")","v":""},{"$f":"IFERROR(VLOOKUP(ROWS($AA$2:AA695),K695:$M$6000,3,0),\"\")","v":""}]
[{"$nulls":10},{"$f":"IF(ISNUMBER(SEARCH($A$3,L696)),MAX($K$1:K695)+1,0)","v":0},"Chowgule Steamships Ltd","CHOWGSTE.BO",{"$nulls":12},{"$f":"IFERROR(VLOOKUP(ROWS($Z$2:Z696),K696:$L$6000,2,0),\"\")","v":""},{"$f":"IFERROR(VLOOKUP(ROWS($AA$2:AA696),K696:$M$6000,3,0),\"\")","v":""}]
[{"$nulls":10},{"$f":"IF(ISNUMBER(SEARCH($A$3,L697)),MAX($K$1:K696)+1,0)","v":0},"Chromatic India Ltd","CHROMATI.BO",{"$nulls":12},{"$f":"IFERROR(VLOOKUP(ROWS($Z$2:Z697),K697:$L$6000,2,0),\"\")","v":""},{"$f":"IFERROR(VLOOKUP(ROWS($AA$2:AA697),K697:$M$6000,3,0),\"\")","v":""}]
[{"$nulls":10},{"$f":"IF(ISNUMBER(SEARCH($A$3,L698)),MAX($K$1:K697)+1,0)","v":0},"Cigniti Technologies Ltd","CHAKKILAM.BO",{"$nulls":12},{"$f":"IFERROR(VLOOKUP(ROWS($Z$2:Z698),K698:$L$6000,2,0),\"\")","v":""},{"$f":"IFERROR(VLOOKUP(ROWS($AA$2:AA698),K698:$M$6000,3,0),\"\")","v":""}]
[{"$nulls":10},{"$f":"IF(ISNUMBER(SEARCH($A$3,L699)),MAX($K$1:K698)+1,0)","v":0},"CIL Securities Ltd","CILSEC.BO",{"$nulls":12},{"$f":"IFERROR(VLOOKUP(ROWS($Z$2:Z699),K699:$L$6000,2,0),\"\")","v":""},{"$f":"IFERROR(VLOOKUP(ROWS($AA$2:AA699),K699:$M$6000,3,0),\"\")","v":""}]
[{"$nulls":10},{"$f":"IF(ISNUMBER(SEARCH($A$3,L700)),MAX($K$1:K699)+1,0)","v":0},"Cimmco Birla Ltd","CIMMCO.BO",{"$nulls":12},{"$f":"IFERROR(VLOOKUP(ROWS($Z$2:Z700),K700:$L$6000,2,0),\"\")","v":""},{"$f":"IFERROR(VLOOKUP(ROWS($AA$2:AA700),K700:$M$6000,3,0),\"\")","v":""}]
[{"$nulls":10},{"$f":"IF(ISNUMBER(SEARCH($A$3,L701)),MAX($K$1:K700)+1,0)","v":0},"Cindrella Hotels Ltd","CINDHO.BO",{"$nulls":12},{"$f":"IFERROR(VLOOKUP(ROWS($Z$2:Z701),K701:$L$6000,2,0),\"\")","v":""},{"$f":"IFERROR(VLOOKUP(ROWS($AA$2:AA701),K701:$M$6000,3,0),\"\")","v":""}]
[{"$nulls":10},{"$f":"IF(ISNUMBER(SEARCH($A$3,L702)),MAX($K$1:K701)+1,0)","v":0},"Cinemax Properties Ltd","CINEMAX.BO",{"$nulls":12},{"$f":"IFERROR(VLOOKUP(ROWS($Z$2:Z702),K702:$L$6000,2,0),\"\")","v":""},{"$f":"IFERROR(VLOOKUP(ROWS($AA$2:AA702),K702:$M$6000,3,0),\"\")","v":""}]
[{"$nulls":10},{"$f":"IF(ISNUMBER(SEARCH($A$3,L703)),MAX($K$1:K702)+1,0)","v":0},"Cinemax Properties Ltd","CINEMAX.NS",{"$nulls":12},{"$f":"IFERROR(VLOOKUP(ROWS($Z$2:Z703),K703:$L$6000,2,0),\"\")","v":""},{"$f":"IFERROR(VLOOKUP(ROWS($AA$2:AA703),K703:$M$6000,3,0),\"\")","v":""}]
[{"$nulls":10},{"$f":"IF(ISNUMBER(SEARCH($A$3,L704)),MAX($K$1:K703)+1,0)","v":0},"Cinerad Communications Ltd","CINERAD.BO",{"$nulls":12},{"$f":"IFERROR(VLOOKUP(ROWS($Z$2:Z704),K704:$L$6000,2,0),\"\")","v":""},{"$f":"IFERROR(VLOOKUP(ROWS($AA$2:AA704),K704:$M$6000,3,0),\"\")","v":""}]
[{"$nulls":10},{"$f":"IF(ISNUMBER(SEARCH($A$3,L705)),MAX($K$1:K704)+1,0)","v":0},"Cinevista Ltd","CINEVIST.BO",{"$nulls":12},{"$f":"IFERROR(VLOOKUP(ROWS($Z$2:Z705),K705:$L$6000,2,0),\"\")","v":""},{"$f":"IFERROR(VLOOKUP(ROWS($AA$2:AA705),K705:$M$6000,3,0),\"\")","v":""}]
[{"$nulls":10},{"$f":"IF(ISNUMBER(SEARCH($A$3,L706)),MAX($K$1:K705)+1,0)","v":0},"Cinevista Ltd","CINEVISTA.NS",{"$nulls":12},{"$f":"IFERROR(VLOOKUP(ROWS($Z$2:Z706),K706:$L$6000,2,0),\"\")","v":""},{"$f":"IFERROR(VLOOKUP(ROWS($AA$2:AA706),K706:$M$6000,3,0),\"\")","v":""}]
[{"$nulls":10},{"$f":"IF(ISNUMBER(SEARCH($A$3,L707)),MAX($K$1:K706)+1,0)","v":0},"Cipla Ltd","CIPLA.BO",{"$nulls":12},{"$f":"IFERROR(VLOOKUP(ROWS($Z$2:Z707),K707:$L$6000,2,0),\"\")","v":""},{"$f":"IFERROR(VLOOKUP(ROWS($AA$2:AA707),K707:$M$6000,3,0),\"\")","v":""}]
[{"$nulls":10},{"$f":"IF(ISNUMBER(SEARCH($A$3,L708)),MAX($K$1:K707)+1,0)","v":0},"Cipla Ltd","CIPLA.NS",{"$nulls":12},{"$f":"IFERROR(VLOOKUP(ROWS($Z$2:Z708),K708:$L$6000,2,0),\"\")","v":""},{"$f":"IFERROR(VLOOKUP(ROWS($AA$2:AA708),K708:$M$6000,3,0),\"\")","v":""}]
[{"$nulls":10},{"$f":"IF(ISNUMBER(SEARCH($A$3,L709)),MAX($K$1:K708)+1,0)","v":0},"Circuit Systems (India) Ltd","CSIL.BO",{"$nulls":12},{"$f":"IFERROR(VLOOKUP(ROWS($Z$2:Z709),K709:$L$6000,2,0),\"\")","v":""},{"$f":"IFERROR(VLOOKUP(ROWS($AA$2:AA709),K709:$M$6000,3,0),\"\")","v":""}]
[{"$nulls":10},{"$f":"IF(ISNUMBER(SEARCH($A$3,L710)),MAX($K$1:K709)+1,0)","v":0},"Cistro Telelink Ltd","CISTRO.BO",{"$nulls":12},{"$f":"IFERROR(VLOOKUP(ROWS($Z$2:Z710),K710:$L$6000,2,0),\"\")","v":""},{"$f":"IFERROR(VLOOKUP(ROWS($AA$2:AA710),K710:$M$6000,3,0),\"\")","v":""}]
[{"$nulls":10},{"$f":"IF(ISNUMBER(SEARCH($A$3,L711)),MAX($K$1:K710)+1,0)","v":0},"Citiport Financial Servic","CITIPOR.BO",{"$nulls":12},{"$f":"IFERROR(VLOOKUP(ROWS($Z$2:Z711),K711:$L$6000,2,0),\"\")","v":""},{"$f":"IFERROR(VLOOKUP(ROWS($AA$2:AA711),K711:$M$6000,3,0),\"\")","v":""}]
[{"$nulls":10},{"$f":"IF(ISNUMBER(SEARCH($A$3,L712)),MAX($K$1:K711)+1,0)","v":0},"City Union Bank Ltd","CITYUNIONBK.BO",{"$nulls":12},{"$f":"IFERROR(VLOOKUP(ROWS($Z$2:Z712),K712:$L$6000,2,0),\"\")","v":""},{"$f":"IFERROR(VLOOKUP(ROWS($AA$2:AA712),K712:$M$6000,3,0),\"\")","v":""}]
[{"$nulls":10},{"$f":"IF(ISNUMBER(SEARCH($A$3,L713)),MAX($K$1:K712)+1,0)","v":0},"City Union Bank Ltd","CUB.NS",{"$nulls":12},{"$f":"IFERROR(VLOOKUP(ROWS($Z$2:Z713),K713:$L$6000,2,0),\"\")","v":""},{"$f":"IFERROR(VLOOKUP(ROWS($AA$2:AA713),K713:$M$6000,3,0),\"\")","v":""}]
[{"$nulls":10},{"$f":"IF(ISNUMBER(SEARCH($A$3,L714)),MAX($K$1:K713)+1,0)","v":0},"Cityman Ltd","CITYMAN.BO",{"$nulls":12},{"$f":"IFERROR(VLOOKUP(ROWS($Z$2:Z714),K714:$L$6000,2,0),\"\")","v":""},{"$f":"IFERROR(VLOOKUP(ROWS($AA$2:AA714),K714:$M$6000,3,0),\"\")","v":""}]
[{"$nulls":10},{"$f":"IF(ISNUMBER(SEARCH($A$3,L715)),MAX($K$1:K714)+1,0)","v":0},"Clariant Chemicals India Ltd","CLARICHEM.BO",{"$nulls":12},{"$f":"IFERROR(VLOOKUP(ROWS($Z$2:Z715),K715:$L$6000,2,0),\"\")","v":""},{"$f":"IFERROR(VLOOKUP(ROWS($AA$2:AA715),K715:$M$6000,3,0),\"\")","v":""}]
[{"$nulls":10},{"$f":"IF(ISNUMBER(SEARCH($A$3,L716)),MAX($K$1:K715)+1,0)","v":0},"Clariant Chemicals India Ltd","CLNINDIA.NS",{"$nulls":12},{"$f":"IFERROR(VLOOKUP(ROWS($Z$2:Z716),K716:$L$6000,2,0),\"\")","v":""},{"$f":"IFERROR(VLOOKUP(ROWS($AA$2:AA716),K716:$M$6000,3,0),\"\")","v":""}]
[{"$nulls":10},{"$f":"IF(ISNUMBER(SEARCH($A$3,L717)),MAX($K$1:K716)+1,0)","v":0},"Clarus Finance & Securiti","CLARUS.BO",{"$nulls":12},{"$f":"IFERROR(VLOOKUP(ROWS($Z$2:Z717),K717:$L$6000,2,0),\"\")","v":""},{"$f":"IFERROR(VLOOKUP(ROWS($AA$2:AA717),K717:$M$6000,3,0),\"\")","v":""}]
[{"$nulls":10},{"$f":"IF(ISNUMBER(SEARCH($A$3,L718)),MAX($K$1:K717)+1,0)","v":0},"Classic Diamonds India Ltd","CLASSICD.BO",{"$nulls":12},{"$f":"IFERROR(VLOOKUP(ROWS($Z$2:Z718),K718:$L$6000,2,0),\"\")","v":""},{"$f":"IFERROR(VLOOKUP(ROWS($AA$2:AA718),K718:$M$6000,3,0),\"\")","v":""}]
[{"$nulls":10},{"$f":"IF(ISNUMBER(SEARCH($A$3,L719)),MAX($K$1:K718)+1,0)","v":0},"Classic Diamonds India Ltd","CLASSIC.NS",{"$nulls":12},{"$f":"IFERROR(VLOOKUP(ROWS($Z$2:Z719),K719:$L$6000,2,0),\"\")","v":""},{"$f":"IFERROR(VLOOKUP(ROWS($AA$2:AA719),K719:$M$6000,3,0),\"\")","v":""}]
[{"$nulls":10},{"$f":"IF(ISNUMBER(SEARCH($A$3,L720)),MAX($K$1:K719)+1,0)","v":0},"Clio Infotech Ltd","CLIOINFO.BO",{"$nulls":12},{"$f":"IFERROR(VLOOKUP(ROWS($Z$2:Z720),K720:$L$6000,2,0),\"\")","v":""},{"$f":"IFERROR(VLOOKUP(ROWS($AA$2:AA720),K720:$M$6000,3,0),\"\")","v":""}]
[{"$nulls":10},{"$f":"IF(ISNUMBER(SEARCH($A$3,L721)),MAX($K$1:K720)+1,0)","v":0},"Clutch Auto Ltd","CLUTCH.BO",{"$nulls":12},{"$f":"IFERROR(VLOOKUP(ROWS($Z$2:Z721),K721:$L$6000,2,0),\"\")","v":""},{"$f":"IFERROR(VLOOKUP(ROWS($AA$2:AA721),K721:$M$6000,3,0),\"\")","v":""}]
[{"$nulls":10},{"$f":"IF(ISNUMBER(SEARCH($A$3,L722)),MAX($K$1:K721)+1,0)","v":0},"Clutch Auto Ltd","CLUTCHAUT.NS",{"$nulls":12},{"$f":"IFERROR(VLOOKUP(ROWS($Z$2:Z722),K722:$L$6000,2,0),\"\")","v":""},{"$f":"IFERROR(VLOOKUP(ROWS($AA$2:AA722),K722:$M$6000,3,0),\"\")","v":""}]
[{"$nulls":10},{"$f":"IF(ISNUMBER(SEARCH($A$3,L723)),MAX($K$1:K722)+1,0)","v":0},"CMC Ltd","CMC.BO",{"$nulls":12},{"$f":"IFERROR(VLOOKUP(ROWS($Z$2:Z723),K723:$L$6000,2,0),\"\")","v":""},{"$f":"IFERROR(VLOOKUP(ROWS($AA$2:AA723),K723:$M$6000,3,0),\"\")","v":""}]
[{"$nulls":10},{"$f":"IF(ISNUMBER(SEARCH($A$3,L724)),MAX($K$1:K723)+1,0)","v":0},"CMC Ltd","CMC.NS",{"$nulls":12},{"$f":"IFERROR(VLOOKUP(ROWS($Z$2:Z724),K724:$L$6000,2,0),\"\")","v":""},{"$f":"IFERROR(VLOOKUP(ROWS($AA$2:AA724),K724:$M$6000,3,0),\"\")","v":""}]
[{"$nulls":10},{"$f":"IF(ISNUMBER(SEARCH($A$3,L725)),MAX($K$1:K724)+1,0)","v":0},"CMI Ltd","CMI.BO",{"$nulls":12},{"$f":"IFERROR(VLOOKUP(ROWS($Z$2:Z725),K725:$L$6000,2,0),\"\")","v":""},{"$f":"IFERROR(VLOOKUP(ROWS($AA$2:AA725),K725:$M$6000,3,0),\"\")","v":""}]
[{"$nulls":10},{"$f":"IF(ISNUMBER(SEARCH($A$3,L726)),MAX($K$1:K725)+1,0)","v":0},"Cni Research Ltd","CNIRESLTD.BO",{"$nulls":12},{"$f":"IFERROR(VLOOKUP(ROWS($Z$2:Z726),K726:$L$6000,2,0),\"\")","v":""},{"$f":"IFERROR(VLOOKUP(ROWS($AA$2:AA726),K726:$M$6000,3,0),\"\")","v":""}]
[{"$nulls":10},{"$f":"IF(ISNUMBER(SEARCH($A$3,L727)),MAX($K$1:K726)+1,0)","v":0},"Coastal Roadways Ltd","COARO.BO",{"$nulls":12},{"$f":"IFERROR(VLOOKUP(ROWS($Z$2:Z727),K727:$L$6000,2,0),\"\")","v":""},{"$f":"IFERROR(VLOOKUP(ROWS($AA$2:AA727),K727:$M$6000,3,0),\"\")","v":""}]
[{"$nulls":10},{"$f":"IF(ISNUMBER(SEARCH($A$3,L728)),MAX($K$1:K727)+1,0)","v":0},"Colgate-Palmolive (India) Ltd","COLGATE.BO",{"$nulls":12},{"$f":"IFERROR(VLOOKUP(ROWS($Z$2:Z728),K728:$L$6000,2,0),\"\")","v":""},{"$f":"IFERROR(VLOOKUP(ROWS($AA$2:AA728),K728:$M$6000,3,0),\"\")","v":""}]
[{"$nulls":10},{"$f":"IF(ISNUMBER(SEARCH($A$3,L729)),MAX($K$1:K728)+1,0)","v":0},"Colgate-Palmolive (India) Ltd","COLPAL.NS",{"$nulls":12},{"$f":"IFERROR(VLOOKUP(ROWS($Z$2:Z729),K729:$L$6000,2,0),\"\")","v":""},{"$f":"IFERROR(VLOOKUP(ROWS($AA$2:AA729),K729:$M$6000,3,0),\"\")","v":""}]
[{"$nulls":10},{"$f":"IF(ISNUMBER(SEARCH($A$3,L730)),MAX($K$1:K729)+1,0)","v":0},"Colinz Laboratories Ltd","COLINZ.BO",{"$nulls":12},{"$f":"IFERROR(VLOOKUP(ROWS($Z$2:Z730),K730:$L$6000,2,0),\"\")","v":""},{"$f":"IFERROR(VLOOKUP(ROWS($AA$2:AA730),K730:$M$6000,3,0),\"\")","v":""}]
[{"$nulls":10},{"$f":"IF(ISNUMBER(SEARCH($A$3,L731)),MAX($K$1:K730)+1,0)","v":0},"Comfort Intech Ltd","COMFINTE.BO",{"$nulls":12},{"$f":"IFERROR(VLOOKUP(ROWS($Z$2:Z731),K731:$L$6000,2,0),\"\")","v":""},{"$f":"IFERROR(VLOOKUP(ROWS($AA$2:AA731),K731:$M$6000,3,0),\"\")","v":""}]
[{"$nulls":10},{"$f":"IF(ISNUMBER(SEARCH($A$3,L732)),MAX($K$1:K731)+1,0)","v":0},"Commex Technology Ltd","IT.BO",{"$nulls":12},{"$f":"IFERROR(VLOOKUP(ROWS($Z$2:Z732),K732:$L$6000,2,0),\"\")","v":""},{"$f":"IFERROR(VLOOKUP(ROWS($AA$2:AA732),K732:$M$6000,3,0),\"\")","v":""}]
[{"$nulls":10},{"$f":"IF(ISNUMBER(SEARCH($A$3,L733)),MAX($K$1:K732)+1,0)","v":0},"Competent Automobiles Co Ltd","COMPEAU.BO",{"$nulls":12},{"$f":"IFERROR(VLOOKUP(ROWS($Z$2:Z733),K733:$L$6000,2,0),\"\")","v":""},{"$f":"IFERROR(VLOOKUP(ROWS($AA$2:AA733),K733:$M$6000,3,0),\"\")","v":""}]
[{"$nulls":10},{"$f":"IF(ISNUMBER(SEARCH($A$3,L734)),MAX($K$1:K733)+1,0)","v":0},"Compuage Infocom Ltd","COMPUAGE.BO",{"$nulls":12},{"$f":"IFERROR(VLOOKUP(ROWS($Z$2:Z734),K734:$L$6000,2,0),\"\")","v":""},{"$f":"IFERROR(VLOOKUP(ROWS($AA$2:AA734),K734:$M$6000,3,0),\"\")","v":""}]
[{"$nulls":10},{"$f":"IF(ISNUMBER(SEARCH($A$3,L735)),MAX($K$1:K734)+1,0)","v":0},"Compucom Software Ltd","COMPUCO.BO",{"$nulls":12},{"$f":"IFERROR(VLOOKUP(ROWS($Z$2:Z735),K735:$L$6000,2,0),\"\")","v":""},{"$f":"IFERROR(VLOOKUP(ROWS($AA$2:AA735),K735:$M$6000,3,0),\"\")","v":""}]
[{"$nulls":10},{"$f":"IF(ISNUMBER(SEARCH($A$3,L736)),MAX($K$1:K735)+1,0)","v":0},"Computer Point Ltd","COMPUPN.BO",{"$nulls":12},{"$f":"IFERROR(VLOOKUP(ROWS($Z$2:Z736),K736:$L$6000,2,0),\"\")","v":""},{"$f":"IFERROR(VLOOKUP(ROWS($AA$2:AA736),K736:$M$6000,3,0),\"\")","v":""}]
[{"$nulls":10},{"$f":"IF(ISNUMBER(SEARCH($A$3,L737)),MAX($K$1:K736)+1,0)","v":0},"Conart Engineers Ltd","CONART.BO",{"$nulls":12},{"$f":"IFERROR(VLOOKUP(ROWS($Z$2:Z737),K737:$L$6000,2,0),\"\")","v":""},{"$f":"IFERROR(VLOOKUP(ROWS($AA$2:AA737),K737:$M$6000,3,0),\"\")","v":""}]
[{"$nulls":10},{"$f":"IF(ISNUMBER(SEARCH($A$3,L738)),MAX($K$1:K737)+1,0)","v":0},"Confidence Petroleum India Ltd","CONFIPET.BO",{"$nulls":12},{"$f":"IFERROR(VLOOKUP(ROWS($Z$2:Z738),K738:$L$6000,2,0),\"\")","v":""},{"$f":"IFERROR(VLOOKUP(ROWS($AA$2:AA738),K738:$M$6000,3,0),\"\")","v":""}]
[{"$nulls":10},{"$f":"IF(ISNUMBER(SEARCH($A$3,L739)),MAX($K$1:K738)+1,0)","v":0},"Consolidated Construction","CCCL.BO",{"$nulls":12},{"$f":"IFERROR(VLOOKUP(ROWS($Z$2:Z739),K739:$L$6000,2,0),\"\")","v":""},{"$f":"IFERROR(VLOOKUP(ROWS($AA$2:AA739),K739:$M$6000,3,0),\"\")","v":""}]
[{"$nulls":10},{"$f":"IF(ISNUMBER(SEARCH($A$3,L740)),MAX($K$1:K739)+1,0)","v":0},"Consolidated Construction","CCCL.NS",{"$nulls":12},{"$f":"IFERROR(VLOOKUP(ROWS($Z$2:Z740),K740:$L$6000,2,0),\"\")","v":""},{"$f":"IFERROR(VLOOKUP(ROWS($AA$2:AA740),K740:$M$6000,3,0),\"\")","v":""}]
[{"$nulls":10},{"$f":"IF(ISNUMBER(SEARCH($A$3,L741)),MAX($K$1:K740)+1,0)","v":0},"Consolidated Finvest & Ho","CONSOFINV.NS",{"$nulls":12},{"$f":"IFERROR(VLOOKUP(ROWS($Z$2:Z741),K741:$L$6000,2,0),\"\")","v":""},{"$f":"IFERROR(VLOOKUP(ROWS($AA$2:AA741),K741:$M$6000,3,0),\"\")","v":""}]
[{"$nulls":10},{"$f":"IF(ISNUMBER(SEARCH($A$3,L742)),MAX($K$1:K741)+1,0)","v":0},"Consolidated Securities Ltd","CNSDSEC.BO",{"$nulls":12},{"$f":"IFERROR(VLOOKUP(ROWS($Z$2:Z742),K742:$L$6000,2,0),\"\")","v":""},{"$f":"IFERROR(VLOOKUP(ROWS($AA$2:AA742),K742:$M$6000,3,0),\"\")","v":""}]
[{"$nulls":10},{"$f":"IF(ISNUMBER(SEARCH($A$3,L743)),MAX($K$1:K742)+1,0)","v":0},"Container Corp of India","CONCOR.BO",{"$nulls":12},{"$f":"IFERROR(VLOOKUP(ROWS($Z$2:Z743),K743:$L$6000,2,0),\"\")","v":""},{"$f":"IFERROR(VLOOKUP(ROWS($AA$2:AA743),K743:$M$6000,3,0),\"\")","v":""}]
[{"$nulls":10},{"$f":"IF(ISNUMBER(SEARCH($A$3,L744)),MAX($K$1:K743)+1,0)","v":0},"Container Corp of India","CONCOR.NS",{"$nulls":12},{"$f":"IFERROR(VLOOKUP(ROWS($Z$2:Z744),K744:$L$6000,2,0),\"\")","v":""},{"$f":"IFERROR(VLOOKUP(ROWS($AA$2:AA744),K744:$M$6000,3,0),\"\")","v":""}]
[{"$nulls":10},{"$f":"IF(ISNUMBER(SEARCH($A$3,L745)),MAX($K$1:K744)+1,0)","v":0},"Contil India Ltd","CONTILI.BO",{"$nulls":12},{"$f":"IFERROR(VLOOKUP(ROWS($Z$2:Z745),K745:$L$6000,2,0),\"\")","v":""},{"$f":"IFERROR(VLOOKUP(ROWS($AA$2:AA745),K745:$M$6000,3,0),\"\")","v":""}]
[{"$nulls":10},{"$f":"IF(ISNUMBER(SEARCH($A$3,L746)),MAX($K$1:K745)+1,0)","v":0},"Continental Controls Ltd","CONTICON.BO",{"$nulls":12},{"$f":"IFERROR(VLOOKUP(ROWS($Z$2:Z746),K746:$L$6000,2,0),\"\")","v":""},{"$f":"IFERROR(VLOOKUP(ROWS($AA$2:AA746),K746:$M$6000,3,0),\"\")","v":""}]
[{"$nulls":10},{"$f":"IF(ISNUMBER(SEARCH($A$3,L747)),MAX($K$1:K746)+1,0)","v":0},"Continental Petroleums Ltd","CONTPTR.BO",{"$nulls":12},{"$f":"IFERROR(VLOOKUP(ROWS($Z$2:Z747),K747:$L$6000,2,0),\"\")","v":""},{"$f":"IFERROR(VLOOKUP(ROWS($AA$2:AA747),K747:$M$6000,3,0),\"\")","v":""}]
[{"$nulls":10},{"$f":"IF(ISNUMBER(SEARCH($A$3,L748)),MAX($K$1:K747)+1,0)","v":0},"Control Print Ltd","CONTROLPR.BO",{"$nulls":12},{"$f":"IFERROR(VLOOKUP(ROWS($Z$2:Z748),K748:$L$6000,2,0),\"\")","v":""},{"$f":"IFERROR(VLOOKUP(ROWS($AA$2:AA748),K748:$M$6000,3,0),\"\")","v":""}]
[{"$nulls":10},{"$f":"IF(ISNUMBER(SEARCH($A$3,L749)),MAX($K$1:K748)+1,0)","v":0},"Coral India Finance & Hou","CORALFIN.BO",{"$nulls":12},{"$f":"IFERROR(VLOOKUP(ROWS($Z$2:Z749),K749:$L$6000,2,0),\"\")","v":""},{"$f":"IFERROR(VLOOKUP(ROWS($AA$2:AA749),K749:$M$6000,3,0),\"\")","v":""}]
[{"$nulls":10},{"$f":"IF(ISNUMBER(SEARCH($A$3,L750)),MAX($K$1:K749)+1,0)","v":0},"Coral Laboratories Ltd","CORALAB.BO",{"$nulls":12},{"$f":"IFERROR(VLOOKUP(ROWS($Z$2:Z750),K750:$L$6000,2,0),\"\")","v":""},{"$f":"IFERROR(VLOOKUP(ROWS($AA$2:AA750),K750:$M$6000,3,0),\"\")","v":""}]
[{"$nulls":10},{"$f":"IF(ISNUMBER(SEARCH($A$3,L751)),MAX($K$1:K750)+1,0)","v":0},"Cords Cable Industries Ltd","CORDS.BO",{"$nulls":12},{"$f":"IFERROR(VLOOKUP(ROWS($Z$2:Z751),K751:$L$6000,2,0),\"\")","v":""},{"$f":"IFERROR(VLOOKUP(ROWS($AA$2:AA751),K751:$M$6000,3,0),\"\")","v":""}]
[{"$nulls":10},{"$f":"IF(ISNUMBER(SEARCH($A$3,L752)),MAX($K$1:K751)+1,0)","v":0},"Cords Cable Industries Ltd","CORDSCABL.NS",{"$nulls":12},{"$f":"IFERROR(VLOOKUP(ROWS($Z$2:Z752),K752:$L$6000,2,0),\"\")","v":""},{"$f":"IFERROR(VLOOKUP(ROWS($AA$2:AA752),K752:$M$6000,3,0),\"\")","v":""}]
[{"$nulls":10},{"$f":"IF(ISNUMBER(SEARCH($A$3,L753)),MAX($K$1:K752)+1,0)","v":0},"Core Education","COREPROJECT.BO",{"$nulls":12},{"$f":"IFERROR(VLOOKUP(ROWS($Z$2:Z753),K753:$L$6000,2,0),\"\")","v":""},{"$f":"IFERROR(VLOOKUP(ROWS($AA$2:AA753),K753:$M$6000,3,0),\"\")","v":""}]
[{"$nulls":10},{"$f":"IF(ISNUMBER(SEARCH($A$3,L754)),MAX($K$1:K753)+1,0)","v":0},"Core Education","COREPROTE.NS",{"$nulls":12},{"$f":"IFERROR(VLOOKUP(ROWS($Z$2:Z754),K754:$L$6000,2,0),\"\")","v":""},{"$f":"IFERROR(VLOOKUP(ROWS($AA$2:AA754),K754:$M$6000,3,0),\"\")","v":""}]
[{"$nulls":10},{"$f":"IF(ISNUMBER(SEARCH($A$3,L755)),MAX($K$1:K754)+1,0)","v":0},"Coromandel International Ltd","COROMINTE.BO",{"$nulls":12},{"$f":"IFERROR(VLOOKUP(ROWS($Z$2:Z755),K755:$L$6000,2,0),\"\")","v":""},{"$f":"IFERROR(VLOOKUP(ROWS($AA$2:AA755),K755:$M$6000,3,0),\"\")","v":""}]
[{"$nulls":10},{"$f":"IF(ISNUMBER(SEARCH($A$3,L756)),MAX($K$1:K755)+1,0)","v":0},"Corporate Courier","CORPOCO.BO",{"$nulls":12},{"$f":"IFERROR(VLOOKUP(ROWS($Z$2:Z756),K756:$L$6000,2,0),\"\")","v":""},{"$f":"IFERROR(VLOOKUP(ROWS($AA$2:AA756),K756:$M$6000,3,0),\"\")","v":""}]
[{"$nulls":10},{"$f":"IF(ISNUMBER(SEARCH($A$3,L757)),MAX($K$1:K756)+1,0)","v":0},"Corporation Bank","CORPBANK.BO",{"$nulls":12},{"$f":"IFERROR(VLOOKUP(ROWS($Z$2:Z757),K757:$L$6000,2,0),\"\")","v":""},{"$f":"IFERROR(VLOOKUP(ROWS($AA$2:AA757),K757:$M$6000,3,0),\"\")","v":""}]
[{"$nulls":10},{"$f":"IF(ISNUMBER(SEARCH($A$3,L758)),MAX($K$1:K757)+1,0)","v":0},"Corporation Bank","CORPBANK.NS",{"$nulls":12},{"$f":"IFERROR(VLOOKUP(ROWS($Z$2:Z758),K758:$L$6000,2,0),\"\")","v":""},{"$f":"IFERROR(VLOOKUP(ROWS($AA$2:AA758),K758:$M$6000,3,0),\"\")","v":""}]
[{"$nulls":10},{"$f":"IF(ISNUMBER(SEARCH($A$3,L759)),MAX($K$1:K758)+1,0)","v":0},"Cosboard Industries Limtied","COSBOARD.BO",{"$nulls":12},{"$f":"IFERROR(VLOOKUP(ROWS($Z$2:Z759),K759:$L$6000,2,0),\"\")","v":""},{"$f":"IFERROR(VLOOKUP(ROWS($AA$2:AA759),K759:$M$6000,3,0),\"\")","v":""}]
[{"$nulls":10},{"$f":"IF(ISNUMBER(SEARCH($A$3,L760)),MAX($K$1:K759)+1,0)","v":0},"Cosco (India) Ltd","COSCO.BO",{"$nulls":12},{"$f":"IFERROR(VLOOKUP(ROWS($Z$2:Z760),K760:$L$6000,2,0),\"\")","v":""},{"$f":"IFERROR(VLOOKUP(ROWS($AA$2:AA760),K760:$M$6000,3,0),\"\")","v":""}]
[{"$nulls":10},{"$f":"IF(ISNUMBER(SEARCH($A$3,L761)),MAX($K$1:K760)+1,0)","v":0},"Cosmo Ferrites Ltd","COSMOFE.BO",{"$nulls":12},{"$f":"IFERROR(VLOOKUP(ROWS($Z$2:Z761),K761:$L$6000,2,0),\"\")","v":""},{"$f":"IFERROR(VLOOKUP(ROWS($AA$2:AA761),K761:$M$6000,3,0),\"\")","v":""}]
[{"$nulls":10},{"$f":"IF(ISNUMBER(SEARCH($A$3,L762)),MAX($K$1:K761)+1,0)","v":0},"Cosmo Films Ltd","COSMOFILMS.BO",{"$nulls":12},{"$f":"IFERROR(VLOOKUP(ROWS($Z$2:Z762),K762:$L$6000,2,0),\"\")","v":""},{"$f":"IFERROR(VLOOKUP(ROWS($AA$2:AA762),K762:$M$6000,3,0),\"\")","v":""}]
[{"$nulls":10},{"$f":"IF(ISNUMBER(SEARCH($A$3,L763)),MAX($K$1:K762)+1,0)","v":0},"Cosmo Films Ltd","COSMOFILM.NS",{"$nulls":12},{"$f":"IFERROR(VLOOKUP(ROWS($Z$2:Z763),K763:$L$6000,2,0),\"\")","v":""},{"$f":"IFERROR(VLOOKUP(ROWS($AA$2:AA763),K763:$M$6000,3,0),\"\")","v":""}]
[{"$nulls":10},{"$f":"IF(ISNUMBER(SEARCH($A$3,L764)),MAX($K$1:K763)+1,0)","v":0},"Count N Denier (India) Ltd","PHARCOM.BO",{"$nulls":12},{"$f":"IFERROR(VLOOKUP(ROWS($Z$2:Z764),K764:$L$6000,2,0),\"\")","v":""},{"$f":"IFERROR(VLOOKUP(ROWS($AA$2:AA764),K764:$M$6000,3,0),\"\")","v":""}]
[{"$nulls":10},{"$f":"IF(ISNUMBER(SEARCH($A$3,L765)),MAX($K$1:K764)+1,0)","v":0},"Country Club India Ltd","COUNCLB.BO",{"$nulls":12},{"$f":"IFERROR(VLOOKUP(ROWS($Z$2:Z765),K765:$L$6000,2,0),\"\")","v":""},{"$f":"IFERROR(VLOOKUP(ROWS($AA$2:AA765),K765:$M$6000,3,0),\"\")","v":""}]
[{"$nulls":10},{"$f":"IF(ISNUMBER(SEARCH($A$3,L766)),MAX($K$1:K765)+1,0)","v":0},"Country Condo's Ltd","COUNCODOS.BO",{"$nulls":12},{"$f":"IFERROR(VLOOKUP(ROWS($Z$2:Z766),K766:$L$6000,2,0),\"\")","v":""},{"$f":"IFERROR(VLOOKUP(ROWS($AA$2:AA766),K766:$M$6000,3,0),\"\")","v":""}]
[{"$nulls":10},{"$f":"IF(ISNUMBER(SEARCH($A$3,L767)),MAX($K$1:K766)+1,0)","v":0},"Country Condo's Ltd","NEOCURE.NS",{"$nulls":12},{"$f":"IFERROR(VLOOKUP(ROWS($Z$2:Z767),K767:$L$6000,2,0),\"\")","v":""},{"$f":"IFERROR(VLOOKUP(ROWS($AA$2:AA767),K767:$M$6000,3,0),\"\")","v":""}]
[{"$nulls":10},{"$f":"IF(ISNUMBER(SEARCH($A$3,L768)),MAX($K$1:K767)+1,0)","v":0},"Coventry Coil-O-Matic (Ha","COVENTRY.BO",{"$nulls":12},{"$f":"IFERROR(VLOOKUP(ROWS($Z$2:Z768),K768:$L$6000,2,0),\"\")","v":""},{"$f":"IFERROR(VLOOKUP(ROWS($AA$2:AA768),K768:$M$6000,3,0),\"\")","v":""}]
[{"$nulls":10},{"$f":"IF(ISNUMBER(SEARCH($A$3,L769)),MAX($K$1:K768)+1,0)","v":0},"Cox and Kings Ltd","COXKINGS.BO",{"$nulls":12},{"$f":"IFERROR(VLOOKUP(ROWS($Z$2:Z769),K769:$L$6000,2,0),\"\")","v":""},{"$f":"IFERROR(VLOOKUP(ROWS($AA$2:AA769),K769:$M$6000,3,0),\"\")","v":""}]
[{"$nulls":10},{"$f":"IF(ISNUMBER(SEARCH($A$3,L770)),MAX($K$1:K769)+1,0)","v":0},"Cranes Software Internati","CRANES.BO",{"$nulls":12},{"$f":"IFERROR(VLOOKUP(ROWS($Z$2:Z770),K770:$L$6000,2,0),\"\")","v":""},{"$f":"IFERROR(VLOOKUP(ROWS($AA$2:AA770),K770:$M$6000,3,0),\"\")","v":""}]
[{"$nulls":10},{"$f":"IF(ISNUMBER(SEARCH($A$3,L771)),MAX($K$1:K770)+1,0)","v":0},"Cranex Ltd","CRANEX.BO",{"$nulls":12},{"$f":"IFERROR(VLOOKUP(ROWS($Z$2:Z771),K771:$L$6000,2,0),\"\")","v":""},{"$f":"IFERROR(VLOOKUP(ROWS($AA$2:AA771),K771:$M$6000,3,0),\"\")","v":""}]
[{"$nulls":10},{"$f":"IF(ISNUMBER(SEARCH($A$3,L772)),MAX($K$1:K771)+1,0)","v":0},"Cravatex Ltd","CRAVATEX.BO",{"$nulls":12},{"$f":"IFERROR(VLOOKUP(ROWS($Z$2:Z772),K772:$L$6000,2,0),\"\")","v":""},{"$f":"IFERROR(VLOOKUP(ROWS($AA$2:AA772),K772:$M$6000,3,0),\"\")","v":""}]
[{"$nulls":10},{"$f":"IF(ISNUMBER(SEARCH($A$3,L773)),MAX($K$1:K772)+1,0)","v":0},"Crazy Infotech Ltd","CRAZYINF.BO",{"$nulls":12},{"$f":"IFERROR(VLOOKUP(ROWS($Z$2:Z773),K773:$L$6000,2,0),\"\")","v":""},{"$f":"IFERROR(VLOOKUP(ROWS($AA$2:AA773),K773:$M$6000,3,0),\"\")","v":""}]
[{"$nulls":10},{"$f":"IF(ISNUMBER(SEARCH($A$3,L774)),MAX($K$1:K773)+1,0)","v":0},"Creative Eye Ltd","CREATIVE.BO",{"$nulls":12},{"$f":"IFERROR(VLOOKUP(ROWS($Z$2:Z774),K774:$L$6000,2,0),\"\")","v":""},{"$f":"IFERROR(VLOOKUP(ROWS($AA$2:AA774),K774:$M$6000,3,0),\"\")","v":""}]
[{"$nulls":10},{"$f":"IF(ISNUMBER(SEARCH($A$3,L775)),MAX($K$1:K774)+1,0)","v":0},"Creative Eye Ltd","CREATIVEY.NS",{"$nulls":12},{"$f":"IFERROR(VLOOKUP(ROWS($Z$2:Z775),K775:$L$6000,2,0),\"\")","v":""},{"$f":"IFERROR(VLOOKUP(ROWS($AA$2:AA775),K775:$M$6000,3,0),\"\")","v":""}]
[{"$nulls":10},{"$f":"IF(ISNUMBER(SEARCH($A$3,L776)),MAX($K$1:K775)+1,0)","v":0},"Crest Animation Studios Ltd","CRESTANI.BO",{"$nulls":12},{"$f":"IFERROR(VLOOKUP(ROWS($Z$2:Z776),K776:$L$6000,2,0),\"\")","v":""},{"$f":"IFERROR(VLOOKUP(ROWS($AA$2:AA776),K776:$M$6000,3,0),\"\")","v":""}]
[{"$nulls":10},{"$f":"IF(ISNUMBER(SEARCH($A$3,L777)),MAX($K$1:K776)+1,0)","v":0},"Crest Animation Studios Ltd","CRESTANI.NS",{"$nulls":12},{"$f":"IFERROR(VLOOKUP(ROWS($Z$2:Z777),K777:$L$6000,2,0),\"\")","v":""},{"$f":"IFERROR(VLOOKUP(ROWS($AA$2:AA777),K777:$M$6000,3,0),\"\")","v":""}]
[{"$nulls":10},{"$f":"IF(ISNUMBER(SEARCH($A$3,L778)),MAX($K$1:K777)+1,0)","v":0},"Crew BOS Products Ltd","CREWBOS.BO",{"$nulls":12},{"$f":"IFERROR(VLOOKUP(ROWS($Z$2:Z778),K778:$L$6000,2,0),\"\")","v":""},{"$f":"IFERROR(VLOOKUP(ROWS($AA$2:AA778),K778:$M$6000,3,0),\"\")","v":""}]
[{"$nulls":10},{"$f":"IF(ISNUMBER(SEARCH($A$3,L779)),MAX($K$1:K778)+1,0)","v":0},"Crimson Metal Engineering","SRISARB.BO",{"$nulls":12},{"$f":"IFERROR(VLOOKUP(ROWS($Z$2:Z779),K779:$L$6000,2,0),\"\")","v":""},{"$f":"IFERROR(VLOOKUP(ROWS($AA$2:AA779),K779:$M$6000,3,0),\"\")","v":""}]
[{"$nulls":10},{"$f":"IF(ISNUMBER(SEARCH($A$3,L780)),MAX($K$1:K779)+1,0)","v":0},"Crompton Greaves Ltd","CROMPTON.BO",{"$nulls":12},{"$f":"IFERROR(VLOOKUP(ROWS($Z$2:Z780),K780:$L$6000,2,0),\"\")","v":""},{"$f":"IFERROR(VLOOKUP(ROWS($AA$2:AA780),K780:$M$6000,3,0),\"\")","v":""}]
[{"$nulls":10},{"$f":"IF(ISNUMBER(SEARCH($A$3,L781)),MAX($K$1:K780)+1,0)","v":0},"Crompton Greaves Ltd","CROMPGREA.NS",{"$nulls":12},{"$f":"IFERROR(VLOOKUP(ROWS($Z$2:Z781),K781:$L$6000,2,0),\"\")","v":""},{"$f":"IFERROR(VLOOKUP(ROWS($AA$2:AA781),K781:$M$6000,3,0),\"\")","v":""}]
[{"$nulls":10},{"$f":"IF(ISNUMBER(SEARCH($A$3,L782)),MAX($K$1:K781)+1,0)","v":0},"CSS Technergy Ltd","CSSTECH.BO",{"$nulls":12},{"$f":"IFERROR(VLOOKUP(ROWS($Z$2:Z782),K782:$L$6000,2,0),\"\")","v":""},{"$f":"IFERROR(VLOOKUP(ROWS($AA$2:AA782),K782:$M$6000,3,0),\"\")","v":""}]
[{"$nulls":10},{"$f":"IF(ISNUMBER(SEARCH($A$3,L783)),MAX($K$1:K782)+1,0)","v":0},"CTIL Ltd","COMPULE.BO",{"$nulls":12},{"$f":"IFERROR(VLOOKUP(ROWS($Z$2:Z783),K783:$L$6000,2,0),\"\")","v":""},{"$f":"IFERROR(VLOOKUP(ROWS($AA$2:AA783),K783:$M$6000,3,0),\"\")","v":""}]
[{"$nulls":10},{"$f":"IF(ISNUMBER(SEARCH($A$3,L784)),MAX($K$1:K783)+1,0)","v":0},"Cubex Tubings Ltd","CUBTU.BO",{"$nulls":12},{"$f":"IFERROR(VLOOKUP(ROWS($Z$2:Z784),K784:$L$6000,2,0),\"\")","v":""},{"$f":"IFERROR(VLOOKUP(ROWS($AA$2:AA784),K784:$M$6000,3,0),\"\")","v":""}]
[{"$nulls":10},{"$f":"IF(ISNUMBER(SEARCH($A$3,L785)),MAX($K$1:K784)+1,0)","v":0},"Cubex Tubings Ltd","CUBEXTUB.NS",{"$nulls":12},{"$f":"IFERROR(VLOOKUP(ROWS($Z$2:Z785),K785:$L$6000,2,0),\"\")","v":""},{"$f":"IFERROR(VLOOKUP(ROWS($AA$2:AA785),K785:$M$6000,3,0),\"\")","v":""}]
[{"$nulls":10},{"$f":"IF(ISNUMBER(SEARCH($A$3,L786)),MAX($K$1:K785)+1,0)","v":0},"Cubical Financial Services Ltd","CUBIFIN.BO",{"$nulls":12},{"$f":"IFERROR(VLOOKUP(ROWS($Z$2:Z786),K786:$L$6000,2,0),\"\")","v":""},{"$f":"IFERROR(VLOOKUP(ROWS($AA$2:AA786),K786:$M$6000,3,0),\"\")","v":""}]
[{"$nulls":10},{"$f":"IF(ISNUMBER(SEARCH($A$3,L787)),MAX($K$1:K786)+1,0)","v":0},"Cummins India Ltd","CUMMINS.BO",{"$nulls":12},{"$f":"IFERROR(VLOOKUP(ROWS($Z$2:Z787),K787:$L$6000,2,0),\"\")","v":""},{"$f":"IFERROR(VLOOKUP(ROWS($AA$2:AA787),K787:$M$6000,3,0),\"\")","v":""}]
[{"$nulls":10},{"$f":"IF(ISNUMBER(SEARCH($A$3,L788)),MAX($K$1:K787)+1,0)","v":0},"Cummins India Ltd","CUMMINSIN.NS",{"$nulls":12},{"$f":"IFERROR(VLOOKUP(ROWS($Z$2:Z788),K788:$L$6000,2,0),\"\")","v":""},{"$f":"IFERROR(VLOOKUP(ROWS($AA$2:AA788),K788:$M$6000,3,0),\"\")","v":""}]
[{"$nulls":10},{"$f":"IF(ISNUMBER(SEARCH($A$3,L789)),MAX($K$1:K788)+1,0)","v":0},"Cupid Ltd","CUPID.BO",{"$nulls":12},{"$f":"IFERROR(VLOOKUP(ROWS($Z$2:Z789),K789:$L$6000,2,0),\"\")","v":""},{"$f":"IFERROR(VLOOKUP(ROWS($AA$2:AA789),K789:$M$6000,3,0),\"\")","v":""}]
[{"$nulls":10},{"$f":"IF(ISNUMBER(SEARCH($A$3,L790)),MAX($K$1:K789)+1,0)","v":0},"Cupid Trades & Finance Ltd","CUPIDTR.BO",{"$nulls":12},{"$f":"IFERROR(VLOOKUP(ROWS($Z$2:Z790),K790:$L$6000,2,0),\"\")","v":""},{"$f":"IFERROR(VLOOKUP(ROWS($AA$2:AA790),K790:$M$6000,3,0),\"\")","v":""}]
[{"$nulls":10},{"$f":"IF(ISNUMBER(SEARCH($A$3,L791)),MAX($K$1:K790)+1,0)","v":0},"Cura Technologies Ltd","SOFTPRO.BO",{"$nulls":12},{"$f":"IFERROR(VLOOKUP(ROWS($Z$2:Z791),K791:$L$6000,2,0),\"\")","v":""},{"$f":"IFERROR(VLOOKUP(ROWS($AA$2:AA791),K791:$M$6000,3,0),\"\")","v":""}]
[{"$nulls":10},{"$f":"IF(ISNUMBER(SEARCH($A$3,L792)),MAX($K$1:K791)+1,0)","v":0},"Cura Technologies Ltd","SOFTPRO.NS",{"$nulls":12},{"$f":"IFERROR(VLOOKUP(ROWS($Z$2:Z792),K792:$L$6000,2,0),\"\")","v":""},{"$f":"IFERROR(VLOOKUP(ROWS($AA$2:AA792),K792:$M$6000,3,0),\"\")","v":""}]
[{"$nulls":10},{"$f":"IF(ISNUMBER(SEARCH($A$3,L793)),MAX($K$1:K792)+1,0)","v":0},"Cybele Industries Ltd","CYBELEIND.BO",{"$nulls":12},{"$f":"IFERROR(VLOOKUP(ROWS($Z$2:Z793),K793:$L$6000,2,0),\"\")","v":""},{"$f":"IFERROR(VLOOKUP(ROWS($AA$2:AA793),K793:$M$6000,3,0),\"\")","v":""}]
[{"$nulls":10},{"$f":"IF(ISNUMBER(SEARCH($A$3,L794)),MAX($K$1:K793)+1,0)","v":0},"Cyber Media India Ltd","CYBERMEDIA.BO",{"$nulls":12},{"$f":"IFERROR(VLOOKUP(ROWS($Z$2:Z794),K794:$L$6000,2,0),\"\")","v":""},{"$f":"IFERROR(VLOOKUP(ROWS($AA$2:AA794),K794:$M$6000,3,0),\"\")","v":""}]
[{"$nulls":10},{"$f":"IF(ISNUMBER(SEARCH($A$3,L795)),MAX($K$1:K794)+1,0)","v":0},"Cyber Media India Ltd","CYBERMEDI.NS",{"$nulls":12},{"$f":"IFERROR(VLOOKUP(ROWS($Z$2:Z795),K795:$L$6000,2,0),\"\")","v":""},{"$f":"IFERROR(VLOOKUP(ROWS($AA$2:AA795),K795:$M$6000,3,0),\"\")","v":""}]
[{"$nulls":10},{"$f":"IF(ISNUMBER(SEARCH($A$3,L796)),MAX($K$1:K795)+1,0)","v":0},"Cybermate Infotek Ltd","CYBERMAT.BO",{"$nulls":12},{"$f":"IFERROR(VLOOKUP(ROWS($Z$2:Z796),K796:$L$6000,2,0),\"\")","v":""},{"$f":"IFERROR(VLOOKUP(ROWS($AA$2:AA796),K796:$M$6000,3,0),\"\")","v":""}]
[{"$nulls":10},{"$f":"IF(ISNUMBER(SEARCH($A$3,L797)),MAX($K$1:K796)+1,0)","v":0},"Cyberscape Multimedia Ltd","CYBERSC.BO",{"$nulls":12},{"$f":"IFERROR(VLOOKUP(ROWS($Z$2:Z797),K797:$L$6000,2,0),\"\")","v":""},{"$f":"IFERROR(VLOOKUP(ROWS($AA$2:AA797),K797:$M$6000,3,0),\"\")","v":""}]
[{"$nulls":10},{"$f":"IF(ISNUMBER(SEARCH($A$3,L798)),MAX($K$1:K797)+1,0)","v":0},"Cybertech Systems & Softw","CYBERTE.BO",{"$nulls":12},{"$f":"IFERROR(VLOOKUP(ROWS($Z$2:Z798),K798:$L$6000,2,0),\"\")","v":""},{"$f":"IFERROR(VLOOKUP(ROWS($AA$2:AA798),K798:$M$6000,3,0),\"\")","v":""}]
[{"$nulls":10},{"$f":"IF(ISNUMBER(SEARCH($A$3,L799)),MAX($K$1:K798)+1,0)","v":0},"Cybertech Systems & Softw","CYBERTECH.NS",{"$nulls":12},{"$f":"IFERROR(VLOOKUP(ROWS($Z$2:Z799),K799:$L$6000,2,0),\"\")","v":""},{"$f":"IFERROR(VLOOKUP(ROWS($AA$2:AA799),K799:$M$6000,3,0),\"\")","v":""}]
[{"$nulls":10},{"$f":"IF(ISNUMBER(SEARCH($A$3,L800)),MAX($K$1:K799)+1,0)","v":0},"Cyient Ltd","INFOTECENT.BO",{"$nulls":12},{"$f":"IFERROR(VLOOKUP(ROWS($Z$2:Z800),K800:$L$6000,2,0),\"\")","v":""},{"$f":"IFERROR(VLOOKUP(ROWS($AA$2:AA800),K800:$M$6000,3,0),\"\")","v":""}]
[{"$nulls":10},{"$f":"IF(ISNUMBER(SEARCH($A$3,L801)),MAX($K$1:K800)+1,0)","v":0},"Cyient Ltd","INFOTECEN.NS",{"$nulls":12},{"$f":"IFERROR(VLOOKUP(ROWS($Z$2:Z801),K801:$L$6000,2,0),\"\")","v":""},{"$f":"IFERROR(VLOOKUP(ROWS($AA$2:AA801),K801:$M$6000,3,0),\"\")","v":""}]
[{"$nulls":10},{"$f":"IF(ISNUMBER(SEARCH($A$3,L802)),MAX($K$1:K801)+1,0)","v":0},"D & H India Ltd","DNHWELD.BO",{"$nulls":12},{"$f":"IFERROR(VLOOKUP(ROWS($Z$2:Z802),K802:$L$6000,2,0),\"\")","v":""},{"$f":"IFERROR(VLOOKUP(ROWS($AA$2:AA802),K802:$M$6000,3,0),\"\")","v":""}]
[{"$nulls":10},{"$f":"IF(ISNUMBER(SEARCH($A$3,L803)),MAX($K$1:K802)+1,0)","v":0},"D B Corp Ltd","DBCORP.BO",{"$nulls":12},{"$f":"IFERROR(VLOOKUP(ROWS($Z$2:Z803),K803:$L$6000,2,0),\"\")","v":""},{"$f":"IFERROR(VLOOKUP(ROWS($AA$2:AA803),K803:$M$6000,3,0),\"\")","v":""}]
[{"$nulls":10},{"$f":"IF(ISNUMBER(SEARCH($A$3,L804)),MAX($K$1:K803)+1,0)","v":0},"D B Corp Ltd","DBCORP.NS",{"$nulls":12},{"$f":"IFERROR(VLOOKUP(ROWS($Z$2:Z804),K804:$L$6000,2,0),\"\")","v":""},{"$f":"IFERROR(VLOOKUP(ROWS($AA$2:AA804),K804:$M$6000,3,0),\"\")","v":""}]
[{"$nulls":10},{"$f":"IF(ISNUMBER(SEARCH($A$3,L805)),MAX($K$1:K804)+1,0)","v":0},"D B Realty Ltd","DBREALTY.BO",{"$nulls":12},{"$f":"IFERROR(VLOOKUP(ROWS($Z$2:Z805),K805:$L$6000,2,0),\"\")","v":""},{"$f":"IFERROR(VLOOKUP(ROWS($AA$2:AA805),K805:$M$6000,3,0),\"\")","v":""}]
[{"$nulls":10},{"$f":"IF(ISNUMBER(SEARCH($A$3,L806)),MAX($K$1:K805)+1,0)","v":0},"D S Kulkarni Developers Ltd","DSKULKAR.BO",{"$nulls":12},{"$f":"IFERROR(VLOOKUP(ROWS($Z$2:Z806),K806:$L$6000,2,0),\"\")","v":""},{"$f":"IFERROR(VLOOKUP(ROWS($AA$2:AA806),K806:$M$6000,3,0),\"\")","v":""}]
[{"$nulls":10},{"$f":"IF(ISNUMBER(SEARCH($A$3,L807)),MAX($K$1:K806)+1,0)","v":0},"D S Kulkarni Developers Ltd","DSKULKARN.NS",{"$nulls":12},{"$f":"IFERROR(VLOOKUP(ROWS($Z$2:Z807),K807:$L$6000,2,0),\"\")","v":""},{"$f":"IFERROR(VLOOKUP(ROWS($AA$2:AA807),K807:$M$6000,3,0),\"\")","v":""}]
[{"$nulls":10},{"$f":"IF(ISNUMBER(SEARCH($A$3,L808)),MAX($K$1:K807)+1,0)","v":0},"Dabur India Ltd","DABUR.BO",{"$nulls":12},{"$f":"IFERROR(VLOOKUP(ROWS($Z$2:Z808),K808:$L$6000,2,0),\"\")","v":""},{"$f":"IFERROR(VLOOKUP(ROWS($AA$2:AA808),K808:$M$6000,3,0),\"\")","v":""}]
[{"$nulls":10},{"$f":"IF(ISNUMBER(SEARCH($A$3,L809)),MAX($K$1:K808)+1,0)","v":0},"Dabur India Ltd","DABUR.NS",{"$nulls":12},{"$f":"IFERROR(VLOOKUP(ROWS($Z$2:Z809),K809:$L$6000,2,0),\"\")","v":""},{"$f":"IFERROR(VLOOKUP(ROWS($AA$2:AA809),K809:$M$6000,3,0),\"\")","v":""}]
[{"$nulls":10},{"$f":"IF(ISNUMBER(SEARCH($A$3,L810)),MAX($K$1:K809)+1,0)","v":0},"Dai-Ichi Karkaria Ltd","DAICHI.BO",{"$nulls":12},{"$f":"IFERROR(VLOOKUP(ROWS($Z$2:Z810),K810:$L$6000,2,0),\"\")","v":""},{"$f":"IFERROR(VLOOKUP(ROWS($AA$2:AA810),K810:$M$6000,3,0),\"\")","v":""}]
[{"$nulls":10},{"$f":"IF(ISNUMBER(SEARCH($A$3,L811)),MAX($K$1:K810)+1,0)","v":0},"Daikaffil Chemicals India Ltd","DAIKAFFI.BO",{"$nulls":12},{"$f":"IFERROR(VLOOKUP(ROWS($Z$2:Z811),K811:$L$6000,2,0),\"\")","v":""},{"$f":"IFERROR(VLOOKUP(ROWS($AA$2:AA811),K811:$M$6000,3,0),\"\")","v":""}]
[{"$nulls":10},{"$f":"IF(ISNUMBER(SEARCH($A$3,L812)),MAX($K$1:K811)+1,0)","v":0},"Dalal Street Investments Ltd","DSINVEST.BO",{"$nulls":12},{"$f":"IFERROR(VLOOKUP(ROWS($Z$2:Z812),K812:$L$6000,2,0),\"\")","v":""},{"$f":"IFERROR(VLOOKUP(ROWS($AA$2:AA812),K812:$M$6000,3,0),\"\")","v":""}]
[{"$nulls":10},{"$f":"IF(ISNUMBER(SEARCH($A$3,L813)),MAX($K$1:K812)+1,0)","v":0},"Dalmia Bharat Sugar and I","DALMIACEM.BO",{"$nulls":12},{"$f":"IFERROR(VLOOKUP(ROWS($Z$2:Z813),K813:$L$6000,2,0),\"\")","v":""},{"$f":"IFERROR(VLOOKUP(ROWS($AA$2:AA813),K813:$M$6000,3,0),\"\")","v":""}]
[{"$nulls":10},{"$f":"IF(ISNUMBER(SEARCH($A$3,L814)),MAX($K$1:K813)+1,0)","v":0},"Dalmia Bharat Sugar and I","DALMIASUG.NS",{"$nulls":12},{"$f":"IFERROR(VLOOKUP(ROWS($Z$2:Z814),K814:$L$6000,2,0),\"\")","v":""},{"$f":"IFERROR(VLOOKUP(ROWS($AA$2:AA814),K814:$M$6000,3,0),\"\")","v":""}]
[{"$nulls":10},{"$f":"IF(ISNUMBER(SEARCH($A$3,L815)),MAX($K$1:K814)+1,0)","v":0},"Damodar Industries Ltd","DAMOTH.BO",{"$nulls":12},{"$f":"IFERROR(VLOOKUP(ROWS($Z$2:Z815),K815:$L$6000,2,0),\"\")","v":""},{"$f":"IFERROR(VLOOKUP(ROWS($AA$2:AA815),K815:$M$6000,3,0),\"\")","v":""}]
[{"$nulls":10},{"$f":"IF(ISNUMBER(SEARCH($A$3,L816)),MAX($K$1:K815)+1,0)","v":0},"Danlaw Technologies India Ltd","DANLAW.BO",{"$nulls":12},{"$f":"IFERROR(VLOOKUP(ROWS($Z$2:Z816),K816:$L$6000,2,0),\"\")","v":""},{"$f":"IFERROR(VLOOKUP(ROWS($AA$2:AA816),K816:$M$6000,3,0),\"\")","v":""}]
[{"$nulls":10},{"$f":"IF(ISNUMBER(SEARCH($A$3,L817)),MAX($K$1:K816)+1,0)","v":0},"Datamatics Global Services Ltd","DATAMGLOB.BO",{"$nulls":12},{"$f":"IFERROR(VLOOKUP(ROWS($Z$2:Z817),K817:$L$6000,2,0),\"\")","v":""},{"$f":"IFERROR(VLOOKUP(ROWS($AA$2:AA817),K817:$M$6000,3,0),\"\")","v":""}]
[{"$nulls":10},{"$f":"IF(ISNUMBER(SEARCH($A$3,L818)),MAX($K$1:K817)+1,0)","v":0},"Datamatics Global Services Ltd","DATAMATIC.NS",{"$nulls":12},{"$f":"IFERROR(VLOOKUP(ROWS($Z$2:Z818),K818:$L$6000,2,0),\"\")","v":""},{"$f":"IFERROR(VLOOKUP(ROWS($AA$2:AA818),K818:$M$6000,3,0),\"\")","v":""}]
[{"$nulls":10},{"$f":"IF(ISNUMBER(SEARCH($A$3,L819)),MAX($K$1:K818)+1,0)","v":0},"Daulat Securities Ltd","DAULAT.BO",{"$nulls":12},{"$f":"IFERROR(VLOOKUP(ROWS($Z$2:Z819),K819:$L$6000,2,0),\"\")","v":""},{"$f":"IFERROR(VLOOKUP(ROWS($AA$2:AA819),K819:$M$6000,3,0),\"\")","v":""}]
[{"$nulls":10},{"$f":"IF(ISNUMBER(SEARCH($A$3,L820)),MAX($K$1:K819)+1,0)","v":0},"Dazzel Confindive Ltd","DAZZEL.BO",{"$nulls":12},{"$f":"IFERROR(VLOOKUP(ROWS($Z$2:Z820),K820:$L$6000,2,0),\"\")","v":""},{"$f":"IFERROR(VLOOKUP(ROWS($AA$2:AA820),K820:$M$6000,3,0),\"\")","v":""}]
[{"$nulls":10},{"$f":"IF(ISNUMBER(SEARCH($A$3,L821)),MAX($K$1:K820)+1,0)","v":0},"DB (International) Stock","DBINT.BO",{"$nulls":12},{"$f":"IFERROR(VLOOKUP(ROWS($Z$2:Z821),K821:$L$6000,2,0),\"\")","v":""},{"$f":"IFERROR(VLOOKUP(ROWS($AA$2:AA821),K821:$M$6000,3,0),\"\")","v":""}]
[{"$nulls":10},{"$f":"IF(ISNUMBER(SEARCH($A$3,L822)),MAX($K$1:K821)+1,0)","v":0},"DCB Bank Ltd","DCB.BO",{"$nulls":12},{"$f":"IFERROR(VLOOKUP(ROWS($Z$2:Z822),K822:$L$6000,2,0),\"\")","v":""},{"$f":"IFERROR(VLOOKUP(ROWS($AA$2:AA822),K822:$M$6000,3,0),\"\")","v":""}]
[{"$nulls":10},{"$f":"IF(ISNUMBER(SEARCH($A$3,L823)),MAX($K$1:K822)+1,0)","v":0},"DCB Bank Ltd","DCB.NS",{"$nulls":12},{"$f":"IFERROR(VLOOKUP(ROWS($Z$2:Z823),K823:$L$6000,2,0),\"\")","v":""},{"$f":"IFERROR(VLOOKUP(ROWS($AA$2:AA823),K823:$M$6000,3,0),\"\")","v":""}]
[{"$nulls":10},{"$f":"IF(ISNUMBER(SEARCH($A$3,L824)),MAX($K$1:K823)+1,0)","v":0},"DCM Financial Services Ltd","DCMFIN.BO",{"$nulls":12},{"$f":"IFERROR(VLOOKUP(ROWS($Z$2:Z824),K824:$L$6000,2,0),\"\")","v":""},{"$f":"IFERROR(VLOOKUP(ROWS($AA$2:AA824),K824:$M$6000,3,0),\"\")","v":""}]
[{"$nulls":10},{"$f":"IF(ISNUMBER(SEARCH($A$3,L825)),MAX($K$1:K824)+1,0)","v":0},"DCM Ltd","DCM.BO",{"$nulls":12},{"$f":"IFERROR(VLOOKUP(ROWS($Z$2:Z825),K825:$L$6000,2,0),\"\")","v":""},{"$f":"IFERROR(VLOOKUP(ROWS($AA$2:AA825),K825:$M$6000,3,0),\"\")","v":""}]
[{"$nulls":10},{"$f":"IF(ISNUMBER(SEARCH($A$3,L826)),MAX($K$1:K825)+1,0)","v":0},"DCM Ltd","DCM.NS",{"$nulls":12},{"$f":"IFERROR(VLOOKUP(ROWS($Z$2:Z826),K826:$L$6000,2,0),\"\")","v":""},{"$f":"IFERROR(VLOOKUP(ROWS($AA$2:AA826),K826:$M$6000,3,0),\"\")","v":""}]
[{"$nulls":10},{"$f":"IF(ISNUMBER(SEARCH($A$3,L827)),MAX($K$1:K826)+1,0)","v":0},"DCM Shriram Industries Ltd","DCMSHRIN.BO",{"$nulls":12},{"$f":"IFERROR(VLOOKUP(ROWS($Z$2:Z827),K827:$L$6000,2,0),\"\")","v":""},{"$f":"IFERROR(VLOOKUP(ROWS($AA$2:AA827),K827:$M$6000,3,0),\"\")","v":""}]
[{"$nulls":10},{"$f":"IF(ISNUMBER(SEARCH($A$3,L828)),MAX($K$1:K827)+1,0)","v":0},"DCM Shriram Ltd","DCMSHRIRAMC.BO",{"$nulls":12},{"$f":"IFERROR(VLOOKUP(ROWS($Z$2:Z828),K828:$L$6000,2,0),\"\")","v":""},{"$f":"IFERROR(VLOOKUP(ROWS($AA$2:AA828),K828:$M$6000,3,0),\"\")","v":""}]
[{"$nulls":10},{"$f":"IF(ISNUMBER(SEARCH($A$3,L829)),MAX($K$1:K828)+1,0)","v":0},"DCM Shriram Ltd","DCMSRMCON.NS",{"$nulls":12},{"$f":"IFERROR(VLOOKUP(ROWS($Z$2:Z829),K829:$L$6000,2,0),\"\")","v":""},{"$f":"IFERROR(VLOOKUP(ROWS($AA$2:AA829),K829:$M$6000,3,0),\"\")","v":""}]
[{"$nulls":10},{"$f":"IF(ISNUMBER(SEARCH($A$3,L830)),MAX($K$1:K829)+1,0)","v":0},"DCW Ltd","DCW.BO",{"$nulls":12},{"$f":"IFERROR(VLOOKUP(ROWS($Z$2:Z830),K830:$L$6000,2,0),\"\")","v":""},{"$f":"IFERROR(VLOOKUP(ROWS($AA$2:AA830),K830:$M$6000,3,0),\"\")","v":""}]
[{"$nulls":10},{"$f":"IF(ISNUMBER(SEARCH($A$3,L831)),MAX($K$1:K830)+1,0)","v":0},"DCW Ltd","DCW.NS",{"$nulls":12},{"$f":"IFERROR(VLOOKUP(ROWS($Z$2:Z831),K831:$L$6000,2,0),\"\")","v":""},{"$f":"IFERROR(VLOOKUP(ROWS($AA$2:AA831),K831:$M$6000,3,0),\"\")","v":""}]
[{"$nulls":10},{"$f":"IF(ISNUMBER(SEARCH($A$3,L832)),MAX($K$1:K831)+1,0)","v":0},"De Nora India Ltd","DENORA.BO",{"$nulls":12},{"$f":"IFERROR(VLOOKUP(ROWS($Z$2:Z832),K832:$L$6000,2,0),\"\")","v":""},{"$f":"IFERROR(VLOOKUP(ROWS($AA$2:AA832),K832:$M$6000,3,0),\"\")","v":""}]
[{"$nulls":10},{"$f":"IF(ISNUMBER(SEARCH($A$3,L833)),MAX($K$1:K832)+1,0)","v":0},"Deccan Bearings Ltd","DECANBRG.BO",{"$nulls":12},{"$f":"IFERROR(VLOOKUP(ROWS($Z$2:Z833),K833:$L$6000,2,0),\"\")","v":""},{"$f":"IFERROR(VLOOKUP(ROWS($AA$2:AA833),K833:$M$6000,3,0),\"\")","v":""}]
[{"$nulls":10},{"$f":"IF(ISNUMBER(SEARCH($A$3,L834)),MAX($K$1:K833)+1,0)","v":0},"Deccan Cements Ltd","DECCANCE.BO",{"$nulls":12},{"$f":"IFERROR(VLOOKUP(ROWS($Z$2:Z834),K834:$L$6000,2,0),\"\")","v":""},{"$f":"IFERROR(VLOOKUP(ROWS($AA$2:AA834),K834:$M$6000,3,0),\"\")","v":""}]
[{"$nulls":10},{"$f":"IF(ISNUMBER(SEARCH($A$3,L835)),MAX($K$1:K834)+1,0)","v":0},"Deccan Cements Ltd","DECCANCE.NS",{"$nulls":12},{"$f":"IFERROR(VLOOKUP(ROWS($Z$2:Z835),K835:$L$6000,2,0),\"\")","v":""},{"$f":"IFERROR(VLOOKUP(ROWS($AA$2:AA835),K835:$M$6000,3,0),\"\")","v":""}]
[{"$nulls":10},{"$f":"IF(ISNUMBER(SEARCH($A$3,L836)),MAX($K$1:K835)+1,0)","v":0},"Deccan Chronicle Holdings Ltd","DCHL.BO",{"$nulls":12},{"$f":"IFERROR(VLOOKUP(ROWS($Z$2:Z836),K836:$L$6000,2,0),\"\")","v":""},{"$f":"IFERROR(VLOOKUP(ROWS($AA$2:AA836),K836:$M$6000,3,0),\"\")","v":""}]
[{"$nulls":10},{"$f":"IF(ISNUMBER(SEARCH($A$3,L837)),MAX($K$1:K836)+1,0)","v":0},"Deccan Gold Mines Ltd","DECNGOLD.BO",{"$nulls":12},{"$f":"IFERROR(VLOOKUP(ROWS($Z$2:Z837),K837:$L$6000,2,0),\"\")","v":""},{"$f":"IFERROR(VLOOKUP(ROWS($AA$2:AA837),K837:$M$6000,3,0),\"\")","v":""}]
[{"$nulls":10},{"$f":"IF(ISNUMBER(SEARCH($A$3,L838)),MAX($K$1:K837)+1,0)","v":0},"Deccan Polypacks Ltd","DECPO.BO",{"$nulls":12},{"$f":"IFERROR(VLOOKUP(ROWS($Z$2:Z838),K838:$L$6000,2,0),\"\")","v":""},{"$f":"IFERROR(VLOOKUP(ROWS($AA$2:AA838),K838:$M$6000,3,0),\"\")","v":""}]
[{"$nulls":10},{"$f":"IF(ISNUMBER(SEARCH($A$3,L839)),MAX($K$1:K838)+1,0)","v":0},"Decolight Ceramics Ltd","DECOLIGHT.BO",{"$nulls":12},{"$f":"IFERROR(VLOOKUP(ROWS($Z$2:Z839),K839:$L$6000,2,0),\"\")","v":""},{"$f":"IFERROR(VLOOKUP(ROWS($AA$2:AA839),K839:$M$6000,3,0),\"\")","v":""}]
[{"$nulls":10},{"$f":"IF(ISNUMBER(SEARCH($A$3,L840)),MAX($K$1:K839)+1,0)","v":0},"Decolight Ceramics Ltd","DECOLIGHT.NS",{"$nulls":12},{"$f":"IFERROR(VLOOKUP(ROWS($Z$2:Z840),K840:$L$6000,2,0),\"\")","v":""},{"$f":"IFERROR(VLOOKUP(ROWS($AA$2:AA840),K840:$M$6000,3,0),\"\")","v":""}]
[{"$nulls":10},{"$f":"IF(ISNUMBER(SEARCH($A$3,L841)),MAX($K$1:K840)+1,0)","v":0},"Deco-Mica Ltd","DECOMIC.BO",{"$nulls":12},{"$f":"IFERROR(VLOOKUP(ROWS($Z$2:Z841),K841:$L$6000,2,0),\"\")","v":""},{"$f":"IFERROR(VLOOKUP(ROWS($AA$2:AA841),K841:$M$6000,3,0),\"\")","v":""}]
[{"$nulls":10},{"$f":"IF(ISNUMBER(SEARCH($A$3,L842)),MAX($K$1:K841)+1,0)","v":0},"Deep Industries Ltd","DEEPIND.BO",{"$nulls":12},{"$f":"IFERROR(VLOOKUP(ROWS($Z$2:Z842),K842:$L$6000,2,0),\"\")","v":""},{"$f":"IFERROR(VLOOKUP(ROWS($AA$2:AA842),K842:$M$6000,3,0),\"\")","v":""}]
[{"$nulls":10},{"$f":"IF(ISNUMBER(SEARCH($A$3,L843)),MAX($K$1:K842)+1,0)","v":0},"Deepak Fertilisers","DEEPAKFERT.BO",{"$nulls":12},{"$f":"IFERROR(VLOOKUP(ROWS($Z$2:Z843),K843:$L$6000,2,0),\"\")","v":""},{"$f":"IFERROR(VLOOKUP(ROWS($AA$2:AA843),K843:$M$6000,3,0),\"\")","v":""}]
[{"$nulls":10},{"$f":"IF(ISNUMBER(SEARCH($A$3,L844)),MAX($K$1:K843)+1,0)","v":0},"Deepak Fertilisers","DEEPAKFER.NS",{"$nulls":12},{"$f":"IFERROR(VLOOKUP(ROWS($Z$2:Z844),K844:$L$6000,2,0),\"\")","v":""},{"$f":"IFERROR(VLOOKUP(ROWS($AA$2:AA844),K844:$M$6000,3,0),\"\")","v":""}]
[{"$nulls":10},{"$f":"IF(ISNUMBER(SEARCH($A$3,L845)),MAX($K$1:K844)+1,0)","v":0},"Deepak Nitrite Ltd","DEEPAKNI.BO",{"$nulls":12},{"$f":"IFERROR(VLOOKUP(ROWS($Z$2:Z845),K845:$L$6000,2,0),\"\")","v":""},{"$f":"IFERROR(VLOOKUP(ROWS($AA$2:AA845),K845:$M$6000,3,0),\"\")","v":""}]
[{"$nulls":10},{"$f":"IF(ISNUMBER(SEARCH($A$3,L846)),MAX($K$1:K845)+1,0)","v":0},"Deepak Spinners Ltd","DEEPAKSP.BO",{"$nulls":12},{"$f":"IFERROR(VLOOKUP(ROWS($Z$2:Z846),K846:$L$6000,2,0),\"\")","v":""},{"$f":"IFERROR(VLOOKUP(ROWS($AA$2:AA846),K846:$M$6000,3,0),\"\")","v":""}]
[{"$nulls":10},{"$f":"IF(ISNUMBER(SEARCH($A$3,L847)),MAX($K$1:K846)+1,0)","v":0},"Delta Corp Ltd","DELTACORP.BO",{"$nulls":12},{"$f":"IFERROR(VLOOKUP(ROWS($Z$2:Z847),K847:$L$6000,2,0),\"\")","v":""},{"$f":"IFERROR(VLOOKUP(ROWS($AA$2:AA847),K847:$M$6000,3,0),\"\")","v":""}]
[{"$nulls":10},{"$f":"IF(ISNUMBER(SEARCH($A$3,L848)),MAX($K$1:K847)+1,0)","v":0},"Delta Corp Ltd","DELTACORP.NS",{"$nulls":12},{"$f":"IFERROR(VLOOKUP(ROWS($Z$2:Z848),K848:$L$6000,2,0),\"\")","v":""},{"$f":"IFERROR(VLOOKUP(ROWS($AA$2:AA848),K848:$M$6000,3,0),\"\")","v":""}]
[{"$nulls":10},{"$f":"IF(ISNUMBER(SEARCH($A$3,L849)),MAX($K$1:K848)+1,0)","v":0},"Delta Magnets Ltd","DELTAMAG.BO",{"$nulls":12},{"$f":"IFERROR(VLOOKUP(ROWS($Z$2:Z849),K849:$L$6000,2,0),\"\")","v":""},{"$f":"IFERROR(VLOOKUP(ROWS($AA$2:AA849),K849:$M$6000,3,0),\"\")","v":""}]
[{"$nulls":10},{"$f":"IF(ISNUMBER(SEARCH($A$3,L850)),MAX($K$1:K849)+1,0)","v":0},"Delton Cables Ltd","DLTNCBL.BO",{"$nulls":12},{"$f":"IFERROR(VLOOKUP(ROWS($Z$2:Z850),K850:$L$6000,2,0),\"\")","v":""},{"$f":"IFERROR(VLOOKUP(ROWS($AA$2:AA850),K850:$M$6000,3,0),\"\")","v":""}]
[{"$nulls":10},{"$f":"IF(ISNUMBER(SEARCH($A$3,L851)),MAX($K$1:K850)+1,0)","v":0},"Den Networks Ltd","DEN.BO",{"$nulls":12},{"$f":"IFERROR(VLOOKUP(ROWS($Z$2:Z851),K851:$L$6000,2,0),\"\")","v":""},{"$f":"IFERROR(VLOOKUP(ROWS($AA$2:AA851),K851:$M$6000,3,0),\"\")","v":""}]
[{"$nulls":10},{"$f":"IF(ISNUMBER(SEARCH($A$3,L852)),MAX($K$1:K851)+1,0)","v":0},"Den Networks Ltd","DEN.NS",{"$nulls":12},{"$f":"IFERROR(VLOOKUP(ROWS($Z$2:Z852),K852:$L$6000,2,0),\"\")","v":""},{"$f":"IFERROR(VLOOKUP(ROWS($AA$2:AA852),K852:$M$6000,3,0),\"\")","v":""}]
[{"$nulls":10},{"$f":"IF(ISNUMBER(SEARCH($A$3,L853)),MAX($K$1:K852)+1,0)","v":0},"Dena Bank","DENABANK.BO",{"$nulls":12},{"$f":"IFERROR(VLOOKUP(ROWS($Z$2:Z853),K853:$L$6000,2,0),\"\")","v":""},{"$f":"IFERROR(VLOOKUP(ROWS($AA$2:AA853),K853:$M$6000,3,0),\"\")","v":""}]
[{"$nulls":10},{"$f":"IF(ISNUMBER(SEARCH($A$3,L854)),MAX($K$1:K853)+1,0)","v":0},"Dena Bank","DENABANK.NS",{"$nulls":12},{"$f":"IFERROR(VLOOKUP(ROWS($Z$2:Z854),K854:$L$6000,2,0),\"\")","v":""},{"$f":"IFERROR(VLOOKUP(ROWS($AA$2:AA854),K854:$M$6000,3,0),\"\")","v":""}]
[{"$nulls":10},{"$f":"IF(ISNUMBER(SEARCH($A$3,L855)),MAX($K$1:K854)+1,0)","v":0},"Desh Rakshak Aushdhalaya Ltd","DESHRAK.BO",{"$nulls":12},{"$f":"IFERROR(VLOOKUP(ROWS($Z$2:Z855),K855:$L$6000,2,0),\"\")","v":""},{"$f":"IFERROR(VLOOKUP(ROWS($AA$2:AA855),K855:$M$6000,3,0),\"\")","v":""}]
[{"$nulls":10},{"$f":"IF(ISNUMBER(SEARCH($A$3,L856)),MAX($K$1:K855)+1,0)","v":0},"Devine Impex Ltd","DEVINE.BO",{"$nulls":12},{"$f":"IFERROR(VLOOKUP(ROWS($Z$2:Z856),K856:$L$6000,2,0),\"\")","v":""},{"$f":"IFERROR(VLOOKUP(ROWS($AA$2:AA856),K856:$M$6000,3,0),\"\")","v":""}]
[{"$nulls":10},{"$f":"IF(ISNUMBER(SEARCH($A$3,L857)),MAX($K$1:K856)+1,0)","v":0},"Devki Leasing And Finance Ltd","DEVKI.BO",{"$nulls":12},{"$f":"IFERROR(VLOOKUP(ROWS($Z$2:Z857),K857:$L$6000,2,0),\"\")","v":""},{"$f":"IFERROR(VLOOKUP(ROWS($AA$2:AA857),K857:$M$6000,3,0),\"\")","v":""}]
[{"$nulls":10},{"$f":"IF(ISNUMBER(SEARCH($A$3,L858)),MAX($K$1:K857)+1,0)","v":0},"Dewan Housing Finance Corp Ltd","DEWANHOUS.BO",{"$nulls":12},{"$f":"IFERROR(VLOOKUP(ROWS($Z$2:Z858),K858:$L$6000,2,0),\"\")","v":""},{"$f":"IFERROR(VLOOKUP(ROWS($AA$2:AA858),K858:$M$6000,3,0),\"\")","v":""}]
[{"$nulls":10},{"$f":"IF(ISNUMBER(SEARCH($A$3,L859)),MAX($K$1:K858)+1,0)","v":0},"Dewan Housing Finance Corp Ltd","DEWANHOUS.NS",{"$nulls":12},{"$f":"IFERROR(VLOOKUP(ROWS($Z$2:Z859),K859:$L$6000,2,0),\"\")","v":""},{"$f":"IFERROR(VLOOKUP(ROWS($AA$2:AA859),K859:$M$6000,3,0),\"\")","v":""}]
[{"$nulls":10},{"$f":"IF(ISNUMBER(SEARCH($A$3,L860)),MAX($K$1:K859)+1,0)","v":0},"DFL Infrastructure Finance Ltd","DHANDA.BO",{"$nulls":12},{"$f":"IFERROR(VLOOKUP(ROWS($Z$2:Z860),K860:$L$6000,2,0),\"\")","v":""},{"$f":"IFERROR(VLOOKUP(ROWS($AA$2:AA860),K860:$M$6000,3,0),\"\")","v":""}]
[{"$nulls":10},{"$f":"IF(ISNUMBER(SEARCH($A$3,L861)),MAX($K$1:K860)+1,0)","v":0},"DFM Foods Ltd","DFM.BO",{"$nulls":12},{"$f":"IFERROR(VLOOKUP(ROWS($Z$2:Z861),K861:$L$6000,2,0),\"\")","v":""},{"$f":"IFERROR(VLOOKUP(ROWS($AA$2:AA861),K861:$M$6000,3,0),\"\")","v":""}]
[{"$nulls":10},{"$f":"IF(ISNUMBER(SEARCH($A$3,L862)),MAX($K$1:K861)+1,0)","v":0},"Dhampur Sugar Mills Ltd","DHAMPUR.BO",{"$nulls":12},{"$f":"IFERROR(VLOOKUP(ROWS($Z$2:Z862),K862:$L$6000,2,0),\"\")","v":""},{"$f":"IFERROR(VLOOKUP(ROWS($AA$2:AA862),K862:$M$6000,3,0),\"\")","v":""}]
[{"$nulls":10},{"$f":"IF(ISNUMBER(SEARCH($A$3,L863)),MAX($K$1:K862)+1,0)","v":0},"Dhampur Sugar Mills Ltd","DHAMPURSU.NS",{"$nulls":12},{"$f":"IFERROR(VLOOKUP(ROWS($Z$2:Z863),K863:$L$6000,2,0),\"\")","v":""},{"$f":"IFERROR(VLOOKUP(ROWS($AA$2:AA863),K863:$M$6000,3,0),\"\")","v":""}]
[{"$nulls":10},{"$f":"IF(ISNUMBER(SEARCH($A$3,L864)),MAX($K$1:K863)+1,0)","v":0},"Dhampure Speciality Sugars Ltd","DHAMPURE.BO",{"$nulls":12},{"$f":"IFERROR(VLOOKUP(ROWS($Z$2:Z864),K864:$L$6000,2,0),\"\")","v":""},{"$f":"IFERROR(VLOOKUP(ROWS($AA$2:AA864),K864:$M$6000,3,0),\"\")","v":""}]
[{"$nulls":10},{"$f":"IF(ISNUMBER(SEARCH($A$3,L865)),MAX($K$1:K864)+1,0)","v":0},"Dhanada Corp Ltd","VEDANTH.BO",{"$nulls":12},{"$f":"IFERROR(VLOOKUP(ROWS($Z$2:Z865),K865:$L$6000,2,0),\"\")","v":""},{"$f":"IFERROR(VLOOKUP(ROWS($AA$2:AA865),K865:$M$6000,3,0),\"\")","v":""}]
[{"$nulls":10},{"$f":"IF(ISNUMBER(SEARCH($A$3,L866)),MAX($K$1:K865)+1,0)","v":0},"Dhanalaxmi Rotospinners Ltd","DHANROTO.BO",{"$nulls":12},{"$f":"IFERROR(VLOOKUP(ROWS($Z$2:Z866),K866:$L$6000,2,0),\"\")","v":""},{"$f":"IFERROR(VLOOKUP(ROWS($AA$2:AA866),K866:$M$6000,3,0),\"\")","v":""}]
[{"$nulls":10},{"$f":"IF(ISNUMBER(SEARCH($A$3,L867)),MAX($K$1:K866)+1,0)","v":0},"Dhanlaxmi Bank Ltd","DHANBANK.BO",{"$nulls":12},{"$f":"IFERROR(VLOOKUP(ROWS($Z$2:Z867),K867:$L$6000,2,0),\"\")","v":""},{"$f":"IFERROR(VLOOKUP(ROWS($AA$2:AA867),K867:$M$6000,3,0),\"\")","v":""}]
[{"$nulls":10},{"$f":"IF(ISNUMBER(SEARCH($A$3,L868)),MAX($K$1:K867)+1,0)","v":0},"Dhanlaxmi Bank Ltd","DHANBANK.NS",{"$nulls":12},{"$f":"IFERROR(VLOOKUP(ROWS($Z$2:Z868),K868:$L$6000,2,0),\"\")","v":""},{"$f":"IFERROR(VLOOKUP(ROWS($AA$2:AA868),K868:$M$6000,3,0),\"\")","v":""}]
[{"$nulls":10},{"$f":"IF(ISNUMBER(SEARCH($A$3,L869)),MAX($K$1:K868)+1,0)","v":0},"Dhanlaxmi Cotex Ltd","DHANCOT.BO",{"$nulls":12},{"$f":"IFERROR(VLOOKUP(ROWS($Z$2:Z869),K869:$L$6000,2,0),\"\")","v":""},{"$f":"IFERROR(VLOOKUP(ROWS($AA$2:AA869),K869:$M$6000,3,0),\"\")","v":""}]
[{"$nulls":10},{"$f":"IF(ISNUMBER(SEARCH($A$3,L870)),MAX($K$1:K869)+1,0)","v":0},"Dhanlaxmi Fabrics Ltd","DHANFAB.BO",{"$nulls":12},{"$f":"IFERROR(VLOOKUP(ROWS($Z$2:Z870),K870:$L$6000,2,0),\"\")","v":""},{"$f":"IFERROR(VLOOKUP(ROWS($AA$2:AA870),K870:$M$6000,3,0),\"\")","v":""}]
[{"$nulls":10},{"$f":"IF(ISNUMBER(SEARCH($A$3,L871)),MAX($K$1:K870)+1,0)","v":0},"Dhanleela Investments","RATIN.BO",{"$nulls":12},{"$f":"IFERROR(VLOOKUP(ROWS($Z$2:Z871),K871:$L$6000,2,0),\"\")","v":""},{"$f":"IFERROR(VLOOKUP(ROWS($AA$2:AA871),K871:$M$6000,3,0),\"\")","v":""}]
[{"$nulls":10},{"$f":"IF(ISNUMBER(SEARCH($A$3,L872)),MAX($K$1:K871)+1,0)","v":0},"Dhanuka Agritech Ltd","DHANUKA.BO",{"$nulls":12},{"$f":"IFERROR(VLOOKUP(ROWS($Z$2:Z872),K872:$L$6000,2,0),\"\")","v":""},{"$f":"IFERROR(VLOOKUP(ROWS($AA$2:AA872),K872:$M$6000,3,0),\"\")","v":""}]
[{"$nulls":10},{"$f":"IF(ISNUMBER(SEARCH($A$3,L873)),MAX($K$1:K872)+1,0)","v":0},"Dhanus Technologies Ltd","DHANUS.BO",{"$nulls":12},{"$f":"IFERROR(VLOOKUP(ROWS($Z$2:Z873),K873:$L$6000,2,0),\"\")","v":""},{"$f":"IFERROR(VLOOKUP(ROWS($AA$2:AA873),K873:$M$6000,3,0),\"\")","v":""}]
[{"$nulls":10},{"$f":"IF(ISNUMBER(SEARCH($A$3,L874)),MAX($K$1:K873)+1,0)","v":0},"Dhanvantri Jeevan Rekha Ltd","ZDHJERK.BO",{"$nulls":12},{"$f":"IFERROR(VLOOKUP(ROWS($Z$2:Z874),K874:$L$6000,2,0),\"\")","v":""},{"$f":"IFERROR(VLOOKUP(ROWS($AA$2:AA874),K874:$M$6000,3,0),\"\")","v":""}]
[{"$nulls":10},{"$f":"IF(ISNUMBER(SEARCH($A$3,L875)),MAX($K$1:K874)+1,0)","v":0},"Dharamsi Morarji Chemical","DHARAMSI.BO",{"$nulls":12},{"$f":"IFERROR(VLOOKUP(ROWS($Z$2:Z875),K875:$L$6000,2,0),\"\")","v":""},{"$f":"IFERROR(VLOOKUP(ROWS($AA$2:AA875),K875:$M$6000,3,0),\"\")","v":""}]
[{"$nulls":10},{"$f":"IF(ISNUMBER(SEARCH($A$3,L876)),MAX($K$1:K875)+1,0)","v":0},"Dharani Finance Ltd","DHARFIN.BO",{"$nulls":12},{"$f":"IFERROR(VLOOKUP(ROWS($Z$2:Z876),K876:$L$6000,2,0),\"\")","v":""},{"$f":"IFERROR(VLOOKUP(ROWS($AA$2:AA876),K876:$M$6000,3,0),\"\")","v":""}]
[{"$nulls":10},{"$f":"IF(ISNUMBER(SEARCH($A$3,L877)),MAX($K$1:K876)+1,0)","v":0},"Dharani Sugars & Chemicals Ltd","DHARANI.BO",{"$nulls":12},{"$f":"IFERROR(VLOOKUP(ROWS($Z$2:Z877),K877:$L$6000,2,0),\"\")","v":""},{"$f":"IFERROR(VLOOKUP(ROWS($AA$2:AA877),K877:$M$6000,3,0),\"\")","v":""}]
[{"$nulls":10},{"$f":"IF(ISNUMBER(SEARCH($A$3,L878)),MAX($K$1:K877)+1,0)","v":0},"Dharani Sugars & Chemicals Ltd","DHARSUGAR.NS",{"$nulls":12},{"$f":"IFERROR(VLOOKUP(ROWS($Z$2:Z878),K878:$L$6000,2,0),\"\")","v":""},{"$f":"IFERROR(VLOOKUP(ROWS($AA$2:AA878),K878:$M$6000,3,0),\"\")","v":""}]
[{"$nulls":10},{"$f":"IF(ISNUMBER(SEARCH($A$3,L879)),MAX($K$1:K878)+1,0)","v":0},"Dharti Proteins Ltd","DEVIKA.BO",{"$nulls":12},{"$f":"IFERROR(VLOOKUP(ROWS($Z$2:Z879),K879:$L$6000,2,0),\"\")","v":""},{"$f":"IFERROR(VLOOKUP(ROWS($AA$2:AA879),K879:$M$6000,3,0),\"\")","v":""}]
[{"$nulls":10},{"$f":"IF(ISNUMBER(SEARCH($A$3,L880)),MAX($K$1:K879)+1,0)","v":0},"Dhenu Buildcon India Ltd","HIRCC.BO",{"$nulls":12},{"$f":"IFERROR(VLOOKUP(ROWS($Z$2:Z880),K880:$L$6000,2,0),\"\")","v":""},{"$f":"IFERROR(VLOOKUP(ROWS($AA$2:AA880),K880:$M$6000,3,0),\"\")","v":""}]
[{"$nulls":10},{"$f":"IF(ISNUMBER(SEARCH($A$3,L881)),MAX($K$1:K880)+1,0)","v":0},"Dhoot Industrial Finance Ltd","DHOOTIN.BO",{"$nulls":12},{"$f":"IFERROR(VLOOKUP(ROWS($Z$2:Z881),K881:$L$6000,2,0),\"\")","v":""},{"$f":"IFERROR(VLOOKUP(ROWS($AA$2:AA881),K881:$M$6000,3,0),\"\")","v":""}]
[{"$nulls":10},{"$f":"IF(ISNUMBER(SEARCH($A$3,L882)),MAX($K$1:K881)+1,0)","v":0},"Dhoot Industries Ltd","DHOOTIND.BO",{"$nulls":12},{"$f":"IFERROR(VLOOKUP(ROWS($Z$2:Z882),K882:$L$6000,2,0),\"\")","v":""},{"$f":"IFERROR(VLOOKUP(ROWS($AA$2:AA882),K882:$M$6000,3,0),\"\")","v":""}]
[{"$nulls":10},{"$f":"IF(ISNUMBER(SEARCH($A$3,L883)),MAX($K$1:K882)+1,0)","v":0},"DHP India Ltd","DHPIND.BO",{"$nulls":12},{"$f":"IFERROR(VLOOKUP(ROWS($Z$2:Z883),K883:$L$6000,2,0),\"\")","v":""},{"$f":"IFERROR(VLOOKUP(ROWS($AA$2:AA883),K883:$M$6000,3,0),\"\")","v":""}]
[{"$nulls":10},{"$f":"IF(ISNUMBER(SEARCH($A$3,L884)),MAX($K$1:K883)+1,0)","v":0},"Dhruv Estates Ltd","DHRUVES.BO",{"$nulls":12},{"$f":"IFERROR(VLOOKUP(ROWS($Z$2:Z884),K884:$L$6000,2,0),\"\")","v":""},{"$f":"IFERROR(VLOOKUP(ROWS($AA$2:AA884),K884:$M$6000,3,0),\"\")","v":""}]
[{"$nulls":10},{"$f":"IF(ISNUMBER(SEARCH($A$3,L885)),MAX($K$1:K884)+1,0)","v":0},"Dhruva Capital Services Ltd","DHRUVCA.BO",{"$nulls":12},{"$f":"IFERROR(VLOOKUP(ROWS($Z$2:Z885),K885:$L$6000,2,0),\"\")","v":""},{"$f":"IFERROR(VLOOKUP(ROWS($AA$2:AA885),K885:$M$6000,3,0),\"\")","v":""}]
[{"$nulls":10},{"$f":"IF(ISNUMBER(SEARCH($A$3,L886)),MAX($K$1:K885)+1,0)","v":0},"Dhunseri Petrochem & Tea Ltd","DHUNTEA.BO",{"$nulls":12},{"$f":"IFERROR(VLOOKUP(ROWS($Z$2:Z886),K886:$L$6000,2,0),\"\")","v":""},{"$f":"IFERROR(VLOOKUP(ROWS($AA$2:AA886),K886:$M$6000,3,0),\"\")","v":""}]
[{"$nulls":10},{"$f":"IF(ISNUMBER(SEARCH($A$3,L887)),MAX($K$1:K886)+1,0)","v":0},"Dhunseri Petrochem & Tea Ltd","DPTL.NS",{"$nulls":12},{"$f":"IFERROR(VLOOKUP(ROWS($Z$2:Z887),K887:$L$6000,2,0),\"\")","v":""},{"$f":"IFERROR(VLOOKUP(ROWS($AA$2:AA887),K887:$M$6000,3,0),\"\")","v":""}]
[{"$nulls":10},{"$f":"IF(ISNUMBER(SEARCH($A$3,L888)),MAX($K$1:K887)+1,0)","v":0},"Diamant Infrastructure Ltd","DIAMINV.BO",{"$nulls":12},{"$f":"IFERROR(VLOOKUP(ROWS($Z$2:Z888),K888:$L$6000,2,0),\"\")","v":""},{"$f":"IFERROR(VLOOKUP(ROWS($AA$2:AA888),K888:$M$6000,3,0),\"\")","v":""}]
[{"$nulls":10},{"$f":"IF(ISNUMBER(SEARCH($A$3,L889)),MAX($K$1:K888)+1,0)","v":0},"Diamines & Chemicals Ltd","DIAMINESQ.BO",{"$nulls":12},{"$f":"IFERROR(VLOOKUP(ROWS($Z$2:Z889),K889:$L$6000,2,0),\"\")","v":""},{"$f":"IFERROR(VLOOKUP(ROWS($AA$2:AA889),K889:$M$6000,3,0),\"\")","v":""}]
[{"$nulls":10},{"$f":"IF(ISNUMBER(SEARCH($A$3,L890)),MAX($K$1:K889)+1,0)","v":0},"Diamond Power Infrastruct","DIACABLE.BO",{"$nulls":12},{"$f":"IFERROR(VLOOKUP(ROWS($Z$2:Z890),K890:$L$6000,2,0),\"\")","v":""},{"$f":"IFERROR(VLOOKUP(ROWS($AA$2:AA890),K890:$M$6000,3,0),\"\")","v":""}]
[{"$nulls":10},{"$f":"IF(ISNUMBER(SEARCH($A$3,L891)),MAX($K$1:K890)+1,0)","v":0},"Diana Tea Co Ltd","DIANATEA.BO",{"$nulls":12},{"$f":"IFERROR(VLOOKUP(ROWS($Z$2:Z891),K891:$L$6000,2,0),\"\")","v":""},{"$f":"IFERROR(VLOOKUP(ROWS($AA$2:AA891),K891:$M$6000,3,0),\"\")","v":""}]
[{"$nulls":10},{"$f":"IF(ISNUMBER(SEARCH($A$3,L892)),MAX($K$1:K891)+1,0)","v":0},"DIC India Ltd","DIC.BO",{"$nulls":12},{"$f":"IFERROR(VLOOKUP(ROWS($Z$2:Z892),K892:$L$6000,2,0),\"\")","v":""},{"$f":"IFERROR(VLOOKUP(ROWS($AA$2:AA892),K892:$M$6000,3,0),\"\")","v":""}]
[{"$nulls":10},{"$f":"IF(ISNUMBER(SEARCH($A$3,L893)),MAX($K$1:K892)+1,0)","v":0},"DIC India Ltd","DICIND.NS",{"$nulls":12},{"$f":"IFERROR(VLOOKUP(ROWS($Z$2:Z893),K893:$L$6000,2,0),\"\")","v":""},{"$f":"IFERROR(VLOOKUP(ROWS($AA$2:AA893),K893:$M$6000,3,0),\"\")","v":""}]
[{"$nulls":10},{"$f":"IF(ISNUMBER(SEARCH($A$3,L894)),MAX($K$1:K893)+1,0)","v":0},"Digjam Ltd","DIGJAM.BO",{"$nulls":12},{"$f":"IFERROR(VLOOKUP(ROWS($Z$2:Z894),K894:$L$6000,2,0),\"\")","v":""},{"$f":"IFERROR(VLOOKUP(ROWS($AA$2:AA894),K894:$M$6000,3,0),\"\")","v":""}]
[{"$nulls":10},{"$f":"IF(ISNUMBER(SEARCH($A$3,L895)),MAX($K$1:K894)+1,0)","v":0},"Digjam Ltd","DIGJAM.NS",{"$nulls":12},{"$f":"IFERROR(VLOOKUP(ROWS($Z$2:Z895),K895:$L$6000,2,0),\"\")","v":""},{"$f":"IFERROR(VLOOKUP(ROWS($AA$2:AA895),K895:$M$6000,3,0),\"\")","v":""}]
[{"$nulls":10},{"$f":"IF(ISNUMBER(SEARCH($A$3,L896)),MAX($K$1:K895)+1,0)","v":0},"Dil Ltd","DIL.BO",{"$nulls":12},{"$f":"IFERROR(VLOOKUP(ROWS($Z$2:Z896),K896:$L$6000,2,0),\"\")","v":""},{"$f":"IFERROR(VLOOKUP(ROWS($AA$2:AA896),K896:$M$6000,3,0),\"\")","v":""}]
[{"$nulls":10},{"$f":"IF(ISNUMBER(SEARCH($A$3,L897)),MAX($K$1:K896)+1,0)","v":0},"Diligent Industries Ltd","YATISHSE.BO",{"$nulls":12},{"$f":"IFERROR(VLOOKUP(ROWS($Z$2:Z897),K897:$L$6000,2,0),\"\")","v":""},{"$f":"IFERROR(VLOOKUP(ROWS($AA$2:AA897),K897:$M$6000,3,0),\"\")","v":""}]
[{"$nulls":10},{"$f":"IF(ISNUMBER(SEARCH($A$3,L898)),MAX($K$1:K897)+1,0)","v":0},"Disa India Ltd","DISAQ.BO",{"$nulls":12},{"$f":"IFERROR(VLOOKUP(ROWS($Z$2:Z898),K898:$L$6000,2,0),\"\")","v":""},{"$f":"IFERROR(VLOOKUP(ROWS($AA$2:AA898),K898:$M$6000,3,0),\"\")","v":""}]
[{"$nulls":10},{"$f":"IF(ISNUMBER(SEARCH($A$3,L899)),MAX($K$1:K898)+1,0)","v":0},"Dish TV India Ltd","DISHTV.BO",{"$nulls":12},{"$f":"IFERROR(VLOOKUP(ROWS($Z$2:Z899),K899:$L$6000,2,0),\"\")","v":""},{"$f":"IFERROR(VLOOKUP(ROWS($AA$2:AA899),K899:$M$6000,3,0),\"\")","v":""}]
[{"$nulls":10},{"$f":"IF(ISNUMBER(SEARCH($A$3,L900)),MAX($K$1:K899)+1,0)","v":0},"Dish TV India Ltd","DISHTV.NS",{"$nulls":12},{"$f":"IFERROR(VLOOKUP(ROWS($Z$2:Z900),K900:$L$6000,2,0),\"\")","v":""},{"$f":"IFERROR(VLOOKUP(ROWS($AA$2:AA900),K900:$M$6000,3,0),\"\")","v":""}]
[{"$nulls":10},{"$f":"IF(ISNUMBER(SEARCH($A$3,L901)),MAX($K$1:K900)+1,0)","v":0},"Dishman Pharmaceuticals &","DISHMAN.BO",{"$nulls":12},{"$f":"IFERROR(VLOOKUP(ROWS($Z$2:Z901),K901:$L$6000,2,0),\"\")","v":""},{"$f":"IFERROR(VLOOKUP(ROWS($AA$2:AA901),K901:$M$6000,3,0),\"\")","v":""}]
[{"$nulls":10},{"$f":"IF(ISNUMBER(SEARCH($A$3,L902)),MAX($K$1:K901)+1,0)","v":0},"Dishman Pharmaceuticals &","DISHMAN.NS",{"$nulls":12},{"$f":"IFERROR(VLOOKUP(ROWS($Z$2:Z902),K902:$L$6000,2,0),\"\")","v":""},{"$f":"IFERROR(VLOOKUP(ROWS($AA$2:AA902),K902:$M$6000,3,0),\"\")","v":""}]
[{"$nulls":10},{"$f":"IF(ISNUMBER(SEARCH($A$3,L903)),MAX($K$1:K902)+1,0)","v":0},"Divine Multimedia (India) Ltd","KALEFILMS.BO",{"$nulls":12},{"$f":"IFERROR(VLOOKUP(ROWS($Z$2:Z903),K903:$L$6000,2,0),\"\")","v":""},{"$f":"IFERROR(VLOOKUP(ROWS($AA$2:AA903),K903:$M$6000,3,0),\"\")","v":""}]
[{"$nulls":10},{"$f":"IF(ISNUMBER(SEARCH($A$3,L904)),MAX($K$1:K903)+1,0)","v":0},"Divi's Laboratories Ltd","DIVISLAB.BO",{"$nulls":12},{"$f":"IFERROR(VLOOKUP(ROWS($Z$2:Z904),K904:$L$6000,2,0),\"\")","v":""},{"$f":"IFERROR(VLOOKUP(ROWS($AA$2:AA904),K904:$M$6000,3,0),\"\")","v":""}]
[{"$nulls":10},{"$f":"IF(ISNUMBER(SEARCH($A$3,L905)),MAX($K$1:K904)+1,0)","v":0},"Divi's Laboratories Ltd","DIVISLAB.NS",{"$nulls":12},{"$f":"IFERROR(VLOOKUP(ROWS($Z$2:Z905),K905:$L$6000,2,0),\"\")","v":""},{"$f":"IFERROR(VLOOKUP(ROWS($AA$2:AA905),K905:$M$6000,3,0),\"\")","v":""}]
[{"$nulls":10},{"$f":"IF(ISNUMBER(SEARCH($A$3,L906)),MAX($K$1:K905)+1,0)","v":0},"Divya Jyoti Industries Ltd","DIVYAJYQ.BO",{"$nulls":12},{"$f":"IFERROR(VLOOKUP(ROWS($Z$2:Z906),K906:$L$6000,2,0),\"\")","v":""},{"$f":"IFERROR(VLOOKUP(ROWS($AA$2:AA906),K906:$M$6000,3,0),\"\")","v":""}]
[{"$nulls":10},{"$f":"IF(ISNUMBER(SEARCH($A$3,L907)),MAX($K$1:K906)+1,0)","v":0},"Divyashakti Granites Ltd","DIVSHKT.BO",{"$nulls":12},{"$f":"IFERROR(VLOOKUP(ROWS($Z$2:Z907),K907:$L$6000,2,0),\"\")","v":""},{"$f":"IFERROR(VLOOKUP(ROWS($AA$2:AA907),K907:$M$6000,3,0),\"\")","v":""}]
[{"$nulls":10},{"$f":"IF(ISNUMBER(SEARCH($A$3,L908)),MAX($K$1:K907)+1,0)","v":0},"DLF Ltd","DLF.BO",{"$nulls":12},{"$f":"IFERROR(VLOOKUP(ROWS($Z$2:Z908),K908:$L$6000,2,0),\"\")","v":""},{"$f":"IFERROR(VLOOKUP(ROWS($AA$2:AA908),K908:$M$6000,3,0),\"\")","v":""}]
[{"$nulls":10},{"$f":"IF(ISNUMBER(SEARCH($A$3,L909)),MAX($K$1:K908)+1,0)","v":0},"DLF Ltd","DLF.NS",{"$nulls":12},{"$f":"IFERROR(VLOOKUP(ROWS($Z$2:Z909),K909:$L$6000,2,0),\"\")","v":""},{"$f":"IFERROR(VLOOKUP(ROWS($AA$2:AA909),K909:$M$6000,3,0),\"\")","v":""}]
[{"$nulls":10},{"$f":"IF(ISNUMBER(SEARCH($A$3,L910)),MAX($K$1:K909)+1,0)","v":0},"DMC Education Ltd","DMCINTER.BO",{"$nulls":12},{"$f":"IFERROR(VLOOKUP(ROWS($Z$2:Z910),K910:$L$6000,2,0),\"\")","v":""},{"$f":"IFERROR(VLOOKUP(ROWS($AA$2:AA910),K910:$M$6000,3,0),\"\")","v":""}]
[{"$nulls":10},{"$f":"IF(ISNUMBER(SEARCH($A$3,L911)),MAX($K$1:K910)+1,0)","v":0},"Dolat Investments Ltd","DOLAT.BO",{"$nulls":12},{"$f":"IFERROR(VLOOKUP(ROWS($Z$2:Z911),K911:$L$6000,2,0),\"\")","v":""},{"$f":"IFERROR(VLOOKUP(ROWS($AA$2:AA911),K911:$M$6000,3,0),\"\")","v":""}]
[{"$nulls":10},{"$f":"IF(ISNUMBER(SEARCH($A$3,L912)),MAX($K$1:K911)+1,0)","v":0},"Dollex Industries Ltd","DOLLEX.BO",{"$nulls":12},{"$f":"IFERROR(VLOOKUP(ROWS($Z$2:Z912),K912:$L$6000,2,0),\"\")","v":""},{"$f":"IFERROR(VLOOKUP(ROWS($AA$2:AA912),K912:$M$6000,3,0),\"\")","v":""}]
[{"$nulls":10},{"$f":"IF(ISNUMBER(SEARCH($A$3,L913)),MAX($K$1:K912)+1,0)","v":0},"Dolphin Medical Services Ltd","DOLPHMED.BO",{"$nulls":12},{"$f":"IFERROR(VLOOKUP(ROWS($Z$2:Z913),K913:$L$6000,2,0),\"\")","v":""},{"$f":"IFERROR(VLOOKUP(ROWS($AA$2:AA913),K913:$M$6000,3,0),\"\")","v":""}]
[{"$nulls":10},{"$f":"IF(ISNUMBER(SEARCH($A$3,L914)),MAX($K$1:K913)+1,0)","v":0},"Dolphin Offshore Enterpri","DOLPOFF.BO",{"$nulls":12},{"$f":"IFERROR(VLOOKUP(ROWS($Z$2:Z914),K914:$L$6000,2,0),\"\")","v":""},{"$f":"IFERROR(VLOOKUP(ROWS($AA$2:AA914),K914:$M$6000,3,0),\"\")","v":""}]
[{"$nulls":10},{"$f":"IF(ISNUMBER(SEARCH($A$3,L915)),MAX($K$1:K914)+1,0)","v":0},"Dolphin Offshore Enterpri","DOLPHINOF.NS",{"$nulls":12},{"$f":"IFERROR(VLOOKUP(ROWS($Z$2:Z915),K915:$L$6000,2,0),\"\")","v":""},{"$f":"IFERROR(VLOOKUP(ROWS($AA$2:AA915),K915:$M$6000,3,0),\"\")","v":""}]
[{"$nulls":10},{"$f":"IF(ISNUMBER(SEARCH($A$3,L916)),MAX($K$1:K915)+1,0)","v":0},"Donear Industries Ltd","DONEAR.BO",{"$nulls":12},{"$f":"IFERROR(VLOOKUP(ROWS($Z$2:Z916),K916:$L$6000,2,0),\"\")","v":""},{"$f":"IFERROR(VLOOKUP(ROWS($AA$2:AA916),K916:$M$6000,3,0),\"\")","v":""}]
[{"$nulls":10},{"$f":"IF(ISNUMBER(SEARCH($A$3,L917)),MAX($K$1:K916)+1,0)","v":0},"Donear Industries Ltd","DONEAR.NS",{"$nulls":12},{"$f":"IFERROR(VLOOKUP(ROWS($Z$2:Z917),K917:$L$6000,2,0),\"\")","v":""},{"$f":"IFERROR(VLOOKUP(ROWS($AA$2:AA917),K917:$M$6000,3,0),\"\")","v":""}]
[{"$nulls":10},{"$f":"IF(ISNUMBER(SEARCH($A$3,L918)),MAX($K$1:K917)+1,0)","v":0},"Dot Com Global Ltd","PRECIMET.BO",{"$nulls":12},{"$f":"IFERROR(VLOOKUP(ROWS($Z$2:Z918),K918:$L$6000,2,0),\"\")","v":""},{"$f":"IFERROR(VLOOKUP(ROWS($AA$2:AA918),K918:$M$6000,3,0),\"\")","v":""}]
[{"$nulls":10},{"$f":"IF(ISNUMBER(SEARCH($A$3,L919)),MAX($K$1:K918)+1,0)","v":0},"DQ Entertainment (Interna","DQE.BO",{"$nulls":12},{"$f":"IFERROR(VLOOKUP(ROWS($Z$2:Z919),K919:$L$6000,2,0),\"\")","v":""},{"$f":"IFERROR(VLOOKUP(ROWS($AA$2:AA919),K919:$M$6000,3,0),\"\")","v":""}]
[{"$nulls":10},{"$f":"IF(ISNUMBER(SEARCH($A$3,L920)),MAX($K$1:K919)+1,0)","v":0},"Dr Agarwal'S Eye Hospital Ltd","DRAGARWQ.BO",{"$nulls":12},{"$f":"IFERROR(VLOOKUP(ROWS($Z$2:Z920),K920:$L$6000,2,0),\"\")","v":""},{"$f":"IFERROR(VLOOKUP(ROWS($AA$2:AA920),K920:$M$6000,3,0),\"\")","v":""}]
[{"$nulls":10},{"$f":"IF(ISNUMBER(SEARCH($A$3,L921)),MAX($K$1:K920)+1,0)","v":0},"Dr Reddy Laboratories Ltd","DRREDDY.BO",{"$nulls":12},{"$f":"IFERROR(VLOOKUP(ROWS($Z$2:Z921),K921:$L$6000,2,0),\"\")","v":""},{"$f":"IFERROR(VLOOKUP(ROWS($AA$2:AA921),K921:$M$6000,3,0),\"\")","v":""}]
[{"$nulls":10},{"$f":"IF(ISNUMBER(SEARCH($A$3,L922)),MAX($K$1:K921)+1,0)","v":0},"Dr Reddy Laboratories Ltd","DRREDDY.NS",{"$nulls":12},{"$f":"IFERROR(VLOOKUP(ROWS($Z$2:Z922),K922:$L$6000,2,0),\"\")","v":""},{"$f":"IFERROR(VLOOKUP(ROWS($AA$2:AA922),K922:$M$6000,3,0),\"\")","v":""}]
[{"$nulls":10},{"$f":"IF(ISNUMBER(SEARCH($A$3,L923)),MAX($K$1:K922)+1,0)","v":0},"Dredging Corp of India Ltd","DREDGING.BO",{"$nulls":12},{"$f":"IFERROR(VLOOKUP(ROWS($Z$2:Z923),K923:$L$6000,2,0),\"\")","v":""},{"$f":"IFERROR(VLOOKUP(ROWS($AA$2:AA923),K923:$M$6000,3,0),\"\")","v":""}]
[{"$nulls":10},{"$f":"IF(ISNUMBER(SEARCH($A$3,L924)),MAX($K$1:K923)+1,0)","v":0},"Dredging Corp of India Ltd","DREDGECOR.NS",{"$nulls":12},{"$f":"IFERROR(VLOOKUP(ROWS($Z$2:Z924),K924:$L$6000,2,0),\"\")","v":""},{"$f":"IFERROR(VLOOKUP(ROWS($AA$2:AA924),K924:$M$6000,3,0),\"\")","v":""}]
[{"$nulls":10},{"$f":"IF(ISNUMBER(SEARCH($A$3,L925)),MAX($K$1:K924)+1,0)","v":0},"Drillco Metal Carbides Ltd","DRLCOME.BO",{"$nulls":12},{"$f":"IFERROR(VLOOKUP(ROWS($Z$2:Z925),K925:$L$6000,2,0),\"\")","v":""},{"$f":"IFERROR(VLOOKUP(ROWS($AA$2:AA925),K925:$M$6000,3,0),\"\")","v":""}]
[{"$nulls":10},{"$f":"IF(ISNUMBER(SEARCH($A$3,L926)),MAX($K$1:K925)+1,0)","v":0},"DSJ Communications Ltd","DSJCOM.BO",{"$nulls":12},{"$f":"IFERROR(VLOOKUP(ROWS($Z$2:Z926),K926:$L$6000,2,0),\"\")","v":""},{"$f":"IFERROR(VLOOKUP(ROWS($AA$2:AA926),K926:$M$6000,3,0),\"\")","v":""}]
[{"$nulls":10},{"$f":"IF(ISNUMBER(SEARCH($A$3,L927)),MAX($K$1:K926)+1,0)","v":0},"Dujodwala Paper Chemicals Ltd","DUJODPPR.BO",{"$nulls":12},{"$f":"IFERROR(VLOOKUP(ROWS($Z$2:Z927),K927:$L$6000,2,0),\"\")","v":""},{"$f":"IFERROR(VLOOKUP(ROWS($AA$2:AA927),K927:$M$6000,3,0),\"\")","v":""}]
[{"$nulls":10},{"$f":"IF(ISNUMBER(SEARCH($A$3,L928)),MAX($K$1:K927)+1,0)","v":0},"Duke Offshore Ltd","DUKEOFS.BO",{"$nulls":12},{"$f":"IFERROR(VLOOKUP(ROWS($Z$2:Z928),K928:$L$6000,2,0),\"\")","v":""},{"$f":"IFERROR(VLOOKUP(ROWS($AA$2:AA928),K928:$M$6000,3,0),\"\")","v":""}]
[{"$nulls":10},{"$f":"IF(ISNUMBER(SEARCH($A$3,L929)),MAX($K$1:K928)+1,0)","v":0},"Duro Pack Ltd","DUROPACK.BO",{"$nulls":12},{"$f":"IFERROR(VLOOKUP(ROWS($Z$2:Z929),K929:$L$6000,2,0),\"\")","v":""},{"$f":"IFERROR(VLOOKUP(ROWS($AA$2:AA929),K929:$M$6000,3,0),\"\")","v":""}]
[{"$nulls":10},{"$f":"IF(ISNUMBER(SEARCH($A$3,L930)),MAX($K$1:K929)+1,0)","v":0},"Dutron Polymers Ltd","DUTRON.BO",{"$nulls":12},{"$f":"IFERROR(VLOOKUP(ROWS($Z$2:Z930),K930:$L$6000,2,0),\"\")","v":""},{"$f":"IFERROR(VLOOKUP(ROWS($AA$2:AA930),K930:$M$6000,3,0),\"\")","v":""}]
[{"$nulls":10},{"$f":"IF(ISNUMBER(SEARCH($A$3,L931)),MAX($K$1:K930)+1,0)","v":0},"Dwarikesh Sugar Industries Ltd","DWARKESH.BO",{"$nulls":12},{"$f":"IFERROR(VLOOKUP(ROWS($Z$2:Z931),K931:$L$6000,2,0),\"\")","v":""},{"$f":"IFERROR(VLOOKUP(ROWS($AA$2:AA931),K931:$M$6000,3,0),\"\")","v":""}]
[{"$nulls":10},{"$f":"IF(ISNUMBER(SEARCH($A$3,L932)),MAX($K$1:K931)+1,0)","v":0},"Dwarikesh Sugar Industries Ltd","DWARKESH.NS",{"$nulls":12},{"$f":"IFERROR(VLOOKUP(ROWS($Z$2:Z932),K932:$L$6000,2,0),\"\")","v":""},{"$f":"IFERROR(VLOOKUP(ROWS($AA$2:AA932),K932:$M$6000,3,0),\"\")","v":""}]
[{"$nulls":10},{"$f":"IF(ISNUMBER(SEARCH($A$3,L933)),MAX($K$1:K932)+1,0)","v":0},"Dynacons Systems","DYANACON.BO",{"$nulls":12},{"$f":"IFERROR(VLOOKUP(ROWS($Z$2:Z933),K933:$L$6000,2,0),\"\")","v":""},{"$f":"IFERROR(VLOOKUP(ROWS($AA$2:AA933),K933:$M$6000,3,0),\"\")","v":""}]
[{"$nulls":10},{"$f":"IF(ISNUMBER(SEARCH($A$3,L934)),MAX($K$1:K933)+1,0)","v":0},"Dynamatic Technologies Ltd","DYNAMATE.BO",{"$nulls":12},{"$f":"IFERROR(VLOOKUP(ROWS($Z$2:Z934),K934:$L$6000,2,0),\"\")","v":""},{"$f":"IFERROR(VLOOKUP(ROWS($AA$2:AA934),K934:$M$6000,3,0),\"\")","v":""}]
[{"$nulls":10},{"$f":"IF(ISNUMBER(SEARCH($A$3,L935)),MAX($K$1:K934)+1,0)","v":0},"Dynamatic Technologies Ltd","DYNAMATEC.NS",{"$nulls":12},{"$f":"IFERROR(VLOOKUP(ROWS($Z$2:Z935),K935:$L$6000,2,0),\"\")","v":""},{"$f":"IFERROR(VLOOKUP(ROWS($AA$2:AA935),K935:$M$6000,3,0),\"\")","v":""}]
[{"$nulls":10},{"$f":"IF(ISNUMBER(SEARCH($A$3,L936)),MAX($K$1:K935)+1,0)","v":0},"Dynamic Industries Ltd","DYNAMIND.BO",{"$nulls":12},{"$f":"IFERROR(VLOOKUP(ROWS($Z$2:Z936),K936:$L$6000,2,0),\"\")","v":""},{"$f":"IFERROR(VLOOKUP(ROWS($AA$2:AA936),K936:$M$6000,3,0),\"\")","v":""}]
[{"$nulls":10},{"$f":"IF(ISNUMBER(SEARCH($A$3,L937)),MAX($K$1:K936)+1,0)","v":0},"Dynamic Portfolio","DYNAMICP.BO",{"$nulls":12},{"$f":"IFERROR(VLOOKUP(ROWS($Z$2:Z937),K937:$L$6000,2,0),\"\")","v":""},{"$f":"IFERROR(VLOOKUP(ROWS($AA$2:AA937),K937:$M$6000,3,0),\"\")","v":""}]
[{"$nulls":10},{"$f":"IF(ISNUMBER(SEARCH($A$3,L938)),MAX($K$1:K937)+1,0)","v":0},"Dynemic Products Ltd","DYNPRO.BO",{"$nulls":12},{"$f":"IFERROR(VLOOKUP(ROWS($Z$2:Z938),K938:$L$6000,2,0),\"\")","v":""},{"$f":"IFERROR(VLOOKUP(ROWS($AA$2:AA938),K938:$M$6000,3,0),\"\")","v":""}]
[{"$nulls":10},{"$f":"IF(ISNUMBER(SEARCH($A$3,L939)),MAX($K$1:K938)+1,0)","v":0},"E I D Parry India Ltd","EIDPARRY.BO",{"$nulls":12},{"$f":"IFERROR(VLOOKUP(ROWS($Z$2:Z939),K939:$L$6000,2,0),\"\")","v":""},{"$f":"IFERROR(VLOOKUP(ROWS($AA$2:AA939),K939:$M$6000,3,0),\"\")","v":""}]
[{"$nulls":10},{"$f":"IF(ISNUMBER(SEARCH($A$3,L940)),MAX($K$1:K939)+1,0)","v":0},"East Buildtech Ltd","CHOKBUS.BO",{"$nulls":12},{"$f":"IFERROR(VLOOKUP(ROWS($Z$2:Z940),K940:$L$6000,2,0),\"\")","v":""},{"$f":"IFERROR(VLOOKUP(ROWS($AA$2:AA940),K940:$M$6000,3,0),\"\")","v":""}]
[{"$nulls":10},{"$f":"IF(ISNUMBER(SEARCH($A$3,L941)),MAX($K$1:K940)+1,0)","v":0},"East Coast Steel Ltd","ECSTSTL.BO",{"$nulls":12},{"$f":"IFERROR(VLOOKUP(ROWS($Z$2:Z941),K941:$L$6000,2,0),\"\")","v":""},{"$f":"IFERROR(VLOOKUP(ROWS($AA$2:AA941),K941:$M$6000,3,0),\"\")","v":""}]
[{"$nulls":10},{"$f":"IF(ISNUMBER(SEARCH($A$3,L942)),MAX($K$1:K941)+1,0)","v":0},"Eastern Gases Ltd","EASTERNGAS.BO",{"$nulls":12},{"$f":"IFERROR(VLOOKUP(ROWS($Z$2:Z942),K942:$L$6000,2,0),\"\")","v":""},{"$f":"IFERROR(VLOOKUP(ROWS($AA$2:AA942),K942:$M$6000,3,0),\"\")","v":""}]
[{"$nulls":10},{"$f":"IF(ISNUMBER(SEARCH($A$3,L943)),MAX($K$1:K942)+1,0)","v":0},"Eastern Silk Industries Ltd","EASTSILK.BO",{"$nulls":12},{"$f":"IFERROR(VLOOKUP(ROWS($Z$2:Z943),K943:$L$6000,2,0),\"\")","v":""},{"$f":"IFERROR(VLOOKUP(ROWS($AA$2:AA943),K943:$M$6000,3,0),\"\")","v":""}]
[{"$nulls":10},{"$f":"IF(ISNUMBER(SEARCH($A$3,L944)),MAX($K$1:K943)+1,0)","v":0},"Eastern Silk Industries Ltd","EASTSILK.NS",{"$nulls":12},{"$f":"IFERROR(VLOOKUP(ROWS($Z$2:Z944),K944:$L$6000,2,0),\"\")","v":""},{"$f":"IFERROR(VLOOKUP(ROWS($AA$2:AA944),K944:$M$6000,3,0),\"\")","v":""}]
[{"$nulls":10},{"$f":"IF(ISNUMBER(SEARCH($A$3,L945)),MAX($K$1:K944)+1,0)","v":0},"Eastern Sugar And Industr","EASUG.BO",{"$nulls":12},{"$f":"IFERROR(VLOOKUP(ROWS($Z$2:Z945),K945:$L$6000,2,0),\"\")","v":""},{"$f":"IFERROR(VLOOKUP(ROWS($AA$2:AA945),K945:$M$6000,3,0),\"\")","v":""}]
[{"$nulls":10},{"$f":"IF(ISNUMBER(SEARCH($A$3,L946)),MAX($K$1:K945)+1,0)","v":0},"Eastern Treads Ltd","EASTRED.BO",{"$nulls":12},{"$f":"IFERROR(VLOOKUP(ROWS($Z$2:Z946),K946:$L$6000,2,0),\"\")","v":""},{"$f":"IFERROR(VLOOKUP(ROWS($AA$2:AA946),K946:$M$6000,3,0),\"\")","v":""}]
[{"$nulls":10},{"$f":"IF(ISNUMBER(SEARCH($A$3,L947)),MAX($K$1:K946)+1,0)","v":0},"ECE Industries Ltd","ECE.BO",{"$nulls":12},{"$f":"IFERROR(VLOOKUP(ROWS($Z$2:Z947),K947:$L$6000,2,0),\"\")","v":""},{"$f":"IFERROR(VLOOKUP(ROWS($AA$2:AA947),K947:$M$6000,3,0),\"\")","v":""}]
[{"$nulls":10},{"$f":"IF(ISNUMBER(SEARCH($A$3,L948)),MAX($K$1:K947)+1,0)","v":0},"ECE Industries Ltd","ECEIND.NS",{"$nulls":12},{"$f":"IFERROR(VLOOKUP(ROWS($Z$2:Z948),K948:$L$6000,2,0),\"\")","v":""},{"$f":"IFERROR(VLOOKUP(ROWS($AA$2:AA948),K948:$M$6000,3,0),\"\")","v":""}]
[{"$nulls":10},{"$f":"IF(ISNUMBER(SEARCH($A$3,L949)),MAX($K$1:K948)+1,0)","v":0},"eClerx Services Ltd","ECLERX.BO",{"$nulls":12},{"$f":"IFERROR(VLOOKUP(ROWS($Z$2:Z949),K949:$L$6000,2,0),\"\")","v":""},{"$f":"IFERROR(VLOOKUP(ROWS($AA$2:AA949),K949:$M$6000,3,0),\"\")","v":""}]
[{"$nulls":10},{"$f":"IF(ISNUMBER(SEARCH($A$3,L950)),MAX($K$1:K949)+1,0)","v":0},"Eco Recycling Ltd","INFOTREK.BO",{"$nulls":12},{"$f":"IFERROR(VLOOKUP(ROWS($Z$2:Z950),K950:$L$6000,2,0),\"\")","v":""},{"$f":"IFERROR(VLOOKUP(ROWS($AA$2:AA950),K950:$M$6000,3,0),\"\")","v":""}]
[{"$nulls":10},{"$f":"IF(ISNUMBER(SEARCH($A$3,L951)),MAX($K$1:K950)+1,0)","v":0},"Ecoboard Industries Ltd","ECOBOAR.BO",{"$nulls":12},{"$f":"IFERROR(VLOOKUP(ROWS($Z$2:Z951),K951:$L$6000,2,0),\"\")","v":""},{"$f":"IFERROR(VLOOKUP(ROWS($AA$2:AA951),K951:$M$6000,3,0),\"\")","v":""}]
[{"$nulls":10},{"$f":"IF(ISNUMBER(SEARCH($A$3,L952)),MAX($K$1:K951)+1,0)","v":0},"Ecoplast Ltd","ECOPLAST.BO",{"$nulls":12},{"$f":"IFERROR(VLOOKUP(ROWS($Z$2:Z952),K952:$L$6000,2,0),\"\")","v":""},{"$f":"IFERROR(VLOOKUP(ROWS($AA$2:AA952),K952:$M$6000,3,0),\"\")","v":""}]
[{"$nulls":10},{"$f":"IF(ISNUMBER(SEARCH($A$3,L953)),MAX($K$1:K952)+1,0)","v":0},"Edelweiss Financial","EDELWEISS.BO",{"$nulls":12},{"$f":"IFERROR(VLOOKUP(ROWS($Z$2:Z953),K953:$L$6000,2,0),\"\")","v":""},{"$f":"IFERROR(VLOOKUP(ROWS($AA$2:AA953),K953:$M$6000,3,0),\"\")","v":""}]
[{"$nulls":10},{"$f":"IF(ISNUMBER(SEARCH($A$3,L954)),MAX($K$1:K953)+1,0)","v":0},"Edelweiss Financial","EDELWEISS.NS",{"$nulls":12},{"$f":"IFERROR(VLOOKUP(ROWS($Z$2:Z954),K954:$L$6000,2,0),\"\")","v":""},{"$f":"IFERROR(VLOOKUP(ROWS($AA$2:AA954),K954:$M$6000,3,0),\"\")","v":""}]
[{"$nulls":10},{"$f":"IF(ISNUMBER(SEARCH($A$3,L955)),MAX($K$1:K954)+1,0)","v":0},"Edserv Softsystems Ltd","EDSERVSOF.BO",{"$nulls":12},{"$f":"IFERROR(VLOOKUP(ROWS($Z$2:Z955),K955:$L$6000,2,0),\"\")","v":""},{"$f":"IFERROR(VLOOKUP(ROWS($AA$2:AA955),K955:$M$6000,3,0),\"\")","v":""}]
[{"$nulls":10},{"$f":"IF(ISNUMBER(SEARCH($A$3,L956)),MAX($K$1:K955)+1,0)","v":0},"Educomp Solutions Ltd","EDUCOMP.BO",{"$nulls":12},{"$f":"IFERROR(VLOOKUP(ROWS($Z$2:Z956),K956:$L$6000,2,0),\"\")","v":""},{"$f":"IFERROR(VLOOKUP(ROWS($AA$2:AA956),K956:$M$6000,3,0),\"\")","v":""}]
[{"$nulls":10},{"$f":"IF(ISNUMBER(SEARCH($A$3,L957)),MAX($K$1:K956)+1,0)","v":0},"Educomp Solutions Ltd","EDUCOMP.NS",{"$nulls":12},{"$f":"IFERROR(VLOOKUP(ROWS($Z$2:Z957),K957:$L$6000,2,0),\"\")","v":""},{"$f":"IFERROR(VLOOKUP(ROWS($AA$2:AA957),K957:$M$6000,3,0),\"\")","v":""}]
[{"$nulls":10},{"$f":"IF(ISNUMBER(SEARCH($A$3,L958)),MAX($K$1:K957)+1,0)","v":0},"Eduexel Infotainment Ltd","TGFMEDI.BO",{"$nulls":12},{"$f":"IFERROR(VLOOKUP(ROWS($Z$2:Z958),K958:$L$6000,2,0),\"\")","v":""},{"$f":"IFERROR(VLOOKUP(ROWS($AA$2:AA958),K958:$M$6000,3,0),\"\")","v":""}]
[{"$nulls":10},{"$f":"IF(ISNUMBER(SEARCH($A$3,L959)),MAX($K$1:K958)+1,0)","v":0},"Eicher Motors Ltd","EICHERMOT.BO",{"$nulls":12},{"$f":"IFERROR(VLOOKUP(ROWS($Z$2:Z959),K959:$L$6000,2,0),\"\")","v":""},{"$f":"IFERROR(VLOOKUP(ROWS($AA$2:AA959),K959:$M$6000,3,0),\"\")","v":""}]
[{"$nulls":10},{"$f":"IF(ISNUMBER(SEARCH($A$3,L960)),MAX($K$1:K959)+1,0)","v":0},"Eicher Motors Ltd","EICHERMOT.NS",{"$nulls":12},{"$f":"IFERROR(VLOOKUP(ROWS($Z$2:Z960),K960:$L$6000,2,0),\"\")","v":""},{"$f":"IFERROR(VLOOKUP(ROWS($AA$2:AA960),K960:$M$6000,3,0),\"\")","v":""}]
[{"$nulls":10},{"$f":"IF(ISNUMBER(SEARCH($A$3,L961)),MAX($K$1:K960)+1,0)","v":0},"EIH Associated Hotels Ltd","EIHASSO.BO",{"$nulls":12},{"$f":"IFERROR(VLOOKUP(ROWS($Z$2:Z961),K961:$L$6000,2,0),\"\")","v":""},{"$f":"IFERROR(VLOOKUP(ROWS($AA$2:AA961),K961:$M$6000,3,0),\"\")","v":""}]
[{"$nulls":10},{"$f":"IF(ISNUMBER(SEARCH($A$3,L962)),MAX($K$1:K961)+1,0)","v":0},"EIH Associated Hotels Ltd","EIHAHOTEL.NS",{"$nulls":12},{"$f":"IFERROR(VLOOKUP(ROWS($Z$2:Z962),K962:$L$6000,2,0),\"\")","v":""},{"$f":"IFERROR(VLOOKUP(ROWS($AA$2:AA962),K962:$M$6000,3,0),\"\")","v":""}]
[{"$nulls":10},{"$f":"IF(ISNUMBER(SEARCH($A$3,L963)),MAX($K$1:K962)+1,0)","v":0},"EIH Ltd","EIH.BO",{"$nulls":12},{"$f":"IFERROR(VLOOKUP(ROWS($Z$2:Z963),K963:$L$6000,2,0),\"\")","v":""},{"$f":"IFERROR(VLOOKUP(ROWS($AA$2:AA963),K963:$M$6000,3,0),\"\")","v":""}]
[{"$nulls":10},{"$f":"IF(ISNUMBER(SEARCH($A$3,L964)),MAX($K$1:K963)+1,0)","v":0},"EIH Ltd","EIHOTEL.NS",{"$nulls":12},{"$f":"IFERROR(VLOOKUP(ROWS($Z$2:Z964),K964:$L$6000,2,0),\"\")","v":""},{"$f":"IFERROR(VLOOKUP(ROWS($AA$2:AA964),K964:$M$6000,3,0),\"\")","v":""}]
[{"$nulls":10},{"$f":"IF(ISNUMBER(SEARCH($A$3,L965)),MAX($K$1:K964)+1,0)","v":0},"Eimco Elecon India Ltd","EIMCO.BO",{"$nulls":12},{"$f":"IFERROR(VLOOKUP(ROWS($Z$2:Z965),K965:$L$6000,2,0),\"\")","v":""},{"$f":"IFERROR(VLOOKUP(ROWS($AA$2:AA965),K965:$M$6000,3,0),\"\")","v":""}]
[{"$nulls":10},{"$f":"IF(ISNUMBER(SEARCH($A$3,L966)),MAX($K$1:K965)+1,0)","v":0},"Eimco Elecon India Ltd","EIMCOELEC.NS",{"$nulls":12},{"$f":"IFERROR(VLOOKUP(ROWS($Z$2:Z966),K966:$L$6000,2,0),\"\")","v":""},{"$f":"IFERROR(VLOOKUP(ROWS($AA$2:AA966),K966:$M$6000,3,0),\"\")","v":""}]
[{"$nulls":10},{"$f":"IF(ISNUMBER(SEARCH($A$3,L967)),MAX($K$1:K966)+1,0)","v":0},"El Forge Ltd","ELFORGE.BO",{"$nulls":12},{"$f":"IFERROR(VLOOKUP(ROWS($Z$2:Z967),K967:$L$6000,2,0),\"\")","v":""},{"$f":"IFERROR(VLOOKUP(ROWS($AA$2:AA967),K967:$M$6000,3,0),\"\")","v":""}]
[{"$nulls":10},{"$f":"IF(ISNUMBER(SEARCH($A$3,L968)),MAX($K$1:K967)+1,0)","v":0},"Elango Industries Ltd","ELANGO.BO",{"$nulls":12},{"$f":"IFERROR(VLOOKUP(ROWS($Z$2:Z968),K968:$L$6000,2,0),\"\")","v":""},{"$f":"IFERROR(VLOOKUP(ROWS($AA$2:AA968),K968:$M$6000,3,0),\"\")","v":""}]
[{"$nulls":10},{"$f":"IF(ISNUMBER(SEARCH($A$3,L969)),MAX($K$1:K968)+1,0)","v":0},"Eldeco Housing And Indust","ELDEHSG.BO",{"$nulls":12},{"$f":"IFERROR(VLOOKUP(ROWS($Z$2:Z969),K969:$L$6000,2,0),\"\")","v":""},{"$f":"IFERROR(VLOOKUP(ROWS($AA$2:AA969),K969:$M$6000,3,0),\"\")","v":""}]
[{"$nulls":10},{"$f":"IF(ISNUMBER(SEARCH($A$3,L970)),MAX($K$1:K969)+1,0)","v":0},"Elder Health Care Ltd","ELDERHCL.BO",{"$nulls":12},{"$f":"IFERROR(VLOOKUP(ROWS($Z$2:Z970),K970:$L$6000,2,0),\"\")","v":""},{"$f":"IFERROR(VLOOKUP(ROWS($AA$2:AA970),K970:$M$6000,3,0),\"\")","v":""}]
[{"$nulls":10},{"$f":"IF(ISNUMBER(SEARCH($A$3,L971)),MAX($K$1:K970)+1,0)","v":0},"Elder Pharmaceuticals Ltd","ELDERPG.BO",{"$nulls":12},{"$f":"IFERROR(VLOOKUP(ROWS($Z$2:Z971),K971:$L$6000,2,0),\"\")","v":""},{"$f":"IFERROR(VLOOKUP(ROWS($AA$2:AA971),K971:$M$6000,3,0),\"\")","v":""}]
[{"$nulls":10},{"$f":"IF(ISNUMBER(SEARCH($A$3,L972)),MAX($K$1:K971)+1,0)","v":0},"Elder Pharmaceuticals Ltd","ELDERPHARM.BO",{"$nulls":12},{"$f":"IFERROR(VLOOKUP(ROWS($Z$2:Z972),K972:$L$6000,2,0),\"\")","v":""},{"$f":"IFERROR(VLOOKUP(ROWS($AA$2:AA972),K972:$M$6000,3,0),\"\")","v":""}]
[{"$nulls":10},{"$f":"IF(ISNUMBER(SEARCH($A$3,L973)),MAX($K$1:K972)+1,0)","v":0},"Elder Pharmaceuticals Ltd","ELDERPHAR.NS",{"$nulls":12},{"$f":"IFERROR(VLOOKUP(ROWS($Z$2:Z973),K973:$L$6000,2,0),\"\")","v":""},{"$f":"IFERROR(VLOOKUP(ROWS($AA$2:AA973),K973:$M$6000,3,0),\"\")","v":""}]
[{"$nulls":10},{"$f":"IF(ISNUMBER(SEARCH($A$3,L974)),MAX($K$1:K973)+1,0)","v":0},"Elecon Engineering Co Ltd","ELECON.BO",{"$nulls":12},{"$f":"IFERROR(VLOOKUP(ROWS($Z$2:Z974),K974:$L$6000,2,0),\"\")","v":""},{"$f":"IFERROR(VLOOKUP(ROWS($AA$2:AA974),K974:$M$6000,3,0),\"\")","v":""}]
[{"$nulls":10},{"$f":"IF(ISNUMBER(SEARCH($A$3,L975)),MAX($K$1:K974)+1,0)","v":0},"Elecon Engineering Co Ltd","ELECON.NS",{"$nulls":12},{"$f":"IFERROR(VLOOKUP(ROWS($Z$2:Z975),K975:$L$6000,2,0),\"\")","v":""},{"$f":"IFERROR(VLOOKUP(ROWS($AA$2:AA975),K975:$M$6000,3,0),\"\")","v":""}]
[{"$nulls":10},{"$f":"IF(ISNUMBER(SEARCH($A$3,L976)),MAX($K$1:K975)+1,0)","v":0},"Electrosteel Castings Ltd","ELECTROST.BO",{"$nulls":12},{"$f":"IFERROR(VLOOKUP(ROWS($Z$2:Z976),K976:$L$6000,2,0),\"\")","v":""},{"$f":"IFERROR(VLOOKUP(ROWS($AA$2:AA976),K976:$M$6000,3,0),\"\")","v":""}]
[{"$nulls":10},{"$f":"IF(ISNUMBER(SEARCH($A$3,L977)),MAX($K$1:K976)+1,0)","v":0},"Electrosteel Castings Ltd","ELECTCAST.NS",{"$nulls":12},{"$f":"IFERROR(VLOOKUP(ROWS($Z$2:Z977),K977:$L$6000,2,0),\"\")","v":""},{"$f":"IFERROR(VLOOKUP(ROWS($AA$2:AA977),K977:$M$6000,3,0),\"\")","v":""}]
[{"$nulls":10},{"$f":"IF(ISNUMBER(SEARCH($A$3,L978)),MAX($K$1:K977)+1,0)","v":0},"Electrotherm India Ltd","ELETHERB.BO",{"$nulls":12},{"$f":"IFERROR(VLOOKUP(ROWS($Z$2:Z978),K978:$L$6000,2,0),\"\")","v":""},{"$f":"IFERROR(VLOOKUP(ROWS($AA$2:AA978),K978:$M$6000,3,0),\"\")","v":""}]
[{"$nulls":10},{"$f":"IF(ISNUMBER(SEARCH($A$3,L979)),MAX($K$1:K978)+1,0)","v":0},"Electrotherm India Ltd","ELECTHERM.NS",{"$nulls":12},{"$f":"IFERROR(VLOOKUP(ROWS($Z$2:Z979),K979:$L$6000,2,0),\"\")","v":""},{"$f":"IFERROR(VLOOKUP(ROWS($AA$2:AA979),K979:$M$6000,3,0),\"\")","v":""}]
[{"$nulls":10},{"$f":"IF(ISNUMBER(SEARCH($A$3,L980)),MAX($K$1:K979)+1,0)","v":0},"Elegant Floriculture & Ag","ELEFLOR.BO",{"$nulls":12},{"$f":"IFERROR(VLOOKUP(ROWS($Z$2:Z980),K980:$L$6000,2,0),\"\")","v":""},{"$f":"IFERROR(VLOOKUP(ROWS($AA$2:AA980),K980:$M$6000,3,0),\"\")","v":""}]
[{"$nulls":10},{"$f":"IF(ISNUMBER(SEARCH($A$3,L981)),MAX($K$1:K980)+1,0)","v":0},"Elegant Marbles","ELEMARB.BO",{"$nulls":12},{"$f":"IFERROR(VLOOKUP(ROWS($Z$2:Z981),K981:$L$6000,2,0),\"\")","v":""},{"$f":"IFERROR(VLOOKUP(ROWS($AA$2:AA981),K981:$M$6000,3,0),\"\")","v":""}]
[{"$nulls":10},{"$f":"IF(ISNUMBER(SEARCH($A$3,L982)),MAX($K$1:K981)+1,0)","v":0},"Elgi Equipments Ltd","ELGIEQUIP.BO",{"$nulls":12},{"$f":"IFERROR(VLOOKUP(ROWS($Z$2:Z982),K982:$L$6000,2,0),\"\")","v":""},{"$f":"IFERROR(VLOOKUP(ROWS($AA$2:AA982),K982:$M$6000,3,0),\"\")","v":""}]
[{"$nulls":10},{"$f":"IF(ISNUMBER(SEARCH($A$3,L983)),MAX($K$1:K982)+1,0)","v":0},"Elgi Equipments Ltd","ELGIEQUIP.NS",{"$nulls":12},{"$f":"IFERROR(VLOOKUP(ROWS($Z$2:Z983),K983:$L$6000,2,0),\"\")","v":""},{"$f":"IFERROR(VLOOKUP(ROWS($AA$2:AA983),K983:$M$6000,3,0),\"\")","v":""}]
[{"$nulls":10},{"$f":"IF(ISNUMBER(SEARCH($A$3,L984)),MAX($K$1:K983)+1,0)","v":0},"Ellenbarrie Industrial Ga","ELLENBARR.BO",{"$nulls":12},{"$f":"IFERROR(VLOOKUP(ROWS($Z$2:Z984),K984:$L$6000,2,0),\"\")","v":""},{"$f":"IFERROR(VLOOKUP(ROWS($AA$2:AA984),K984:$M$6000,3,0),\"\")","v":""}]
[{"$nulls":10},{"$f":"IF(ISNUMBER(SEARCH($A$3,L985)),MAX($K$1:K984)+1,0)","v":0},"Elnet Technologies Ltd","ELNET.BO",{"$nulls":12},{"$f":"IFERROR(VLOOKUP(ROWS($Z$2:Z985),K985:$L$6000,2,0),\"\")","v":""},{"$f":"IFERROR(VLOOKUP(ROWS($AA$2:AA985),K985:$M$6000,3,0),\"\")","v":""}]
[{"$nulls":10},{"$f":"IF(ISNUMBER(SEARCH($A$3,L986)),MAX($K$1:K985)+1,0)","v":0},"Elpro International Ltd","ELPRO.BO",{"$nulls":12},{"$f":"IFERROR(VLOOKUP(ROWS($Z$2:Z986),K986:$L$6000,2,0),\"\")","v":""},{"$f":"IFERROR(VLOOKUP(ROWS($AA$2:AA986),K986:$M$6000,3,0),\"\")","v":""}]
[{"$nulls":10},{"$f":"IF(ISNUMBER(SEARCH($A$3,L987)),MAX($K$1:K986)+1,0)","v":0},"Ema India Ltd","EMAINDIA.BO",{"$nulls":12},{"$f":"IFERROR(VLOOKUP(ROWS($Z$2:Z987),K987:$L$6000,2,0),\"\")","v":""},{"$f":"IFERROR(VLOOKUP(ROWS($AA$2:AA987),K987:$M$6000,3,0),\"\")","v":""}]
[{"$nulls":10},{"$f":"IF(ISNUMBER(SEARCH($A$3,L988)),MAX($K$1:K987)+1,0)","v":0},"Emami Infrastructure Ltd","EMAMINFRA.BO",{"$nulls":12},{"$f":"IFERROR(VLOOKUP(ROWS($Z$2:Z988),K988:$L$6000,2,0),\"\")","v":""},{"$f":"IFERROR(VLOOKUP(ROWS($AA$2:AA988),K988:$M$6000,3,0),\"\")","v":""}]
[{"$nulls":10},{"$f":"IF(ISNUMBER(SEARCH($A$3,L989)),MAX($K$1:K988)+1,0)","v":0},"Emami Ltd","EMAMI.BO",{"$nulls":12},{"$f":"IFERROR(VLOOKUP(ROWS($Z$2:Z989),K989:$L$6000,2,0),\"\")","v":""},{"$f":"IFERROR(VLOOKUP(ROWS($AA$2:AA989),K989:$M$6000,3,0),\"\")","v":""}]
[{"$nulls":10},{"$f":"IF(ISNUMBER(SEARCH($A$3,L990)),MAX($K$1:K989)+1,0)","v":0},"Emami Ltd","EMAMILTD.NS",{"$nulls":12},{"$f":"IFERROR(VLOOKUP(ROWS($Z$2:Z990),K990:$L$6000,2,0),\"\")","v":""},{"$f":"IFERROR(VLOOKUP(ROWS($AA$2:AA990),K990:$M$6000,3,0),\"\")","v":""}]
[{"$nulls":10},{"$f":"IF(ISNUMBER(SEARCH($A$3,L991)),MAX($K$1:K990)+1,0)","v":0},"Emami Paper Mills Ltd","EMAMIPAP.BO",{"$nulls":12},{"$f":"IFERROR(VLOOKUP(ROWS($Z$2:Z991),K991:$L$6000,2,0),\"\")","v":""},{"$f":"IFERROR(VLOOKUP(ROWS($AA$2:AA991),K991:$M$6000,3,0),\"\")","v":""}]
[{"$nulls":10},{"$f":"IF(ISNUMBER(SEARCH($A$3,L992)),MAX($K$1:K991)+1,0)","v":0},"EMCo Ltd","EMCO.BO",{"$nulls":12},{"$f":"IFERROR(VLOOKUP(ROWS($Z$2:Z992),K992:$L$6000,2,0),\"\")","v":""},{"$f":"IFERROR(VLOOKUP(ROWS($AA$2:AA992),K992:$M$6000,3,0),\"\")","v":""}]
[{"$nulls":10},{"$f":"IF(ISNUMBER(SEARCH($A$3,L993)),MAX($K$1:K992)+1,0)","v":0},"EMCo Ltd","EMCO.NS",{"$nulls":12},{"$f":"IFERROR(VLOOKUP(ROWS($Z$2:Z993),K993:$L$6000,2,0),\"\")","v":""},{"$f":"IFERROR(VLOOKUP(ROWS($AA$2:AA993),K993:$M$6000,3,0),\"\")","v":""}]
[{"$nulls":10},{"$f":"IF(ISNUMBER(SEARCH($A$3,L994)),MAX($K$1:K993)+1,0)","v":0},"Emergent Global EDU","SRIOMTR.BO",{"$nulls":12},{"$f":"IFERROR(VLOOKUP(ROWS($Z$2:Z994),K994:$L$6000,2,0),\"\")","v":""},{"$f":"IFERROR(VLOOKUP(ROWS($AA$2:AA994),K994:$M$6000,3,0),\"\")","v":""}]
[{"$nulls":10},{"$f":"IF(ISNUMBER(SEARCH($A$3,L995)),MAX($K$1:K994)+1,0)","v":0},"Emgee Cables & Communicat","EMGEECA.BO",{"$nulls":12},{"$f":"IFERROR(VLOOKUP(ROWS($Z$2:Z995),K995:$L$6000,2,0),\"\")","v":""},{"$f":"IFERROR(VLOOKUP(ROWS($AA$2:AA995),K995:$M$6000,3,0),\"\")","v":""}]
[{"$nulls":10},{"$f":"IF(ISNUMBER(SEARCH($A$3,L996)),MAX($K$1:K995)+1,0)","v":0},"Emkay Global Financial","EMKAYGLOF.BO",{"$nulls":12},{"$f":"IFERROR(VLOOKUP(ROWS($Z$2:Z996),K996:$L$6000,2,0),\"\")","v":""},{"$f":"IFERROR(VLOOKUP(ROWS($AA$2:AA996),K996:$M$6000,3,0),\"\")","v":""}]
[{"$nulls":10},{"$f":"IF(ISNUMBER(SEARCH($A$3,L997)),MAX($K$1:K996)+1,0)","v":0},"Emkay Global Financial","EMKAY.NS",{"$nulls":12},{"$f":"IFERROR(VLOOKUP(ROWS($Z$2:Z997),K997:$L$6000,2,0),\"\")","v":""},{"$f":"IFERROR(VLOOKUP(ROWS($AA$2:AA997),K997:$M$6000,3,0),\"\")","v":""}]
[{"$nulls":10},{"$f":"IF(ISNUMBER(SEARCH($A$3,L998)),MAX($K$1:K997)+1,0)","v":0},"Emmbi Industries Ltd","EMMBIPOLY.BO",{"$nulls":12},{"$f":"IFERROR(VLOOKUP(ROWS($Z$2:Z998),K998:$L$6000,2,0),\"\")","v":""},{"$f":"IFERROR(VLOOKUP(ROWS($AA$2:AA998),K998:$M$6000,3,0),\"\")","v":""}]
[{"$nulls":10},{"$f":"IF(ISNUMBER(SEARCH($A$3,L999)),MAX($K$1:K998)+1,0)","v":0},"Emmbi Industries Ltd","EMMBI.NS",{"$nulls":12},{"$f":"IFERROR(VLOOKUP(ROWS($Z$2:Z999),K999:$L$6000,2,0),\"\")","v":""},{"$f":"IFERROR(VLOOKUP(ROWS($AA$2:AA999),K999:$M$6000,3,0),\"\")","v":""}]
[{"$nulls":10},{"$f":"IF(ISNUMBER(SEARCH($A$3,L1000)),MAX($K$1:K999)+1,0)","v":0},"Emmessar Biotech And Nutr","EMMESSA.BO",{"$nulls":12},{"$f":"IFERROR(VLOOKUP(ROWS($Z$2:Z1000),K1000:$L$6000,2,0),\"\")","v":""},{"$f":"IFERROR(VLOOKUP(ROWS($AA$2:AA1000),K1000:$M$6000,3,0),\"\")","v":""}]
[{"$nulls":10},{"$f":"IF(ISNUMBER(SEARCH($A$3,L1001)),MAX($K$1:K1000)+1,0)","v":0},"Emmsons International Ltd","EMMSONS.BO",{"$nulls":12},{"$f":"IFERROR(VLOOKUP(ROWS($Z$2:Z1001),K1001:$L$6000,2,0),\"\")","v":""},{"$f":"IFERROR(VLOOKUP(ROWS($AA$2:AA1001),K1001:$M$6000,3,0),\"\")","v":""}]
[{"$nulls":10},{"$f":"IF(ISNUMBER(SEARCH($A$3,L1002)),MAX($K$1:K1001)+1,0)","v":0},"Empee Distilleries Ltd","EDL.BO",{"$nulls":12},{"$f":"IFERROR(VLOOKUP(ROWS($Z$2:Z1002),K1002:$L$6000,2,0),\"\")","v":""},{"$f":"IFERROR(VLOOKUP(ROWS($AA$2:AA1002),K1002:$M$6000,3,0),\"\")","v":""}]
[{"$nulls":10},{"$f":"IF(ISNUMBER(SEARCH($A$3,L1003)),MAX($K$1:K1002)+1,0)","v":0},"Empee Distilleries Ltd","EDL.NS",{"$nulls":12},{"$f":"IFERROR(VLOOKUP(ROWS($Z$2:Z1003),K1003:$L$6000,2,0),\"\")","v":""},{"$f":"IFERROR(VLOOKUP(ROWS($AA$2:AA1003),K1003:$M$6000,3,0),\"\")","v":""}]
[{"$nulls":10},{"$f":"IF(ISNUMBER(SEARCH($A$3,L1004)),MAX($K$1:K1003)+1,0)","v":0},"Empee Sugars And Chemicals Ltd","EMPSC.BO",{"$nulls":12},{"$f":"IFERROR(VLOOKUP(ROWS($Z$2:Z1004),K1004:$L$6000,2,0),\"\")","v":""},{"$f":"IFERROR(VLOOKUP(ROWS($AA$2:AA1004),K1004:$M$6000,3,0),\"\")","v":""}]
[{"$nulls":10},{"$f":"IF(ISNUMBER(SEARCH($A$3,L1005)),MAX($K$1:K1004)+1,0)","v":0},"Empire Industries Ltd","EMPIND.BO",{"$nulls":12},{"$f":"IFERROR(VLOOKUP(ROWS($Z$2:Z1005),K1005:$L$6000,2,0),\"\")","v":""},{"$f":"IFERROR(VLOOKUP(ROWS($AA$2:AA1005),K1005:$M$6000,3,0),\"\")","v":""}]
[{"$nulls":10},{"$f":"IF(ISNUMBER(SEARCH($A$3,L1006)),MAX($K$1:K1005)+1,0)","v":0},"Empower India Ltd","EMPOWERIND.BO",{"$nulls":12},{"$f":"IFERROR(VLOOKUP(ROWS($Z$2:Z1006),K1006:$L$6000,2,0),\"\")","v":""},{"$f":"IFERROR(VLOOKUP(ROWS($AA$2:AA1006),K1006:$M$6000,3,0),\"\")","v":""}]
[{"$nulls":10},{"$f":"IF(ISNUMBER(SEARCH($A$3,L1007)),MAX($K$1:K1006)+1,0)","v":0},"Encore Software Ltd","ENCORE.BO",{"$nulls":12},{"$f":"IFERROR(VLOOKUP(ROWS($Z$2:Z1007),K1007:$L$6000,2,0),\"\")","v":""},{"$f":"IFERROR(VLOOKUP(ROWS($AA$2:AA1007),K1007:$M$6000,3,0),\"\")","v":""}]
[{"$nulls":10},{"$f":"IF(ISNUMBER(SEARCH($A$3,L1008)),MAX($K$1:K1007)+1,0)","v":0},"Energy Development Co Ltd","ENERGY.BO",{"$nulls":12},{"$f":"IFERROR(VLOOKUP(ROWS($Z$2:Z1008),K1008:$L$6000,2,0),\"\")","v":""},{"$f":"IFERROR(VLOOKUP(ROWS($AA$2:AA1008),K1008:$M$6000,3,0),\"\")","v":""}]
[{"$nulls":10},{"$f":"IF(ISNUMBER(SEARCH($A$3,L1009)),MAX($K$1:K1008)+1,0)","v":0},"Energy Development Co Ltd","ENERGYDEV.NS",{"$nulls":12},{"$f":"IFERROR(VLOOKUP(ROWS($Z$2:Z1009),K1009:$L$6000,2,0),\"\")","v":""},{"$f":"IFERROR(VLOOKUP(ROWS($AA$2:AA1009),K1009:$M$6000,3,0),\"\")","v":""}]
[{"$nulls":10},{"$f":"IF(ISNUMBER(SEARCH($A$3,L1010)),MAX($K$1:K1009)+1,0)","v":0},"Engineers India Ltd","ENGINERSI.NS",{"$nulls":12},{"$f":"IFERROR(VLOOKUP(ROWS($Z$2:Z1010),K1010:$L$6000,2,0),\"\")","v":""},{"$f":"IFERROR(VLOOKUP(ROWS($AA$2:AA1010),K1010:$M$6000,3,0),\"\")","v":""}]
[{"$nulls":10},{"$f":"IF(ISNUMBER(SEARCH($A$3,L1011)),MAX($K$1:K1010)+1,0)","v":0},"Ensa Steel Industries Ltd","ENSSI.BO",{"$nulls":12},{"$f":"IFERROR(VLOOKUP(ROWS($Z$2:Z1011),K1011:$L$6000,2,0),\"\")","v":""},{"$f":"IFERROR(VLOOKUP(ROWS($AA$2:AA1011),K1011:$M$6000,3,0),\"\")","v":""}]
[{"$nulls":10},{"$f":"IF(ISNUMBER(SEARCH($A$3,L1012)),MAX($K$1:K1011)+1,0)","v":0},"Entegra Ltd","ENTEGRA.BO",{"$nulls":12},{"$f":"IFERROR(VLOOKUP(ROWS($Z$2:Z1012),K1012:$L$6000,2,0),\"\")","v":""},{"$f":"IFERROR(VLOOKUP(ROWS($AA$2:AA1012),K1012:$M$6000,3,0),\"\")","v":""}]
[{"$nulls":10},{"$f":"IF(ISNUMBER(SEARCH($A$3,L1013)),MAX($K$1:K1012)+1,0)","v":0},"Entegra Ltd","ENTEGRA.NS",{"$nulls":12},{"$f":"IFERROR(VLOOKUP(ROWS($Z$2:Z1013),K1013:$L$6000,2,0),\"\")","v":""},{"$f":"IFERROR(VLOOKUP(ROWS($AA$2:AA1013),K1013:$M$6000,3,0),\"\")","v":""}]
[{"$nulls":10},{"$f":"IF(ISNUMBER(SEARCH($A$3,L1014)),MAX($K$1:K1013)+1,0)","v":0},"Enterprise International Ltd","ENTRINT.BO",{"$nulls":12},{"$f":"IFERROR(VLOOKUP(ROWS($Z$2:Z1014),K1014:$L$6000,2,0),\"\")","v":""},{"$f":"IFERROR(VLOOKUP(ROWS($AA$2:AA1014),K1014:$M$6000,3,0),\"\")","v":""}]
[{"$nulls":10},{"$f":"IF(ISNUMBER(SEARCH($A$3,L1015)),MAX($K$1:K1014)+1,0)","v":0},"Entertainment Network","ENIL.BO",{"$nulls":12},{"$f":"IFERROR(VLOOKUP(ROWS($Z$2:Z1015),K1015:$L$6000,2,0),\"\")","v":""},{"$f":"IFERROR(VLOOKUP(ROWS($AA$2:AA1015),K1015:$M$6000,3,0),\"\")","v":""}]
[{"$nulls":10},{"$f":"IF(ISNUMBER(SEARCH($A$3,L1016)),MAX($K$1:K1015)+1,0)","v":0},"Entertainment Network","ENIL.NS",{"$nulls":12},{"$f":"IFERROR(VLOOKUP(ROWS($Z$2:Z1016),K1016:$L$6000,2,0),\"\")","v":""},{"$f":"IFERROR(VLOOKUP(ROWS($AA$2:AA1016),K1016:$M$6000,3,0),\"\")","v":""}]
[{"$nulls":10},{"$f":"IF(ISNUMBER(SEARCH($A$3,L1017)),MAX($K$1:K1016)+1,0)","v":0},"Envair Electrodyne Ltd","ENVAIREL.BO",{"$nulls":12},{"$f":"IFERROR(VLOOKUP(ROWS($Z$2:Z1017),K1017:$L$6000,2,0),\"\")","v":""},{"$f":"IFERROR(VLOOKUP(ROWS($AA$2:AA1017),K1017:$M$6000,3,0),\"\")","v":""}]
[{"$nulls":10},{"$f":"IF(ISNUMBER(SEARCH($A$3,L1018)),MAX($K$1:K1017)+1,0)","v":0},"Eon Electric Ltd","INDOASIFU.BO",{"$nulls":12},{"$f":"IFERROR(VLOOKUP(ROWS($Z$2:Z1018),K1018:$L$6000,2,0),\"\")","v":""},{"$f":"IFERROR(VLOOKUP(ROWS($AA$2:AA1018),K1018:$M$6000,3,0),\"\")","v":""}]
[{"$nulls":10},{"$f":"IF(ISNUMBER(SEARCH($A$3,L1019)),MAX($K$1:K1018)+1,0)","v":0},"Eon Electric Ltd","INDOASIFU.NS",{"$nulls":12},{"$f":"IFERROR(VLOOKUP(ROWS($Z$2:Z1019),K1019:$L$6000,2,0),\"\")","v":""},{"$f":"IFERROR(VLOOKUP(ROWS($AA$2:AA1019),K1019:$M$6000,3,0),\"\")","v":""}]
[{"$nulls":10},{"$f":"IF(ISNUMBER(SEARCH($A$3,L1020)),MAX($K$1:K1019)+1,0)","v":0},"EPC Industrial Ltd","EPCIN.BO",{"$nulls":12},{"$f":"IFERROR(VLOOKUP(ROWS($Z$2:Z1020),K1020:$L$6000,2,0),\"\")","v":""},{"$f":"IFERROR(VLOOKUP(ROWS($AA$2:AA1020),K1020:$M$6000,3,0),\"\")","v":""}]
[{"$nulls":10},{"$f":"IF(ISNUMBER(SEARCH($A$3,L1021)),MAX($K$1:K1020)+1,0)","v":0},"Epic Energy Ltd","EPIC.BO",{"$nulls":12},{"$f":"IFERROR(VLOOKUP(ROWS($Z$2:Z1021),K1021:$L$6000,2,0),\"\")","v":""},{"$f":"IFERROR(VLOOKUP(ROWS($AA$2:AA1021),K1021:$M$6000,3,0),\"\")","v":""}]
[{"$nulls":10},{"$f":"IF(ISNUMBER(SEARCH($A$3,L1022)),MAX($K$1:K1021)+1,0)","v":0},"Epsom Properties Ltd","EPSOMPRO.BO",{"$nulls":12},{"$f":"IFERROR(VLOOKUP(ROWS($Z$2:Z1022),K1022:$L$6000,2,0),\"\")","v":""},{"$f":"IFERROR(VLOOKUP(ROWS($AA$2:AA1022),K1022:$M$6000,3,0),\"\")","v":""}]
[{"$nulls":10},{"$f":"IF(ISNUMBER(SEARCH($A$3,L1023)),MAX($K$1:K1022)+1,0)","v":0},"Era Infra Engineering Ltd","ERAINFRA.BO",{"$nulls":12},{"$f":"IFERROR(VLOOKUP(ROWS($Z$2:Z1023),K1023:$L$6000,2,0),\"\")","v":""},{"$f":"IFERROR(VLOOKUP(ROWS($AA$2:AA1023),K1023:$M$6000,3,0),\"\")","v":""}]
[{"$nulls":10},{"$f":"IF(ISNUMBER(SEARCH($A$3,L1024)),MAX($K$1:K1023)+1,0)","v":0},"Era Infra Engineering Ltd","ERAINFRA.NS",{"$nulls":12},{"$f":"IFERROR(VLOOKUP(ROWS($Z$2:Z1024),K1024:$L$6000,2,0),\"\")","v":""},{"$f":"IFERROR(VLOOKUP(ROWS($AA$2:AA1024),K1024:$M$6000,3,0),\"\")","v":""}]
[{"$nulls":10},{"$f":"IF(ISNUMBER(SEARCH($A$3,L1025)),MAX($K$1:K1024)+1,0)","v":0},"ERP Soft Systems Ltd","ERPSOFT.BO",{"$nulls":12},{"$f":"IFERROR(VLOOKUP(ROWS($Z$2:Z1025),K1025:$L$6000,2,0),\"\")","v":""},{"$f":"IFERROR(VLOOKUP(ROWS($AA$2:AA1025),K1025:$M$6000,3,0),\"\")","v":""}]
[{"$nulls":10},{"$f":"IF(ISNUMBER(SEARCH($A$3,L1026)),MAX($K$1:K1025)+1,0)","v":0},"Esab India Ltd","ESABINDIA.BO",{"$nulls":12},{"$f":"IFERROR(VLOOKUP(ROWS($Z$2:Z1026),K1026:$L$6000,2,0),\"\")","v":""},{"$f":"IFERROR(VLOOKUP(ROWS($AA$2:AA1026),K1026:$M$6000,3,0),\"\")","v":""}]
[{"$nulls":10},{"$f":"IF(ISNUMBER(SEARCH($A$3,L1027)),MAX($K$1:K1026)+1,0)","v":0},"Esab India Ltd","ESABINDIA.NS",{"$nulls":12},{"$f":"IFERROR(VLOOKUP(ROWS($Z$2:Z1027),K1027:$L$6000,2,0),\"\")","v":""},{"$f":"IFERROR(VLOOKUP(ROWS($AA$2:AA1027),K1027:$M$6000,3,0),\"\")","v":""}]
[{"$nulls":10},{"$f":"IF(ISNUMBER(SEARCH($A$3,L1028)),MAX($K$1:K1027)+1,0)","v":0},"Escorts Finance Ltd","ESCORTSF.BO",{"$nulls":12},{"$f":"IFERROR(VLOOKUP(ROWS($Z$2:Z1028),K1028:$L$6000,2,0),\"\")","v":""},{"$f":"IFERROR(VLOOKUP(ROWS($AA$2:AA1028),K1028:$M$6000,3,0),\"\")","v":""}]
[{"$nulls":10},{"$f":"IF(ISNUMBER(SEARCH($A$3,L1029)),MAX($K$1:K1028)+1,0)","v":0},"Escorts Ltd","ESCORTS.BO",{"$nulls":12},{"$f":"IFERROR(VLOOKUP(ROWS($Z$2:Z1029),K1029:$L$6000,2,0),\"\")","v":""},{"$f":"IFERROR(VLOOKUP(ROWS($AA$2:AA1029),K1029:$M$6000,3,0),\"\")","v":""}]
[{"$nulls":10},{"$f":"IF(ISNUMBER(SEARCH($A$3,L1030)),MAX($K$1:K1029)+1,0)","v":0},"Escorts Ltd","ESCORTS.NS",{"$nulls":12},{"$f":"IFERROR(VLOOKUP(ROWS($Z$2:Z1030),K1030:$L$6000,2,0),\"\")","v":""},{"$f":"IFERROR(VLOOKUP(ROWS($AA$2:AA1030),K1030:$M$6000,3,0),\"\")","v":""}]
[{"$nulls":10},{"$f":"IF(ISNUMBER(SEARCH($A$3,L1031)),MAX($K$1:K1030)+1,0)","v":0},"Esha Media Research Ltd","LASEDOT.BO",{"$nulls":12},{"$f":"IFERROR(VLOOKUP(ROWS($Z$2:Z1031),K1031:$L$6000,2,0),\"\")","v":""},{"$f":"IFERROR(VLOOKUP(ROWS($AA$2:AA1031),K1031:$M$6000,3,0),\"\")","v":""}]
[{"$nulls":10},{"$f":"IF(ISNUMBER(SEARCH($A$3,L1032)),MAX($K$1:K1031)+1,0)","v":0},"Eskay Knit India Ltd","ESKAY.BO",{"$nulls":12},{"$f":"IFERROR(VLOOKUP(ROWS($Z$2:Z1032),K1032:$L$6000,2,0),\"\")","v":""},{"$f":"IFERROR(VLOOKUP(ROWS($AA$2:AA1032),K1032:$M$6000,3,0),\"\")","v":""}]
[{"$nulls":10},{"$f":"IF(ISNUMBER(SEARCH($A$3,L1033)),MAX($K$1:K1032)+1,0)","v":0},"ESS DEE Aluminium Ltd","ESSDEE.BO",{"$nulls":12},{"$f":"IFERROR(VLOOKUP(ROWS($Z$2:Z1033),K1033:$L$6000,2,0),\"\")","v":""},{"$f":"IFERROR(VLOOKUP(ROWS($AA$2:AA1033),K1033:$M$6000,3,0),\"\")","v":""}]
[{"$nulls":10},{"$f":"IF(ISNUMBER(SEARCH($A$3,L1034)),MAX($K$1:K1033)+1,0)","v":0},"ESS DEE Aluminium Ltd","ESSDEE.NS",{"$nulls":12},{"$f":"IFERROR(VLOOKUP(ROWS($Z$2:Z1034),K1034:$L$6000,2,0),\"\")","v":""},{"$f":"IFERROR(VLOOKUP(ROWS($AA$2:AA1034),K1034:$M$6000,3,0),\"\")","v":""}]
[{"$nulls":10},{"$f":"IF(ISNUMBER(SEARCH($A$3,L1035)),MAX($K$1:K1034)+1,0)","v":0},"Essar Oil Ltd","ESSAROIL.BO",{"$nulls":12},{"$f":"IFERROR(VLOOKUP(ROWS($Z$2:Z1035),K1035:$L$6000,2,0),\"\")","v":""},{"$f":"IFERROR(VLOOKUP(ROWS($AA$2:AA1035),K1035:$M$6000,3,0),\"\")","v":""}]
[{"$nulls":10},{"$f":"IF(ISNUMBER(SEARCH($A$3,L1036)),MAX($K$1:K1035)+1,0)","v":0},"Essar Oil Ltd","ESSAROIL.NS",{"$nulls":12},{"$f":"IFERROR(VLOOKUP(ROWS($Z$2:Z1036),K1036:$L$6000,2,0),\"\")","v":""},{"$f":"IFERROR(VLOOKUP(ROWS($AA$2:AA1036),K1036:$M$6000,3,0),\"\")","v":""}]
[{"$nulls":10},{"$f":"IF(ISNUMBER(SEARCH($A$3,L1037)),MAX($K$1:K1036)+1,0)","v":0},"Essar Ports Ltd","ESSARSHIP.BO",{"$nulls":12},{"$f":"IFERROR(VLOOKUP(ROWS($Z$2:Z1037),K1037:$L$6000,2,0),\"\")","v":""},{"$f":"IFERROR(VLOOKUP(ROWS($AA$2:AA1037),K1037:$M$6000,3,0),\"\")","v":""}]
[{"$nulls":10},{"$f":"IF(ISNUMBER(SEARCH($A$3,L1038)),MAX($K$1:K1037)+1,0)","v":0},"Essar Ports Ltd","ESSARSHIP.NS",{"$nulls":12},{"$f":"IFERROR(VLOOKUP(ROWS($Z$2:Z1038),K1038:$L$6000,2,0),\"\")","v":""},{"$f":"IFERROR(VLOOKUP(ROWS($AA$2:AA1038),K1038:$M$6000,3,0),\"\")","v":""}]
[{"$nulls":10},{"$f":"IF(ISNUMBER(SEARCH($A$3,L1039)),MAX($K$1:K1038)+1,0)","v":0},"Essel Propack Ltd","ESSELPRO.BO",{"$nulls":12},{"$f":"IFERROR(VLOOKUP(ROWS($Z$2:Z1039),K1039:$L$6000,2,0),\"\")","v":""},{"$f":"IFERROR(VLOOKUP(ROWS($AA$2:AA1039),K1039:$M$6000,3,0),\"\")","v":""}]
[{"$nulls":10},{"$f":"IF(ISNUMBER(SEARCH($A$3,L1040)),MAX($K$1:K1039)+1,0)","v":0},"Essel Propack Ltd","ESSELPACK.NS",{"$nulls":12},{"$f":"IFERROR(VLOOKUP(ROWS($Z$2:Z1040),K1040:$L$6000,2,0),\"\")","v":""},{"$f":"IFERROR(VLOOKUP(ROWS($AA$2:AA1040),K1040:$M$6000,3,0),\"\")","v":""}]
[{"$nulls":10},{"$f":"IF(ISNUMBER(SEARCH($A$3,L1041)),MAX($K$1:K1040)+1,0)","v":0},"Ester Industries Ltd","ESTERIND.BO",{"$nulls":12},{"$f":"IFERROR(VLOOKUP(ROWS($Z$2:Z1041),K1041:$L$6000,2,0),\"\")","v":""},{"$f":"IFERROR(VLOOKUP(ROWS($AA$2:AA1041),K1041:$M$6000,3,0),\"\")","v":""}]
[{"$nulls":10},{"$f":"IF(ISNUMBER(SEARCH($A$3,L1042)),MAX($K$1:K1041)+1,0)","v":0},"Euro Ceramics Ltd","EUROCERA.BO",{"$nulls":12},{"$f":"IFERROR(VLOOKUP(ROWS($Z$2:Z1042),K1042:$L$6000,2,0),\"\")","v":""},{"$f":"IFERROR(VLOOKUP(ROWS($AA$2:AA1042),K1042:$M$6000,3,0),\"\")","v":""}]
[{"$nulls":10},{"$f":"IF(ISNUMBER(SEARCH($A$3,L1043)),MAX($K$1:K1042)+1,0)","v":0},"Euro Ceramics Ltd","EUROCERA.NS",{"$nulls":12},{"$f":"IFERROR(VLOOKUP(ROWS($Z$2:Z1043),K1043:$L$6000,2,0),\"\")","v":""},{"$f":"IFERROR(VLOOKUP(ROWS($AA$2:AA1043),K1043:$M$6000,3,0),\"\")","v":""}]
[{"$nulls":10},{"$f":"IF(ISNUMBER(SEARCH($A$3,L1044)),MAX($K$1:K1043)+1,0)","v":0},"Euro Finmart Ltd","EUROGLOD.BO",{"$nulls":12},{"$f":"IFERROR(VLOOKUP(ROWS($Z$2:Z1044),K1044:$L$6000,2,0),\"\")","v":""},{"$f":"IFERROR(VLOOKUP(ROWS($AA$2:AA1044),K1044:$M$6000,3,0),\"\")","v":""}]
[{"$nulls":10},{"$f":"IF(ISNUMBER(SEARCH($A$3,L1045)),MAX($K$1:K1044)+1,0)","v":0},"Euro Leder Fashion Ltd","EUROLED.BO",{"$nulls":12},{"$f":"IFERROR(VLOOKUP(ROWS($Z$2:Z1045),K1045:$L$6000,2,0),\"\")","v":""},{"$f":"IFERROR(VLOOKUP(ROWS($AA$2:AA1045),K1045:$M$6000,3,0),\"\")","v":""}]
[{"$nulls":10},{"$f":"IF(ISNUMBER(SEARCH($A$3,L1046)),MAX($K$1:K1045)+1,0)","v":0},"Euro Multivision Ltd","EUROMULT.BO",{"$nulls":12},{"$f":"IFERROR(VLOOKUP(ROWS($Z$2:Z1046),K1046:$L$6000,2,0),\"\")","v":""},{"$f":"IFERROR(VLOOKUP(ROWS($AA$2:AA1046),K1046:$M$6000,3,0),\"\")","v":""}]
[{"$nulls":10},{"$f":"IF(ISNUMBER(SEARCH($A$3,L1047)),MAX($K$1:K1046)+1,0)","v":0},"Euro Multivision Ltd","EUROMULTI.NS",{"$nulls":12},{"$f":"IFERROR(VLOOKUP(ROWS($Z$2:Z1047),K1047:$L$6000,2,0),\"\")","v":""},{"$f":"IFERROR(VLOOKUP(ROWS($AA$2:AA1047),K1047:$M$6000,3,0),\"\")","v":""}]
[{"$nulls":10},{"$f":"IF(ISNUMBER(SEARCH($A$3,L1048)),MAX($K$1:K1047)+1,0)","v":0},"Eurotex Industries & Expo","EUROTXIN.BO",{"$nulls":12},{"$f":"IFERROR(VLOOKUP(ROWS($Z$2:Z1048),K1048:$L$6000,2,0),\"\")","v":""},{"$f":"IFERROR(VLOOKUP(ROWS($AA$2:AA1048),K1048:$M$6000,3,0),\"\")","v":""}]
[{"$nulls":10},{"$f":"IF(ISNUMBER(SEARCH($A$3,L1049)),MAX($K$1:K1048)+1,0)","v":0},"Eurotex Industries & Expo","EUROTEXIN.NS",{"$nulls":12},{"$f":"IFERROR(VLOOKUP(ROWS($Z$2:Z1049),K1049:$L$6000,2,0),\"\")","v":""},{"$f":"IFERROR(VLOOKUP(ROWS($AA$2:AA1049),K1049:$M$6000,3,0),\"\")","v":""}]
[{"$nulls":10},{"$f":"IF(ISNUMBER(SEARCH($A$3,L1050)),MAX($K$1:K1049)+1,0)","v":0},"Eveready Industries India Ltd","EVERREADY.BO",{"$nulls":12},{"$f":"IFERROR(VLOOKUP(ROWS($Z$2:Z1050),K1050:$L$6000,2,0),\"\")","v":""},{"$f":"IFERROR(VLOOKUP(ROWS($AA$2:AA1050),K1050:$M$6000,3,0),\"\")","v":""}]
[{"$nulls":10},{"$f":"IF(ISNUMBER(SEARCH($A$3,L1051)),MAX($K$1:K1050)+1,0)","v":0},"Eveready Industries India Ltd","EVEREADY.NS",{"$nulls":12},{"$f":"IFERROR(VLOOKUP(ROWS($Z$2:Z1051),K1051:$L$6000,2,0),\"\")","v":""},{"$f":"IFERROR(VLOOKUP(ROWS($AA$2:AA1051),K1051:$M$6000,3,0),\"\")","v":""}]
[{"$nulls":10},{"$f":"IF(ISNUMBER(SEARCH($A$3,L1052)),MAX($K$1:K1051)+1,0)","v":0},"Everest Industries Ltd","EVEREST.BO",{"$nulls":12},{"$f":"IFERROR(VLOOKUP(ROWS($Z$2:Z1052),K1052:$L$6000,2,0),\"\")","v":""},{"$f":"IFERROR(VLOOKUP(ROWS($AA$2:AA1052),K1052:$M$6000,3,0),\"\")","v":""}]
[{"$nulls":10},{"$f":"IF(ISNUMBER(SEARCH($A$3,L1053)),MAX($K$1:K1052)+1,0)","v":0},"Everest Industries Ltd","EVERESTIN.NS",{"$nulls":12},{"$f":"IFERROR(VLOOKUP(ROWS($Z$2:Z1053),K1053:$L$6000,2,0),\"\")","v":""},{"$f":"IFERROR(VLOOKUP(ROWS($AA$2:AA1053),K1053:$M$6000,3,0),\"\")","v":""}]
[{"$nulls":10},{"$f":"IF(ISNUMBER(SEARCH($A$3,L1054)),MAX($K$1:K1053)+1,0)","v":0},"Everest Kanto Cylinder Ltd","EKC.BO",{"$nulls":12},{"$f":"IFERROR(VLOOKUP(ROWS($Z$2:Z1054),K1054:$L$6000,2,0),\"\")","v":""},{"$f":"IFERROR(VLOOKUP(ROWS($AA$2:AA1054),K1054:$M$6000,3,0),\"\")","v":""}]
[{"$nulls":10},{"$f":"IF(ISNUMBER(SEARCH($A$3,L1055)),MAX($K$1:K1054)+1,0)","v":0},"Everest Kanto Cylinder Ltd","EKC.NS",{"$nulls":12},{"$f":"IFERROR(VLOOKUP(ROWS($Z$2:Z1055),K1055:$L$6000,2,0),\"\")","v":""},{"$f":"IFERROR(VLOOKUP(ROWS($AA$2:AA1055),K1055:$M$6000,3,0),\"\")","v":""}]
[{"$nulls":10},{"$f":"IF(ISNUMBER(SEARCH($A$3,L1056)),MAX($K$1:K1055)+1,0)","v":0},"Everlon Synthetics Limited","EVERLON.BO",{"$nulls":12},{"$f":"IFERROR(VLOOKUP(ROWS($Z$2:Z1056),K1056:$L$6000,2,0),\"\")","v":""},{"$f":"IFERROR(VLOOKUP(ROWS($AA$2:AA1056),K1056:$M$6000,3,0),\"\")","v":""}]
[{"$nulls":10},{"$f":"IF(ISNUMBER(SEARCH($A$3,L1057)),MAX($K$1:K1056)+1,0)","v":0},"Everonn Systems India Ltd","EVERONN.BO",{"$nulls":12},{"$f":"IFERROR(VLOOKUP(ROWS($Z$2:Z1057),K1057:$L$6000,2,0),\"\")","v":""},{"$f":"IFERROR(VLOOKUP(ROWS($AA$2:AA1057),K1057:$M$6000,3,0),\"\")","v":""}]
[{"$nulls":10},{"$f":"IF(ISNUMBER(SEARCH($A$3,L1058)),MAX($K$1:K1057)+1,0)","v":0},"Everonn Systems India Ltd","EVERONN.NS",{"$nulls":12},{"$f":"IFERROR(VLOOKUP(ROWS($Z$2:Z1058),K1058:$L$6000,2,0),\"\")","v":""},{"$f":"IFERROR(VLOOKUP(ROWS($AA$2:AA1058),K1058:$M$6000,3,0),\"\")","v":""}]
[{"$nulls":10},{"$f":"IF(ISNUMBER(SEARCH($A$3,L1059)),MAX($K$1:K1058)+1,0)","v":0},"Excel Crop Care Ltd","XCLCROP.BO",{"$nulls":12},{"$f":"IFERROR(VLOOKUP(ROWS($Z$2:Z1059),K1059:$L$6000,2,0),\"\")","v":""},{"$f":"IFERROR(VLOOKUP(ROWS($AA$2:AA1059),K1059:$M$6000,3,0),\"\")","v":""}]
[{"$nulls":10},{"$f":"IF(ISNUMBER(SEARCH($A$3,L1060)),MAX($K$1:K1059)+1,0)","v":0},"Excel Crop Care Ltd","EXCELCROP.NS",{"$nulls":12},{"$f":"IFERROR(VLOOKUP(ROWS($Z$2:Z1060),K1060:$L$6000,2,0),\"\")","v":""},{"$f":"IFERROR(VLOOKUP(ROWS($AA$2:AA1060),K1060:$M$6000,3,0),\"\")","v":""}]
[{"$nulls":10},{"$f":"IF(ISNUMBER(SEARCH($A$3,L1061)),MAX($K$1:K1060)+1,0)","v":0},"Excel Industries Ltd","XCLIND.BO",{"$nulls":12},{"$f":"IFERROR(VLOOKUP(ROWS($Z$2:Z1061),K1061:$L$6000,2,0),\"\")","v":""},{"$f":"IFERROR(VLOOKUP(ROWS($AA$2:AA1061),K1061:$M$6000,3,0),\"\")","v":""}]
[{"$nulls":10},{"$f":"IF(ISNUMBER(SEARCH($A$3,L1062)),MAX($K$1:K1061)+1,0)","v":0},"Excel Industries Ltd","EXCELINDU.NS",{"$nulls":12},{"$f":"IFERROR(VLOOKUP(ROWS($Z$2:Z1062),K1062:$L$6000,2,0),\"\")","v":""},{"$f":"IFERROR(VLOOKUP(ROWS($AA$2:AA1062),K1062:$M$6000,3,0),\"\")","v":""}]
[{"$nulls":10},{"$f":"IF(ISNUMBER(SEARCH($A$3,L1063)),MAX($K$1:K1062)+1,0)","v":0},"Excel Infoways Ltd","EXCELINFO.BO",{"$nulls":12},{"$f":"IFERROR(VLOOKUP(ROWS($Z$2:Z1063),K1063:$L$6000,2,0),\"\")","v":""},{"$f":"IFERROR(VLOOKUP(ROWS($AA$2:AA1063),K1063:$M$6000,3,0),\"\")","v":""}]
[{"$nulls":10},{"$f":"IF(ISNUMBER(SEARCH($A$3,L1064)),MAX($K$1:K1063)+1,0)","v":0},"Excel Infoways Ltd","EXCELINFO.NS",{"$nulls":12},{"$f":"IFERROR(VLOOKUP(ROWS($Z$2:Z1064),K1064:$L$6000,2,0),\"\")","v":""},{"$f":"IFERROR(VLOOKUP(ROWS($AA$2:AA1064),K1064:$M$6000,3,0),\"\")","v":""}]
[{"$nulls":10},{"$f":"IF(ISNUMBER(SEARCH($A$3,L1065)),MAX($K$1:K1064)+1,0)","v":0},"Exdon Trading Ltd","ZEXDONTR.BO",{"$nulls":12},{"$f":"IFERROR(VLOOKUP(ROWS($Z$2:Z1065),K1065:$L$6000,2,0),\"\")","v":""},{"$f":"IFERROR(VLOOKUP(ROWS($AA$2:AA1065),K1065:$M$6000,3,0),\"\")","v":""}]
[{"$nulls":10},{"$f":"IF(ISNUMBER(SEARCH($A$3,L1066)),MAX($K$1:K1065)+1,0)","v":0},"Exelon Infrastructure Ltd","EXELON.BO",{"$nulls":12},{"$f":"IFERROR(VLOOKUP(ROWS($Z$2:Z1066),K1066:$L$6000,2,0),\"\")","v":""},{"$f":"IFERROR(VLOOKUP(ROWS($AA$2:AA1066),K1066:$M$6000,3,0),\"\")","v":""}]
[{"$nulls":10},{"$f":"IF(ISNUMBER(SEARCH($A$3,L1067)),MAX($K$1:K1066)+1,0)","v":0},"Exide Industries Ltd","EXIDEIND.BO",{"$nulls":12},{"$f":"IFERROR(VLOOKUP(ROWS($Z$2:Z1067),K1067:$L$6000,2,0),\"\")","v":""},{"$f":"IFERROR(VLOOKUP(ROWS($AA$2:AA1067),K1067:$M$6000,3,0),\"\")","v":""}]
[{"$nulls":10},{"$f":"IF(ISNUMBER(SEARCH($A$3,L1068)),MAX($K$1:K1067)+1,0)","v":0},"Exide Industries Ltd","EXIDEIND.NS",{"$nulls":12},{"$f":"IFERROR(VLOOKUP(ROWS($Z$2:Z1068),K1068:$L$6000,2,0),\"\")","v":""},{"$f":"IFERROR(VLOOKUP(ROWS($AA$2:AA1068),K1068:$M$6000,3,0),\"\")","v":""}]
[{"$nulls":10},{"$f":"IF(ISNUMBER(SEARCH($A$3,L1069)),MAX($K$1:K1068)+1,0)","v":0},"Exotic Coal Ltd","ARSICOS.BO",{"$nulls":12},{"$f":"IFERROR(VLOOKUP(ROWS($Z$2:Z1069),K1069:$L$6000,2,0),\"\")","v":""},{"$f":"IFERROR(VLOOKUP(ROWS($AA$2:AA1069),K1069:$M$6000,3,0),\"\")","v":""}]
[{"$nulls":10},{"$f":"IF(ISNUMBER(SEARCH($A$3,L1070)),MAX($K$1:K1069)+1,0)","v":0},"Explicit Finance Ltd","EXPLICITFIN.BO",{"$nulls":12},{"$f":"IFERROR(VLOOKUP(ROWS($Z$2:Z1070),K1070:$L$6000,2,0),\"\")","v":""},{"$f":"IFERROR(VLOOKUP(ROWS($AA$2:AA1070),K1070:$M$6000,3,0),\"\")","v":""}]
[{"$nulls":10},{"$f":"IF(ISNUMBER(SEARCH($A$3,L1071)),MAX($K$1:K1070)+1,0)","v":0},"Expo Gas Containers Ltd","EXPOGAS.BO",{"$nulls":12},{"$f":"IFERROR(VLOOKUP(ROWS($Z$2:Z1071),K1071:$L$6000,2,0),\"\")","v":""},{"$f":"IFERROR(VLOOKUP(ROWS($AA$2:AA1071),K1071:$M$6000,3,0),\"\")","v":""}]
[{"$nulls":10},{"$f":"IF(ISNUMBER(SEARCH($A$3,L1072)),MAX($K$1:K1071)+1,0)","v":0},"Facor Alloys Ltd","FACORALL.BO",{"$nulls":12},{"$f":"IFERROR(VLOOKUP(ROWS($Z$2:Z1072),K1072:$L$6000,2,0),\"\")","v":""},{"$f":"IFERROR(VLOOKUP(ROWS($AA$2:AA1072),K1072:$M$6000,3,0),\"\")","v":""}]
[{"$nulls":10},{"$f":"IF(ISNUMBER(SEARCH($A$3,L1073)),MAX($K$1:K1072)+1,0)","v":0},"Facor Steels Ltd","FACORSTE.BO",{"$nulls":12},{"$f":"IFERROR(VLOOKUP(ROWS($Z$2:Z1073),K1073:$L$6000,2,0),\"\")","v":""},{"$f":"IFERROR(VLOOKUP(ROWS($AA$2:AA1073),K1073:$M$6000,3,0),\"\")","v":""}]
[{"$nulls":10},{"$f":"IF(ISNUMBER(SEARCH($A$3,L1074)),MAX($K$1:K1073)+1,0)","v":0},"Fact Enterprise Ltd","FACTENT.BO",{"$nulls":12},{"$f":"IFERROR(VLOOKUP(ROWS($Z$2:Z1074),K1074:$L$6000,2,0),\"\")","v":""},{"$f":"IFERROR(VLOOKUP(ROWS($AA$2:AA1074),K1074:$M$6000,3,0),\"\")","v":""}]
[{"$nulls":10},{"$f":"IF(ISNUMBER(SEARCH($A$3,L1075)),MAX($K$1:K1074)+1,0)","v":0},"Fag Bearings India Ltd","FAGBEARING.BO",{"$nulls":12},{"$f":"IFERROR(VLOOKUP(ROWS($Z$2:Z1075),K1075:$L$6000,2,0),\"\")","v":""},{"$f":"IFERROR(VLOOKUP(ROWS($AA$2:AA1075),K1075:$M$6000,3,0),\"\")","v":""}]
[{"$nulls":10},{"$f":"IF(ISNUMBER(SEARCH($A$3,L1076)),MAX($K$1:K1075)+1,0)","v":0},"Fag Bearings India Ltd","FAGBEARIN.NS",{"$nulls":12},{"$f":"IFERROR(VLOOKUP(ROWS($Z$2:Z1076),K1076:$L$6000,2,0),\"\")","v":""},{"$f":"IFERROR(VLOOKUP(ROWS($AA$2:AA1076),K1076:$M$6000,3,0),\"\")","v":""}]
[{"$nulls":10},{"$f":"IF(ISNUMBER(SEARCH($A$3,L1077)),MAX($K$1:K1076)+1,0)","v":0},"Fairdeal Filaments Ltd","FAIRDSY.BO",{"$nulls":12},{"$f":"IFERROR(VLOOKUP(ROWS($Z$2:Z1077),K1077:$L$6000,2,0),\"\")","v":""},{"$f":"IFERROR(VLOOKUP(ROWS($AA$2:AA1077),K1077:$M$6000,3,0),\"\")","v":""}]
[{"$nulls":10},{"$f":"IF(ISNUMBER(SEARCH($A$3,L1078)),MAX($K$1:K1077)+1,0)","v":0},"Falcon Tyres Ltd","FALCONTQ.BO",{"$nulls":12},{"$f":"IFERROR(VLOOKUP(ROWS($Z$2:Z1078),K1078:$L$6000,2,0),\"\")","v":""},{"$f":"IFERROR(VLOOKUP(ROWS($AA$2:AA1078),K1078:$M$6000,3,0),\"\")","v":""}]
[{"$nulls":10},{"$f":"IF(ISNUMBER(SEARCH($A$3,L1079)),MAX($K$1:K1078)+1,0)","v":0},"Farmax India Ltd","FARMAXIND.BO",{"$nulls":12},{"$f":"IFERROR(VLOOKUP(ROWS($Z$2:Z1079),K1079:$L$6000,2,0),\"\")","v":""},{"$f":"IFERROR(VLOOKUP(ROWS($AA$2:AA1079),K1079:$M$6000,3,0),\"\")","v":""}]
[{"$nulls":10},{"$f":"IF(ISNUMBER(SEARCH($A$3,L1080)),MAX($K$1:K1079)+1,0)","v":0},"Farry Industries Ltd","FARRYIND.BO",{"$nulls":12},{"$f":"IFERROR(VLOOKUP(ROWS($Z$2:Z1080),K1080:$L$6000,2,0),\"\")","v":""},{"$f":"IFERROR(VLOOKUP(ROWS($AA$2:AA1080),K1080:$M$6000,3,0),\"\")","v":""}]
[{"$nulls":10},{"$f":"IF(ISNUMBER(SEARCH($A$3,L1081)),MAX($K$1:K1080)+1,0)","v":0},"Fast Track Entertainment Ltd","FASTRAENT.BO",{"$nulls":12},{"$f":"IFERROR(VLOOKUP(ROWS($Z$2:Z1081),K1081:$L$6000,2,0),\"\")","v":""},{"$f":"IFERROR(VLOOKUP(ROWS($AA$2:AA1081),K1081:$M$6000,3,0),\"\")","v":""}]
[{"$nulls":10},{"$f":"IF(ISNUMBER(SEARCH($A$3,L1082)),MAX($K$1:K1081)+1,0)","v":0},"Faze Three Ltd","FAZE3Q.BO",{"$nulls":12},{"$f":"IFERROR(VLOOKUP(ROWS($Z$2:Z1082),K1082:$L$6000,2,0),\"\")","v":""},{"$f":"IFERROR(VLOOKUP(ROWS($AA$2:AA1082),K1082:$M$6000,3,0),\"\")","v":""}]
[{"$nulls":10},{"$f":"IF(ISNUMBER(SEARCH($A$3,L1083)),MAX($K$1:K1082)+1,0)","v":0},"FCS Software Solutions Ltd","FCSSOFT.BO",{"$nulls":12},{"$f":"IFERROR(VLOOKUP(ROWS($Z$2:Z1083),K1083:$L$6000,2,0),\"\")","v":""},{"$f":"IFERROR(VLOOKUP(ROWS($AA$2:AA1083),K1083:$M$6000,3,0),\"\")","v":""}]
[{"$nulls":10},{"$f":"IF(ISNUMBER(SEARCH($A$3,L1084)),MAX($K$1:K1083)+1,0)","v":0},"FCS Software Solutions Ltd","FCSSOFT.NS",{"$nulls":12},{"$f":"IFERROR(VLOOKUP(ROWS($Z$2:Z1084),K1084:$L$6000,2,0),\"\")","v":""},{"$f":"IFERROR(VLOOKUP(ROWS($AA$2:AA1084),K1084:$M$6000,3,0),\"\")","v":""}]
[{"$nulls":10},{"$f":"IF(ISNUMBER(SEARCH($A$3,L1085)),MAX($K$1:K1084)+1,0)","v":0},"FDC Ltd","FDC.BO",{"$nulls":12},{"$f":"IFERROR(VLOOKUP(ROWS($Z$2:Z1085),K1085:$L$6000,2,0),\"\")","v":""},{"$f":"IFERROR(VLOOKUP(ROWS($AA$2:AA1085),K1085:$M$6000,3,0),\"\")","v":""}]
[{"$nulls":10},{"$f":"IF(ISNUMBER(SEARCH($A$3,L1086)),MAX($K$1:K1085)+1,0)","v":0},"FDC Ltd","FDC.NS",{"$nulls":12},{"$f":"IFERROR(VLOOKUP(ROWS($Z$2:Z1086),K1086:$L$6000,2,0),\"\")","v":""},{"$f":"IFERROR(VLOOKUP(ROWS($AA$2:AA1086),K1086:$M$6000,3,0),\"\")","v":""}]
[{"$nulls":10},{"$f":"IF(ISNUMBER(SEARCH($A$3,L1087)),MAX($K$1:K1086)+1,0)","v":0},"FE India Ltd","FINEYE.BO",{"$nulls":12},{"$f":"IFERROR(VLOOKUP(ROWS($Z$2:Z1087),K1087:$L$6000,2,0),\"\")","v":""},{"$f":"IFERROR(VLOOKUP(ROWS($AA$2:AA1087),K1087:$M$6000,3,0),\"\")","v":""}]
[{"$nulls":10},{"$f":"IF(ISNUMBER(SEARCH($A$3,L1088)),MAX($K$1:K1087)+1,0)","v":0},"Fedders Lloyd Corp Ltd","FEDDRLOY.BO",{"$nulls":12},{"$f":"IFERROR(VLOOKUP(ROWS($Z$2:Z1088),K1088:$L$6000,2,0),\"\")","v":""},{"$f":"IFERROR(VLOOKUP(ROWS($AA$2:AA1088),K1088:$M$6000,3,0),\"\")","v":""}]
[{"$nulls":10},{"$f":"IF(ISNUMBER(SEARCH($A$3,L1089)),MAX($K$1:K1088)+1,0)","v":0},"Fedders Lloyd Corp Ltd","FEDDERLOY.NS",{"$nulls":12},{"$f":"IFERROR(VLOOKUP(ROWS($Z$2:Z1089),K1089:$L$6000,2,0),\"\")","v":""},{"$f":"IFERROR(VLOOKUP(ROWS($AA$2:AA1089),K1089:$M$6000,3,0),\"\")","v":""}]
[{"$nulls":10},{"$f":"IF(ISNUMBER(SEARCH($A$3,L1090)),MAX($K$1:K1089)+1,0)","v":0},"Federal Bank Limited","FEDBANK.BO",{"$nulls":12},{"$f":"IFERROR(VLOOKUP(ROWS($Z$2:Z1090),K1090:$L$6000,2,0),\"\")","v":""},{"$f":"IFERROR(VLOOKUP(ROWS($AA$2:AA1090),K1090:$M$6000,3,0),\"\")","v":""}]
[{"$nulls":10},{"$f":"IF(ISNUMBER(SEARCH($A$3,L1091)),MAX($K$1:K1090)+1,0)","v":0},"Federal Bank Limited","FEDERALBN.NS",{"$nulls":12},{"$f":"IFERROR(VLOOKUP(ROWS($Z$2:Z1091),K1091:$L$6000,2,0),\"\")","v":""},{"$f":"IFERROR(VLOOKUP(ROWS($AA$2:AA1091),K1091:$M$6000,3,0),\"\")","v":""}]
[{"$nulls":10},{"$f":"IF(ISNUMBER(SEARCH($A$3,L1092)),MAX($K$1:K1091)+1,0)","v":0},"Federal-Mogul Goetze","FEDMOGGOE.BO",{"$nulls":12},{"$f":"IFERROR(VLOOKUP(ROWS($Z$2:Z1092),K1092:$L$6000,2,0),\"\")","v":""},{"$f":"IFERROR(VLOOKUP(ROWS($AA$2:AA1092),K1092:$M$6000,3,0),\"\")","v":""}]
[{"$nulls":10},{"$f":"IF(ISNUMBER(SEARCH($A$3,L1093)),MAX($K$1:K1092)+1,0)","v":0},"Federal-Mogul Goetze","FMGOETZE.NS",{"$nulls":12},{"$f":"IFERROR(VLOOKUP(ROWS($Z$2:Z1093),K1093:$L$6000,2,0),\"\")","v":""},{"$f":"IFERROR(VLOOKUP(ROWS($AA$2:AA1093),K1093:$M$6000,3,0),\"\")","v":""}]
[{"$nulls":10},{"$f":"IF(ISNUMBER(SEARCH($A$3,L1094)),MAX($K$1:K1093)+1,0)","v":0},"Fenoplast Ltd","FENOPLAS.BO",{"$nulls":12},{"$f":"IFERROR(VLOOKUP(ROWS($Z$2:Z1094),K1094:$L$6000,2,0),\"\")","v":""},{"$f":"IFERROR(VLOOKUP(ROWS($AA$2:AA1094),K1094:$M$6000,3,0),\"\")","v":""}]
[{"$nulls":10},{"$f":"IF(ISNUMBER(SEARCH($A$3,L1095)),MAX($K$1:K1094)+1,0)","v":0},"Ferro Alloys Corp Ltd","FERROALL.BO",{"$nulls":12},{"$f":"IFERROR(VLOOKUP(ROWS($Z$2:Z1095),K1095:$L$6000,2,0),\"\")","v":""},{"$f":"IFERROR(VLOOKUP(ROWS($AA$2:AA1095),K1095:$M$6000,3,0),\"\")","v":""}]
[{"$nulls":10},{"$f":"IF(ISNUMBER(SEARCH($A$3,L1096)),MAX($K$1:K1095)+1,0)","v":0},"Fertilizers & Chemicals T","FACTL.BO",{"$nulls":12},{"$f":"IFERROR(VLOOKUP(ROWS($Z$2:Z1096),K1096:$L$6000,2,0),\"\")","v":""},{"$f":"IFERROR(VLOOKUP(ROWS($AA$2:AA1096),K1096:$M$6000,3,0),\"\")","v":""}]
[{"$nulls":10},{"$f":"IF(ISNUMBER(SEARCH($A$3,L1097)),MAX($K$1:K1096)+1,0)","v":0},"Fertilizers & Chemicals T","FACT.NS",{"$nulls":12},{"$f":"IFERROR(VLOOKUP(ROWS($Z$2:Z1097),K1097:$L$6000,2,0),\"\")","v":""},{"$f":"IFERROR(VLOOKUP(ROWS($AA$2:AA1097),K1097:$M$6000,3,0),\"\")","v":""}]
[{"$nulls":10},{"$f":"IF(ISNUMBER(SEARCH($A$3,L1098)),MAX($K$1:K1097)+1,0)","v":0},"FGP Ltd","FGP.BO",{"$nulls":12},{"$f":"IFERROR(VLOOKUP(ROWS($Z$2:Z1098),K1098:$L$6000,2,0),\"\")","v":""},{"$f":"IFERROR(VLOOKUP(ROWS($AA$2:AA1098),K1098:$M$6000,3,0),\"\")","v":""}]
[{"$nulls":10},{"$f":"IF(ISNUMBER(SEARCH($A$3,L1099)),MAX($K$1:K1098)+1,0)","v":0},"Fiberweb (India) Ltd","FIBERWEB.BO",{"$nulls":12},{"$f":"IFERROR(VLOOKUP(ROWS($Z$2:Z1099),K1099:$L$6000,2,0),\"\")","v":""},{"$f":"IFERROR(VLOOKUP(ROWS($AA$2:AA1099),K1099:$M$6000,3,0),\"\")","v":""}]
[{"$nulls":10},{"$f":"IF(ISNUMBER(SEARCH($A$3,L1100)),MAX($K$1:K1099)+1,0)","v":0},"FIEM Industries Ltd","FIEMIND.BO",{"$nulls":12},{"$f":"IFERROR(VLOOKUP(ROWS($Z$2:Z1100),K1100:$L$6000,2,0),\"\")","v":""},{"$f":"IFERROR(VLOOKUP(ROWS($AA$2:AA1100),K1100:$M$6000,3,0),\"\")","v":""}]
[{"$nulls":10},{"$f":"IF(ISNUMBER(SEARCH($A$3,L1101)),MAX($K$1:K1100)+1,0)","v":0},"FIEM Industries Ltd","FIEMIND.NS",{"$nulls":12},{"$f":"IFERROR(VLOOKUP(ROWS($Z$2:Z1101),K1101:$L$6000,2,0),\"\")","v":""},{"$f":"IFERROR(VLOOKUP(ROWS($AA$2:AA1101),K1101:$M$6000,3,0),\"\")","v":""}]
[{"$nulls":10},{"$f":"IF(ISNUMBER(SEARCH($A$3,L1102)),MAX($K$1:K1101)+1,0)","v":0},"Filatex Fashions Ltd","FILATFASH.BO",{"$nulls":12},{"$f":"IFERROR(VLOOKUP(ROWS($Z$2:Z1102),K1102:$L$6000,2,0),\"\")","v":""},{"$f":"IFERROR(VLOOKUP(ROWS($AA$2:AA1102),K1102:$M$6000,3,0),\"\")","v":""}]
[{"$nulls":10},{"$f":"IF(ISNUMBER(SEARCH($A$3,L1103)),MAX($K$1:K1102)+1,0)","v":0},"Filatex India Ltd","FILATEX.BO",{"$nulls":12},{"$f":"IFERROR(VLOOKUP(ROWS($Z$2:Z1103),K1103:$L$6000,2,0),\"\")","v":""},{"$f":"IFERROR(VLOOKUP(ROWS($AA$2:AA1103),K1103:$M$6000,3,0),\"\")","v":""}]
[{"$nulls":10},{"$f":"IF(ISNUMBER(SEARCH($A$3,L1104)),MAX($K$1:K1103)+1,0)","v":0},"Filmcity Media Ltd","FILME.BO",{"$nulls":12},{"$f":"IFERROR(VLOOKUP(ROWS($Z$2:Z1104),K1104:$L$6000,2,0),\"\")","v":""},{"$f":"IFERROR(VLOOKUP(ROWS($AA$2:AA1104),K1104:$M$6000,3,0),\"\")","v":""}]
[{"$nulls":10},{"$f":"IF(ISNUMBER(SEARCH($A$3,L1105)),MAX($K$1:K1104)+1,0)","v":0},"Finalysis Credit","FINCR.BO",{"$nulls":12},{"$f":"IFERROR(VLOOKUP(ROWS($Z$2:Z1105),K1105:$L$6000,2,0),\"\")","v":""},{"$f":"IFERROR(VLOOKUP(ROWS($AA$2:AA1105),K1105:$M$6000,3,0),\"\")","v":""}]
[{"$nulls":10},{"$f":"IF(ISNUMBER(SEARCH($A$3,L1106)),MAX($K$1:K1105)+1,0)","v":0},"Financial Technologies (I","FINTECH.BO",{"$nulls":12},{"$f":"IFERROR(VLOOKUP(ROWS($Z$2:Z1106),K1106:$L$6000,2,0),\"\")","v":""},{"$f":"IFERROR(VLOOKUP(ROWS($AA$2:AA1106),K1106:$M$6000,3,0),\"\")","v":""}]
[{"$nulls":10},{"$f":"IF(ISNUMBER(SEARCH($A$3,L1107)),MAX($K$1:K1106)+1,0)","v":0},"Financial Technologies (I","FINANTECH.NS",{"$nulls":12},{"$f":"IFERROR(VLOOKUP(ROWS($Z$2:Z1107),K1107:$L$6000,2,0),\"\")","v":""},{"$f":"IFERROR(VLOOKUP(ROWS($AA$2:AA1107),K1107:$M$6000,3,0),\"\")","v":""}]
[{"$nulls":10},{"$f":"IF(ISNUMBER(SEARCH($A$3,L1108)),MAX($K$1:K1107)+1,0)","v":0},"Finaventure Capital Ltd","FINAVENT.BO",{"$nulls":12},{"$f":"IFERROR(VLOOKUP(ROWS($Z$2:Z1108),K1108:$L$6000,2,0),\"\")","v":""},{"$f":"IFERROR(VLOOKUP(ROWS($AA$2:AA1108),K1108:$M$6000,3,0),\"\")","v":""}]
[{"$nulls":10},{"$f":"IF(ISNUMBER(SEARCH($A$3,L1109)),MAX($K$1:K1108)+1,0)","v":0},"Fine Plast Polymers Ltd","FINPLST.BO",{"$nulls":12},{"$f":"IFERROR(VLOOKUP(ROWS($Z$2:Z1109),K1109:$L$6000,2,0),\"\")","v":""},{"$f":"IFERROR(VLOOKUP(ROWS($AA$2:AA1109),K1109:$M$6000,3,0),\"\")","v":""}]
[{"$nulls":10},{"$f":"IF(ISNUMBER(SEARCH($A$3,L1110)),MAX($K$1:K1109)+1,0)","v":0},"Fine-Line Circuits Ltd","FINELINE.BO",{"$nulls":12},{"$f":"IFERROR(VLOOKUP(ROWS($Z$2:Z1110),K1110:$L$6000,2,0),\"\")","v":""},{"$f":"IFERROR(VLOOKUP(ROWS($AA$2:AA1110),K1110:$M$6000,3,0),\"\")","v":""}]
[{"$nulls":10},{"$f":"IF(ISNUMBER(SEARCH($A$3,L1111)),MAX($K$1:K1110)+1,0)","v":0},"Finkurve Financial","SANJLEA.BO",{"$nulls":12},{"$f":"IFERROR(VLOOKUP(ROWS($Z$2:Z1111),K1111:$L$6000,2,0),\"\")","v":""},{"$f":"IFERROR(VLOOKUP(ROWS($AA$2:AA1111),K1111:$M$6000,3,0),\"\")","v":""}]
[{"$nulls":10},{"$f":"IF(ISNUMBER(SEARCH($A$3,L1112)),MAX($K$1:K1111)+1,0)","v":0},"Finolex Cables Ltd","FINCABLES.BO",{"$nulls":12},{"$f":"IFERROR(VLOOKUP(ROWS($Z$2:Z1112),K1112:$L$6000,2,0),\"\")","v":""},{"$f":"IFERROR(VLOOKUP(ROWS($AA$2:AA1112),K1112:$M$6000,3,0),\"\")","v":""}]
[{"$nulls":10},{"$f":"IF(ISNUMBER(SEARCH($A$3,L1113)),MAX($K$1:K1112)+1,0)","v":0},"Finolex Cables Ltd","FINCABLES.NS",{"$nulls":12},{"$f":"IFERROR(VLOOKUP(ROWS($Z$2:Z1113),K1113:$L$6000,2,0),\"\")","v":""},{"$f":"IFERROR(VLOOKUP(ROWS($AA$2:AA1113),K1113:$M$6000,3,0),\"\")","v":""}]
[{"$nulls":10},{"$f":"IF(ISNUMBER(SEARCH($A$3,L1114)),MAX($K$1:K1113)+1,0)","v":0},"Finolex Industries Ltd","FINOLEXIND.BO",{"$nulls":12},{"$f":"IFERROR(VLOOKUP(ROWS($Z$2:Z1114),K1114:$L$6000,2,0),\"\")","v":""},{"$f":"IFERROR(VLOOKUP(ROWS($AA$2:AA1114),K1114:$M$6000,3,0),\"\")","v":""}]
[{"$nulls":10},{"$f":"IF(ISNUMBER(SEARCH($A$3,L1115)),MAX($K$1:K1114)+1,0)","v":0},"Finolex Industries Ltd","FINPIPE.NS",{"$nulls":12},{"$f":"IFERROR(VLOOKUP(ROWS($Z$2:Z1115),K1115:$L$6000,2,0),\"\")","v":""},{"$f":"IFERROR(VLOOKUP(ROWS($AA$2:AA1115),K1115:$M$6000,3,0),\"\")","v":""}]
[{"$nulls":10},{"$f":"IF(ISNUMBER(SEARCH($A$3,L1116)),MAX($K$1:K1115)+1,0)","v":0},"Fintech Communication Ltd","FINCOM.BO",{"$nulls":12},{"$f":"IFERROR(VLOOKUP(ROWS($Z$2:Z1116),K1116:$L$6000,2,0),\"\")","v":""},{"$f":"IFERROR(VLOOKUP(ROWS($AA$2:AA1116),K1116:$M$6000,3,0),\"\")","v":""}]
[{"$nulls":10},{"$f":"IF(ISNUMBER(SEARCH($A$3,L1117)),MAX($K$1:K1116)+1,0)","v":0},"First Financial Services Ltd","FIRFIN.BO",{"$nulls":12},{"$f":"IFERROR(VLOOKUP(ROWS($Z$2:Z1117),K1117:$L$6000,2,0),\"\")","v":""},{"$f":"IFERROR(VLOOKUP(ROWS($AA$2:AA1117),K1117:$M$6000,3,0),\"\")","v":""}]
[{"$nulls":10},{"$f":"IF(ISNUMBER(SEARCH($A$3,L1118)),MAX($K$1:K1117)+1,0)","v":0},"First Leasing Company of","FIRSTLEASE.BO",{"$nulls":12},{"$f":"IFERROR(VLOOKUP(ROWS($Z$2:Z1118),K1118:$L$6000,2,0),\"\")","v":""},{"$f":"IFERROR(VLOOKUP(ROWS($AA$2:AA1118),K1118:$M$6000,3,0),\"\")","v":""}]
[{"$nulls":10},{"$f":"IF(ISNUMBER(SEARCH($A$3,L1119)),MAX($K$1:K1118)+1,0)","v":0},"First Winner Industries Ltd","FIRSTWIN.BO",{"$nulls":12},{"$f":"IFERROR(VLOOKUP(ROWS($Z$2:Z1119),K1119:$L$6000,2,0),\"\")","v":""},{"$f":"IFERROR(VLOOKUP(ROWS($AA$2:AA1119),K1119:$M$6000,3,0),\"\")","v":""}]
[{"$nulls":10},{"$f":"IF(ISNUMBER(SEARCH($A$3,L1120)),MAX($K$1:K1119)+1,0)","v":0},"First Winner Industries Ltd","FIRSTWIN.NS",{"$nulls":12},{"$f":"IFERROR(VLOOKUP(ROWS($Z$2:Z1120),K1120:$L$6000,2,0),\"\")","v":""},{"$f":"IFERROR(VLOOKUP(ROWS($AA$2:AA1120),K1120:$M$6000,3,0),\"\")","v":""}]
[{"$nulls":10},{"$f":"IF(ISNUMBER(SEARCH($A$3,L1121)),MAX($K$1:K1120)+1,0)","v":0},"Firstsource Solutions Limited","FSL.BO",{"$nulls":12},{"$f":"IFERROR(VLOOKUP(ROWS($Z$2:Z1121),K1121:$L$6000,2,0),\"\")","v":""},{"$f":"IFERROR(VLOOKUP(ROWS($AA$2:AA1121),K1121:$M$6000,3,0),\"\")","v":""}]
[{"$nulls":10},{"$f":"IF(ISNUMBER(SEARCH($A$3,L1122)),MAX($K$1:K1121)+1,0)","v":0},"Firstsource Solutions Limited","FSL.NS",{"$nulls":12},{"$f":"IFERROR(VLOOKUP(ROWS($Z$2:Z1122),K1122:$L$6000,2,0),\"\")","v":""},{"$f":"IFERROR(VLOOKUP(ROWS($AA$2:AA1122),K1122:$M$6000,3,0),\"\")","v":""}]
[{"$nulls":10},{"$f":"IF(ISNUMBER(SEARCH($A$3,L1123)),MAX($K$1:K1122)+1,0)","v":0},"Fischer Chemic Ltd","FISCHER.BO",{"$nulls":12},{"$f":"IFERROR(VLOOKUP(ROWS($Z$2:Z1123),K1123:$L$6000,2,0),\"\")","v":""},{"$f":"IFERROR(VLOOKUP(ROWS($AA$2:AA1123),K1123:$M$6000,3,0),\"\")","v":""}]
[{"$nulls":10},{"$f":"IF(ISNUMBER(SEARCH($A$3,L1124)),MAX($K$1:K1123)+1,0)","v":0},"Flawless Diamond India Ltd","FLAWLESD.BO",{"$nulls":12},{"$f":"IFERROR(VLOOKUP(ROWS($Z$2:Z1124),K1124:$L$6000,2,0),\"\")","v":""},{"$f":"IFERROR(VLOOKUP(ROWS($AA$2:AA1124),K1124:$M$6000,3,0),\"\")","v":""}]
[{"$nulls":10},{"$f":"IF(ISNUMBER(SEARCH($A$3,L1125)),MAX($K$1:K1124)+1,0)","v":0},"Flex Foods Ltd","FLEXFO.BO",{"$nulls":12},{"$f":"IFERROR(VLOOKUP(ROWS($Z$2:Z1125),K1125:$L$6000,2,0),\"\")","v":""},{"$f":"IFERROR(VLOOKUP(ROWS($AA$2:AA1125),K1125:$M$6000,3,0),\"\")","v":""}]
[{"$nulls":10},{"$f":"IF(ISNUMBER(SEARCH($A$3,L1126)),MAX($K$1:K1125)+1,0)","v":0},"Flexituff International Ltd","FLEXITUFF.NS",{"$nulls":12},{"$f":"IFERROR(VLOOKUP(ROWS($Z$2:Z1126),K1126:$L$6000,2,0),\"\")","v":""},{"$f":"IFERROR(VLOOKUP(ROWS($AA$2:AA1126),K1126:$M$6000,3,0),\"\")","v":""}]
[{"$nulls":10},{"$f":"IF(ISNUMBER(SEARCH($A$3,L1127)),MAX($K$1:K1126)+1,0)","v":0},"Flora Textiles Ltd","FLORATX.BO",{"$nulls":12},{"$f":"IFERROR(VLOOKUP(ROWS($Z$2:Z1127),K1127:$L$6000,2,0),\"\")","v":""},{"$f":"IFERROR(VLOOKUP(ROWS($AA$2:AA1127),K1127:$M$6000,3,0),\"\")","v":""}]
[{"$nulls":10},{"$f":"IF(ISNUMBER(SEARCH($A$3,L1128)),MAX($K$1:K1127)+1,0)","v":0},"Florence Investech Ltd","JKAGRI.BO",{"$nulls":12},{"$f":"IFERROR(VLOOKUP(ROWS($Z$2:Z1128),K1128:$L$6000,2,0),\"\")","v":""},{"$f":"IFERROR(VLOOKUP(ROWS($AA$2:AA1128),K1128:$M$6000,3,0),\"\")","v":""}]
[{"$nulls":10},{"$f":"IF(ISNUMBER(SEARCH($A$3,L1129)),MAX($K$1:K1128)+1,0)","v":0},"Fluidomat Ltd","FLUIDOM.BO",{"$nulls":12},{"$f":"IFERROR(VLOOKUP(ROWS($Z$2:Z1129),K1129:$L$6000,2,0),\"\")","v":""},{"$f":"IFERROR(VLOOKUP(ROWS($AA$2:AA1129),K1129:$M$6000,3,0),\"\")","v":""}]
[{"$nulls":10},{"$f":"IF(ISNUMBER(SEARCH($A$3,L1130)),MAX($K$1:K1129)+1,0)","v":0},"Fomento Resorts & Hotels Ltd","FOMEHOT.BO",{"$nulls":12},{"$f":"IFERROR(VLOOKUP(ROWS($Z$2:Z1130),K1130:$L$6000,2,0),\"\")","v":""},{"$f":"IFERROR(VLOOKUP(ROWS($AA$2:AA1130),K1130:$M$6000,3,0),\"\")","v":""}]
[{"$nulls":10},{"$f":"IF(ISNUMBER(SEARCH($A$3,L1131)),MAX($K$1:K1130)+1,0)","v":0},"Foods & Inns Ltd","FOODSIN.BO",{"$nulls":12},{"$f":"IFERROR(VLOOKUP(ROWS($Z$2:Z1131),K1131:$L$6000,2,0),\"\")","v":""},{"$f":"IFERROR(VLOOKUP(ROWS($AA$2:AA1131),K1131:$M$6000,3,0),\"\")","v":""}]
[{"$nulls":10},{"$f":"IF(ISNUMBER(SEARCH($A$3,L1132)),MAX($K$1:K1131)+1,0)","v":0},"Forbes & Company Ltd","FORBESCO.BO",{"$nulls":12},{"$f":"IFERROR(VLOOKUP(ROWS($Z$2:Z1132),K1132:$L$6000,2,0),\"\")","v":""},{"$f":"IFERROR(VLOOKUP(ROWS($AA$2:AA1132),K1132:$M$6000,3,0),\"\")","v":""}]
[{"$nulls":10},{"$f":"IF(ISNUMBER(SEARCH($A$3,L1133)),MAX($K$1:K1132)+1,0)","v":0},"Force Motors Ltd","FORCEMOT.BO",{"$nulls":12},{"$f":"IFERROR(VLOOKUP(ROWS($Z$2:Z1133),K1133:$L$6000,2,0),\"\")","v":""},{"$f":"IFERROR(VLOOKUP(ROWS($AA$2:AA1133),K1133:$M$6000,3,0),\"\")","v":""}]
[{"$nulls":10},{"$f":"IF(ISNUMBER(SEARCH($A$3,L1134)),MAX($K$1:K1133)+1,0)","v":0},"Fortis Healthcare Ltd","FORTIS.BO",{"$nulls":12},{"$f":"IFERROR(VLOOKUP(ROWS($Z$2:Z1134),K1134:$L$6000,2,0),\"\")","v":""},{"$f":"IFERROR(VLOOKUP(ROWS($AA$2:AA1134),K1134:$M$6000,3,0),\"\")","v":""}]
[{"$nulls":10},{"$f":"IF(ISNUMBER(SEARCH($A$3,L1135)),MAX($K$1:K1134)+1,0)","v":0},"Fortis Healthcare Ltd","FORTIS.NS",{"$nulls":12},{"$f":"IFERROR(VLOOKUP(ROWS($Z$2:Z1135),K1135:$L$6000,2,0),\"\")","v":""},{"$f":"IFERROR(VLOOKUP(ROWS($AA$2:AA1135),K1135:$M$6000,3,0),\"\")","v":""}]
[{"$nulls":10},{"$f":"IF(ISNUMBER(SEARCH($A$3,L1136)),MAX($K$1:K1135)+1,0)","v":0},"Fortune Financial Service","FORTUNEF.BO",{"$nulls":12},{"$f":"IFERROR(VLOOKUP(ROWS($Z$2:Z1136),K1136:$L$6000,2,0),\"\")","v":""},{"$f":"IFERROR(VLOOKUP(ROWS($AA$2:AA1136),K1136:$M$6000,3,0),\"\")","v":""}]
[{"$nulls":10},{"$f":"IF(ISNUMBER(SEARCH($A$3,L1137)),MAX($K$1:K1136)+1,0)","v":0},"Foseco India Ltd","FOSECO.BO",{"$nulls":12},{"$f":"IFERROR(VLOOKUP(ROWS($Z$2:Z1137),K1137:$L$6000,2,0),\"\")","v":""},{"$f":"IFERROR(VLOOKUP(ROWS($AA$2:AA1137),K1137:$M$6000,3,0),\"\")","v":""}]
[{"$nulls":10},{"$f":"IF(ISNUMBER(SEARCH($A$3,L1138)),MAX($K$1:K1137)+1,0)","v":0},"Foseco India Ltd","FOSECOIND.NS",{"$nulls":12},{"$f":"IFERROR(VLOOKUP(ROWS($Z$2:Z1138),K1138:$L$6000,2,0),\"\")","v":""},{"$f":"IFERROR(VLOOKUP(ROWS($AA$2:AA1138),K1138:$M$6000,3,0),\"\")","v":""}]
[{"$nulls":10},{"$f":"IF(ISNUMBER(SEARCH($A$3,L1139)),MAX($K$1:K1138)+1,0)","v":0},"Freshtrop Fruits Ltd","FRSHTRP.BO",{"$nulls":12},{"$f":"IFERROR(VLOOKUP(ROWS($Z$2:Z1139),K1139:$L$6000,2,0),\"\")","v":""},{"$f":"IFERROR(VLOOKUP(ROWS($AA$2:AA1139),K1139:$M$6000,3,0),\"\")","v":""}]
[{"$nulls":10},{"$f":"IF(ISNUMBER(SEARCH($A$3,L1140)),MAX($K$1:K1139)+1,0)","v":0},"Frontier Information Tech","FRONTINF.BO",{"$nulls":12},{"$f":"IFERROR(VLOOKUP(ROWS($Z$2:Z1140),K1140:$L$6000,2,0),\"\")","v":""},{"$f":"IFERROR(VLOOKUP(ROWS($AA$2:AA1140),K1140:$M$6000,3,0),\"\")","v":""}]
[{"$nulls":10},{"$f":"IF(ISNUMBER(SEARCH($A$3,L1141)),MAX($K$1:K1140)+1,0)","v":0},"Frontier Springs Ltd","FRONTSP.BO",{"$nulls":12},{"$f":"IFERROR(VLOOKUP(ROWS($Z$2:Z1141),K1141:$L$6000,2,0),\"\")","v":""},{"$f":"IFERROR(VLOOKUP(ROWS($AA$2:AA1141),K1141:$M$6000,3,0),\"\")","v":""}]
[{"$nulls":10},{"$f":"IF(ISNUMBER(SEARCH($A$3,L1142)),MAX($K$1:K1141)+1,0)","v":0},"Frontline Business","FRONTBUSS.BO",{"$nulls":12},{"$f":"IFERROR(VLOOKUP(ROWS($Z$2:Z1142),K1142:$L$6000,2,0),\"\")","v":""},{"$f":"IFERROR(VLOOKUP(ROWS($AA$2:AA1142),K1142:$M$6000,3,0),\"\")","v":""}]
[{"$nulls":10},{"$f":"IF(ISNUMBER(SEARCH($A$3,L1143)),MAX($K$1:K1142)+1,0)","v":0},"Frontline Securities Ltd","FRONTSEC.BO",{"$nulls":12},{"$f":"IFERROR(VLOOKUP(ROWS($Z$2:Z1143),K1143:$L$6000,2,0),\"\")","v":""},{"$f":"IFERROR(VLOOKUP(ROWS($AA$2:AA1143),K1143:$M$6000,3,0),\"\")","v":""}]
[{"$nulls":10},{"$f":"IF(ISNUMBER(SEARCH($A$3,L1144)),MAX($K$1:K1143)+1,0)","v":0},"Fulford India Ltd","FULFORD.BO",{"$nulls":12},{"$f":"IFERROR(VLOOKUP(ROWS($Z$2:Z1144),K1144:$L$6000,2,0),\"\")","v":""},{"$f":"IFERROR(VLOOKUP(ROWS($AA$2:AA1144),K1144:$M$6000,3,0),\"\")","v":""}]
[{"$nulls":10},{"$f":"IF(ISNUMBER(SEARCH($A$3,L1145)),MAX($K$1:K1144)+1,0)","v":0},"Fusion Fittings (I) Ltd","FUFITIN.BO",{"$nulls":12},{"$f":"IFERROR(VLOOKUP(ROWS($Z$2:Z1145),K1145:$L$6000,2,0),\"\")","v":""},{"$f":"IFERROR(VLOOKUP(ROWS($AA$2:AA1145),K1145:$M$6000,3,0),\"\")","v":""}]
[{"$nulls":10},{"$f":"IF(ISNUMBER(SEARCH($A$3,L1146)),MAX($K$1:K1145)+1,0)","v":0},"Future Retail Ltd","PANTALBDVR.BO",{"$nulls":12},{"$f":"IFERROR(VLOOKUP(ROWS($Z$2:Z1146),K1146:$L$6000,2,0),\"\")","v":""},{"$f":"IFERROR(VLOOKUP(ROWS($AA$2:AA1146),K1146:$M$6000,3,0),\"\")","v":""}]
[{"$nulls":10},{"$f":"IF(ISNUMBER(SEARCH($A$3,L1147)),MAX($K$1:K1146)+1,0)","v":0},"Future Retail Ltd","PANTALOONR.BO",{"$nulls":12},{"$f":"IFERROR(VLOOKUP(ROWS($Z$2:Z1147),K1147:$L$6000,2,0),\"\")","v":""},{"$f":"IFERROR(VLOOKUP(ROWS($AA$2:AA1147),K1147:$M$6000,3,0),\"\")","v":""}]
[{"$nulls":10},{"$f":"IF(ISNUMBER(SEARCH($A$3,L1148)),MAX($K$1:K1147)+1,0)","v":0},"Future Retail Ltd","PANTALOON.NS",{"$nulls":12},{"$f":"IFERROR(VLOOKUP(ROWS($Z$2:Z1148),K1148:$L$6000,2,0),\"\")","v":""},{"$f":"IFERROR(VLOOKUP(ROWS($AA$2:AA1148),K1148:$M$6000,3,0),\"\")","v":""}]
[{"$nulls":10},{"$f":"IF(ISNUMBER(SEARCH($A$3,L1149)),MAX($K$1:K1148)+1,0)","v":0},"Future Retail Ltd","PRETAILDV.NS",{"$nulls":12},{"$f":"IFERROR(VLOOKUP(ROWS($Z$2:Z1149),K1149:$L$6000,2,0),\"\")","v":""},{"$f":"IFERROR(VLOOKUP(ROWS($AA$2:AA1149),K1149:$M$6000,3,0),\"\")","v":""}]
[{"$nulls":10},{"$f":"IF(ISNUMBER(SEARCH($A$3,L1150)),MAX($K$1:K1149)+1,0)","v":0},"Futuristic Securities Ltd","FUTURSEC.BO",{"$nulls":12},{"$f":"IFERROR(VLOOKUP(ROWS($Z$2:Z1150),K1150:$L$6000,2,0),\"\")","v":""},{"$f":"IFERROR(VLOOKUP(ROWS($AA$2:AA1150),K1150:$M$6000,3,0),\"\")","v":""}]
[{"$nulls":10},{"$f":"IF(ISNUMBER(SEARCH($A$3,L1151)),MAX($K$1:K1150)+1,0)","v":0},"G G Dandekar Machine Works Ltd","GGDANDE.BO",{"$nulls":12},{"$f":"IFERROR(VLOOKUP(ROWS($Z$2:Z1151),K1151:$L$6000,2,0),\"\")","v":""},{"$f":"IFERROR(VLOOKUP(ROWS($AA$2:AA1151),K1151:$M$6000,3,0),\"\")","v":""}]
[{"$nulls":10},{"$f":"IF(ISNUMBER(SEARCH($A$3,L1152)),MAX($K$1:K1151)+1,0)","v":0},"G K Consultants Ltd","GKCONS.BO",{"$nulls":12},{"$f":"IFERROR(VLOOKUP(ROWS($Z$2:Z1152),K1152:$L$6000,2,0),\"\")","v":""},{"$f":"IFERROR(VLOOKUP(ROWS($AA$2:AA1152),K1152:$M$6000,3,0),\"\")","v":""}]
[{"$nulls":10},{"$f":"IF(ISNUMBER(SEARCH($A$3,L1153)),MAX($K$1:K1152)+1,0)","v":0},"G M Breweries Ltd","GMBREW.BO",{"$nulls":12},{"$f":"IFERROR(VLOOKUP(ROWS($Z$2:Z1153),K1153:$L$6000,2,0),\"\")","v":""},{"$f":"IFERROR(VLOOKUP(ROWS($AA$2:AA1153),K1153:$M$6000,3,0),\"\")","v":""}]
[{"$nulls":10},{"$f":"IF(ISNUMBER(SEARCH($A$3,L1154)),MAX($K$1:K1153)+1,0)","v":0},"G M Breweries Ltd","GMBREW.NS",{"$nulls":12},{"$f":"IFERROR(VLOOKUP(ROWS($Z$2:Z1154),K1154:$L$6000,2,0),\"\")","v":""},{"$f":"IFERROR(VLOOKUP(ROWS($AA$2:AA1154),K1154:$M$6000,3,0),\"\")","v":""}]
[{"$nulls":10},{"$f":"IF(ISNUMBER(SEARCH($A$3,L1155)),MAX($K$1:K1154)+1,0)","v":0},"G R Cables Ltd","GRCABLE.BO",{"$nulls":12},{"$f":"IFERROR(VLOOKUP(ROWS($Z$2:Z1155),K1155:$L$6000,2,0),\"\")","v":""},{"$f":"IFERROR(VLOOKUP(ROWS($AA$2:AA1155),K1155:$M$6000,3,0),\"\")","v":""}]
[{"$nulls":10},{"$f":"IF(ISNUMBER(SEARCH($A$3,L1156)),MAX($K$1:K1155)+1,0)","v":0},"G S Auto International Ltd","GSAUTO.BO",{"$nulls":12},{"$f":"IFERROR(VLOOKUP(ROWS($Z$2:Z1156),K1156:$L$6000,2,0),\"\")","v":""},{"$f":"IFERROR(VLOOKUP(ROWS($AA$2:AA1156),K1156:$M$6000,3,0),\"\")","v":""}]
[{"$nulls":10},{"$f":"IF(ISNUMBER(SEARCH($A$3,L1157)),MAX($K$1:K1156)+1,0)","v":0},"Gabriel India Ltd","GABRIEL.BO",{"$nulls":12},{"$f":"IFERROR(VLOOKUP(ROWS($Z$2:Z1157),K1157:$L$6000,2,0),\"\")","v":""},{"$f":"IFERROR(VLOOKUP(ROWS($AA$2:AA1157),K1157:$M$6000,3,0),\"\")","v":""}]
[{"$nulls":10},{"$f":"IF(ISNUMBER(SEARCH($A$3,L1158)),MAX($K$1:K1157)+1,0)","v":0},"Gabriel India Ltd","GABRIEL.NS",{"$nulls":12},{"$f":"IFERROR(VLOOKUP(ROWS($Z$2:Z1158),K1158:$L$6000,2,0),\"\")","v":""},{"$f":"IFERROR(VLOOKUP(ROWS($AA$2:AA1158),K1158:$M$6000,3,0),\"\")","v":""}]
[{"$nulls":10},{"$f":"IF(ISNUMBER(SEARCH($A$3,L1159)),MAX($K$1:K1158)+1,0)","v":0},"Gagan Gases Ltd","GAGAN.BO",{"$nulls":12},{"$f":"IFERROR(VLOOKUP(ROWS($Z$2:Z1159),K1159:$L$6000,2,0),\"\")","v":""},{"$f":"IFERROR(VLOOKUP(ROWS($AA$2:AA1159),K1159:$M$6000,3,0),\"\")","v":""}]
[{"$nulls":10},{"$f":"IF(ISNUMBER(SEARCH($A$3,L1160)),MAX($K$1:K1159)+1,0)","v":0},"GAIL India Ltd","GAIL.BO",{"$nulls":12},{"$f":"IFERROR(VLOOKUP(ROWS($Z$2:Z1160),K1160:$L$6000,2,0),\"\")","v":""},{"$f":"IFERROR(VLOOKUP(ROWS($AA$2:AA1160),K1160:$M$6000,3,0),\"\")","v":""}]
[{"$nulls":10},{"$f":"IF(ISNUMBER(SEARCH($A$3,L1161)),MAX($K$1:K1160)+1,0)","v":0},"GAIL India Ltd","GAIL.NS",{"$nulls":12},{"$f":"IFERROR(VLOOKUP(ROWS($Z$2:Z1161),K1161:$L$6000,2,0),\"\")","v":""},{"$f":"IFERROR(VLOOKUP(ROWS($AA$2:AA1161),K1161:$M$6000,3,0),\"\")","v":""}]
[{"$nulls":10},{"$f":"IF(ISNUMBER(SEARCH($A$3,L1162)),MAX($K$1:K1161)+1,0)","v":0},"Gajra Bevel Gears Ltd","GAJRA.BO",{"$nulls":12},{"$f":"IFERROR(VLOOKUP(ROWS($Z$2:Z1162),K1162:$L$6000,2,0),\"\")","v":""},{"$f":"IFERROR(VLOOKUP(ROWS($AA$2:AA1162),K1162:$M$6000,3,0),\"\")","v":""}]
[{"$nulls":10},{"$f":"IF(ISNUMBER(SEARCH($A$3,L1163)),MAX($K$1:K1162)+1,0)","v":0},"Galada Power","GALADA.BO",{"$nulls":12},{"$f":"IFERROR(VLOOKUP(ROWS($Z$2:Z1163),K1163:$L$6000,2,0),\"\")","v":""},{"$f":"IFERROR(VLOOKUP(ROWS($AA$2:AA1163),K1163:$M$6000,3,0),\"\")","v":""}]
[{"$nulls":10},{"$f":"IF(ISNUMBER(SEARCH($A$3,L1164)),MAX($K$1:K1163)+1,0)","v":0},"Galaxy Entertainment Corp Ltd","GLXYENT.BO",{"$nulls":12},{"$f":"IFERROR(VLOOKUP(ROWS($Z$2:Z1164),K1164:$L$6000,2,0),\"\")","v":""},{"$f":"IFERROR(VLOOKUP(ROWS($AA$2:AA1164),K1164:$M$6000,3,0),\"\")","v":""}]
[{"$nulls":10},{"$f":"IF(ISNUMBER(SEARCH($A$3,L1165)),MAX($K$1:K1164)+1,0)","v":0},"Gallantt Metal Ltd","GALLANTT.BO",{"$nulls":12},{"$f":"IFERROR(VLOOKUP(ROWS($Z$2:Z1165),K1165:$L$6000,2,0),\"\")","v":""},{"$f":"IFERROR(VLOOKUP(ROWS($AA$2:AA1165),K1165:$M$6000,3,0),\"\")","v":""}]
[{"$nulls":10},{"$f":"IF(ISNUMBER(SEARCH($A$3,L1166)),MAX($K$1:K1165)+1,0)","v":0},"Gallantt Metal Ltd","GALLANTT.NS",{"$nulls":12},{"$f":"IFERROR(VLOOKUP(ROWS($Z$2:Z1166),K1166:$L$6000,2,0),\"\")","v":""},{"$f":"IFERROR(VLOOKUP(ROWS($AA$2:AA1166),K1166:$M$6000,3,0),\"\")","v":""}]
[{"$nulls":10},{"$f":"IF(ISNUMBER(SEARCH($A$3,L1167)),MAX($K$1:K1166)+1,0)","v":0},"Gamma Infoway Exalt Ltd","GAMIE.BO",{"$nulls":12},{"$f":"IFERROR(VLOOKUP(ROWS($Z$2:Z1167),K1167:$L$6000,2,0),\"\")","v":""},{"$f":"IFERROR(VLOOKUP(ROWS($AA$2:AA1167),K1167:$M$6000,3,0),\"\")","v":""}]
[{"$nulls":10},{"$f":"IF(ISNUMBER(SEARCH($A$3,L1168)),MAX($K$1:K1167)+1,0)","v":0},"Gammon India Ltd","GAMMONIND.BO",{"$nulls":12},{"$f":"IFERROR(VLOOKUP(ROWS($Z$2:Z1168),K1168:$L$6000,2,0),\"\")","v":""},{"$f":"IFERROR(VLOOKUP(ROWS($AA$2:AA1168),K1168:$M$6000,3,0),\"\")","v":""}]
[{"$nulls":10},{"$f":"IF(ISNUMBER(SEARCH($A$3,L1169)),MAX($K$1:K1168)+1,0)","v":0},"Gammon India Ltd","GAMMONIND.NS",{"$nulls":12},{"$f":"IFERROR(VLOOKUP(ROWS($Z$2:Z1169),K1169:$L$6000,2,0),\"\")","v":""},{"$f":"IFERROR(VLOOKUP(ROWS($AA$2:AA1169),K1169:$M$6000,3,0),\"\")","v":""}]
[{"$nulls":10},{"$f":"IF(ISNUMBER(SEARCH($A$3,L1170)),MAX($K$1:K1169)+1,0)","v":0},"Gammon Infrastructure","GAMMONINFR.BO",{"$nulls":12},{"$f":"IFERROR(VLOOKUP(ROWS($Z$2:Z1170),K1170:$L$6000,2,0),\"\")","v":""},{"$f":"IFERROR(VLOOKUP(ROWS($AA$2:AA1170),K1170:$M$6000,3,0),\"\")","v":""}]
[{"$nulls":10},{"$f":"IF(ISNUMBER(SEARCH($A$3,L1171)),MAX($K$1:K1170)+1,0)","v":0},"Gammon Infrastructure","GAMMNINFR.NS",{"$nulls":12},{"$f":"IFERROR(VLOOKUP(ROWS($Z$2:Z1171),K1171:$L$6000,2,0),\"\")","v":""},{"$f":"IFERROR(VLOOKUP(ROWS($AA$2:AA1171),K1171:$M$6000,3,0),\"\")","v":""}]
[{"$nulls":10},{"$f":"IF(ISNUMBER(SEARCH($A$3,L1172)),MAX($K$1:K1171)+1,0)","v":0},"Gandhi Special Tubes Ltd","GANDHISP.BO",{"$nulls":12},{"$f":"IFERROR(VLOOKUP(ROWS($Z$2:Z1172),K1172:$L$6000,2,0),\"\")","v":""},{"$f":"IFERROR(VLOOKUP(ROWS($AA$2:AA1172),K1172:$M$6000,3,0),\"\")","v":""}]
[{"$nulls":10},{"$f":"IF(ISNUMBER(SEARCH($A$3,L1173)),MAX($K$1:K1172)+1,0)","v":0},"Gandhi Special Tubes Ltd","GANDHITUB.NS",{"$nulls":12},{"$f":"IFERROR(VLOOKUP(ROWS($Z$2:Z1173),K1173:$L$6000,2,0),\"\")","v":""},{"$f":"IFERROR(VLOOKUP(ROWS($AA$2:AA1173),K1173:$M$6000,3,0),\"\")","v":""}]
[{"$nulls":10},{"$f":"IF(ISNUMBER(SEARCH($A$3,L1174)),MAX($K$1:K1173)+1,0)","v":0},"Gandhinagar Hotels Ltd","GANDHHO.BO",{"$nulls":12},{"$f":"IFERROR(VLOOKUP(ROWS($Z$2:Z1174),K1174:$L$6000,2,0),\"\")","v":""},{"$f":"IFERROR(VLOOKUP(ROWS($AA$2:AA1174),K1174:$M$6000,3,0),\"\")","v":""}]
[{"$nulls":10},{"$f":"IF(ISNUMBER(SEARCH($A$3,L1175)),MAX($K$1:K1174)+1,0)","v":0},"Gandhinagar Leasing & Fin","GANDLEA.BO",{"$nulls":12},{"$f":"IFERROR(VLOOKUP(ROWS($Z$2:Z1175),K1175:$L$6000,2,0),\"\")","v":""},{"$f":"IFERROR(VLOOKUP(ROWS($AA$2:AA1175),K1175:$M$6000,3,0),\"\")","v":""}]
[{"$nulls":10},{"$f":"IF(ISNUMBER(SEARCH($A$3,L1176)),MAX($K$1:K1175)+1,0)","v":0},"Ganesh Benzoplast Ltd","GANESHBE.BO",{"$nulls":12},{"$f":"IFERROR(VLOOKUP(ROWS($Z$2:Z1176),K1176:$L$6000,2,0),\"\")","v":""},{"$f":"IFERROR(VLOOKUP(ROWS($AA$2:AA1176),K1176:$M$6000,3,0),\"\")","v":""}]
[{"$nulls":10},{"$f":"IF(ISNUMBER(SEARCH($A$3,L1177)),MAX($K$1:K1176)+1,0)","v":0},"Ganesh Housing Corp Ltd","GANESHSG.BO",{"$nulls":12},{"$f":"IFERROR(VLOOKUP(ROWS($Z$2:Z1177),K1177:$L$6000,2,0),\"\")","v":""},{"$f":"IFERROR(VLOOKUP(ROWS($AA$2:AA1177),K1177:$M$6000,3,0),\"\")","v":""}]
[{"$nulls":10},{"$f":"IF(ISNUMBER(SEARCH($A$3,L1178)),MAX($K$1:K1177)+1,0)","v":0},"Ganesh Housing Corp Ltd","GANESHHOU.NS",{"$nulls":12},{"$f":"IFERROR(VLOOKUP(ROWS($Z$2:Z1178),K1178:$L$6000,2,0),\"\")","v":""},{"$f":"IFERROR(VLOOKUP(ROWS($AA$2:AA1178),K1178:$M$6000,3,0),\"\")","v":""}]
[{"$nulls":10},{"$f":"IF(ISNUMBER(SEARCH($A$3,L1179)),MAX($K$1:K1178)+1,0)","v":0},"Ganesha Ecosphere Ltd","GANPOLY.BO",{"$nulls":12},{"$f":"IFERROR(VLOOKUP(ROWS($Z$2:Z1179),K1179:$L$6000,2,0),\"\")","v":""},{"$f":"IFERROR(VLOOKUP(ROWS($AA$2:AA1179),K1179:$M$6000,3,0),\"\")","v":""}]
[{"$nulls":10},{"$f":"IF(ISNUMBER(SEARCH($A$3,L1180)),MAX($K$1:K1179)+1,0)","v":0},"Gangotri Iron & Steel Co Ltd","GANGOTRI.BO",{"$nulls":12},{"$f":"IFERROR(VLOOKUP(ROWS($Z$2:Z1180),K1180:$L$6000,2,0),\"\")","v":""},{"$f":"IFERROR(VLOOKUP(ROWS($AA$2:AA1180),K1180:$M$6000,3,0),\"\")","v":""}]
[{"$nulls":10},{"$f":"IF(ISNUMBER(SEARCH($A$3,L1181)),MAX($K$1:K1180)+1,0)","v":0},"Gangotri Textiles Ltd","GANGOTEXQ.BO",{"$nulls":12},{"$f":"IFERROR(VLOOKUP(ROWS($Z$2:Z1181),K1181:$L$6000,2,0),\"\")","v":""},{"$f":"IFERROR(VLOOKUP(ROWS($AA$2:AA1181),K1181:$M$6000,3,0),\"\")","v":""}]
[{"$nulls":10},{"$f":"IF(ISNUMBER(SEARCH($A$3,L1182)),MAX($K$1:K1181)+1,0)","v":0},"Gangotri Textiles Ltd","GANGOTRI.NS",{"$nulls":12},{"$f":"IFERROR(VLOOKUP(ROWS($Z$2:Z1182),K1182:$L$6000,2,0),\"\")","v":""},{"$f":"IFERROR(VLOOKUP(ROWS($AA$2:AA1182),K1182:$M$6000,3,0),\"\")","v":""}]
[{"$nulls":10},{"$f":"IF(ISNUMBER(SEARCH($A$3,L1183)),MAX($K$1:K1182)+1,0)","v":0},"Garden Silk Mills Ltd","GARDENSILK.BO",{"$nulls":12},{"$f":"IFERROR(VLOOKUP(ROWS($Z$2:Z1183),K1183:$L$6000,2,0),\"\")","v":""},{"$f":"IFERROR(VLOOKUP(ROWS($AA$2:AA1183),K1183:$M$6000,3,0),\"\")","v":""}]
[{"$nulls":10},{"$f":"IF(ISNUMBER(SEARCH($A$3,L1184)),MAX($K$1:K1183)+1,0)","v":0},"Garden Silk Mills Ltd","GARDENSIL.NS",{"$nulls":12},{"$f":"IFERROR(VLOOKUP(ROWS($Z$2:Z1184),K1184:$L$6000,2,0),\"\")","v":""},{"$f":"IFERROR(VLOOKUP(ROWS($AA$2:AA1184),K1184:$M$6000,3,0),\"\")","v":""}]
[{"$nulls":10},{"$f":"IF(ISNUMBER(SEARCH($A$3,L1185)),MAX($K$1:K1184)+1,0)","v":0},"Garg Furnace Ltd","GARGFUR.BO",{"$nulls":12},{"$f":"IFERROR(VLOOKUP(ROWS($Z$2:Z1185),K1185:$L$6000,2,0),\"\")","v":""},{"$f":"IFERROR(VLOOKUP(ROWS($AA$2:AA1185),K1185:$M$6000,3,0),\"\")","v":""}]
[{"$nulls":10},{"$f":"IF(ISNUMBER(SEARCH($A$3,L1186)),MAX($K$1:K1185)+1,0)","v":0},"Garnet Construction Ltd","GARNET.BO",{"$nulls":12},{"$f":"IFERROR(VLOOKUP(ROWS($Z$2:Z1186),K1186:$L$6000,2,0),\"\")","v":""},{"$f":"IFERROR(VLOOKUP(ROWS($AA$2:AA1186),K1186:$M$6000,3,0),\"\")","v":""}]
[{"$nulls":10},{"$f":"IF(ISNUMBER(SEARCH($A$3,L1187)),MAX($K$1:K1186)+1,0)","v":0},"Garnet International Ltd","GARNETINT.BO",{"$nulls":12},{"$f":"IFERROR(VLOOKUP(ROWS($Z$2:Z1187),K1187:$L$6000,2,0),\"\")","v":""},{"$f":"IFERROR(VLOOKUP(ROWS($AA$2:AA1187),K1187:$M$6000,3,0),\"\")","v":""}]
[{"$nulls":10},{"$f":"IF(ISNUMBER(SEARCH($A$3,L1188)),MAX($K$1:K1187)+1,0)","v":0},"Garware Marine Industries Ltd","GARWAMAR.BO",{"$nulls":12},{"$f":"IFERROR(VLOOKUP(ROWS($Z$2:Z1188),K1188:$L$6000,2,0),\"\")","v":""},{"$f":"IFERROR(VLOOKUP(ROWS($AA$2:AA1188),K1188:$M$6000,3,0),\"\")","v":""}]
[{"$nulls":10},{"$f":"IF(ISNUMBER(SEARCH($A$3,L1189)),MAX($K$1:K1188)+1,0)","v":0},"Garware Polyester Ltd","GARWARPOLY.BO",{"$nulls":12},{"$f":"IFERROR(VLOOKUP(ROWS($Z$2:Z1189),K1189:$L$6000,2,0),\"\")","v":""},{"$f":"IFERROR(VLOOKUP(ROWS($AA$2:AA1189),K1189:$M$6000,3,0),\"\")","v":""}]
[{"$nulls":10},{"$f":"IF(ISNUMBER(SEARCH($A$3,L1190)),MAX($K$1:K1189)+1,0)","v":0},"Garware Synthetics Ltd","GARWSYN.BO",{"$nulls":12},{"$f":"IFERROR(VLOOKUP(ROWS($Z$2:Z1190),K1190:$L$6000,2,0),\"\")","v":""},{"$f":"IFERROR(VLOOKUP(ROWS($AA$2:AA1190),K1190:$M$6000,3,0),\"\")","v":""}]
[{"$nulls":10},{"$f":"IF(ISNUMBER(SEARCH($A$3,L1191)),MAX($K$1:K1190)+1,0)","v":0},"Garware Wall Ropes Ltd","GARWALLROP.BO",{"$nulls":12},{"$f":"IFERROR(VLOOKUP(ROWS($Z$2:Z1191),K1191:$L$6000,2,0),\"\")","v":""},{"$f":"IFERROR(VLOOKUP(ROWS($AA$2:AA1191),K1191:$M$6000,3,0),\"\")","v":""}]
[{"$nulls":10},{"$f":"IF(ISNUMBER(SEARCH($A$3,L1192)),MAX($K$1:K1191)+1,0)","v":0},"Garware Wall Ropes Ltd","GARWALLRO.NS",{"$nulls":12},{"$f":"IFERROR(VLOOKUP(ROWS($Z$2:Z1192),K1192:$L$6000,2,0),\"\")","v":""},{"$f":"IFERROR(VLOOKUP(ROWS($AA$2:AA1192),K1192:$M$6000,3,0),\"\")","v":""}]
[{"$nulls":10},{"$f":"IF(ISNUMBER(SEARCH($A$3,L1193)),MAX($K$1:K1192)+1,0)","v":0},"Gateway Distriparks Ltd","GDL.BO",{"$nulls":12},{"$f":"IFERROR(VLOOKUP(ROWS($Z$2:Z1193),K1193:$L$6000,2,0),\"\")","v":""},{"$f":"IFERROR(VLOOKUP(ROWS($AA$2:AA1193),K1193:$M$6000,3,0),\"\")","v":""}]
[{"$nulls":10},{"$f":"IF(ISNUMBER(SEARCH($A$3,L1194)),MAX($K$1:K1193)+1,0)","v":0},"Gateway Distriparks Ltd","GDL.NS",{"$nulls":12},{"$f":"IFERROR(VLOOKUP(ROWS($Z$2:Z1194),K1194:$L$6000,2,0),\"\")","v":""},{"$f":"IFERROR(VLOOKUP(ROWS($AA$2:AA1194),K1194:$M$6000,3,0),\"\")","v":""}]
[{"$nulls":10},{"$f":"IF(ISNUMBER(SEARCH($A$3,L1195)),MAX($K$1:K1194)+1,0)","v":0},"Gati Ltd","GATI.BO",{"$nulls":12},{"$f":"IFERROR(VLOOKUP(ROWS($Z$2:Z1195),K1195:$L$6000,2,0),\"\")","v":""},{"$f":"IFERROR(VLOOKUP(ROWS($AA$2:AA1195),K1195:$M$6000,3,0),\"\")","v":""}]
[{"$nulls":10},{"$f":"IF(ISNUMBER(SEARCH($A$3,L1196)),MAX($K$1:K1195)+1,0)","v":0},"Gati Ltd","GATI.NS",{"$nulls":12},{"$f":"IFERROR(VLOOKUP(ROWS($Z$2:Z1196),K1196:$L$6000,2,0),\"\")","v":""},{"$f":"IFERROR(VLOOKUP(ROWS($AA$2:AA1196),K1196:$M$6000,3,0),\"\")","v":""}]
[{"$nulls":10},{"$f":"IF(ISNUMBER(SEARCH($A$3,L1197)),MAX($K$1:K1196)+1,0)","v":0},"Gayatri BioOrganics Ltd","GAYATRIBI.BO",{"$nulls":12},{"$f":"IFERROR(VLOOKUP(ROWS($Z$2:Z1197),K1197:$L$6000,2,0),\"\")","v":""},{"$f":"IFERROR(VLOOKUP(ROWS($AA$2:AA1197),K1197:$M$6000,3,0),\"\")","v":""}]
[{"$nulls":10},{"$f":"IF(ISNUMBER(SEARCH($A$3,L1198)),MAX($K$1:K1197)+1,0)","v":0},"Gayatri Projects Ltd","GAYAPROJ.BO",{"$nulls":12},{"$f":"IFERROR(VLOOKUP(ROWS($Z$2:Z1198),K1198:$L$6000,2,0),\"\")","v":""},{"$f":"IFERROR(VLOOKUP(ROWS($AA$2:AA1198),K1198:$M$6000,3,0),\"\")","v":""}]
[{"$nulls":10},{"$f":"IF(ISNUMBER(SEARCH($A$3,L1199)),MAX($K$1:K1198)+1,0)","v":0},"Gee El Woollens Ltd","GELWOOL.BO",{"$nulls":12},{"$f":"IFERROR(VLOOKUP(ROWS($Z$2:Z1199),K1199:$L$6000,2,0),\"\")","v":""},{"$f":"IFERROR(VLOOKUP(ROWS($AA$2:AA1199),K1199:$M$6000,3,0),\"\")","v":""}]
[{"$nulls":10},{"$f":"IF(ISNUMBER(SEARCH($A$3,L1200)),MAX($K$1:K1199)+1,0)","v":0},"Gee Gee Granites Ltd","GGGRAN.BO",{"$nulls":12},{"$f":"IFERROR(VLOOKUP(ROWS($Z$2:Z1200),K1200:$L$6000,2,0),\"\")","v":""},{"$f":"IFERROR(VLOOKUP(ROWS($AA$2:AA1200),K1200:$M$6000,3,0),\"\")","v":""}]
[{"$nulls":10},{"$f":"IF(ISNUMBER(SEARCH($A$3,L1201)),MAX($K$1:K1200)+1,0)","v":0},"Gee Ltd","GEE.BO",{"$nulls":12},{"$f":"IFERROR(VLOOKUP(ROWS($Z$2:Z1201),K1201:$L$6000,2,0),\"\")","v":""},{"$f":"IFERROR(VLOOKUP(ROWS($AA$2:AA1201),K1201:$M$6000,3,0),\"\")","v":""}]
[{"$nulls":10},{"$f":"IF(ISNUMBER(SEARCH($A$3,L1202)),MAX($K$1:K1201)+1,0)","v":0},"GeeCee Ventures Ltd","GEECEE.BO",{"$nulls":12},{"$f":"IFERROR(VLOOKUP(ROWS($Z$2:Z1202),K1202:$L$6000,2,0),\"\")","v":""},{"$f":"IFERROR(VLOOKUP(ROWS($AA$2:AA1202),K1202:$M$6000,3,0),\"\")","v":""}]
[{"$nulls":10},{"$f":"IF(ISNUMBER(SEARCH($A$3,L1203)),MAX($K$1:K1202)+1,0)","v":0},"GeeCee Ventures Ltd","GEECEE.NS",{"$nulls":12},{"$f":"IFERROR(VLOOKUP(ROWS($Z$2:Z1203),K1203:$L$6000,2,0),\"\")","v":""},{"$f":"IFERROR(VLOOKUP(ROWS($AA$2:AA1203),K1203:$M$6000,3,0),\"\")","v":""}]
[{"$nulls":10},{"$f":"IF(ISNUMBER(SEARCH($A$3,L1204)),MAX($K$1:K1203)+1,0)","v":0},"Geefcee Finance Ltd","GEEFC.BO",{"$nulls":12},{"$f":"IFERROR(VLOOKUP(ROWS($Z$2:Z1204),K1204:$L$6000,2,0),\"\")","v":""},{"$f":"IFERROR(VLOOKUP(ROWS($AA$2:AA1204),K1204:$M$6000,3,0),\"\")","v":""}]
[{"$nulls":10},{"$f":"IF(ISNUMBER(SEARCH($A$3,L1205)),MAX($K$1:K1204)+1,0)","v":0},"Gei Industrial Systems Ltd","GEINDSYS.BO",{"$nulls":12},{"$f":"IFERROR(VLOOKUP(ROWS($Z$2:Z1205),K1205:$L$6000,2,0),\"\")","v":""},{"$f":"IFERROR(VLOOKUP(ROWS($AA$2:AA1205),K1205:$M$6000,3,0),\"\")","v":""}]
[{"$nulls":10},{"$f":"IF(ISNUMBER(SEARCH($A$3,L1206)),MAX($K$1:K1205)+1,0)","v":0},"Gem Spinners India Ltd","GEMSPIN.BO",{"$nulls":12},{"$f":"IFERROR(VLOOKUP(ROWS($Z$2:Z1206),K1206:$L$6000,2,0),\"\")","v":""},{"$f":"IFERROR(VLOOKUP(ROWS($AA$2:AA1206),K1206:$M$6000,3,0),\"\")","v":""}]
[{"$nulls":10},{"$f":"IF(ISNUMBER(SEARCH($A$3,L1207)),MAX($K$1:K1206)+1,0)","v":0},"Gemini Communication Ltd","GEMINICO.BO",{"$nulls":12},{"$f":"IFERROR(VLOOKUP(ROWS($Z$2:Z1207),K1207:$L$6000,2,0),\"\")","v":""},{"$f":"IFERROR(VLOOKUP(ROWS($AA$2:AA1207),K1207:$M$6000,3,0),\"\")","v":""}]
[{"$nulls":10},{"$f":"IF(ISNUMBER(SEARCH($A$3,L1208)),MAX($K$1:K1207)+1,0)","v":0},"Gemini Communication Ltd","GEMINI.NS",{"$nulls":12},{"$f":"IFERROR(VLOOKUP(ROWS($Z$2:Z1208),K1208:$L$6000,2,0),\"\")","v":""},{"$f":"IFERROR(VLOOKUP(ROWS($AA$2:AA1208),K1208:$M$6000,3,0),\"\")","v":""}]
[{"$nulls":10},{"$f":"IF(ISNUMBER(SEARCH($A$3,L1209)),MAX($K$1:K1208)+1,0)","v":0},"Gemmia Oiltech (India) Ltd","RAMKASH.BO",{"$nulls":12},{"$f":"IFERROR(VLOOKUP(ROWS($Z$2:Z1209),K1209:$L$6000,2,0),\"\")","v":""},{"$f":"IFERROR(VLOOKUP(ROWS($AA$2:AA1209),K1209:$M$6000,3,0),\"\")","v":""}]
[{"$nulls":10},{"$f":"IF(ISNUMBER(SEARCH($A$3,L1210)),MAX($K$1:K1209)+1,0)","v":0},"Gemstone Investments Ltd","GEMSI.BO",{"$nulls":12},{"$f":"IFERROR(VLOOKUP(ROWS($Z$2:Z1210),K1210:$L$6000,2,0),\"\")","v":""},{"$f":"IFERROR(VLOOKUP(ROWS($AA$2:AA1210),K1210:$M$6000,3,0),\"\")","v":""}]
[{"$nulls":10},{"$f":"IF(ISNUMBER(SEARCH($A$3,L1211)),MAX($K$1:K1210)+1,0)","v":0},"Genesys International Corp Ltd","GENESYS.BO",{"$nulls":12},{"$f":"IFERROR(VLOOKUP(ROWS($Z$2:Z1211),K1211:$L$6000,2,0),\"\")","v":""},{"$f":"IFERROR(VLOOKUP(ROWS($AA$2:AA1211),K1211:$M$6000,3,0),\"\")","v":""}]
[{"$nulls":10},{"$f":"IF(ISNUMBER(SEARCH($A$3,L1212)),MAX($K$1:K1211)+1,0)","v":0},"Genesys International Corp Ltd","GENESYS.NS",{"$nulls":12},{"$f":"IFERROR(VLOOKUP(ROWS($Z$2:Z1212),K1212:$L$6000,2,0),\"\")","v":""},{"$f":"IFERROR(VLOOKUP(ROWS($AA$2:AA1212),K1212:$M$6000,3,0),\"\")","v":""}]
[{"$nulls":10},{"$f":"IF(ISNUMBER(SEARCH($A$3,L1213)),MAX($K$1:K1212)+1,0)","v":0},"Gennex Laboratories Ltd","GENNEX.BO",{"$nulls":12},{"$f":"IFERROR(VLOOKUP(ROWS($Z$2:Z1213),K1213:$L$6000,2,0),\"\")","v":""},{"$f":"IFERROR(VLOOKUP(ROWS($AA$2:AA1213),K1213:$M$6000,3,0),\"\")","v":""}]
[{"$nulls":10},{"$f":"IF(ISNUMBER(SEARCH($A$3,L1214)),MAX($K$1:K1213)+1,0)","v":0},"Genus Commu-Trade Ltd","GENIUSCO.BO",{"$nulls":12},{"$f":"IFERROR(VLOOKUP(ROWS($Z$2:Z1214),K1214:$L$6000,2,0),\"\")","v":""},{"$f":"IFERROR(VLOOKUP(ROWS($AA$2:AA1214),K1214:$M$6000,3,0),\"\")","v":""}]
[{"$nulls":10},{"$f":"IF(ISNUMBER(SEARCH($A$3,L1215)),MAX($K$1:K1214)+1,0)","v":0},"Genus Power Infrastructur","GENUS.BO",{"$nulls":12},{"$f":"IFERROR(VLOOKUP(ROWS($Z$2:Z1215),K1215:$L$6000,2,0),\"\")","v":""},{"$f":"IFERROR(VLOOKUP(ROWS($AA$2:AA1215),K1215:$M$6000,3,0),\"\")","v":""}]
[{"$nulls":10},{"$f":"IF(ISNUMBER(SEARCH($A$3,L1216)),MAX($K$1:K1215)+1,0)","v":0},"Genus Prime Infra Ltd","GULCHEM.BO",{"$nulls":12},{"$f":"IFERROR(VLOOKUP(ROWS($Z$2:Z1216),K1216:$L$6000,2,0),\"\")","v":""},{"$f":"IFERROR(VLOOKUP(ROWS($AA$2:AA1216),K1216:$M$6000,3,0),\"\")","v":""}]
[{"$nulls":10},{"$f":"IF(ISNUMBER(SEARCH($A$3,L1217)),MAX($K$1:K1216)+1,0)","v":0},"Geodesic Ltd","GEODLTD.BO",{"$nulls":12},{"$f":"IFERROR(VLOOKUP(ROWS($Z$2:Z1217),K1217:$L$6000,2,0),\"\")","v":""},{"$f":"IFERROR(VLOOKUP(ROWS($AA$2:AA1217),K1217:$M$6000,3,0),\"\")","v":""}]
[{"$nulls":10},{"$f":"IF(ISNUMBER(SEARCH($A$3,L1218)),MAX($K$1:K1217)+1,0)","v":0},"Geojit BNP Paribas","GEOJITBNP.BO",{"$nulls":12},{"$f":"IFERROR(VLOOKUP(ROWS($Z$2:Z1218),K1218:$L$6000,2,0),\"\")","v":""},{"$f":"IFERROR(VLOOKUP(ROWS($AA$2:AA1218),K1218:$M$6000,3,0),\"\")","v":""}]
[{"$nulls":10},{"$f":"IF(ISNUMBER(SEARCH($A$3,L1219)),MAX($K$1:K1218)+1,0)","v":0},"Geojit BNP Paribas","GEOJITBNP.NS",{"$nulls":12},{"$f":"IFERROR(VLOOKUP(ROWS($Z$2:Z1219),K1219:$L$6000,2,0),\"\")","v":""},{"$f":"IFERROR(VLOOKUP(ROWS($AA$2:AA1219),K1219:$M$6000,3,0),\"\")","v":""}]
[{"$nulls":10},{"$f":"IF(ISNUMBER(SEARCH($A$3,L1220)),MAX($K$1:K1219)+1,0)","v":0},"Geometric Ltd","GEOMETRIC.BO",{"$nulls":12},{"$f":"IFERROR(VLOOKUP(ROWS($Z$2:Z1220),K1220:$L$6000,2,0),\"\")","v":""},{"$f":"IFERROR(VLOOKUP(ROWS($AA$2:AA1220),K1220:$M$6000,3,0),\"\")","v":""}]
[{"$nulls":10},{"$f":"IF(ISNUMBER(SEARCH($A$3,L1221)),MAX($K$1:K1220)+1,0)","v":0},"Geometric Ltd","GEOMETRIC.NS",{"$nulls":12},{"$f":"IFERROR(VLOOKUP(ROWS($Z$2:Z1221),K1221:$L$6000,2,0),\"\")","v":""},{"$f":"IFERROR(VLOOKUP(ROWS($AA$2:AA1221),K1221:$M$6000,3,0),\"\")","v":""}]
[{"$nulls":10},{"$f":"IF(ISNUMBER(SEARCH($A$3,L1222)),MAX($K$1:K1221)+1,0)","v":0},"GHCL Ltd","GHCL.BO",{"$nulls":12},{"$f":"IFERROR(VLOOKUP(ROWS($Z$2:Z1222),K1222:$L$6000,2,0),\"\")","v":""},{"$f":"IFERROR(VLOOKUP(ROWS($AA$2:AA1222),K1222:$M$6000,3,0),\"\")","v":""}]
[{"$nulls":10},{"$f":"IF(ISNUMBER(SEARCH($A$3,L1223)),MAX($K$1:K1222)+1,0)","v":0},"GHCL Ltd","GHCL.NS",{"$nulls":12},{"$f":"IFERROR(VLOOKUP(ROWS($Z$2:Z1223),K1223:$L$6000,2,0),\"\")","v":""},{"$f":"IFERROR(VLOOKUP(ROWS($AA$2:AA1223),K1223:$M$6000,3,0),\"\")","v":""}]
[{"$nulls":10},{"$f":"IF(ISNUMBER(SEARCH($A$3,L1224)),MAX($K$1:K1223)+1,0)","v":0},"GI Engineering Solutions Ltd","GIENG.BO",{"$nulls":12},{"$f":"IFERROR(VLOOKUP(ROWS($Z$2:Z1224),K1224:$L$6000,2,0),\"\")","v":""},{"$f":"IFERROR(VLOOKUP(ROWS($AA$2:AA1224),K1224:$M$6000,3,0),\"\")","v":""}]
[{"$nulls":10},{"$f":"IF(ISNUMBER(SEARCH($A$3,L1225)),MAX($K$1:K1224)+1,0)","v":0},"GI Engineering Solutions Ltd","GISOLUTIO.NS",{"$nulls":12},{"$f":"IFERROR(VLOOKUP(ROWS($Z$2:Z1225),K1225:$L$6000,2,0),\"\")","v":""},{"$f":"IFERROR(VLOOKUP(ROWS($AA$2:AA1225),K1225:$M$6000,3,0),\"\")","v":""}]
[{"$nulls":10},{"$f":"IF(ISNUMBER(SEARCH($A$3,L1226)),MAX($K$1:K1225)+1,0)","v":0},"GIC Housing Finance Ltd","GICHF.BO",{"$nulls":12},{"$f":"IFERROR(VLOOKUP(ROWS($Z$2:Z1226),K1226:$L$6000,2,0),\"\")","v":""},{"$f":"IFERROR(VLOOKUP(ROWS($AA$2:AA1226),K1226:$M$6000,3,0),\"\")","v":""}]
[{"$nulls":10},{"$f":"IF(ISNUMBER(SEARCH($A$3,L1227)),MAX($K$1:K1226)+1,0)","v":0},"GIC Housing Finance Ltd","GICHSGFIN.NS",{"$nulls":12},{"$f":"IFERROR(VLOOKUP(ROWS($Z$2:Z1227),K1227:$L$6000,2,0),\"\")","v":""},{"$f":"IFERROR(VLOOKUP(ROWS($AA$2:AA1227),K1227:$M$6000,3,0),\"\")","v":""}]
[{"$nulls":10},{"$f":"IF(ISNUMBER(SEARCH($A$3,L1228)),MAX($K$1:K1227)+1,0)","v":0},"Gillanders Arbuthnot &","GILLANDER.BO",{"$nulls":12},{"$f":"IFERROR(VLOOKUP(ROWS($Z$2:Z1228),K1228:$L$6000,2,0),\"\")","v":""},{"$f":"IFERROR(VLOOKUP(ROWS($AA$2:AA1228),K1228:$M$6000,3,0),\"\")","v":""}]
[{"$nulls":10},{"$f":"IF(ISNUMBER(SEARCH($A$3,L1229)),MAX($K$1:K1228)+1,0)","v":0},"Gillette India Ltd","GILLETTE.BO",{"$nulls":12},{"$f":"IFERROR(VLOOKUP(ROWS($Z$2:Z1229),K1229:$L$6000,2,0),\"\")","v":""},{"$f":"IFERROR(VLOOKUP(ROWS($AA$2:AA1229),K1229:$M$6000,3,0),\"\")","v":""}]
[{"$nulls":10},{"$f":"IF(ISNUMBER(SEARCH($A$3,L1230)),MAX($K$1:K1229)+1,0)","v":0},"Gillette India Ltd","GILLETTE.NS",{"$nulls":12},{"$f":"IFERROR(VLOOKUP(ROWS($Z$2:Z1230),K1230:$L$6000,2,0),\"\")","v":""},{"$f":"IFERROR(VLOOKUP(ROWS($AA$2:AA1230),K1230:$M$6000,3,0),\"\")","v":""}]
[{"$nulls":10},{"$f":"IF(ISNUMBER(SEARCH($A$3,L1231)),MAX($K$1:K1230)+1,0)","v":0},"Ginni Filaments Ltd","GINNIF.BO",{"$nulls":12},{"$f":"IFERROR(VLOOKUP(ROWS($Z$2:Z1231),K1231:$L$6000,2,0),\"\")","v":""},{"$f":"IFERROR(VLOOKUP(ROWS($AA$2:AA1231),K1231:$M$6000,3,0),\"\")","v":""}]
[{"$nulls":10},{"$f":"IF(ISNUMBER(SEARCH($A$3,L1232)),MAX($K$1:K1231)+1,0)","v":0},"Ginni Filaments Ltd","GINNIFILA.NS",{"$nulls":12},{"$f":"IFERROR(VLOOKUP(ROWS($Z$2:Z1232),K1232:$L$6000,2,0),\"\")","v":""},{"$f":"IFERROR(VLOOKUP(ROWS($AA$2:AA1232),K1232:$M$6000,3,0),\"\")","v":""}]
[{"$nulls":10},{"$f":"IF(ISNUMBER(SEARCH($A$3,L1233)),MAX($K$1:K1232)+1,0)","v":0},"Ginni Silk Mills Ltd","GINISILK.BO",{"$nulls":12},{"$f":"IFERROR(VLOOKUP(ROWS($Z$2:Z1233),K1233:$L$6000,2,0),\"\")","v":""},{"$f":"IFERROR(VLOOKUP(ROWS($AA$2:AA1233),K1233:$M$6000,3,0),\"\")","v":""}]
[{"$nulls":10},{"$f":"IF(ISNUMBER(SEARCH($A$3,L1234)),MAX($K$1:K1233)+1,0)","v":0},"Gitanjali Gems Ltd","GITANJALI.BO",{"$nulls":12},{"$f":"IFERROR(VLOOKUP(ROWS($Z$2:Z1234),K1234:$L$6000,2,0),\"\")","v":""},{"$f":"IFERROR(VLOOKUP(ROWS($AA$2:AA1234),K1234:$M$6000,3,0),\"\")","v":""}]
[{"$nulls":10},{"$f":"IF(ISNUMBER(SEARCH($A$3,L1235)),MAX($K$1:K1234)+1,0)","v":0},"Gitanjali Gems Ltd","GITANJALI.NS",{"$nulls":12},{"$f":"IFERROR(VLOOKUP(ROWS($Z$2:Z1235),K1235:$L$6000,2,0),\"\")","v":""},{"$f":"IFERROR(VLOOKUP(ROWS($AA$2:AA1235),K1235:$M$6000,3,0),\"\")","v":""}]
[{"$nulls":10},{"$f":"IF(ISNUMBER(SEARCH($A$3,L1236)),MAX($K$1:K1235)+1,0)","v":0},"Givo Ltd","GIVO.BO",{"$nulls":12},{"$f":"IFERROR(VLOOKUP(ROWS($Z$2:Z1236),K1236:$L$6000,2,0),\"\")","v":""},{"$f":"IFERROR(VLOOKUP(ROWS($AA$2:AA1236),K1236:$M$6000,3,0),\"\")","v":""}]
[{"$nulls":10},{"$f":"IF(ISNUMBER(SEARCH($A$3,L1237)),MAX($K$1:K1236)+1,0)","v":0},"GKB Ophthalmics Ltd","GKB.BO",{"$nulls":12},{"$f":"IFERROR(VLOOKUP(ROWS($Z$2:Z1237),K1237:$L$6000,2,0),\"\")","v":""},{"$f":"IFERROR(VLOOKUP(ROWS($AA$2:AA1237),K1237:$M$6000,3,0),\"\")","v":""}]
[{"$nulls":10},{"$f":"IF(ISNUMBER(SEARCH($A$3,L1238)),MAX($K$1:K1237)+1,0)","v":0},"GKB Ophthalmics Ltd","GKB.NS",{"$nulls":12},{"$f":"IFERROR(VLOOKUP(ROWS($Z$2:Z1238),K1238:$L$6000,2,0),\"\")","v":""},{"$f":"IFERROR(VLOOKUP(ROWS($AA$2:AA1238),K1238:$M$6000,3,0),\"\")","v":""}]
[{"$nulls":10},{"$f":"IF(ISNUMBER(SEARCH($A$3,L1239)),MAX($K$1:K1238)+1,0)","v":0},"GKW Ltd","GKWLIMITE.NS",{"$nulls":12},{"$f":"IFERROR(VLOOKUP(ROWS($Z$2:Z1239),K1239:$L$6000,2,0),\"\")","v":""},{"$f":"IFERROR(VLOOKUP(ROWS($AA$2:AA1239),K1239:$M$6000,3,0),\"\")","v":""}]
[{"$nulls":10},{"$f":"IF(ISNUMBER(SEARCH($A$3,L1240)),MAX($K$1:K1239)+1,0)","v":0},"Glance Finance Ltd","GLANCE.BO",{"$nulls":12},{"$f":"IFERROR(VLOOKUP(ROWS($Z$2:Z1240),K1240:$L$6000,2,0),\"\")","v":""},{"$f":"IFERROR(VLOOKUP(ROWS($AA$2:AA1240),K1240:$M$6000,3,0),\"\")","v":""}]
[{"$nulls":10},{"$f":"IF(ISNUMBER(SEARCH($A$3,L1241)),MAX($K$1:K1240)+1,0)","v":0},"Glaxosmithkline Consumer","GLAXOCON.BO",{"$nulls":12},{"$f":"IFERROR(VLOOKUP(ROWS($Z$2:Z1241),K1241:$L$6000,2,0),\"\")","v":""},{"$f":"IFERROR(VLOOKUP(ROWS($AA$2:AA1241),K1241:$M$6000,3,0),\"\")","v":""}]
[{"$nulls":10},{"$f":"IF(ISNUMBER(SEARCH($A$3,L1242)),MAX($K$1:K1241)+1,0)","v":0},"Glaxosmithkline Consumer","GSKCONS.NS",{"$nulls":12},{"$f":"IFERROR(VLOOKUP(ROWS($Z$2:Z1242),K1242:$L$6000,2,0),\"\")","v":""},{"$f":"IFERROR(VLOOKUP(ROWS($AA$2:AA1242),K1242:$M$6000,3,0),\"\")","v":""}]
[{"$nulls":10},{"$f":"IF(ISNUMBER(SEARCH($A$3,L1243)),MAX($K$1:K1242)+1,0)","v":0},"GlaxoSmithKline Pharmaceu","GLAXOPHARMA.BO",{"$nulls":12},{"$f":"IFERROR(VLOOKUP(ROWS($Z$2:Z1243),K1243:$L$6000,2,0),\"\")","v":""},{"$f":"IFERROR(VLOOKUP(ROWS($AA$2:AA1243),K1243:$M$6000,3,0),\"\")","v":""}]
[{"$nulls":10},{"$f":"IF(ISNUMBER(SEARCH($A$3,L1244)),MAX($K$1:K1243)+1,0)","v":0},"GlaxoSmithKline Pharmaceu","GLAXO.NS",{"$nulls":12},{"$f":"IFERROR(VLOOKUP(ROWS($Z$2:Z1244),K1244:$L$6000,2,0),\"\")","v":""},{"$f":"IFERROR(VLOOKUP(ROWS($AA$2:AA1244),K1244:$M$6000,3,0),\"\")","v":""}]
[{"$nulls":10},{"$f":"IF(ISNUMBER(SEARCH($A$3,L1245)),MAX($K$1:K1244)+1,0)","v":0},"Glenmark Pharmaceuticals Ltd","GLENMARK.BO",{"$nulls":12},{"$f":"IFERROR(VLOOKUP(ROWS($Z$2:Z1245),K1245:$L$6000,2,0),\"\")","v":""},{"$f":"IFERROR(VLOOKUP(ROWS($AA$2:AA1245),K1245:$M$6000,3,0),\"\")","v":""}]
[{"$nulls":10},{"$f":"IF(ISNUMBER(SEARCH($A$3,L1246)),MAX($K$1:K1245)+1,0)","v":0},"Glenmark Pharmaceuticals Ltd","GLENMARK.NS",{"$nulls":12},{"$f":"IFERROR(VLOOKUP(ROWS($Z$2:Z1246),K1246:$L$6000,2,0),\"\")","v":""},{"$f":"IFERROR(VLOOKUP(ROWS($AA$2:AA1246),K1246:$M$6000,3,0),\"\")","v":""}]
[{"$nulls":10},{"$f":"IF(ISNUMBER(SEARCH($A$3,L1247)),MAX($K$1:K1246)+1,0)","v":0},"Glittek Granites Ltd","GLITTEKG.BO",{"$nulls":12},{"$f":"IFERROR(VLOOKUP(ROWS($Z$2:Z1247),K1247:$L$6000,2,0),\"\")","v":""},{"$f":"IFERROR(VLOOKUP(ROWS($AA$2:AA1247),K1247:$M$6000,3,0),\"\")","v":""}]
[{"$nulls":10},{"$f":"IF(ISNUMBER(SEARCH($A$3,L1248)),MAX($K$1:K1247)+1,0)","v":0},"Global Capital Market","GLOBALCA.BO",{"$nulls":12},{"$f":"IFERROR(VLOOKUP(ROWS($Z$2:Z1248),K1248:$L$6000,2,0),\"\")","v":""},{"$f":"IFERROR(VLOOKUP(ROWS($AA$2:AA1248),K1248:$M$6000,3,0),\"\")","v":""}]
[{"$nulls":10},{"$f":"IF(ISNUMBER(SEARCH($A$3,L1249)),MAX($K$1:K1248)+1,0)","v":0},"Global Offshore Services Ltd","GARWOFFS.BO",{"$nulls":12},{"$f":"IFERROR(VLOOKUP(ROWS($Z$2:Z1249),K1249:$L$6000,2,0),\"\")","v":""},{"$f":"IFERROR(VLOOKUP(ROWS($AA$2:AA1249),K1249:$M$6000,3,0),\"\")","v":""}]
[{"$nulls":10},{"$f":"IF(ISNUMBER(SEARCH($A$3,L1250)),MAX($K$1:K1249)+1,0)","v":0},"Global Offshore Services Ltd","GARWOFFS.NS",{"$nulls":12},{"$f":"IFERROR(VLOOKUP(ROWS($Z$2:Z1250),K1250:$L$6000,2,0),\"\")","v":""},{"$f":"IFERROR(VLOOKUP(ROWS($AA$2:AA1250),K1250:$M$6000,3,0),\"\")","v":""}]
[{"$nulls":10},{"$f":"IF(ISNUMBER(SEARCH($A$3,L1251)),MAX($K$1:K1250)+1,0)","v":0},"Global Securities Ltd","GLOBSEC.BO",{"$nulls":12},{"$f":"IFERROR(VLOOKUP(ROWS($Z$2:Z1251),K1251:$L$6000,2,0),\"\")","v":""},{"$f":"IFERROR(VLOOKUP(ROWS($AA$2:AA1251),K1251:$M$6000,3,0),\"\")","v":""}]
[{"$nulls":10},{"$f":"IF(ISNUMBER(SEARCH($A$3,L1252)),MAX($K$1:K1251)+1,0)","v":0},"Global Vectra Helicorp Ltd","GLOVECTRA.BO",{"$nulls":12},{"$f":"IFERROR(VLOOKUP(ROWS($Z$2:Z1252),K1252:$L$6000,2,0),\"\")","v":""},{"$f":"IFERROR(VLOOKUP(ROWS($AA$2:AA1252),K1252:$M$6000,3,0),\"\")","v":""}]
[{"$nulls":10},{"$f":"IF(ISNUMBER(SEARCH($A$3,L1253)),MAX($K$1:K1252)+1,0)","v":0},"Global Vectra Helicorp Ltd","GLOBALVEC.NS",{"$nulls":12},{"$f":"IFERROR(VLOOKUP(ROWS($Z$2:Z1253),K1253:$L$6000,2,0),\"\")","v":""},{"$f":"IFERROR(VLOOKUP(ROWS($AA$2:AA1253),K1253:$M$6000,3,0),\"\")","v":""}]
[{"$nulls":10},{"$f":"IF(ISNUMBER(SEARCH($A$3,L1254)),MAX($K$1:K1253)+1,0)","v":0},"Globus Corp Ltd","GLOBUSCOR.BO",{"$nulls":12},{"$f":"IFERROR(VLOOKUP(ROWS($Z$2:Z1254),K1254:$L$6000,2,0),\"\")","v":""},{"$f":"IFERROR(VLOOKUP(ROWS($AA$2:AA1254),K1254:$M$6000,3,0),\"\")","v":""}]
[{"$nulls":10},{"$f":"IF(ISNUMBER(SEARCH($A$3,L1255)),MAX($K$1:K1254)+1,0)","v":0},"Globus Spirits Ltd","GLOBUSSPR.BO",{"$nulls":12},{"$f":"IFERROR(VLOOKUP(ROWS($Z$2:Z1255),K1255:$L$6000,2,0),\"\")","v":""},{"$f":"IFERROR(VLOOKUP(ROWS($AA$2:AA1255),K1255:$M$6000,3,0),\"\")","v":""}]
[{"$nulls":10},{"$f":"IF(ISNUMBER(SEARCH($A$3,L1256)),MAX($K$1:K1255)+1,0)","v":0},"Globus Spirits Ltd","GLOBUSSPR.NS",{"$nulls":12},{"$f":"IFERROR(VLOOKUP(ROWS($Z$2:Z1256),K1256:$L$6000,2,0),\"\")","v":""},{"$f":"IFERROR(VLOOKUP(ROWS($AA$2:AA1256),K1256:$M$6000,3,0),\"\")","v":""}]
[{"$nulls":10},{"$f":"IF(ISNUMBER(SEARCH($A$3,L1257)),MAX($K$1:K1256)+1,0)","v":0},"Glodyne Technoserve Ltd","GLODYNE.BO",{"$nulls":12},{"$f":"IFERROR(VLOOKUP(ROWS($Z$2:Z1257),K1257:$L$6000,2,0),\"\")","v":""},{"$f":"IFERROR(VLOOKUP(ROWS($AA$2:AA1257),K1257:$M$6000,3,0),\"\")","v":""}]
[{"$nulls":10},{"$f":"IF(ISNUMBER(SEARCH($A$3,L1258)),MAX($K$1:K1257)+1,0)","v":0},"Glory Polyfilms Ltd","GLORY.BO",{"$nulls":12},{"$f":"IFERROR(VLOOKUP(ROWS($Z$2:Z1258),K1258:$L$6000,2,0),\"\")","v":""},{"$f":"IFERROR(VLOOKUP(ROWS($AA$2:AA1258),K1258:$M$6000,3,0),\"\")","v":""}]
[{"$nulls":10},{"$f":"IF(ISNUMBER(SEARCH($A$3,L1259)),MAX($K$1:K1258)+1,0)","v":0},"Gloster Ltd","GLOSTERJU.BO",{"$nulls":12},{"$f":"IFERROR(VLOOKUP(ROWS($Z$2:Z1259),K1259:$L$6000,2,0),\"\")","v":""},{"$f":"IFERROR(VLOOKUP(ROWS($AA$2:AA1259),K1259:$M$6000,3,0),\"\")","v":""}]
[{"$nulls":10},{"$f":"IF(ISNUMBER(SEARCH($A$3,L1260)),MAX($K$1:K1259)+1,0)","v":0},"GMM Pfaudler Ltd","GMM.BO",{"$nulls":12},{"$f":"IFERROR(VLOOKUP(ROWS($Z$2:Z1260),K1260:$L$6000,2,0),\"\")","v":""},{"$f":"IFERROR(VLOOKUP(ROWS($AA$2:AA1260),K1260:$M$6000,3,0),\"\")","v":""}]
[{"$nulls":10},{"$f":"IF(ISNUMBER(SEARCH($A$3,L1261)),MAX($K$1:K1260)+1,0)","v":0},"GMR Infrastructure Ltd","GMRINFRA.BO",{"$nulls":12},{"$f":"IFERROR(VLOOKUP(ROWS($Z$2:Z1261),K1261:$L$6000,2,0),\"\")","v":""},{"$f":"IFERROR(VLOOKUP(ROWS($AA$2:AA1261),K1261:$M$6000,3,0),\"\")","v":""}]
[{"$nulls":10},{"$f":"IF(ISNUMBER(SEARCH($A$3,L1262)),MAX($K$1:K1261)+1,0)","v":0},"GMR Infrastructure Ltd","GMRINFRA.NS",{"$nulls":12},{"$f":"IFERROR(VLOOKUP(ROWS($Z$2:Z1262),K1262:$L$6000,2,0),\"\")","v":""},{"$f":"IFERROR(VLOOKUP(ROWS($AA$2:AA1262),K1262:$M$6000,3,0),\"\")","v":""}]
[{"$nulls":10},{"$f":"IF(ISNUMBER(SEARCH($A$3,L1263)),MAX($K$1:K1262)+1,0)","v":0},"Goa Carbon Ltd","GOACARB.BO",{"$nulls":12},{"$f":"IFERROR(VLOOKUP(ROWS($Z$2:Z1263),K1263:$L$6000,2,0),\"\")","v":""},{"$f":"IFERROR(VLOOKUP(ROWS($AA$2:AA1263),K1263:$M$6000,3,0),\"\")","v":""}]
[{"$nulls":10},{"$f":"IF(ISNUMBER(SEARCH($A$3,L1264)),MAX($K$1:K1263)+1,0)","v":0},"Goa Carbon Ltd","GOACARBON.NS",{"$nulls":12},{"$f":"IFERROR(VLOOKUP(ROWS($Z$2:Z1264),K1264:$L$6000,2,0),\"\")","v":""},{"$f":"IFERROR(VLOOKUP(ROWS($AA$2:AA1264),K1264:$M$6000,3,0),\"\")","v":""}]
[{"$nulls":10},{"$f":"IF(ISNUMBER(SEARCH($A$3,L1265)),MAX($K$1:K1264)+1,0)","v":0},"Godavari Drugs Ltd","GODAVARI.BO",{"$nulls":12},{"$f":"IFERROR(VLOOKUP(ROWS($Z$2:Z1265),K1265:$L$6000,2,0),\"\")","v":""},{"$f":"IFERROR(VLOOKUP(ROWS($AA$2:AA1265),K1265:$M$6000,3,0),\"\")","v":""}]
[{"$nulls":10},{"$f":"IF(ISNUMBER(SEARCH($A$3,L1266)),MAX($K$1:K1265)+1,0)","v":0},"Godawari Power & Ispat Ltd","GPIL.BO",{"$nulls":12},{"$f":"IFERROR(VLOOKUP(ROWS($Z$2:Z1266),K1266:$L$6000,2,0),\"\")","v":""},{"$f":"IFERROR(VLOOKUP(ROWS($AA$2:AA1266),K1266:$M$6000,3,0),\"\")","v":""}]
[{"$nulls":10},{"$f":"IF(ISNUMBER(SEARCH($A$3,L1267)),MAX($K$1:K1266)+1,0)","v":0},"Godawari Power & Ispat Ltd","GPIL.NS",{"$nulls":12},{"$f":"IFERROR(VLOOKUP(ROWS($Z$2:Z1267),K1267:$L$6000,2,0),\"\")","v":""},{"$f":"IFERROR(VLOOKUP(ROWS($AA$2:AA1267),K1267:$M$6000,3,0),\"\")","v":""}]
[{"$nulls":10},{"$f":"IF(ISNUMBER(SEARCH($A$3,L1268)),MAX($K$1:K1267)+1,0)","v":0},"Godfrey Phillips India Ltd","GODFRYPHLP.BO",{"$nulls":12},{"$f":"IFERROR(VLOOKUP(ROWS($Z$2:Z1268),K1268:$L$6000,2,0),\"\")","v":""},{"$f":"IFERROR(VLOOKUP(ROWS($AA$2:AA1268),K1268:$M$6000,3,0),\"\")","v":""}]
[{"$nulls":10},{"$f":"IF(ISNUMBER(SEARCH($A$3,L1269)),MAX($K$1:K1268)+1,0)","v":0},"Godfrey Phillips India Ltd","GODFRYPHL.NS",{"$nulls":12},{"$f":"IFERROR(VLOOKUP(ROWS($Z$2:Z1269),K1269:$L$6000,2,0),\"\")","v":""},{"$f":"IFERROR(VLOOKUP(ROWS($AA$2:AA1269),K1269:$M$6000,3,0),\"\")","v":""}]
[{"$nulls":10},{"$f":"IF(ISNUMBER(SEARCH($A$3,L1270)),MAX($K$1:K1269)+1,0)","v":0},"Godrej Consumer Products Ltd","GODREJCP.BO",{"$nulls":12},{"$f":"IFERROR(VLOOKUP(ROWS($Z$2:Z1270),K1270:$L$6000,2,0),\"\")","v":""},{"$f":"IFERROR(VLOOKUP(ROWS($AA$2:AA1270),K1270:$M$6000,3,0),\"\")","v":""}]
[{"$nulls":10},{"$f":"IF(ISNUMBER(SEARCH($A$3,L1271)),MAX($K$1:K1270)+1,0)","v":0},"Godrej Consumer Products Ltd","GODREJCP.NS",{"$nulls":12},{"$f":"IFERROR(VLOOKUP(ROWS($Z$2:Z1271),K1271:$L$6000,2,0),\"\")","v":""},{"$f":"IFERROR(VLOOKUP(ROWS($AA$2:AA1271),K1271:$M$6000,3,0),\"\")","v":""}]
[{"$nulls":10},{"$f":"IF(ISNUMBER(SEARCH($A$3,L1272)),MAX($K$1:K1271)+1,0)","v":0},"Godrej Industries Ltd","GODREJIND.BO",{"$nulls":12},{"$f":"IFERROR(VLOOKUP(ROWS($Z$2:Z1272),K1272:$L$6000,2,0),\"\")","v":""},{"$f":"IFERROR(VLOOKUP(ROWS($AA$2:AA1272),K1272:$M$6000,3,0),\"\")","v":""}]
[{"$nulls":10},{"$f":"IF(ISNUMBER(SEARCH($A$3,L1273)),MAX($K$1:K1272)+1,0)","v":0},"Godrej Industries Ltd","GODREJIND.NS",{"$nulls":12},{"$f":"IFERROR(VLOOKUP(ROWS($Z$2:Z1273),K1273:$L$6000,2,0),\"\")","v":""},{"$f":"IFERROR(VLOOKUP(ROWS($AA$2:AA1273),K1273:$M$6000,3,0),\"\")","v":""}]
[{"$nulls":10},{"$f":"IF(ISNUMBER(SEARCH($A$3,L1274)),MAX($K$1:K1273)+1,0)","v":0},"Gokak Textiles Ltd","GOKAKTEX.BO",{"$nulls":12},{"$f":"IFERROR(VLOOKUP(ROWS($Z$2:Z1274),K1274:$L$6000,2,0),\"\")","v":""},{"$f":"IFERROR(VLOOKUP(ROWS($AA$2:AA1274),K1274:$M$6000,3,0),\"\")","v":""}]
[{"$nulls":10},{"$f":"IF(ISNUMBER(SEARCH($A$3,L1275)),MAX($K$1:K1274)+1,0)","v":0},"Gokaldas Exports Ltd","GOKALDAS.BO",{"$nulls":12},{"$f":"IFERROR(VLOOKUP(ROWS($Z$2:Z1275),K1275:$L$6000,2,0),\"\")","v":""},{"$f":"IFERROR(VLOOKUP(ROWS($AA$2:AA1275),K1275:$M$6000,3,0),\"\")","v":""}]
[{"$nulls":10},{"$f":"IF(ISNUMBER(SEARCH($A$3,L1276)),MAX($K$1:K1275)+1,0)","v":0},"Gokaldas Exports Ltd","GOKEX.NS",{"$nulls":12},{"$f":"IFERROR(VLOOKUP(ROWS($Z$2:Z1276),K1276:$L$6000,2,0),\"\")","v":""},{"$f":"IFERROR(VLOOKUP(ROWS($AA$2:AA1276),K1276:$M$6000,3,0),\"\")","v":""}]
[{"$nulls":10},{"$f":"IF(ISNUMBER(SEARCH($A$3,L1277)),MAX($K$1:K1276)+1,0)","v":0},"Gokul Refoils & Solvent Ltd","GOKUL.BO",{"$nulls":12},{"$f":"IFERROR(VLOOKUP(ROWS($Z$2:Z1277),K1277:$L$6000,2,0),\"\")","v":""},{"$f":"IFERROR(VLOOKUP(ROWS($AA$2:AA1277),K1277:$M$6000,3,0),\"\")","v":""}]
[{"$nulls":10},{"$f":"IF(ISNUMBER(SEARCH($A$3,L1278)),MAX($K$1:K1277)+1,0)","v":0},"Gokul Refoils & Solvent Ltd","GOKUL.NS",{"$nulls":12},{"$f":"IFERROR(VLOOKUP(ROWS($Z$2:Z1278),K1278:$L$6000,2,0),\"\")","v":""},{"$f":"IFERROR(VLOOKUP(ROWS($AA$2:AA1278),K1278:$M$6000,3,0),\"\")","v":""}]
[{"$nulls":10},{"$f":"IF(ISNUMBER(SEARCH($A$3,L1279)),MAX($K$1:K1278)+1,0)","v":0},"Gol Offshore Ltd","GREATOFF.BO",{"$nulls":12},{"$f":"IFERROR(VLOOKUP(ROWS($Z$2:Z1279),K1279:$L$6000,2,0),\"\")","v":""},{"$f":"IFERROR(VLOOKUP(ROWS($AA$2:AA1279),K1279:$M$6000,3,0),\"\")","v":""}]
[{"$nulls":10},{"$f":"IF(ISNUMBER(SEARCH($A$3,L1280)),MAX($K$1:K1279)+1,0)","v":0},"Gol Offshore Ltd","GTOFFSHOR.NS",{"$nulls":12},{"$f":"IFERROR(VLOOKUP(ROWS($Z$2:Z1280),K1280:$L$6000,2,0),\"\")","v":""},{"$f":"IFERROR(VLOOKUP(ROWS($AA$2:AA1280),K1280:$M$6000,3,0),\"\")","v":""}]
[{"$nulls":10},{"$f":"IF(ISNUMBER(SEARCH($A$3,L1281)),MAX($K$1:K1280)+1,0)","v":0},"Goldcrest Corp Ltd","GOLCRSFI.BO",{"$nulls":12},{"$f":"IFERROR(VLOOKUP(ROWS($Z$2:Z1281),K1281:$L$6000,2,0),\"\")","v":""},{"$f":"IFERROR(VLOOKUP(ROWS($AA$2:AA1281),K1281:$M$6000,3,0),\"\")","v":""}]
[{"$nulls":10},{"$f":"IF(ISNUMBER(SEARCH($A$3,L1282)),MAX($K$1:K1281)+1,0)","v":0},"Golden Carpets Ltd","GOLCA.BO",{"$nulls":12},{"$f":"IFERROR(VLOOKUP(ROWS($Z$2:Z1282),K1282:$L$6000,2,0),\"\")","v":""},{"$f":"IFERROR(VLOOKUP(ROWS($AA$2:AA1282),K1282:$M$6000,3,0),\"\")","v":""}]
[{"$nulls":10},{"$f":"IF(ISNUMBER(SEARCH($A$3,L1283)),MAX($K$1:K1282)+1,0)","v":0},"Golden Goenka Fincorp Ltd","GOLDENSE.BO",{"$nulls":12},{"$f":"IFERROR(VLOOKUP(ROWS($Z$2:Z1283),K1283:$L$6000,2,0),\"\")","v":""},{"$f":"IFERROR(VLOOKUP(ROWS($AA$2:AA1283),K1283:$M$6000,3,0),\"\")","v":""}]
[{"$nulls":10},{"$f":"IF(ISNUMBER(SEARCH($A$3,L1284)),MAX($K$1:K1283)+1,0)","v":0},"Golden Legand Leasing & F","GOLDLEG.BO",{"$nulls":12},{"$f":"IFERROR(VLOOKUP(ROWS($Z$2:Z1284),K1284:$L$6000,2,0),\"\")","v":""},{"$f":"IFERROR(VLOOKUP(ROWS($AA$2:AA1284),K1284:$M$6000,3,0),\"\")","v":""}]
[{"$nulls":10},{"$f":"IF(ISNUMBER(SEARCH($A$3,L1285)),MAX($K$1:K1284)+1,0)","v":0},"Golden Tobacco Ltd","GOLDENTOB.BO",{"$nulls":12},{"$f":"IFERROR(VLOOKUP(ROWS($Z$2:Z1285),K1285:$L$6000,2,0),\"\")","v":""},{"$f":"IFERROR(VLOOKUP(ROWS($AA$2:AA1285),K1285:$M$6000,3,0),\"\")","v":""}]
[{"$nulls":10},{"$f":"IF(ISNUMBER(SEARCH($A$3,L1286)),MAX($K$1:K1285)+1,0)","v":0},"Golden Tobacco Ltd","GOLDENTOB.NS",{"$nulls":12},{"$f":"IFERROR(VLOOKUP(ROWS($Z$2:Z1286),K1286:$L$6000,2,0),\"\")","v":""},{"$f":"IFERROR(VLOOKUP(ROWS($AA$2:AA1286),K1286:$M$6000,3,0),\"\")","v":""}]
[{"$nulls":10},{"$f":"IF(ISNUMBER(SEARCH($A$3,L1287)),MAX($K$1:K1286)+1,0)","v":0},"Goldiam International Ltd","GOLDIAMINT.BO",{"$nulls":12},{"$f":"IFERROR(VLOOKUP(ROWS($Z$2:Z1287),K1287:$L$6000,2,0),\"\")","v":""},{"$f":"IFERROR(VLOOKUP(ROWS($AA$2:AA1287),K1287:$M$6000,3,0),\"\")","v":""}]
[{"$nulls":10},{"$f":"IF(ISNUMBER(SEARCH($A$3,L1288)),MAX($K$1:K1287)+1,0)","v":0},"Goldiam International Ltd","GOLDIAM.NS",{"$nulls":12},{"$f":"IFERROR(VLOOKUP(ROWS($Z$2:Z1288),K1288:$L$6000,2,0),\"\")","v":""},{"$f":"IFERROR(VLOOKUP(ROWS($AA$2:AA1288),K1288:$M$6000,3,0),\"\")","v":""}]
[{"$nulls":10},{"$f":"IF(ISNUMBER(SEARCH($A$3,L1289)),MAX($K$1:K1288)+1,0)","v":0},"Goldstone Infratech Ltd","GOLDINFRA.BO",{"$nulls":12},{"$f":"IFERROR(VLOOKUP(ROWS($Z$2:Z1289),K1289:$L$6000,2,0),\"\")","v":""},{"$f":"IFERROR(VLOOKUP(ROWS($AA$2:AA1289),K1289:$M$6000,3,0),\"\")","v":""}]
[{"$nulls":10},{"$f":"IF(ISNUMBER(SEARCH($A$3,L1290)),MAX($K$1:K1289)+1,0)","v":0},"Goldstone Infratech Ltd","GOLDINFRA.NS",{"$nulls":12},{"$f":"IFERROR(VLOOKUP(ROWS($Z$2:Z1290),K1290:$L$6000,2,0),\"\")","v":""},{"$f":"IFERROR(VLOOKUP(ROWS($AA$2:AA1290),K1290:$M$6000,3,0),\"\")","v":""}]
[{"$nulls":10},{"$f":"IF(ISNUMBER(SEARCH($A$3,L1291)),MAX($K$1:K1290)+1,0)","v":0},"Goldstone Technologies Ltd","GOLDTECH.BO",{"$nulls":12},{"$f":"IFERROR(VLOOKUP(ROWS($Z$2:Z1291),K1291:$L$6000,2,0),\"\")","v":""},{"$f":"IFERROR(VLOOKUP(ROWS($AA$2:AA1291),K1291:$M$6000,3,0),\"\")","v":""}]
[{"$nulls":10},{"$f":"IF(ISNUMBER(SEARCH($A$3,L1292)),MAX($K$1:K1291)+1,0)","v":0},"Goldstone Technologies Ltd","GOLDTECH.NS",{"$nulls":12},{"$f":"IFERROR(VLOOKUP(ROWS($Z$2:Z1292),K1292:$L$6000,2,0),\"\")","v":""},{"$f":"IFERROR(VLOOKUP(ROWS($AA$2:AA1292),K1292:$M$6000,3,0),\"\")","v":""}]
[{"$nulls":10},{"$f":"IF(ISNUMBER(SEARCH($A$3,L1293)),MAX($K$1:K1292)+1,0)","v":0},"Golechha Global Finance Ltd","GOLECHA.BO",{"$nulls":12},{"$f":"IFERROR(VLOOKUP(ROWS($Z$2:Z1293),K1293:$L$6000,2,0),\"\")","v":""},{"$f":"IFERROR(VLOOKUP(ROWS($AA$2:AA1293),K1293:$M$6000,3,0),\"\")","v":""}]
[{"$nulls":10},{"$f":"IF(ISNUMBER(SEARCH($A$3,L1294)),MAX($K$1:K1293)+1,0)","v":0},"Golkunda Diamonds & Jewel","GOLKUNDIA.BO",{"$nulls":12},{"$f":"IFERROR(VLOOKUP(ROWS($Z$2:Z1294),K1294:$L$6000,2,0),\"\")","v":""},{"$f":"IFERROR(VLOOKUP(ROWS($AA$2:AA1294),K1294:$M$6000,3,0),\"\")","v":""}]
[{"$nulls":10},{"$f":"IF(ISNUMBER(SEARCH($A$3,L1295)),MAX($K$1:K1294)+1,0)","v":0},"Gontermann-Peipers India Ltd","GONTER.BO",{"$nulls":12},{"$f":"IFERROR(VLOOKUP(ROWS($Z$2:Z1295),K1295:$L$6000,2,0),\"\")","v":""},{"$f":"IFERROR(VLOOKUP(ROWS($AA$2:AA1295),K1295:$M$6000,3,0),\"\")","v":""}]
[{"$nulls":10},{"$f":"IF(ISNUMBER(SEARCH($A$3,L1296)),MAX($K$1:K1295)+1,0)","v":0},"Good Luck Steel Tubes Ltd","GOODLUC.BO",{"$nulls":12},{"$f":"IFERROR(VLOOKUP(ROWS($Z$2:Z1296),K1296:$L$6000,2,0),\"\")","v":""},{"$f":"IFERROR(VLOOKUP(ROWS($AA$2:AA1296),K1296:$M$6000,3,0),\"\")","v":""}]
[{"$nulls":10},{"$f":"IF(ISNUMBER(SEARCH($A$3,L1297)),MAX($K$1:K1296)+1,0)","v":0},"Goodricke Group Ltd","GOODRIC.BO",{"$nulls":12},{"$f":"IFERROR(VLOOKUP(ROWS($Z$2:Z1297),K1297:$L$6000,2,0),\"\")","v":""},{"$f":"IFERROR(VLOOKUP(ROWS($AA$2:AA1297),K1297:$M$6000,3,0),\"\")","v":""}]
[{"$nulls":10},{"$f":"IF(ISNUMBER(SEARCH($A$3,L1298)),MAX($K$1:K1297)+1,0)","v":0},"Goodyear India Ltd","GOODYR.BO",{"$nulls":12},{"$f":"IFERROR(VLOOKUP(ROWS($Z$2:Z1298),K1298:$L$6000,2,0),\"\")","v":""},{"$f":"IFERROR(VLOOKUP(ROWS($AA$2:AA1298),K1298:$M$6000,3,0),\"\")","v":""}]
[{"$nulls":10},{"$f":"IF(ISNUMBER(SEARCH($A$3,L1299)),MAX($K$1:K1298)+1,0)","v":0},"Gopal Iron & Steels","GOPAIST.BO",{"$nulls":12},{"$f":"IFERROR(VLOOKUP(ROWS($Z$2:Z1299),K1299:$L$6000,2,0),\"\")","v":""},{"$f":"IFERROR(VLOOKUP(ROWS($AA$2:AA1299),K1299:$M$6000,3,0),\"\")","v":""}]
[{"$nulls":10},{"$f":"IF(ISNUMBER(SEARCH($A$3,L1300)),MAX($K$1:K1299)+1,0)","v":0},"Goplee Infotech Ltd","GOPLEEIN.BO",{"$nulls":12},{"$f":"IFERROR(VLOOKUP(ROWS($Z$2:Z1300),K1300:$L$6000,2,0),\"\")","v":""},{"$f":"IFERROR(VLOOKUP(ROWS($AA$2:AA1300),K1300:$M$6000,3,0),\"\")","v":""}]
[{"$nulls":10},{"$f":"IF(ISNUMBER(SEARCH($A$3,L1301)),MAX($K$1:K1300)+1,0)","v":0},"Gothi Plascon (India) Ltd","GOTHIPL.BO",{"$nulls":12},{"$f":"IFERROR(VLOOKUP(ROWS($Z$2:Z1301),K1301:$L$6000,2,0),\"\")","v":""},{"$f":"IFERROR(VLOOKUP(ROWS($AA$2:AA1301),K1301:$M$6000,3,0),\"\")","v":""}]
[{"$nulls":10},{"$f":"IF(ISNUMBER(SEARCH($A$3,L1302)),MAX($K$1:K1301)+1,0)","v":0},"Govind Rubber Ltd","GOVINDRU.BO",{"$nulls":12},{"$f":"IFERROR(VLOOKUP(ROWS($Z$2:Z1302),K1302:$L$6000,2,0),\"\")","v":""},{"$f":"IFERROR(VLOOKUP(ROWS($AA$2:AA1302),K1302:$M$6000,3,0),\"\")","v":""}]
[{"$nulls":10},{"$f":"IF(ISNUMBER(SEARCH($A$3,L1303)),MAX($K$1:K1302)+1,0)","v":0},"Gowra Leasing & Finance Ltd","GOWRALE.BO",{"$nulls":12},{"$f":"IFERROR(VLOOKUP(ROWS($Z$2:Z1303),K1303:$L$6000,2,0),\"\")","v":""},{"$f":"IFERROR(VLOOKUP(ROWS($AA$2:AA1303),K1303:$M$6000,3,0),\"\")","v":""}]
[{"$nulls":10},{"$f":"IF(ISNUMBER(SEARCH($A$3,L1304)),MAX($K$1:K1303)+1,0)","v":0},"Granules India Ltd","GRANULES.BO",{"$nulls":12},{"$f":"IFERROR(VLOOKUP(ROWS($Z$2:Z1304),K1304:$L$6000,2,0),\"\")","v":""},{"$f":"IFERROR(VLOOKUP(ROWS($AA$2:AA1304),K1304:$M$6000,3,0),\"\")","v":""}]
[{"$nulls":10},{"$f":"IF(ISNUMBER(SEARCH($A$3,L1305)),MAX($K$1:K1304)+1,0)","v":0},"Granules India Ltd","GRANULES.NS",{"$nulls":12},{"$f":"IFERROR(VLOOKUP(ROWS($Z$2:Z1305),K1305:$L$6000,2,0),\"\")","v":""},{"$f":"IFERROR(VLOOKUP(ROWS($AA$2:AA1305),K1305:$M$6000,3,0),\"\")","v":""}]
[{"$nulls":10},{"$f":"IF(ISNUMBER(SEARCH($A$3,L1306)),MAX($K$1:K1305)+1,0)","v":0},"Graphite India Ltd","GRAPHITE.BO",{"$nulls":12},{"$f":"IFERROR(VLOOKUP(ROWS($Z$2:Z1306),K1306:$L$6000,2,0),\"\")","v":""},{"$f":"IFERROR(VLOOKUP(ROWS($AA$2:AA1306),K1306:$M$6000,3,0),\"\")","v":""}]
[{"$nulls":10},{"$f":"IF(ISNUMBER(SEARCH($A$3,L1307)),MAX($K$1:K1306)+1,0)","v":0},"Graphite India Ltd","GRAPHITE.NS",{"$nulls":12},{"$f":"IFERROR(VLOOKUP(ROWS($Z$2:Z1307),K1307:$L$6000,2,0),\"\")","v":""},{"$f":"IFERROR(VLOOKUP(ROWS($AA$2:AA1307),K1307:$M$6000,3,0),\"\")","v":""}]
[{"$nulls":10},{"$f":"IF(ISNUMBER(SEARCH($A$3,L1308)),MAX($K$1:K1307)+1,0)","v":0},"Grasim Industries Ltd","GRASIM.BO",{"$nulls":12},{"$f":"IFERROR(VLOOKUP(ROWS($Z$2:Z1308),K1308:$L$6000,2,0),\"\")","v":""},{"$f":"IFERROR(VLOOKUP(ROWS($AA$2:AA1308),K1308:$M$6000,3,0),\"\")","v":""}]
[{"$nulls":10},{"$f":"IF(ISNUMBER(SEARCH($A$3,L1309)),MAX($K$1:K1308)+1,0)","v":0},"Grasim Industries Ltd","GRASIM.NS",{"$nulls":12},{"$f":"IFERROR(VLOOKUP(ROWS($Z$2:Z1309),K1309:$L$6000,2,0),\"\")","v":""},{"$f":"IFERROR(VLOOKUP(ROWS($AA$2:AA1309),K1309:$M$6000,3,0),\"\")","v":""}]
[{"$nulls":10},{"$f":"IF(ISNUMBER(SEARCH($A$3,L1310)),MAX($K$1:K1309)+1,0)","v":0},"Gratex Industries Ltd","GRATEXI.BO",{"$nulls":12},{"$f":"IFERROR(VLOOKUP(ROWS($Z$2:Z1310),K1310:$L$6000,2,0),\"\")","v":""},{"$f":"IFERROR(VLOOKUP(ROWS($AA$2:AA1310),K1310:$M$6000,3,0),\"\")","v":""}]
[{"$nulls":10},{"$f":"IF(ISNUMBER(SEARCH($A$3,L1311)),MAX($K$1:K1310)+1,0)","v":0},"Graviss Hospitality Ltd","GRAVISSHO.BO",{"$nulls":12},{"$f":"IFERROR(VLOOKUP(ROWS($Z$2:Z1311),K1311:$L$6000,2,0),\"\")","v":""},{"$f":"IFERROR(VLOOKUP(ROWS($AA$2:AA1311),K1311:$M$6000,3,0),\"\")","v":""}]
[{"$nulls":10},{"$f":"IF(ISNUMBER(SEARCH($A$3,L1312)),MAX($K$1:K1311)+1,0)","v":0},"Gravity (India) Ltd","GRAVITY.BO",{"$nulls":12},{"$f":"IFERROR(VLOOKUP(ROWS($Z$2:Z1312),K1312:$L$6000,2,0),\"\")","v":""},{"$f":"IFERROR(VLOOKUP(ROWS($AA$2:AA1312),K1312:$M$6000,3,0),\"\")","v":""}]
[{"$nulls":10},{"$f":"IF(ISNUMBER(SEARCH($A$3,L1313)),MAX($K$1:K1312)+1,0)","v":0},"Great Eastern Shipping Co Ltd","GESHIP.BO",{"$nulls":12},{"$f":"IFERROR(VLOOKUP(ROWS($Z$2:Z1313),K1313:$L$6000,2,0),\"\")","v":""},{"$f":"IFERROR(VLOOKUP(ROWS($AA$2:AA1313),K1313:$M$6000,3,0),\"\")","v":""}]
[{"$nulls":10},{"$f":"IF(ISNUMBER(SEARCH($A$3,L1314)),MAX($K$1:K1313)+1,0)","v":0},"Great Eastern Shipping Co Ltd","GESHIP.NS",{"$nulls":12},{"$f":"IFERROR(VLOOKUP(ROWS($Z$2:Z1314),K1314:$L$6000,2,0),\"\")","v":""},{"$f":"IFERROR(VLOOKUP(ROWS($AA$2:AA1314),K1314:$M$6000,3,0),\"\")","v":""}]
[{"$nulls":10},{"$f":"IF(ISNUMBER(SEARCH($A$3,L1315)),MAX($K$1:K1314)+1,0)","v":0},"Greaves Cotton Ltd","GREAVE.BO",{"$nulls":12},{"$f":"IFERROR(VLOOKUP(ROWS($Z$2:Z1315),K1315:$L$6000,2,0),\"\")","v":""},{"$f":"IFERROR(VLOOKUP(ROWS($AA$2:AA1315),K1315:$M$6000,3,0),\"\")","v":""}]
[{"$nulls":10},{"$f":"IF(ISNUMBER(SEARCH($A$3,L1316)),MAX($K$1:K1315)+1,0)","v":0},"Green Fire Agri Comm","NORTHGATE.BO",{"$nulls":12},{"$f":"IFERROR(VLOOKUP(ROWS($Z$2:Z1316),K1316:$L$6000,2,0),\"\")","v":""},{"$f":"IFERROR(VLOOKUP(ROWS($AA$2:AA1316),K1316:$M$6000,3,0),\"\")","v":""}]
[{"$nulls":10},{"$f":"IF(ISNUMBER(SEARCH($A$3,L1317)),MAX($K$1:K1316)+1,0)","v":0},"Green Fire Agri Comm","NORTHGATE.NS",{"$nulls":12},{"$f":"IFERROR(VLOOKUP(ROWS($Z$2:Z1317),K1317:$L$6000,2,0),\"\")","v":""},{"$f":"IFERROR(VLOOKUP(ROWS($AA$2:AA1317),K1317:$M$6000,3,0),\"\")","v":""}]
[{"$nulls":10},{"$f":"IF(ISNUMBER(SEARCH($A$3,L1318)),MAX($K$1:K1317)+1,0)","v":0},"Greencrest Financial","MARIG.BO",{"$nulls":12},{"$f":"IFERROR(VLOOKUP(ROWS($Z$2:Z1318),K1318:$L$6000,2,0),\"\")","v":""},{"$f":"IFERROR(VLOOKUP(ROWS($AA$2:AA1318),K1318:$M$6000,3,0),\"\")","v":""}]
[{"$nulls":10},{"$f":"IF(ISNUMBER(SEARCH($A$3,L1319)),MAX($K$1:K1318)+1,0)","v":0},"Greenply Industries Ltd","GREENPLY.BO",{"$nulls":12},{"$f":"IFERROR(VLOOKUP(ROWS($Z$2:Z1319),K1319:$L$6000,2,0),\"\")","v":""},{"$f":"IFERROR(VLOOKUP(ROWS($AA$2:AA1319),K1319:$M$6000,3,0),\"\")","v":""}]
[{"$nulls":10},{"$f":"IF(ISNUMBER(SEARCH($A$3,L1320)),MAX($K$1:K1319)+1,0)","v":0},"Greenply Industries Ltd","GREENPLY.NS",{"$nulls":12},{"$f":"IFERROR(VLOOKUP(ROWS($Z$2:Z1320),K1320:$L$6000,2,0),\"\")","v":""},{"$f":"IFERROR(VLOOKUP(ROWS($AA$2:AA1320),K1320:$M$6000,3,0),\"\")","v":""}]
[{"$nulls":10},{"$f":"IF(ISNUMBER(SEARCH($A$3,L1321)),MAX($K$1:K1320)+1,0)","v":0},"Greycells Education Ltd","GREYCELLS.BO",{"$nulls":12},{"$f":"IFERROR(VLOOKUP(ROWS($Z$2:Z1321),K1321:$L$6000,2,0),\"\")","v":""},{"$f":"IFERROR(VLOOKUP(ROWS($AA$2:AA1321),K1321:$M$6000,3,0),\"\")","v":""}]
[{"$nulls":10},{"$f":"IF(ISNUMBER(SEARCH($A$3,L1322)),MAX($K$1:K1321)+1,0)","v":0},"Griffin Chemicals Limited","SIKOZY.BO",{"$nulls":12},{"$f":"IFERROR(VLOOKUP(ROWS($Z$2:Z1322),K1322:$L$6000,2,0),\"\")","v":""},{"$f":"IFERROR(VLOOKUP(ROWS($AA$2:AA1322),K1322:$M$6000,3,0),\"\")","v":""}]
[{"$nulls":10},{"$f":"IF(ISNUMBER(SEARCH($A$3,L1323)),MAX($K$1:K1322)+1,0)","v":0},"Grindwell Norton Ltd","GRINDWELNOR.BO",{"$nulls":12},{"$f":"IFERROR(VLOOKUP(ROWS($Z$2:Z1323),K1323:$L$6000,2,0),\"\")","v":""},{"$f":"IFERROR(VLOOKUP(ROWS($AA$2:AA1323),K1323:$M$6000,3,0),\"\")","v":""}]
[{"$nulls":10},{"$f":"IF(ISNUMBER(SEARCH($A$3,L1324)),MAX($K$1:K1323)+1,0)","v":0},"Grindwell Norton Ltd","GRINDWELL.NS",{"$nulls":12},{"$f":"IFERROR(VLOOKUP(ROWS($Z$2:Z1324),K1324:$L$6000,2,0),\"\")","v":""},{"$f":"IFERROR(VLOOKUP(ROWS($AA$2:AA1324),K1324:$M$6000,3,0),\"\")","v":""}]
[{"$nulls":10},{"$f":"IF(ISNUMBER(SEARCH($A$3,L1325)),MAX($K$1:K1324)+1,0)","v":0},"GRM Overseas Ltd","GRMOVER.BO",{"$nulls":12},{"$f":"IFERROR(VLOOKUP(ROWS($Z$2:Z1325),K1325:$L$6000,2,0),\"\")","v":""},{"$f":"IFERROR(VLOOKUP(ROWS($AA$2:AA1325),K1325:$M$6000,3,0),\"\")","v":""}]
[{"$nulls":10},{"$f":"IF(ISNUMBER(SEARCH($A$3,L1326)),MAX($K$1:K1325)+1,0)","v":0},"GRP Ltd","GUJRECL.BO",{"$nulls":12},{"$f":"IFERROR(VLOOKUP(ROWS($Z$2:Z1326),K1326:$L$6000,2,0),\"\")","v":""},{"$f":"IFERROR(VLOOKUP(ROWS($AA$2:AA1326),K1326:$M$6000,3,0),\"\")","v":""}]
[{"$nulls":10},{"$f":"IF(ISNUMBER(SEARCH($A$3,L1327)),MAX($K$1:K1326)+1,0)","v":0},"Gruh Finance Ltd","GRUH.NS",{"$nulls":12},{"$f":"IFERROR(VLOOKUP(ROWS($Z$2:Z1327),K1327:$L$6000,2,0),\"\")","v":""},{"$f":"IFERROR(VLOOKUP(ROWS($AA$2:AA1327),K1327:$M$6000,3,0),\"\")","v":""}]
[{"$nulls":10},{"$f":"IF(ISNUMBER(SEARCH($A$3,L1328)),MAX($K$1:K1327)+1,0)","v":0},"Gruh Finance Ltd.","GRUHFIN.BO",{"$nulls":12},{"$f":"IFERROR(VLOOKUP(ROWS($Z$2:Z1328),K1328:$L$6000,2,0),\"\")","v":""},{"$f":"IFERROR(VLOOKUP(ROWS($AA$2:AA1328),K1328:$M$6000,3,0),\"\")","v":""}]
[{"$nulls":10},{"$f":"IF(ISNUMBER(SEARCH($A$3,L1329)),MAX($K$1:K1328)+1,0)","v":0},"GSB Finance Ltd","GSBFIN.BO",{"$nulls":12},{"$f":"IFERROR(VLOOKUP(ROWS($Z$2:Z1329),K1329:$L$6000,2,0),\"\")","v":""},{"$f":"IFERROR(VLOOKUP(ROWS($AA$2:AA1329),K1329:$M$6000,3,0),\"\")","v":""}]
[{"$nulls":10},{"$f":"IF(ISNUMBER(SEARCH($A$3,L1330)),MAX($K$1:K1329)+1,0)","v":0},"GSL Nova Petrochemicals Ltd","GSLNOVA.BO",{"$nulls":12},{"$f":"IFERROR(VLOOKUP(ROWS($Z$2:Z1330),K1330:$L$6000,2,0),\"\")","v":""},{"$f":"IFERROR(VLOOKUP(ROWS($AA$2:AA1330),K1330:$M$6000,3,0),\"\")","v":""}]
[{"$nulls":10},{"$f":"IF(ISNUMBER(SEARCH($A$3,L1331)),MAX($K$1:K1330)+1,0)","v":0},"GSL Nova Petrochemicals Ltd","GSLNOVA.NS",{"$nulls":12},{"$f":"IFERROR(VLOOKUP(ROWS($Z$2:Z1331),K1331:$L$6000,2,0),\"\")","v":""},{"$f":"IFERROR(VLOOKUP(ROWS($AA$2:AA1331),K1331:$M$6000,3,0),\"\")","v":""}]
[{"$nulls":10},{"$f":"IF(ISNUMBER(SEARCH($A$3,L1332)),MAX($K$1:K1331)+1,0)","v":0},"GSL Securities Ltd","GSLSEC.BO",{"$nulls":12},{"$f":"IFERROR(VLOOKUP(ROWS($Z$2:Z1332),K1332:$L$6000,2,0),\"\")","v":""},{"$f":"IFERROR(VLOOKUP(ROWS($AA$2:AA1332),K1332:$M$6000,3,0),\"\")","v":""}]
[{"$nulls":10},{"$f":"IF(ISNUMBER(SEARCH($A$3,L1333)),MAX($K$1:K1332)+1,0)","v":0},"GSS Infotech Ltd","GSSAMERI.BO",{"$nulls":12},{"$f":"IFERROR(VLOOKUP(ROWS($Z$2:Z1333),K1333:$L$6000,2,0),\"\")","v":""},{"$f":"IFERROR(VLOOKUP(ROWS($AA$2:AA1333),K1333:$M$6000,3,0),\"\")","v":""}]
[{"$nulls":10},{"$f":"IF(ISNUMBER(SEARCH($A$3,L1334)),MAX($K$1:K1333)+1,0)","v":0},"GSS Infotech Ltd","GSSAMERIC.NS",{"$nulls":12},{"$f":"IFERROR(VLOOKUP(ROWS($Z$2:Z1334),K1334:$L$6000,2,0),\"\")","v":""},{"$f":"IFERROR(VLOOKUP(ROWS($AA$2:AA1334),K1334:$M$6000,3,0),\"\")","v":""}]
[{"$nulls":10},{"$f":"IF(ISNUMBER(SEARCH($A$3,L1335)),MAX($K$1:K1334)+1,0)","v":0},"G-Tech Info-Training Ltd","GTEIT.BO",{"$nulls":12},{"$f":"IFERROR(VLOOKUP(ROWS($Z$2:Z1335),K1335:$L$6000,2,0),\"\")","v":""},{"$f":"IFERROR(VLOOKUP(ROWS($AA$2:AA1335),K1335:$M$6000,3,0),\"\")","v":""}]
[{"$nulls":10},{"$f":"IF(ISNUMBER(SEARCH($A$3,L1336)),MAX($K$1:K1335)+1,0)","v":0},"Gtl Infrastructure Ltd","GTLINFRA.BO",{"$nulls":12},{"$f":"IFERROR(VLOOKUP(ROWS($Z$2:Z1336),K1336:$L$6000,2,0),\"\")","v":""},{"$f":"IFERROR(VLOOKUP(ROWS($AA$2:AA1336),K1336:$M$6000,3,0),\"\")","v":""}]
[{"$nulls":10},{"$f":"IF(ISNUMBER(SEARCH($A$3,L1337)),MAX($K$1:K1336)+1,0)","v":0},"Gtl Infrastructure Ltd","GTLINFRA.NS",{"$nulls":12},{"$f":"IFERROR(VLOOKUP(ROWS($Z$2:Z1337),K1337:$L$6000,2,0),\"\")","v":""},{"$f":"IFERROR(VLOOKUP(ROWS($AA$2:AA1337),K1337:$M$6000,3,0),\"\")","v":""}]
[{"$nulls":10},{"$f":"IF(ISNUMBER(SEARCH($A$3,L1338)),MAX($K$1:K1337)+1,0)","v":0},"GTL Ltd","GTL.BO",{"$nulls":12},{"$f":"IFERROR(VLOOKUP(ROWS($Z$2:Z1338),K1338:$L$6000,2,0),\"\")","v":""},{"$f":"IFERROR(VLOOKUP(ROWS($AA$2:AA1338),K1338:$M$6000,3,0),\"\")","v":""}]
[{"$nulls":10},{"$f":"IF(ISNUMBER(SEARCH($A$3,L1339)),MAX($K$1:K1338)+1,0)","v":0},"GTL Ltd","GTL.NS",{"$nulls":12},{"$f":"IFERROR(VLOOKUP(ROWS($Z$2:Z1339),K1339:$L$6000,2,0),\"\")","v":""},{"$f":"IFERROR(VLOOKUP(ROWS($AA$2:AA1339),K1339:$M$6000,3,0),\"\")","v":""}]
[{"$nulls":10},{"$f":"IF(ISNUMBER(SEARCH($A$3,L1340)),MAX($K$1:K1339)+1,0)","v":0},"GTN Industries Ltd","GTNINDS.BO",{"$nulls":12},{"$f":"IFERROR(VLOOKUP(ROWS($Z$2:Z1340),K1340:$L$6000,2,0),\"\")","v":""},{"$f":"IFERROR(VLOOKUP(ROWS($AA$2:AA1340),K1340:$M$6000,3,0),\"\")","v":""}]
[{"$nulls":10},{"$f":"IF(ISNUMBER(SEARCH($A$3,L1341)),MAX($K$1:K1340)+1,0)","v":0},"GTN Industries Ltd","GTNIND.NS",{"$nulls":12},{"$f":"IFERROR(VLOOKUP(ROWS($Z$2:Z1341),K1341:$L$6000,2,0),\"\")","v":""},{"$f":"IFERROR(VLOOKUP(ROWS($AA$2:AA1341),K1341:$M$6000,3,0),\"\")","v":""}]
[{"$nulls":10},{"$f":"IF(ISNUMBER(SEARCH($A$3,L1342)),MAX($K$1:K1341)+1,0)","v":0},"GTN Textiles Ltd","GTNTEX.BO",{"$nulls":12},{"$f":"IFERROR(VLOOKUP(ROWS($Z$2:Z1342),K1342:$L$6000,2,0),\"\")","v":""},{"$f":"IFERROR(VLOOKUP(ROWS($AA$2:AA1342),K1342:$M$6000,3,0),\"\")","v":""}]
[{"$nulls":10},{"$f":"IF(ISNUMBER(SEARCH($A$3,L1343)),MAX($K$1:K1342)+1,0)","v":0},"GTN Textiles Ltd","GTNTEX.NS",{"$nulls":12},{"$f":"IFERROR(VLOOKUP(ROWS($Z$2:Z1343),K1343:$L$6000,2,0),\"\")","v":""},{"$f":"IFERROR(VLOOKUP(ROWS($AA$2:AA1343),K1343:$M$6000,3,0),\"\")","v":""}]
[{"$nulls":10},{"$f":"IF(ISNUMBER(SEARCH($A$3,L1344)),MAX($K$1:K1343)+1,0)","v":0},"Gufic BioSciences Ltd","GUFICBIO.BO",{"$nulls":12},{"$f":"IFERROR(VLOOKUP(ROWS($Z$2:Z1344),K1344:$L$6000,2,0),\"\")","v":""},{"$f":"IFERROR(VLOOKUP(ROWS($AA$2:AA1344),K1344:$M$6000,3,0),\"\")","v":""}]
[{"$nulls":10},{"$f":"IF(ISNUMBER(SEARCH($A$3,L1345)),MAX($K$1:K1344)+1,0)","v":0},"Gufic BioSciences Ltd","GUFICBIO.NS",{"$nulls":12},{"$f":"IFERROR(VLOOKUP(ROWS($Z$2:Z1345),K1345:$L$6000,2,0),\"\")","v":""},{"$f":"IFERROR(VLOOKUP(ROWS($AA$2:AA1345),K1345:$M$6000,3,0),\"\")","v":""}]
[{"$nulls":10},{"$f":"IF(ISNUMBER(SEARCH($A$3,L1346)),MAX($K$1:K1345)+1,0)","v":0},"Gujarat Alkalies","GUJALKALI.BO",{"$nulls":12},{"$f":"IFERROR(VLOOKUP(ROWS($Z$2:Z1346),K1346:$L$6000,2,0),\"\")","v":""},{"$f":"IFERROR(VLOOKUP(ROWS($AA$2:AA1346),K1346:$M$6000,3,0),\"\")","v":""}]
[{"$nulls":10},{"$f":"IF(ISNUMBER(SEARCH($A$3,L1347)),MAX($K$1:K1346)+1,0)","v":0},"Gujarat Alkalies","GUJALKALI.NS",{"$nulls":12},{"$f":"IFERROR(VLOOKUP(ROWS($Z$2:Z1347),K1347:$L$6000,2,0),\"\")","v":""},{"$f":"IFERROR(VLOOKUP(ROWS($AA$2:AA1347),K1347:$M$6000,3,0),\"\")","v":""}]
[{"$nulls":10},{"$f":"IF(ISNUMBER(SEARCH($A$3,L1348)),MAX($K$1:K1347)+1,0)","v":0},"Gujarat Ambuja Exports Ltd","GAEL.BO",{"$nulls":12},{"$f":"IFERROR(VLOOKUP(ROWS($Z$2:Z1348),K1348:$L$6000,2,0),\"\")","v":""},{"$f":"IFERROR(VLOOKUP(ROWS($AA$2:AA1348),K1348:$M$6000,3,0),\"\")","v":""}]
[{"$nulls":10},{"$f":"IF(ISNUMBER(SEARCH($A$3,L1349)),MAX($K$1:K1348)+1,0)","v":0},"Gujarat Ambuja Exports Ltd","GAEL.NS",{"$nulls":12},{"$f":"IFERROR(VLOOKUP(ROWS($Z$2:Z1349),K1349:$L$6000,2,0),\"\")","v":""},{"$f":"IFERROR(VLOOKUP(ROWS($AA$2:AA1349),K1349:$M$6000,3,0),\"\")","v":""}]
[{"$nulls":10},{"$f":"IF(ISNUMBER(SEARCH($A$3,L1350)),MAX($K$1:K1349)+1,0)","v":0},"Gujarat Apollo Industries Ltd","GUJAPOIND.BO",{"$nulls":12},{"$f":"IFERROR(VLOOKUP(ROWS($Z$2:Z1350),K1350:$L$6000,2,0),\"\")","v":""},{"$f":"IFERROR(VLOOKUP(ROWS($AA$2:AA1350),K1350:$M$6000,3,0),\"\")","v":""}]
[{"$nulls":10},{"$f":"IF(ISNUMBER(SEARCH($A$3,L1351)),MAX($K$1:K1350)+1,0)","v":0},"Gujarat Apollo Industries Ltd","GUJAPOLLO.NS",{"$nulls":12},{"$f":"IFERROR(VLOOKUP(ROWS($Z$2:Z1351),K1351:$L$6000,2,0),\"\")","v":""},{"$f":"IFERROR(VLOOKUP(ROWS($AA$2:AA1351),K1351:$M$6000,3,0),\"\")","v":""}]
[{"$nulls":10},{"$f":"IF(ISNUMBER(SEARCH($A$3,L1352)),MAX($K$1:K1351)+1,0)","v":0},"Gujarat Borosil Ltd","GUJBOROS.BO",{"$nulls":12},{"$f":"IFERROR(VLOOKUP(ROWS($Z$2:Z1352),K1352:$L$6000,2,0),\"\")","v":""},{"$f":"IFERROR(VLOOKUP(ROWS($AA$2:AA1352),K1352:$M$6000,3,0),\"\")","v":""}]
[{"$nulls":10},{"$f":"IF(ISNUMBER(SEARCH($A$3,L1353)),MAX($K$1:K1352)+1,0)","v":0},"Gujarat Carbon And Indust","GUJCARB.BO",{"$nulls":12},{"$f":"IFERROR(VLOOKUP(ROWS($Z$2:Z1353),K1353:$L$6000,2,0),\"\")","v":""},{"$f":"IFERROR(VLOOKUP(ROWS($AA$2:AA1353),K1353:$M$6000,3,0),\"\")","v":""}]
[{"$nulls":10},{"$f":"IF(ISNUMBER(SEARCH($A$3,L1354)),MAX($K$1:K1353)+1,0)","v":0},"Gujarat Cotex Ltd","GUJCOTEX.BO",{"$nulls":12},{"$f":"IFERROR(VLOOKUP(ROWS($Z$2:Z1354),K1354:$L$6000,2,0),\"\")","v":""},{"$f":"IFERROR(VLOOKUP(ROWS($AA$2:AA1354),K1354:$M$6000,3,0),\"\")","v":""}]
[{"$nulls":10},{"$f":"IF(ISNUMBER(SEARCH($A$3,L1355)),MAX($K$1:K1354)+1,0)","v":0},"Gujarat Craft Industries Ltd","GUJCRAFT.BO",{"$nulls":12},{"$f":"IFERROR(VLOOKUP(ROWS($Z$2:Z1355),K1355:$L$6000,2,0),\"\")","v":""},{"$f":"IFERROR(VLOOKUP(ROWS($AA$2:AA1355),K1355:$M$6000,3,0),\"\")","v":""}]
[{"$nulls":10},{"$f":"IF(ISNUMBER(SEARCH($A$3,L1356)),MAX($K$1:K1355)+1,0)","v":0},"Gujarat Credit Corp Ltd","GUJCRED.BO",{"$nulls":12},{"$f":"IFERROR(VLOOKUP(ROWS($Z$2:Z1356),K1356:$L$6000,2,0),\"\")","v":""},{"$f":"IFERROR(VLOOKUP(ROWS($AA$2:AA1356),K1356:$M$6000,3,0),\"\")","v":""}]
[{"$nulls":10},{"$f":"IF(ISNUMBER(SEARCH($A$3,L1357)),MAX($K$1:K1356)+1,0)","v":0},"Gujarat Fluorochemicals Ltd","GUJFLUORO.BO",{"$nulls":12},{"$f":"IFERROR(VLOOKUP(ROWS($Z$2:Z1357),K1357:$L$6000,2,0),\"\")","v":""},{"$f":"IFERROR(VLOOKUP(ROWS($AA$2:AA1357),K1357:$M$6000,3,0),\"\")","v":""}]
[{"$nulls":10},{"$f":"IF(ISNUMBER(SEARCH($A$3,L1358)),MAX($K$1:K1357)+1,0)","v":0},"Gujarat Fluorochemicals Ltd","GUJFLUORO.NS",{"$nulls":12},{"$f":"IFERROR(VLOOKUP(ROWS($Z$2:Z1358),K1358:$L$6000,2,0),\"\")","v":""},{"$f":"IFERROR(VLOOKUP(ROWS($AA$2:AA1358),K1358:$M$6000,3,0),\"\")","v":""}]
[{"$nulls":10},{"$f":"IF(ISNUMBER(SEARCH($A$3,L1359)),MAX($K$1:K1358)+1,0)","v":0},"Gujarat Foils Ltd","GUJFOIL.BO",{"$nulls":12},{"$f":"IFERROR(VLOOKUP(ROWS($Z$2:Z1359),K1359:$L$6000,2,0),\"\")","v":""},{"$f":"IFERROR(VLOOKUP(ROWS($AA$2:AA1359),K1359:$M$6000,3,0),\"\")","v":""}]
[{"$nulls":10},{"$f":"IF(ISNUMBER(SEARCH($A$3,L1360)),MAX($K$1:K1359)+1,0)","v":0},"Gujarat Gas Co Ltd","GUJRATGAS.BO",{"$nulls":12},{"$f":"IFERROR(VLOOKUP(ROWS($Z$2:Z1360),K1360:$L$6000,2,0),\"\")","v":""},{"$f":"IFERROR(VLOOKUP(ROWS($AA$2:AA1360),K1360:$M$6000,3,0),\"\")","v":""}]
[{"$nulls":10},{"$f":"IF(ISNUMBER(SEARCH($A$3,L1361)),MAX($K$1:K1360)+1,0)","v":0},"Gujarat Gas Co Ltd","GUJRATGAS.NS",{"$nulls":12},{"$f":"IFERROR(VLOOKUP(ROWS($Z$2:Z1361),K1361:$L$6000,2,0),\"\")","v":""},{"$f":"IFERROR(VLOOKUP(ROWS($AA$2:AA1361),K1361:$M$6000,3,0),\"\")","v":""}]
[{"$nulls":10},{"$f":"IF(ISNUMBER(SEARCH($A$3,L1362)),MAX($K$1:K1361)+1,0)","v":0},"Gujarat Hotels Ltd","GUJHOTE.BO",{"$nulls":12},{"$f":"IFERROR(VLOOKUP(ROWS($Z$2:Z1362),K1362:$L$6000,2,0),\"\")","v":""},{"$f":"IFERROR(VLOOKUP(ROWS($AA$2:AA1362),K1362:$M$6000,3,0),\"\")","v":""}]
[{"$nulls":10},{"$f":"IF(ISNUMBER(SEARCH($A$3,L1363)),MAX($K$1:K1362)+1,0)","v":0},"Gujarat Industries Power","GIPCL.BO",{"$nulls":12},{"$f":"IFERROR(VLOOKUP(ROWS($Z$2:Z1363),K1363:$L$6000,2,0),\"\")","v":""},{"$f":"IFERROR(VLOOKUP(ROWS($AA$2:AA1363),K1363:$M$6000,3,0),\"\")","v":""}]
[{"$nulls":10},{"$f":"IF(ISNUMBER(SEARCH($A$3,L1364)),MAX($K$1:K1363)+1,0)","v":0},"Gujarat Industries Power","GIPCL.NS",{"$nulls":12},{"$f":"IFERROR(VLOOKUP(ROWS($Z$2:Z1364),K1364:$L$6000,2,0),\"\")","v":""},{"$f":"IFERROR(VLOOKUP(ROWS($AA$2:AA1364),K1364:$M$6000,3,0),\"\")","v":""}]
[{"$nulls":10},{"$f":"IF(ISNUMBER(SEARCH($A$3,L1365)),MAX($K$1:K1364)+1,0)","v":0},"Gujarat Intrux Ltd","GUJINTRX.BO",{"$nulls":12},{"$f":"IFERROR(VLOOKUP(ROWS($Z$2:Z1365),K1365:$L$6000,2,0),\"\")","v":""},{"$f":"IFERROR(VLOOKUP(ROWS($AA$2:AA1365),K1365:$M$6000,3,0),\"\")","v":""}]
[{"$nulls":10},{"$f":"IF(ISNUMBER(SEARCH($A$3,L1366)),MAX($K$1:K1365)+1,0)","v":0},"Gujarat Investa Ltd","GUJINV.BO",{"$nulls":12},{"$f":"IFERROR(VLOOKUP(ROWS($Z$2:Z1366),K1366:$L$6000,2,0),\"\")","v":""},{"$f":"IFERROR(VLOOKUP(ROWS($AA$2:AA1366),K1366:$M$6000,3,0),\"\")","v":""}]
[{"$nulls":10},{"$f":"IF(ISNUMBER(SEARCH($A$3,L1367)),MAX($K$1:K1366)+1,0)","v":0},"Gujarat Lease Financing Ltd","GLFL.BO",{"$nulls":12},{"$f":"IFERROR(VLOOKUP(ROWS($Z$2:Z1367),K1367:$L$6000,2,0),\"\")","v":""},{"$f":"IFERROR(VLOOKUP(ROWS($AA$2:AA1367),K1367:$M$6000,3,0),\"\")","v":""}]
[{"$nulls":10},{"$f":"IF(ISNUMBER(SEARCH($A$3,L1368)),MAX($K$1:K1367)+1,0)","v":0},"Gujarat Lease Financing Ltd","GLFL.NS",{"$nulls":12},{"$f":"IFERROR(VLOOKUP(ROWS($Z$2:Z1368),K1368:$L$6000,2,0),\"\")","v":""},{"$f":"IFERROR(VLOOKUP(ROWS($AA$2:AA1368),K1368:$M$6000,3,0),\"\")","v":""}]
[{"$nulls":10},{"$f":"IF(ISNUMBER(SEARCH($A$3,L1369)),MAX($K$1:K1368)+1,0)","v":0},"Gujarat Narmada Flyash Co Ltd","GUJNFLY.BO",{"$nulls":12},{"$f":"IFERROR(VLOOKUP(ROWS($Z$2:Z1369),K1369:$L$6000,2,0),\"\")","v":""},{"$f":"IFERROR(VLOOKUP(ROWS($AA$2:AA1369),K1369:$M$6000,3,0),\"\")","v":""}]
[{"$nulls":10},{"$f":"IF(ISNUMBER(SEARCH($A$3,L1370)),MAX($K$1:K1369)+1,0)","v":0},"Gujarat Narmada Valley","GNFC.BO",{"$nulls":12},{"$f":"IFERROR(VLOOKUP(ROWS($Z$2:Z1370),K1370:$L$6000,2,0),\"\")","v":""},{"$f":"IFERROR(VLOOKUP(ROWS($AA$2:AA1370),K1370:$M$6000,3,0),\"\")","v":""}]
[{"$nulls":10},{"$f":"IF(ISNUMBER(SEARCH($A$3,L1371)),MAX($K$1:K1370)+1,0)","v":0},"Gujarat Narmada Valley","GNFC.NS",{"$nulls":12},{"$f":"IFERROR(VLOOKUP(ROWS($Z$2:Z1371),K1371:$L$6000,2,0),\"\")","v":""},{"$f":"IFERROR(VLOOKUP(ROWS($AA$2:AA1371),K1371:$M$6000,3,0),\"\")","v":""}]
[{"$nulls":10},{"$f":"IF(ISNUMBER(SEARCH($A$3,L1372)),MAX($K$1:K1371)+1,0)","v":0},"Gujarat Natural Resources Ltd","LESHAENER.BO",{"$nulls":12},{"$f":"IFERROR(VLOOKUP(ROWS($Z$2:Z1372),K1372:$L$6000,2,0),\"\")","v":""},{"$f":"IFERROR(VLOOKUP(ROWS($AA$2:AA1372),K1372:$M$6000,3,0),\"\")","v":""}]
[{"$nulls":10},{"$f":"IF(ISNUMBER(SEARCH($A$3,L1373)),MAX($K$1:K1372)+1,0)","v":0},"Gujarat Poly-AVX Electron","GUJPOLYA.BO",{"$nulls":12},{"$f":"IFERROR(VLOOKUP(ROWS($Z$2:Z1373),K1373:$L$6000,2,0),\"\")","v":""},{"$f":"IFERROR(VLOOKUP(ROWS($AA$2:AA1373),K1373:$M$6000,3,0),\"\")","v":""}]
[{"$nulls":10},{"$f":"IF(ISNUMBER(SEARCH($A$3,L1374)),MAX($K$1:K1373)+1,0)","v":0},"Gujarat Raffia Industries Ltd","GUJRAFIA.BO",{"$nulls":12},{"$f":"IFERROR(VLOOKUP(ROWS($Z$2:Z1374),K1374:$L$6000,2,0),\"\")","v":""},{"$f":"IFERROR(VLOOKUP(ROWS($AA$2:AA1374),K1374:$M$6000,3,0),\"\")","v":""}]
[{"$nulls":10},{"$f":"IF(ISNUMBER(SEARCH($A$3,L1375)),MAX($K$1:K1374)+1,0)","v":0},"Gujarat State Financial Corp","GSTFNCO.BO",{"$nulls":12},{"$f":"IFERROR(VLOOKUP(ROWS($Z$2:Z1375),K1375:$L$6000,2,0),\"\")","v":""},{"$f":"IFERROR(VLOOKUP(ROWS($AA$2:AA1375),K1375:$M$6000,3,0),\"\")","v":""}]
[{"$nulls":10},{"$f":"IF(ISNUMBER(SEARCH($A$3,L1376)),MAX($K$1:K1375)+1,0)","v":0},"Gujarat State Petronet Ltd","GSPL.BO",{"$nulls":12},{"$f":"IFERROR(VLOOKUP(ROWS($Z$2:Z1376),K1376:$L$6000,2,0),\"\")","v":""},{"$f":"IFERROR(VLOOKUP(ROWS($AA$2:AA1376),K1376:$M$6000,3,0),\"\")","v":""}]
[{"$nulls":10},{"$f":"IF(ISNUMBER(SEARCH($A$3,L1377)),MAX($K$1:K1376)+1,0)","v":0},"Gujarat State Petronet Ltd","GSPL.NS",{"$nulls":12},{"$f":"IFERROR(VLOOKUP(ROWS($Z$2:Z1377),K1377:$L$6000,2,0),\"\")","v":""},{"$f":"IFERROR(VLOOKUP(ROWS($AA$2:AA1377),K1377:$M$6000,3,0),\"\")","v":""}]
[{"$nulls":10},{"$f":"IF(ISNUMBER(SEARCH($A$3,L1378)),MAX($K$1:K1377)+1,0)","v":0},"Gujarat Terce Laboratories Ltd","GUJTERC.BO",{"$nulls":12},{"$f":"IFERROR(VLOOKUP(ROWS($Z$2:Z1378),K1378:$L$6000,2,0),\"\")","v":""},{"$f":"IFERROR(VLOOKUP(ROWS($AA$2:AA1378),K1378:$M$6000,3,0),\"\")","v":""}]
[{"$nulls":10},{"$f":"IF(ISNUMBER(SEARCH($A$3,L1379)),MAX($K$1:K1378)+1,0)","v":0},"Gujarat Toolroom Ltd","GUJTLRM.BO",{"$nulls":12},{"$f":"IFERROR(VLOOKUP(ROWS($Z$2:Z1379),K1379:$L$6000,2,0),\"\")","v":""},{"$f":"IFERROR(VLOOKUP(ROWS($AA$2:AA1379),K1379:$M$6000,3,0),\"\")","v":""}]
[{"$nulls":10},{"$f":"IF(ISNUMBER(SEARCH($A$3,L1380)),MAX($K$1:K1379)+1,0)","v":0},"Gulf Oil Corp Ltd","GULFOIL.BO",{"$nulls":12},{"$f":"IFERROR(VLOOKUP(ROWS($Z$2:Z1380),K1380:$L$6000,2,0),\"\")","v":""},{"$f":"IFERROR(VLOOKUP(ROWS($AA$2:AA1380),K1380:$M$6000,3,0),\"\")","v":""}]
[{"$nulls":10},{"$f":"IF(ISNUMBER(SEARCH($A$3,L1381)),MAX($K$1:K1380)+1,0)","v":0},"Gulshan Polyols Ltd","GULPOLY.BO",{"$nulls":12},{"$f":"IFERROR(VLOOKUP(ROWS($Z$2:Z1381),K1381:$L$6000,2,0),\"\")","v":""},{"$f":"IFERROR(VLOOKUP(ROWS($AA$2:AA1381),K1381:$M$6000,3,0),\"\")","v":""}]
[{"$nulls":10},{"$f":"IF(ISNUMBER(SEARCH($A$3,L1382)),MAX($K$1:K1381)+1,0)","v":0},"Gupta Synthetics Ltd","GUPTSYN.BO",{"$nulls":12},{"$f":"IFERROR(VLOOKUP(ROWS($Z$2:Z1382),K1382:$L$6000,2,0),\"\")","v":""},{"$f":"IFERROR(VLOOKUP(ROWS($AA$2:AA1382),K1382:$M$6000,3,0),\"\")","v":""}]
[{"$nulls":10},{"$f":"IF(ISNUMBER(SEARCH($A$3,L1383)),MAX($K$1:K1382)+1,0)","v":0},"GV Films Ltd","GVFILM.BO",{"$nulls":12},{"$f":"IFERROR(VLOOKUP(ROWS($Z$2:Z1383),K1383:$L$6000,2,0),\"\")","v":""},{"$f":"IFERROR(VLOOKUP(ROWS($AA$2:AA1383),K1383:$M$6000,3,0),\"\")","v":""}]
[{"$nulls":10},{"$f":"IF(ISNUMBER(SEARCH($A$3,L1384)),MAX($K$1:K1383)+1,0)","v":0},"GVK Power & Infrastructure Ltd","GVKPIL.BO",{"$nulls":12},{"$f":"IFERROR(VLOOKUP(ROWS($Z$2:Z1384),K1384:$L$6000,2,0),\"\")","v":""},{"$f":"IFERROR(VLOOKUP(ROWS($AA$2:AA1384),K1384:$M$6000,3,0),\"\")","v":""}]
[{"$nulls":10},{"$f":"IF(ISNUMBER(SEARCH($A$3,L1385)),MAX($K$1:K1384)+1,0)","v":0},"GVK Power & Infrastructure Ltd","GVKPIL.NS",{"$nulls":12},{"$f":"IFERROR(VLOOKUP(ROWS($Z$2:Z1385),K1385:$L$6000,2,0),\"\")","v":""},{"$f":"IFERROR(VLOOKUP(ROWS($AA$2:AA1385),K1385:$M$6000,3,0),\"\")","v":""}]
[{"$nulls":10},{"$f":"IF(ISNUMBER(SEARCH($A$3,L1386)),MAX($K$1:K1385)+1,0)","v":0},"Gyscoal Alloys Ltd","GAL.NS",{"$nulls":12},{"$f":"IFERROR(VLOOKUP(ROWS($Z$2:Z1386),K1386:$L$6000,2,0),\"\")","v":""},{"$f":"IFERROR(VLOOKUP(ROWS($AA$2:AA1386),K1386:$M$6000,3,0),\"\")","v":""}]
[{"$nulls":10},{"$f":"IF(ISNUMBER(SEARCH($A$3,L1387)),MAX($K$1:K1386)+1,0)","v":0},"H P Cotton Textile Mills Ltd","HPCOTTON.BO",{"$nulls":12},{"$f":"IFERROR(VLOOKUP(ROWS($Z$2:Z1387),K1387:$L$6000,2,0),\"\")","v":""},{"$f":"IFERROR(VLOOKUP(ROWS($AA$2:AA1387),K1387:$M$6000,3,0),\"\")","v":""}]
[{"$nulls":10},{"$f":"IF(ISNUMBER(SEARCH($A$3,L1388)),MAX($K$1:K1387)+1,0)","v":0},"H S India Ltd","HOTLSILV.BO",{"$nulls":12},{"$f":"IFERROR(VLOOKUP(ROWS($Z$2:Z1388),K1388:$L$6000,2,0),\"\")","v":""},{"$f":"IFERROR(VLOOKUP(ROWS($AA$2:AA1388),K1388:$M$6000,3,0),\"\")","v":""}]
[{"$nulls":10},{"$f":"IF(ISNUMBER(SEARCH($A$3,L1389)),MAX($K$1:K1388)+1,0)","v":0},"Haldyn Glass Ltd","HALDYNGL.BO",{"$nulls":12},{"$f":"IFERROR(VLOOKUP(ROWS($Z$2:Z1389),K1389:$L$6000,2,0),\"\")","v":""},{"$f":"IFERROR(VLOOKUP(ROWS($AA$2:AA1389),K1389:$M$6000,3,0),\"\")","v":""}]
[{"$nulls":10},{"$f":"IF(ISNUMBER(SEARCH($A$3,L1390)),MAX($K$1:K1389)+1,0)","v":0},"Hanjer Fibres Ltd","HANJFIB.BO",{"$nulls":12},{"$f":"IFERROR(VLOOKUP(ROWS($Z$2:Z1390),K1390:$L$6000,2,0),\"\")","v":""},{"$f":"IFERROR(VLOOKUP(ROWS($AA$2:AA1390),K1390:$M$6000,3,0),\"\")","v":""}]
[{"$nulls":10},{"$f":"IF(ISNUMBER(SEARCH($A$3,L1391)),MAX($K$1:K1390)+1,0)","v":0},"Hanung Toys & Textiles Ltd","HANUNG.BO",{"$nulls":12},{"$f":"IFERROR(VLOOKUP(ROWS($Z$2:Z1391),K1391:$L$6000,2,0),\"\")","v":""},{"$f":"IFERROR(VLOOKUP(ROWS($AA$2:AA1391),K1391:$M$6000,3,0),\"\")","v":""}]
[{"$nulls":10},{"$f":"IF(ISNUMBER(SEARCH($A$3,L1392)),MAX($K$1:K1391)+1,0)","v":0},"Hanung Toys & Textiles Ltd","HANUNG.NS",{"$nulls":12},{"$f":"IFERROR(VLOOKUP(ROWS($Z$2:Z1392),K1392:$L$6000,2,0),\"\")","v":""},{"$f":"IFERROR(VLOOKUP(ROWS($AA$2:AA1392),K1392:$M$6000,3,0),\"\")","v":""}]
[{"$nulls":10},{"$f":"IF(ISNUMBER(SEARCH($A$3,L1393)),MAX($K$1:K1392)+1,0)","v":0},"Hardcastle & Waud","HARDCAS.BO",{"$nulls":12},{"$f":"IFERROR(VLOOKUP(ROWS($Z$2:Z1393),K1393:$L$6000,2,0),\"\")","v":""},{"$f":"IFERROR(VLOOKUP(ROWS($AA$2:AA1393),K1393:$M$6000,3,0),\"\")","v":""}]
[{"$nulls":10},{"$f":"IF(ISNUMBER(SEARCH($A$3,L1394)),MAX($K$1:K1393)+1,0)","v":0},"Haria Exports Ltd","HARIAEXP.BO",{"$nulls":12},{"$f":"IFERROR(VLOOKUP(ROWS($Z$2:Z1394),K1394:$L$6000,2,0),\"\")","v":""},{"$f":"IFERROR(VLOOKUP(ROWS($AA$2:AA1394),K1394:$M$6000,3,0),\"\")","v":""}]
[{"$nulls":10},{"$f":"IF(ISNUMBER(SEARCH($A$3,L1395)),MAX($K$1:K1394)+1,0)","v":0},"Harita Seating Systems Ltd","HARITASEA.BO",{"$nulls":12},{"$f":"IFERROR(VLOOKUP(ROWS($Z$2:Z1395),K1395:$L$6000,2,0),\"\")","v":""},{"$f":"IFERROR(VLOOKUP(ROWS($AA$2:AA1395),K1395:$M$6000,3,0),\"\")","v":""}]
[{"$nulls":10},{"$f":"IF(ISNUMBER(SEARCH($A$3,L1396)),MAX($K$1:K1395)+1,0)","v":0},"Hariyana Ship Breakers Ltd","HRYNSHP.BO",{"$nulls":12},{"$f":"IFERROR(VLOOKUP(ROWS($Z$2:Z1396),K1396:$L$6000,2,0),\"\")","v":""},{"$f":"IFERROR(VLOOKUP(ROWS($AA$2:AA1396),K1396:$M$6000,3,0),\"\")","v":""}]
[{"$nulls":10},{"$f":"IF(ISNUMBER(SEARCH($A$3,L1397)),MAX($K$1:K1396)+1,0)","v":0},"Harmony Capital Services Ltd","HRMNYCP.BO",{"$nulls":12},{"$f":"IFERROR(VLOOKUP(ROWS($Z$2:Z1397),K1397:$L$6000,2,0),\"\")","v":""},{"$f":"IFERROR(VLOOKUP(ROWS($AA$2:AA1397),K1397:$M$6000,3,0),\"\")","v":""}]
[{"$nulls":10},{"$f":"IF(ISNUMBER(SEARCH($A$3,L1398)),MAX($K$1:K1397)+1,0)","v":0},"Harrisons Malayalam Ltd","HARRMAL.BO",{"$nulls":12},{"$f":"IFERROR(VLOOKUP(ROWS($Z$2:Z1398),K1398:$L$6000,2,0),\"\")","v":""},{"$f":"IFERROR(VLOOKUP(ROWS($AA$2:AA1398),K1398:$M$6000,3,0),\"\")","v":""}]
[{"$nulls":10},{"$f":"IF(ISNUMBER(SEARCH($A$3,L1399)),MAX($K$1:K1398)+1,0)","v":0},"Harrisons Malayalam Ltd","HARRMALAY.NS",{"$nulls":12},{"$f":"IFERROR(VLOOKUP(ROWS($Z$2:Z1399),K1399:$L$6000,2,0),\"\")","v":""},{"$f":"IFERROR(VLOOKUP(ROWS($AA$2:AA1399),K1399:$M$6000,3,0),\"\")","v":""}]
[{"$nulls":10},{"$f":"IF(ISNUMBER(SEARCH($A$3,L1400)),MAX($K$1:K1399)+1,0)","v":0},"Haryana Capfin Ltd","HARYNACAP.BO",{"$nulls":12},{"$f":"IFERROR(VLOOKUP(ROWS($Z$2:Z1400),K1400:$L$6000,2,0),\"\")","v":""},{"$f":"IFERROR(VLOOKUP(ROWS($AA$2:AA1400),K1400:$M$6000,3,0),\"\")","v":""}]
[{"$nulls":10},{"$f":"IF(ISNUMBER(SEARCH($A$3,L1401)),MAX($K$1:K1400)+1,0)","v":0},"Haryana Leather Chemicals Ltd","HARLETH.BO",{"$nulls":12},{"$f":"IFERROR(VLOOKUP(ROWS($Z$2:Z1401),K1401:$L$6000,2,0),\"\")","v":""},{"$f":"IFERROR(VLOOKUP(ROWS($AA$2:AA1401),K1401:$M$6000,3,0),\"\")","v":""}]
[{"$nulls":10},{"$f":"IF(ISNUMBER(SEARCH($A$3,L1402)),MAX($K$1:K1401)+1,0)","v":0},"Hasti Finance Ltd","HASTIFIN.BO",{"$nulls":12},{"$f":"IFERROR(VLOOKUP(ROWS($Z$2:Z1402),K1402:$L$6000,2,0),\"\")","v":""},{"$f":"IFERROR(VLOOKUP(ROWS($AA$2:AA1402),K1402:$M$6000,3,0),\"\")","v":""}]
[{"$nulls":10},{"$f":"IF(ISNUMBER(SEARCH($A$3,L1403)),MAX($K$1:K1402)+1,0)","v":0},"Hathway Bhawani Cabletel","HATHWAY.BO",{"$nulls":12},{"$f":"IFERROR(VLOOKUP(ROWS($Z$2:Z1403),K1403:$L$6000,2,0),\"\")","v":""},{"$f":"IFERROR(VLOOKUP(ROWS($AA$2:AA1403),K1403:$M$6000,3,0),\"\")","v":""}]
[{"$nulls":10},{"$f":"IF(ISNUMBER(SEARCH($A$3,L1404)),MAX($K$1:K1403)+1,0)","v":0},"Hathway Cable & Datacom Ltd","HATHWAY.NS",{"$nulls":12},{"$f":"IFERROR(VLOOKUP(ROWS($Z$2:Z1404),K1404:$L$6000,2,0),\"\")","v":""},{"$f":"IFERROR(VLOOKUP(ROWS($AA$2:AA1404),K1404:$M$6000,3,0),\"\")","v":""}]
[{"$nulls":10},{"$f":"IF(ISNUMBER(SEARCH($A$3,L1405)),MAX($K$1:K1404)+1,0)","v":0},"Havells India Ltd","HAVELLS.BO",{"$nulls":12},{"$f":"IFERROR(VLOOKUP(ROWS($Z$2:Z1405),K1405:$L$6000,2,0),\"\")","v":""},{"$f":"IFERROR(VLOOKUP(ROWS($AA$2:AA1405),K1405:$M$6000,3,0),\"\")","v":""}]
[{"$nulls":10},{"$f":"IF(ISNUMBER(SEARCH($A$3,L1406)),MAX($K$1:K1405)+1,0)","v":0},"Havells India Ltd","HAVELLS.NS",{"$nulls":12},{"$f":"IFERROR(VLOOKUP(ROWS($Z$2:Z1406),K1406:$L$6000,2,0),\"\")","v":""},{"$f":"IFERROR(VLOOKUP(ROWS($AA$2:AA1406),K1406:$M$6000,3,0),\"\")","v":""}]
[{"$nulls":10},{"$f":"IF(ISNUMBER(SEARCH($A$3,L1407)),MAX($K$1:K1406)+1,0)","v":0},"Hawkins Cookers Ltd","HAWKINS.BO",{"$nulls":12},{"$f":"IFERROR(VLOOKUP(ROWS($Z$2:Z1407),K1407:$L$6000,2,0),\"\")","v":""},{"$f":"IFERROR(VLOOKUP(ROWS($AA$2:AA1407),K1407:$M$6000,3,0),\"\")","v":""}]
[{"$nulls":10},{"$f":"IF(ISNUMBER(SEARCH($A$3,L1408)),MAX($K$1:K1407)+1,0)","v":0},"Hazoor Multi Projects Ltd","HAZOOR.BO",{"$nulls":12},{"$f":"IFERROR(VLOOKUP(ROWS($Z$2:Z1408),K1408:$L$6000,2,0),\"\")","v":""},{"$f":"IFERROR(VLOOKUP(ROWS($AA$2:AA1408),K1408:$M$6000,3,0),\"\")","v":""}]
[{"$nulls":10},{"$f":"IF(ISNUMBER(SEARCH($A$3,L1409)),MAX($K$1:K1408)+1,0)","v":0},"HB Estate Developers Ltd","HBESD.BO",{"$nulls":12},{"$f":"IFERROR(VLOOKUP(ROWS($Z$2:Z1409),K1409:$L$6000,2,0),\"\")","v":""},{"$f":"IFERROR(VLOOKUP(ROWS($AA$2:AA1409),K1409:$M$6000,3,0),\"\")","v":""}]
[{"$nulls":10},{"$f":"IF(ISNUMBER(SEARCH($A$3,L1410)),MAX($K$1:K1409)+1,0)","v":0},"HB Leasing & Finance Co Ltd","HBLEAS.BO",{"$nulls":12},{"$f":"IFERROR(VLOOKUP(ROWS($Z$2:Z1410),K1410:$L$6000,2,0),\"\")","v":""},{"$f":"IFERROR(VLOOKUP(ROWS($AA$2:AA1410),K1410:$M$6000,3,0),\"\")","v":""}]
[{"$nulls":10},{"$f":"IF(ISNUMBER(SEARCH($A$3,L1411)),MAX($K$1:K1410)+1,0)","v":0},"HB Portfolio Ltd","HBPOR.BO",{"$nulls":12},{"$f":"IFERROR(VLOOKUP(ROWS($Z$2:Z1411),K1411:$L$6000,2,0),\"\")","v":""},{"$f":"IFERROR(VLOOKUP(ROWS($AA$2:AA1411),K1411:$M$6000,3,0),\"\")","v":""}]
[{"$nulls":10},{"$f":"IF(ISNUMBER(SEARCH($A$3,L1412)),MAX($K$1:K1411)+1,0)","v":0},"HB Stockholdings Ltd","HBSTOCK.BO",{"$nulls":12},{"$f":"IFERROR(VLOOKUP(ROWS($Z$2:Z1412),K1412:$L$6000,2,0),\"\")","v":""},{"$f":"IFERROR(VLOOKUP(ROWS($AA$2:AA1412),K1412:$M$6000,3,0),\"\")","v":""}]
[{"$nulls":10},{"$f":"IF(ISNUMBER(SEARCH($A$3,L1413)),MAX($K$1:K1412)+1,0)","v":0},"HB Stockholdings Ltd","HBSTOCK.NS",{"$nulls":12},{"$f":"IFERROR(VLOOKUP(ROWS($Z$2:Z1413),K1413:$L$6000,2,0),\"\")","v":""},{"$f":"IFERROR(VLOOKUP(ROWS($AA$2:AA1413),K1413:$M$6000,3,0),\"\")","v":""}]
[{"$nulls":10},{"$f":"IF(ISNUMBER(SEARCH($A$3,L1414)),MAX($K$1:K1413)+1,0)","v":0},"HBL Power Systems Ltd","HBLPSYS.BO",{"$nulls":12},{"$f":"IFERROR(VLOOKUP(ROWS($Z$2:Z1414),K1414:$L$6000,2,0),\"\")","v":""},{"$f":"IFERROR(VLOOKUP(ROWS($AA$2:AA1414),K1414:$M$6000,3,0),\"\")","v":""}]
[{"$nulls":10},{"$f":"IF(ISNUMBER(SEARCH($A$3,L1415)),MAX($K$1:K1414)+1,0)","v":0},"HBL Power Systems Ltd","HBLPOWER.NS",{"$nulls":12},{"$f":"IFERROR(VLOOKUP(ROWS($Z$2:Z1415),K1415:$L$6000,2,0),\"\")","v":""},{"$f":"IFERROR(VLOOKUP(ROWS($AA$2:AA1415),K1415:$M$6000,3,0),\"\")","v":""}]
[{"$nulls":10},{"$f":"IF(ISNUMBER(SEARCH($A$3,L1416)),MAX($K$1:K1415)+1,0)","v":0},"HCL Infosystems Ltd","HCLINFO.BO",{"$nulls":12},{"$f":"IFERROR(VLOOKUP(ROWS($Z$2:Z1416),K1416:$L$6000,2,0),\"\")","v":""},{"$f":"IFERROR(VLOOKUP(ROWS($AA$2:AA1416),K1416:$M$6000,3,0),\"\")","v":""}]
[{"$nulls":10},{"$f":"IF(ISNUMBER(SEARCH($A$3,L1417)),MAX($K$1:K1416)+1,0)","v":0},"HCL Infosystems Ltd","HCL-INSYS.NS",{"$nulls":12},{"$f":"IFERROR(VLOOKUP(ROWS($Z$2:Z1417),K1417:$L$6000,2,0),\"\")","v":""},{"$f":"IFERROR(VLOOKUP(ROWS($AA$2:AA1417),K1417:$M$6000,3,0),\"\")","v":""}]
[{"$nulls":10},{"$f":"IF(ISNUMBER(SEARCH($A$3,L1418)),MAX($K$1:K1417)+1,0)","v":0},"HCL Technologies Ltd","HCLTECH.BO",{"$nulls":12},{"$f":"IFERROR(VLOOKUP(ROWS($Z$2:Z1418),K1418:$L$6000,2,0),\"\")","v":""},{"$f":"IFERROR(VLOOKUP(ROWS($AA$2:AA1418),K1418:$M$6000,3,0),\"\")","v":""}]
[{"$nulls":10},{"$f":"IF(ISNUMBER(SEARCH($A$3,L1419)),MAX($K$1:K1418)+1,0)","v":0},"HCL Technologies Ltd","HCLTECH.NS",{"$nulls":12},{"$f":"IFERROR(VLOOKUP(ROWS($Z$2:Z1419),K1419:$L$6000,2,0),\"\")","v":""},{"$f":"IFERROR(VLOOKUP(ROWS($AA$2:AA1419),K1419:$M$6000,3,0),\"\")","v":""}]
[{"$nulls":10},{"$f":"IF(ISNUMBER(SEARCH($A$3,L1420)),MAX($K$1:K1419)+1,0)","v":0},"HDFC","HDFC.BO",{"$nulls":12},{"$f":"IFERROR(VLOOKUP(ROWS($Z$2:Z1420),K1420:$L$6000,2,0),\"\")","v":""},{"$f":"IFERROR(VLOOKUP(ROWS($AA$2:AA1420),K1420:$M$6000,3,0),\"\")","v":""}]
[{"$nulls":10},{"$f":"IF(ISNUMBER(SEARCH($A$3,L1421)),MAX($K$1:K1420)+1,0)","v":0},"HDFC","HDFC.NS",{"$nulls":12},{"$f":"IFERROR(VLOOKUP(ROWS($Z$2:Z1421),K1421:$L$6000,2,0),\"\")","v":""},{"$f":"IFERROR(VLOOKUP(ROWS($AA$2:AA1421),K1421:$M$6000,3,0),\"\")","v":""}]
[{"$nulls":10},{"$f":"IF(ISNUMBER(SEARCH($A$3,L1422)),MAX($K$1:K1421)+1,0)","v":0},"Heera Ispat Ltd","HEERAISP.BO",{"$nulls":12},{"$f":"IFERROR(VLOOKUP(ROWS($Z$2:Z1422),K1422:$L$6000,2,0),\"\")","v":""},{"$f":"IFERROR(VLOOKUP(ROWS($AA$2:AA1422),K1422:$M$6000,3,0),\"\")","v":""}]
[{"$nulls":10},{"$f":"IF(ISNUMBER(SEARCH($A$3,L1423)),MAX($K$1:K1422)+1,0)","v":0},"HEG Ltd","HEG.BO",{"$nulls":12},{"$f":"IFERROR(VLOOKUP(ROWS($Z$2:Z1423),K1423:$L$6000,2,0),\"\")","v":""},{"$f":"IFERROR(VLOOKUP(ROWS($AA$2:AA1423),K1423:$M$6000,3,0),\"\")","v":""}]
[{"$nulls":10},{"$f":"IF(ISNUMBER(SEARCH($A$3,L1424)),MAX($K$1:K1423)+1,0)","v":0},"HEG Ltd","HEG.NS",{"$nulls":12},{"$f":"IFERROR(VLOOKUP(ROWS($Z$2:Z1424),K1424:$L$6000,2,0),\"\")","v":""},{"$f":"IFERROR(VLOOKUP(ROWS($AA$2:AA1424),K1424:$M$6000,3,0),\"\")","v":""}]
[{"$nulls":10},{"$f":"IF(ISNUMBER(SEARCH($A$3,L1425)),MAX($K$1:K1424)+1,0)","v":0},"HeidelbergCement India Ltd","HEIDELCEM.BO",{"$nulls":12},{"$f":"IFERROR(VLOOKUP(ROWS($Z$2:Z1425),K1425:$L$6000,2,0),\"\")","v":""},{"$f":"IFERROR(VLOOKUP(ROWS($AA$2:AA1425),K1425:$M$6000,3,0),\"\")","v":""}]
[{"$nulls":10},{"$f":"IF(ISNUMBER(SEARCH($A$3,L1426)),MAX($K$1:K1425)+1,0)","v":0},"HeidelbergCement India Ltd","HEIDELBER.NS",{"$nulls":12},{"$f":"IFERROR(VLOOKUP(ROWS($Z$2:Z1426),K1426:$L$6000,2,0),\"\")","v":""},{"$f":"IFERROR(VLOOKUP(ROWS($AA$2:AA1426),K1426:$M$6000,3,0),\"\")","v":""}]
[{"$nulls":10},{"$f":"IF(ISNUMBER(SEARCH($A$3,L1427)),MAX($K$1:K1426)+1,0)","v":0},"Helios & Matheson Informa","HELIOS.BO",{"$nulls":12},{"$f":"IFERROR(VLOOKUP(ROWS($Z$2:Z1427),K1427:$L$6000,2,0),\"\")","v":""},{"$f":"IFERROR(VLOOKUP(ROWS($AA$2:AA1427),K1427:$M$6000,3,0),\"\")","v":""}]
[{"$nulls":10},{"$f":"IF(ISNUMBER(SEARCH($A$3,L1428)),MAX($K$1:K1427)+1,0)","v":0},"Helios & Matheson Informa","HELIOSMAT.NS",{"$nulls":12},{"$f":"IFERROR(VLOOKUP(ROWS($Z$2:Z1428),K1428:$L$6000,2,0),\"\")","v":""},{"$f":"IFERROR(VLOOKUP(ROWS($AA$2:AA1428),K1428:$M$6000,3,0),\"\")","v":""}]
[{"$nulls":10},{"$f":"IF(ISNUMBER(SEARCH($A$3,L1429)),MAX($K$1:K1428)+1,0)","v":0},"Hella India Lighting Ltd","HELLAIND.BO",{"$nulls":12},{"$f":"IFERROR(VLOOKUP(ROWS($Z$2:Z1429),K1429:$L$6000,2,0),\"\")","v":""},{"$f":"IFERROR(VLOOKUP(ROWS($AA$2:AA1429),K1429:$M$6000,3,0),\"\")","v":""}]
[{"$nulls":10},{"$f":"IF(ISNUMBER(SEARCH($A$3,L1430)),MAX($K$1:K1429)+1,0)","v":0},"Hemo Organic Ltd","DINSHAL.BO",{"$nulls":12},{"$f":"IFERROR(VLOOKUP(ROWS($Z$2:Z1430),K1430:$L$6000,2,0),\"\")","v":""},{"$f":"IFERROR(VLOOKUP(ROWS($AA$2:AA1430),K1430:$M$6000,3,0),\"\")","v":""}]
[{"$nulls":10},{"$f":"IF(ISNUMBER(SEARCH($A$3,L1431)),MAX($K$1:K1430)+1,0)","v":0},"Hercules Hoists Ltd","HERCULES.BO",{"$nulls":12},{"$f":"IFERROR(VLOOKUP(ROWS($Z$2:Z1431),K1431:$L$6000,2,0),\"\")","v":""},{"$f":"IFERROR(VLOOKUP(ROWS($AA$2:AA1431),K1431:$M$6000,3,0),\"\")","v":""}]
[{"$nulls":10},{"$f":"IF(ISNUMBER(SEARCH($A$3,L1432)),MAX($K$1:K1431)+1,0)","v":0},"Hercules Hoists Ltd","HERCULES.NS",{"$nulls":12},{"$f":"IFERROR(VLOOKUP(ROWS($Z$2:Z1432),K1432:$L$6000,2,0),\"\")","v":""},{"$f":"IFERROR(VLOOKUP(ROWS($AA$2:AA1432),K1432:$M$6000,3,0),\"\")","v":""}]
[{"$nulls":10},{"$f":"IF(ISNUMBER(SEARCH($A$3,L1433)),MAX($K$1:K1432)+1,0)","v":0},"Heritage Foods Ltd","HERITGFOOD.BO",{"$nulls":12},{"$f":"IFERROR(VLOOKUP(ROWS($Z$2:Z1433),K1433:$L$6000,2,0),\"\")","v":""},{"$f":"IFERROR(VLOOKUP(ROWS($AA$2:AA1433),K1433:$M$6000,3,0),\"\")","v":""}]
[{"$nulls":10},{"$f":"IF(ISNUMBER(SEARCH($A$3,L1434)),MAX($K$1:K1433)+1,0)","v":0},"Heritage Foods Ltd","HERITGFOO.NS",{"$nulls":12},{"$f":"IFERROR(VLOOKUP(ROWS($Z$2:Z1434),K1434:$L$6000,2,0),\"\")","v":""},{"$f":"IFERROR(VLOOKUP(ROWS($AA$2:AA1434),K1434:$M$6000,3,0),\"\")","v":""}]
[{"$nulls":10},{"$f":"IF(ISNUMBER(SEARCH($A$3,L1435)),MAX($K$1:K1434)+1,0)","v":0},"Hero MotoCorp Ltd","HEROHONDA.BO",{"$nulls":12},{"$f":"IFERROR(VLOOKUP(ROWS($Z$2:Z1435),K1435:$L$6000,2,0),\"\")","v":""},{"$f":"IFERROR(VLOOKUP(ROWS($AA$2:AA1435),K1435:$M$6000,3,0),\"\")","v":""}]
[{"$nulls":10},{"$f":"IF(ISNUMBER(SEARCH($A$3,L1436)),MAX($K$1:K1435)+1,0)","v":0},"Hero MotoCorp Ltd","HEROHONDA.NS",{"$nulls":12},{"$f":"IFERROR(VLOOKUP(ROWS($Z$2:Z1436),K1436:$L$6000,2,0),\"\")","v":""},{"$f":"IFERROR(VLOOKUP(ROWS($AA$2:AA1436),K1436:$M$6000,3,0),\"\")","v":""}]
[{"$nulls":10},{"$f":"IF(ISNUMBER(SEARCH($A$3,L1437)),MAX($K$1:K1436)+1,0)","v":0},"Hester Biosciences Ltd","HESTERBIO.BO",{"$nulls":12},{"$f":"IFERROR(VLOOKUP(ROWS($Z$2:Z1437),K1437:$L$6000,2,0),\"\")","v":""},{"$f":"IFERROR(VLOOKUP(ROWS($AA$2:AA1437),K1437:$M$6000,3,0),\"\")","v":""}]
[{"$nulls":10},{"$f":"IF(ISNUMBER(SEARCH($A$3,L1438)),MAX($K$1:K1437)+1,0)","v":0},"Hexaware Technologies Ltd","HEXAWARE.BO",{"$nulls":12},{"$f":"IFERROR(VLOOKUP(ROWS($Z$2:Z1438),K1438:$L$6000,2,0),\"\")","v":""},{"$f":"IFERROR(VLOOKUP(ROWS($AA$2:AA1438),K1438:$M$6000,3,0),\"\")","v":""}]
[{"$nulls":10},{"$f":"IF(ISNUMBER(SEARCH($A$3,L1439)),MAX($K$1:K1438)+1,0)","v":0},"Hexaware Technologies Ltd","HEXAWARE.NS",{"$nulls":12},{"$f":"IFERROR(VLOOKUP(ROWS($Z$2:Z1439),K1439:$L$6000,2,0),\"\")","v":""},{"$f":"IFERROR(VLOOKUP(ROWS($AA$2:AA1439),K1439:$M$6000,3,0),\"\")","v":""}]
[{"$nulls":10},{"$f":"IF(ISNUMBER(SEARCH($A$3,L1440)),MAX($K$1:K1439)+1,0)","v":0},"High Energy Batteries","HIGHENE.BO",{"$nulls":12},{"$f":"IFERROR(VLOOKUP(ROWS($Z$2:Z1440),K1440:$L$6000,2,0),\"\")","v":""},{"$f":"IFERROR(VLOOKUP(ROWS($AA$2:AA1440),K1440:$M$6000,3,0),\"\")","v":""}]
[{"$nulls":10},{"$f":"IF(ISNUMBER(SEARCH($A$3,L1441)),MAX($K$1:K1440)+1,0)","v":0},"Hikal Ltd","HIKAL.BO",{"$nulls":12},{"$f":"IFERROR(VLOOKUP(ROWS($Z$2:Z1441),K1441:$L$6000,2,0),\"\")","v":""},{"$f":"IFERROR(VLOOKUP(ROWS($AA$2:AA1441),K1441:$M$6000,3,0),\"\")","v":""}]
[{"$nulls":10},{"$f":"IF(ISNUMBER(SEARCH($A$3,L1442)),MAX($K$1:K1441)+1,0)","v":0},"Hikal Ltd","HIKAL.NS",{"$nulls":12},{"$f":"IFERROR(VLOOKUP(ROWS($Z$2:Z1442),K1442:$L$6000,2,0),\"\")","v":""},{"$f":"IFERROR(VLOOKUP(ROWS($AA$2:AA1442),K1442:$M$6000,3,0),\"\")","v":""}]
[{"$nulls":10},{"$f":"IF(ISNUMBER(SEARCH($A$3,L1443)),MAX($K$1:K1442)+1,0)","v":0},"HIL Ltd","HYDIND.BO",{"$nulls":12},{"$f":"IFERROR(VLOOKUP(ROWS($Z$2:Z1443),K1443:$L$6000,2,0),\"\")","v":""},{"$f":"IFERROR(VLOOKUP(ROWS($AA$2:AA1443),K1443:$M$6000,3,0),\"\")","v":""}]
[{"$nulls":10},{"$f":"IF(ISNUMBER(SEARCH($A$3,L1444)),MAX($K$1:K1443)+1,0)","v":0},"HIL Ltd","HYDRBADIN.NS",{"$nulls":12},{"$f":"IFERROR(VLOOKUP(ROWS($Z$2:Z1444),K1444:$L$6000,2,0),\"\")","v":""},{"$f":"IFERROR(VLOOKUP(ROWS($AA$2:AA1444),K1444:$M$6000,3,0),\"\")","v":""}]
[{"$nulls":10},{"$f":"IF(ISNUMBER(SEARCH($A$3,L1445)),MAX($K$1:K1444)+1,0)","v":0},"Hilton Metal Forging Ltd","HILTON.BO",{"$nulls":12},{"$f":"IFERROR(VLOOKUP(ROWS($Z$2:Z1445),K1445:$L$6000,2,0),\"\")","v":""},{"$f":"IFERROR(VLOOKUP(ROWS($AA$2:AA1445),K1445:$M$6000,3,0),\"\")","v":""}]
[{"$nulls":10},{"$f":"IF(ISNUMBER(SEARCH($A$3,L1446)),MAX($K$1:K1445)+1,0)","v":0},"Hilton Metal Forging Ltd","HILTON.NS",{"$nulls":12},{"$f":"IFERROR(VLOOKUP(ROWS($Z$2:Z1446),K1446:$L$6000,2,0),\"\")","v":""},{"$f":"IFERROR(VLOOKUP(ROWS($AA$2:AA1446),K1446:$M$6000,3,0),\"\")","v":""}]
[{"$nulls":10},{"$f":"IF(ISNUMBER(SEARCH($A$3,L1447)),MAX($K$1:K1446)+1,0)","v":0},"Himachal Futuristic","HIMACHLFU.NS",{"$nulls":12},{"$f":"IFERROR(VLOOKUP(ROWS($Z$2:Z1447),K1447:$L$6000,2,0),\"\")","v":""},{"$f":"IFERROR(VLOOKUP(ROWS($AA$2:AA1447),K1447:$M$6000,3,0),\"\")","v":""}]
[{"$nulls":10},{"$f":"IF(ISNUMBER(SEARCH($A$3,L1448)),MAX($K$1:K1447)+1,0)","v":0},"Himachal Futuristic Commu","HFCL.BO",{"$nulls":12},{"$f":"IFERROR(VLOOKUP(ROWS($Z$2:Z1448),K1448:$L$6000,2,0),\"\")","v":""},{"$f":"IFERROR(VLOOKUP(ROWS($AA$2:AA1448),K1448:$M$6000,3,0),\"\")","v":""}]
[{"$nulls":10},{"$f":"IF(ISNUMBER(SEARCH($A$3,L1449)),MAX($K$1:K1448)+1,0)","v":0},"Himadri Chemicals & Indus","HIMCI.BO",{"$nulls":12},{"$f":"IFERROR(VLOOKUP(ROWS($Z$2:Z1449),K1449:$L$6000,2,0),\"\")","v":""},{"$f":"IFERROR(VLOOKUP(ROWS($AA$2:AA1449),K1449:$M$6000,3,0),\"\")","v":""}]
[{"$nulls":10},{"$f":"IF(ISNUMBER(SEARCH($A$3,L1450)),MAX($K$1:K1449)+1,0)","v":0},"Himalaya Granites Ltd","HIMGRANI.BO",{"$nulls":12},{"$f":"IFERROR(VLOOKUP(ROWS($Z$2:Z1450),K1450:$L$6000,2,0),\"\")","v":""},{"$f":"IFERROR(VLOOKUP(ROWS($AA$2:AA1450),K1450:$M$6000,3,0),\"\")","v":""}]
[{"$nulls":10},{"$f":"IF(ISNUMBER(SEARCH($A$3,L1451)),MAX($K$1:K1450)+1,0)","v":0},"Himalya International Ltd","HIMIN.BO",{"$nulls":12},{"$f":"IFERROR(VLOOKUP(ROWS($Z$2:Z1451),K1451:$L$6000,2,0),\"\")","v":""},{"$f":"IFERROR(VLOOKUP(ROWS($AA$2:AA1451),K1451:$M$6000,3,0),\"\")","v":""}]
[{"$nulls":10},{"$f":"IF(ISNUMBER(SEARCH($A$3,L1452)),MAX($K$1:K1451)+1,0)","v":0},"Himatsingka Seide Ltd","HIMATSEIDE.BO",{"$nulls":12},{"$f":"IFERROR(VLOOKUP(ROWS($Z$2:Z1452),K1452:$L$6000,2,0),\"\")","v":""},{"$f":"IFERROR(VLOOKUP(ROWS($AA$2:AA1452),K1452:$M$6000,3,0),\"\")","v":""}]
[{"$nulls":10},{"$f":"IF(ISNUMBER(SEARCH($A$3,L1453)),MAX($K$1:K1452)+1,0)","v":0},"Himatsingka Seide Ltd","HIMATSEID.NS",{"$nulls":12},{"$f":"IFERROR(VLOOKUP(ROWS($Z$2:Z1453),K1453:$L$6000,2,0),\"\")","v":""},{"$f":"IFERROR(VLOOKUP(ROWS($AA$2:AA1453),K1453:$M$6000,3,0),\"\")","v":""}]
[{"$nulls":10},{"$f":"IF(ISNUMBER(SEARCH($A$3,L1454)),MAX($K$1:K1453)+1,0)","v":0},"Hind Industries Ltd","HINDIND.BO",{"$nulls":12},{"$f":"IFERROR(VLOOKUP(ROWS($Z$2:Z1454),K1454:$L$6000,2,0),\"\")","v":""},{"$f":"IFERROR(VLOOKUP(ROWS($AA$2:AA1454),K1454:$M$6000,3,0),\"\")","v":""}]
[{"$nulls":10},{"$f":"IF(ISNUMBER(SEARCH($A$3,L1455)),MAX($K$1:K1454)+1,0)","v":0},"Hind Rectifiers Ltd","HINDRECT.BO",{"$nulls":12},{"$f":"IFERROR(VLOOKUP(ROWS($Z$2:Z1455),K1455:$L$6000,2,0),\"\")","v":""},{"$f":"IFERROR(VLOOKUP(ROWS($AA$2:AA1455),K1455:$M$6000,3,0),\"\")","v":""}]
[{"$nulls":10},{"$f":"IF(ISNUMBER(SEARCH($A$3,L1456)),MAX($K$1:K1455)+1,0)","v":0},"Hind Rectifiers Ltd","HIRECT.NS",{"$nulls":12},{"$f":"IFERROR(VLOOKUP(ROWS($Z$2:Z1456),K1456:$L$6000,2,0),\"\")","v":""},{"$f":"IFERROR(VLOOKUP(ROWS($AA$2:AA1456),K1456:$M$6000,3,0),\"\")","v":""}]
[{"$nulls":10},{"$f":"IF(ISNUMBER(SEARCH($A$3,L1457)),MAX($K$1:K1456)+1,0)","v":0},"Hind Syntex Ltd","HINDSYNT.BO",{"$nulls":12},{"$f":"IFERROR(VLOOKUP(ROWS($Z$2:Z1457),K1457:$L$6000,2,0),\"\")","v":""},{"$f":"IFERROR(VLOOKUP(ROWS($AA$2:AA1457),K1457:$M$6000,3,0),\"\")","v":""}]
[{"$nulls":10},{"$f":"IF(ISNUMBER(SEARCH($A$3,L1458)),MAX($K$1:K1457)+1,0)","v":0},"Hind Syntex Ltd","HINDSYNTE.NS",{"$nulls":12},{"$f":"IFERROR(VLOOKUP(ROWS($Z$2:Z1458),K1458:$L$6000,2,0),\"\")","v":""},{"$f":"IFERROR(VLOOKUP(ROWS($AA$2:AA1458),K1458:$M$6000,3,0),\"\")","v":""}]
[{"$nulls":10},{"$f":"IF(ISNUMBER(SEARCH($A$3,L1459)),MAX($K$1:K1458)+1,0)","v":0},"Hindalco Industries Ltd","HINDALCO.BO",{"$nulls":12},{"$f":"IFERROR(VLOOKUP(ROWS($Z$2:Z1459),K1459:$L$6000,2,0),\"\")","v":""},{"$f":"IFERROR(VLOOKUP(ROWS($AA$2:AA1459),K1459:$M$6000,3,0),\"\")","v":""}]
[{"$nulls":10},{"$f":"IF(ISNUMBER(SEARCH($A$3,L1460)),MAX($K$1:K1459)+1,0)","v":0},"Hindalco Industries Ltd","HINDALCO.NS",{"$nulls":12},{"$f":"IFERROR(VLOOKUP(ROWS($Z$2:Z1460),K1460:$L$6000,2,0),\"\")","v":""},{"$f":"IFERROR(VLOOKUP(ROWS($AA$2:AA1460),K1460:$M$6000,3,0),\"\")","v":""}]
[{"$nulls":10},{"$f":"IF(ISNUMBER(SEARCH($A$3,L1461)),MAX($K$1:K1460)+1,0)","v":0},"Hindoostan Mills Ltd","SIRCG.BO",{"$nulls":12},{"$f":"IFERROR(VLOOKUP(ROWS($Z$2:Z1461),K1461:$L$6000,2,0),\"\")","v":""},{"$f":"IFERROR(VLOOKUP(ROWS($AA$2:AA1461),K1461:$M$6000,3,0),\"\")","v":""}]
[{"$nulls":10},{"$f":"IF(ISNUMBER(SEARCH($A$3,L1462)),MAX($K$1:K1461)+1,0)","v":0},"Hinduja Foundries Ltd","HINDUJAFO.BO",{"$nulls":12},{"$f":"IFERROR(VLOOKUP(ROWS($Z$2:Z1462),K1462:$L$6000,2,0),\"\")","v":""},{"$f":"IFERROR(VLOOKUP(ROWS($AA$2:AA1462),K1462:$M$6000,3,0),\"\")","v":""}]
[{"$nulls":10},{"$f":"IF(ISNUMBER(SEARCH($A$3,L1463)),MAX($K$1:K1462)+1,0)","v":0},"Hinduja Foundries Ltd","HINDUJAFO.NS",{"$nulls":12},{"$f":"IFERROR(VLOOKUP(ROWS($Z$2:Z1463),K1463:$L$6000,2,0),\"\")","v":""},{"$f":"IFERROR(VLOOKUP(ROWS($AA$2:AA1463),K1463:$M$6000,3,0),\"\")","v":""}]
[{"$nulls":10},{"$f":"IF(ISNUMBER(SEARCH($A$3,L1464)),MAX($K$1:K1463)+1,0)","v":0},"Hinduja Global Solutions Ltd","HGSL.BO",{"$nulls":12},{"$f":"IFERROR(VLOOKUP(ROWS($Z$2:Z1464),K1464:$L$6000,2,0),\"\")","v":""},{"$f":"IFERROR(VLOOKUP(ROWS($AA$2:AA1464),K1464:$M$6000,3,0),\"\")","v":""}]
[{"$nulls":10},{"$f":"IF(ISNUMBER(SEARCH($A$3,L1465)),MAX($K$1:K1464)+1,0)","v":0},"Hinduja Global Solutions Ltd","HGSL.NS",{"$nulls":12},{"$f":"IFERROR(VLOOKUP(ROWS($Z$2:Z1465),K1465:$L$6000,2,0),\"\")","v":""},{"$f":"IFERROR(VLOOKUP(ROWS($AA$2:AA1465),K1465:$M$6000,3,0),\"\")","v":""}]
[{"$nulls":10},{"$f":"IF(ISNUMBER(SEARCH($A$3,L1466)),MAX($K$1:K1465)+1,0)","v":0},"Hinduja Ventures Ltd","HINDUJAV.BO",{"$nulls":12},{"$f":"IFERROR(VLOOKUP(ROWS($Z$2:Z1466),K1466:$L$6000,2,0),\"\")","v":""},{"$f":"IFERROR(VLOOKUP(ROWS($AA$2:AA1466),K1466:$M$6000,3,0),\"\")","v":""}]
[{"$nulls":10},{"$f":"IF(ISNUMBER(SEARCH($A$3,L1467)),MAX($K$1:K1466)+1,0)","v":0},"Hinduja Ventures Ltd","HINDUJAVE.NS",{"$nulls":12},{"$f":"IFERROR(VLOOKUP(ROWS($Z$2:Z1467),K1467:$L$6000,2,0),\"\")","v":""},{"$f":"IFERROR(VLOOKUP(ROWS($AA$2:AA1467),K1467:$M$6000,3,0),\"\")","v":""}]
[{"$nulls":10},{"$f":"IF(ISNUMBER(SEARCH($A$3,L1468)),MAX($K$1:K1467)+1,0)","v":0},"Hindustan Adhesives Ltd","HINDADH.BO",{"$nulls":12},{"$f":"IFERROR(VLOOKUP(ROWS($Z$2:Z1468),K1468:$L$6000,2,0),\"\")","v":""},{"$f":"IFERROR(VLOOKUP(ROWS($AA$2:AA1468),K1468:$M$6000,3,0),\"\")","v":""}]
[{"$nulls":10},{"$f":"IF(ISNUMBER(SEARCH($A$3,L1469)),MAX($K$1:K1468)+1,0)","v":0},"Hindustan Bio Sciences Ltd","HINDBIO.BO",{"$nulls":12},{"$f":"IFERROR(VLOOKUP(ROWS($Z$2:Z1469),K1469:$L$6000,2,0),\"\")","v":""},{"$f":"IFERROR(VLOOKUP(ROWS($AA$2:AA1469),K1469:$M$6000,3,0),\"\")","v":""}]
[{"$nulls":10},{"$f":"IF(ISNUMBER(SEARCH($A$3,L1470)),MAX($K$1:K1469)+1,0)","v":0},"Hindustan Composites Ltd","HINDCOMPQ.BO",{"$nulls":12},{"$f":"IFERROR(VLOOKUP(ROWS($Z$2:Z1470),K1470:$L$6000,2,0),\"\")","v":""},{"$f":"IFERROR(VLOOKUP(ROWS($AA$2:AA1470),K1470:$M$6000,3,0),\"\")","v":""}]
[{"$nulls":10},{"$f":"IF(ISNUMBER(SEARCH($A$3,L1471)),MAX($K$1:K1470)+1,0)","v":0},"Hindustan Composites Ltd","HINDCOMPO.NS",{"$nulls":12},{"$f":"IFERROR(VLOOKUP(ROWS($Z$2:Z1471),K1471:$L$6000,2,0),\"\")","v":""},{"$f":"IFERROR(VLOOKUP(ROWS($AA$2:AA1471),K1471:$M$6000,3,0),\"\")","v":""}]
[{"$nulls":10},{"$f":"IF(ISNUMBER(SEARCH($A$3,L1472)),MAX($K$1:K1471)+1,0)","v":0},"Hindustan Construction Co Ltd","HCC.BO",{"$nulls":12},{"$f":"IFERROR(VLOOKUP(ROWS($Z$2:Z1472),K1472:$L$6000,2,0),\"\")","v":""},{"$f":"IFERROR(VLOOKUP(ROWS($AA$2:AA1472),K1472:$M$6000,3,0),\"\")","v":""}]
[{"$nulls":10},{"$f":"IF(ISNUMBER(SEARCH($A$3,L1473)),MAX($K$1:K1472)+1,0)","v":0},"Hindustan Construction Co Ltd","HCC.NS",{"$nulls":12},{"$f":"IFERROR(VLOOKUP(ROWS($Z$2:Z1473),K1473:$L$6000,2,0),\"\")","v":""},{"$f":"IFERROR(VLOOKUP(ROWS($AA$2:AA1473),K1473:$M$6000,3,0),\"\")","v":""}]
[{"$nulls":10},{"$f":"IF(ISNUMBER(SEARCH($A$3,L1474)),MAX($K$1:K1473)+1,0)","v":0},"Hindustan Copper Ltd","HINDCOPER.BO",{"$nulls":12},{"$f":"IFERROR(VLOOKUP(ROWS($Z$2:Z1474),K1474:$L$6000,2,0),\"\")","v":""},{"$f":"IFERROR(VLOOKUP(ROWS($AA$2:AA1474),K1474:$M$6000,3,0),\"\")","v":""}]
[{"$nulls":10},{"$f":"IF(ISNUMBER(SEARCH($A$3,L1475)),MAX($K$1:K1474)+1,0)","v":0},"Hindustan Dorr Oliver Ltd","HINDDORQ.BO",{"$nulls":12},{"$f":"IFERROR(VLOOKUP(ROWS($Z$2:Z1475),K1475:$L$6000,2,0),\"\")","v":""},{"$f":"IFERROR(VLOOKUP(ROWS($AA$2:AA1475),K1475:$M$6000,3,0),\"\")","v":""}]
[{"$nulls":10},{"$f":"IF(ISNUMBER(SEARCH($A$3,L1476)),MAX($K$1:K1475)+1,0)","v":0},"Hindustan Dorr Oliver Ltd","HINDDORRO.NS",{"$nulls":12},{"$f":"IFERROR(VLOOKUP(ROWS($Z$2:Z1476),K1476:$L$6000,2,0),\"\")","v":""},{"$f":"IFERROR(VLOOKUP(ROWS($AA$2:AA1476),K1476:$M$6000,3,0),\"\")","v":""}]
[{"$nulls":10},{"$f":"IF(ISNUMBER(SEARCH($A$3,L1477)),MAX($K$1:K1476)+1,0)","v":0},"Hindustan Everest Tools Ltd","HINDEVER.BO",{"$nulls":12},{"$f":"IFERROR(VLOOKUP(ROWS($Z$2:Z1477),K1477:$L$6000,2,0),\"\")","v":""},{"$f":"IFERROR(VLOOKUP(ROWS($AA$2:AA1477),K1477:$M$6000,3,0),\"\")","v":""}]
[{"$nulls":10},{"$f":"IF(ISNUMBER(SEARCH($A$3,L1478)),MAX($K$1:K1477)+1,0)","v":0},"Hindustan Fluorocarbons Ltd","HINFLUR.BO",{"$nulls":12},{"$f":"IFERROR(VLOOKUP(ROWS($Z$2:Z1478),K1478:$L$6000,2,0),\"\")","v":""},{"$f":"IFERROR(VLOOKUP(ROWS($AA$2:AA1478),K1478:$M$6000,3,0),\"\")","v":""}]
[{"$nulls":10},{"$f":"IF(ISNUMBER(SEARCH($A$3,L1479)),MAX($K$1:K1478)+1,0)","v":0},"Hindustan Foods Ltd","HNDFDS.BO",{"$nulls":12},{"$f":"IFERROR(VLOOKUP(ROWS($Z$2:Z1479),K1479:$L$6000,2,0),\"\")","v":""},{"$f":"IFERROR(VLOOKUP(ROWS($AA$2:AA1479),K1479:$M$6000,3,0),\"\")","v":""}]
[{"$nulls":10},{"$f":"IF(ISNUMBER(SEARCH($A$3,L1480)),MAX($K$1:K1479)+1,0)","v":0},"Hindustan Hardy Spicer Ltd","HINDHARD.BO",{"$nulls":12},{"$f":"IFERROR(VLOOKUP(ROWS($Z$2:Z1480),K1480:$L$6000,2,0),\"\")","v":""},{"$f":"IFERROR(VLOOKUP(ROWS($AA$2:AA1480),K1480:$M$6000,3,0),\"\")","v":""}]
[{"$nulls":10},{"$f":"IF(ISNUMBER(SEARCH($A$3,L1481)),MAX($K$1:K1480)+1,0)","v":0},"Hindustan Media Ventures Ltd","HMVL.BO",{"$nulls":12},{"$f":"IFERROR(VLOOKUP(ROWS($Z$2:Z1481),K1481:$L$6000,2,0),\"\")","v":""},{"$f":"IFERROR(VLOOKUP(ROWS($AA$2:AA1481),K1481:$M$6000,3,0),\"\")","v":""}]
[{"$nulls":10},{"$f":"IF(ISNUMBER(SEARCH($A$3,L1482)),MAX($K$1:K1481)+1,0)","v":0},"Hindustan Motors Ltd","HINDMOTOR.BO",{"$nulls":12},{"$f":"IFERROR(VLOOKUP(ROWS($Z$2:Z1482),K1482:$L$6000,2,0),\"\")","v":""},{"$f":"IFERROR(VLOOKUP(ROWS($AA$2:AA1482),K1482:$M$6000,3,0),\"\")","v":""}]
[{"$nulls":10},{"$f":"IF(ISNUMBER(SEARCH($A$3,L1483)),MAX($K$1:K1482)+1,0)","v":0},"Hindustan Oil Exploration","HINDOILEXP.BO",{"$nulls":12},{"$f":"IFERROR(VLOOKUP(ROWS($Z$2:Z1483),K1483:$L$6000,2,0),\"\")","v":""},{"$f":"IFERROR(VLOOKUP(ROWS($AA$2:AA1483),K1483:$M$6000,3,0),\"\")","v":""}]
[{"$nulls":10},{"$f":"IF(ISNUMBER(SEARCH($A$3,L1484)),MAX($K$1:K1483)+1,0)","v":0},"Hindustan Oil Exploration","HINDOILEX.NS",{"$nulls":12},{"$f":"IFERROR(VLOOKUP(ROWS($Z$2:Z1484),K1484:$L$6000,2,0),\"\")","v":""},{"$f":"IFERROR(VLOOKUP(ROWS($AA$2:AA1484),K1484:$M$6000,3,0),\"\")","v":""}]
[{"$nulls":10},{"$f":"IF(ISNUMBER(SEARCH($A$3,L1485)),MAX($K$1:K1484)+1,0)","v":0},"Hindustan Organic Chemica","HINDORG.BO",{"$nulls":12},{"$f":"IFERROR(VLOOKUP(ROWS($Z$2:Z1485),K1485:$L$6000,2,0),\"\")","v":""},{"$f":"IFERROR(VLOOKUP(ROWS($AA$2:AA1485),K1485:$M$6000,3,0),\"\")","v":""}]
[{"$nulls":10},{"$f":"IF(ISNUMBER(SEARCH($A$3,L1486)),MAX($K$1:K1485)+1,0)","v":0},"Hindustan Organic Chemica","HOCL.NS",{"$nulls":12},{"$f":"IFERROR(VLOOKUP(ROWS($Z$2:Z1486),K1486:$L$6000,2,0),\"\")","v":""},{"$f":"IFERROR(VLOOKUP(ROWS($AA$2:AA1486),K1486:$M$6000,3,0),\"\")","v":""}]
[{"$nulls":10},{"$f":"IF(ISNUMBER(SEARCH($A$3,L1487)),MAX($K$1:K1486)+1,0)","v":0},"Hindustan Petroleum Corp Ltd","HPCL.BO",{"$nulls":12},{"$f":"IFERROR(VLOOKUP(ROWS($Z$2:Z1487),K1487:$L$6000,2,0),\"\")","v":""},{"$f":"IFERROR(VLOOKUP(ROWS($AA$2:AA1487),K1487:$M$6000,3,0),\"\")","v":""}]
[{"$nulls":10},{"$f":"IF(ISNUMBER(SEARCH($A$3,L1488)),MAX($K$1:K1487)+1,0)","v":0},"Hindustan Petroleum Corp Ltd","HINDPETRO.NS",{"$nulls":12},{"$f":"IFERROR(VLOOKUP(ROWS($Z$2:Z1488),K1488:$L$6000,2,0),\"\")","v":""},{"$f":"IFERROR(VLOOKUP(ROWS($AA$2:AA1488),K1488:$M$6000,3,0),\"\")","v":""}]
[{"$nulls":10},{"$f":"IF(ISNUMBER(SEARCH($A$3,L1489)),MAX($K$1:K1488)+1,0)","v":0},"Hindustan Tin Works Ltd","HINDTIN.BO",{"$nulls":12},{"$f":"IFERROR(VLOOKUP(ROWS($Z$2:Z1489),K1489:$L$6000,2,0),\"\")","v":""},{"$f":"IFERROR(VLOOKUP(ROWS($AA$2:AA1489),K1489:$M$6000,3,0),\"\")","v":""}]
[{"$nulls":10},{"$f":"IF(ISNUMBER(SEARCH($A$3,L1490)),MAX($K$1:K1489)+1,0)","v":0},"Hindustan Unilever Ltd","HUL.BO",{"$nulls":12},{"$f":"IFERROR(VLOOKUP(ROWS($Z$2:Z1490),K1490:$L$6000,2,0),\"\")","v":""},{"$f":"IFERROR(VLOOKUP(ROWS($AA$2:AA1490),K1490:$M$6000,3,0),\"\")","v":""}]
[{"$nulls":10},{"$f":"IF(ISNUMBER(SEARCH($A$3,L1491)),MAX($K$1:K1490)+1,0)","v":0},"Hindustan Unilever Ltd","HINDUNILV.NS",{"$nulls":12},{"$f":"IFERROR(VLOOKUP(ROWS($Z$2:Z1491),K1491:$L$6000,2,0),\"\")","v":""},{"$f":"IFERROR(VLOOKUP(ROWS($AA$2:AA1491),K1491:$M$6000,3,0),\"\")","v":""}]
[{"$nulls":10},{"$f":"IF(ISNUMBER(SEARCH($A$3,L1492)),MAX($K$1:K1491)+1,0)","v":0},"Hindusthan National Glass","HINDNATG.BO",{"$nulls":12},{"$f":"IFERROR(VLOOKUP(ROWS($Z$2:Z1492),K1492:$L$6000,2,0),\"\")","v":""},{"$f":"IFERROR(VLOOKUP(ROWS($AA$2:AA1492),K1492:$M$6000,3,0),\"\")","v":""}]
[{"$nulls":10},{"$f":"IF(ISNUMBER(SEARCH($A$3,L1493)),MAX($K$1:K1492)+1,0)","v":0},"Hipolin Ltd","HIPOLIN.BO",{"$nulls":12},{"$f":"IFERROR(VLOOKUP(ROWS($Z$2:Z1493),K1493:$L$6000,2,0),\"\")","v":""},{"$f":"IFERROR(VLOOKUP(ROWS($AA$2:AA1493),K1493:$M$6000,3,0),\"\")","v":""}]
[{"$nulls":10},{"$f":"IF(ISNUMBER(SEARCH($A$3,L1494)),MAX($K$1:K1493)+1,0)","v":0},"Hiran Orgochem Ltd","HIRAN.BO",{"$nulls":12},{"$f":"IFERROR(VLOOKUP(ROWS($Z$2:Z1494),K1494:$L$6000,2,0),\"\")","v":""},{"$f":"IFERROR(VLOOKUP(ROWS($AA$2:AA1494),K1494:$M$6000,3,0),\"\")","v":""}]
[{"$nulls":10},{"$f":"IF(ISNUMBER(SEARCH($A$3,L1495)),MAX($K$1:K1494)+1,0)","v":0},"Hisar Metal Industries Ltd","HISARMET.BO",{"$nulls":12},{"$f":"IFERROR(VLOOKUP(ROWS($Z$2:Z1495),K1495:$L$6000,2,0),\"\")","v":""},{"$f":"IFERROR(VLOOKUP(ROWS($AA$2:AA1495),K1495:$M$6000,3,0),\"\")","v":""}]
[{"$nulls":10},{"$f":"IF(ISNUMBER(SEARCH($A$3,L1496)),MAX($K$1:K1495)+1,0)","v":0},"Hisar Spinning Mills Ltd","HISARSP.BO",{"$nulls":12},{"$f":"IFERROR(VLOOKUP(ROWS($Z$2:Z1496),K1496:$L$6000,2,0),\"\")","v":""},{"$f":"IFERROR(VLOOKUP(ROWS($AA$2:AA1496),K1496:$M$6000,3,0),\"\")","v":""}]
[{"$nulls":10},{"$f":"IF(ISNUMBER(SEARCH($A$3,L1497)),MAX($K$1:K1496)+1,0)","v":0},"Hit Kit Global Solutions Ltd","HITKITGLO.BO",{"$nulls":12},{"$f":"IFERROR(VLOOKUP(ROWS($Z$2:Z1497),K1497:$L$6000,2,0),\"\")","v":""},{"$f":"IFERROR(VLOOKUP(ROWS($AA$2:AA1497),K1497:$M$6000,3,0),\"\")","v":""}]
[{"$nulls":10},{"$f":"IF(ISNUMBER(SEARCH($A$3,L1498)),MAX($K$1:K1497)+1,0)","v":0},"Hitachi Home & Life Solns","HITACHIH.BO",{"$nulls":12},{"$f":"IFERROR(VLOOKUP(ROWS($Z$2:Z1498),K1498:$L$6000,2,0),\"\")","v":""},{"$f":"IFERROR(VLOOKUP(ROWS($AA$2:AA1498),K1498:$M$6000,3,0),\"\")","v":""}]
[{"$nulls":10},{"$f":"IF(ISNUMBER(SEARCH($A$3,L1499)),MAX($K$1:K1498)+1,0)","v":0},"Hitachi Home & Life Solns","HITACHIHO.NS",{"$nulls":12},{"$f":"IFERROR(VLOOKUP(ROWS($Z$2:Z1499),K1499:$L$6000,2,0),\"\")","v":""},{"$f":"IFERROR(VLOOKUP(ROWS($AA$2:AA1499),K1499:$M$6000,3,0),\"\")","v":""}]
[{"$nulls":10},{"$f":"IF(ISNUMBER(SEARCH($A$3,L1500)),MAX($K$1:K1499)+1,0)","v":0},"Hi-Tech Gears Ltd","HITECHGE.BO",{"$nulls":12},{"$f":"IFERROR(VLOOKUP(ROWS($Z$2:Z1500),K1500:$L$6000,2,0),\"\")","v":""},{"$f":"IFERROR(VLOOKUP(ROWS($AA$2:AA1500),K1500:$M$6000,3,0),\"\")","v":""}]
[{"$nulls":10},{"$f":"IF(ISNUMBER(SEARCH($A$3,L1501)),MAX($K$1:K1500)+1,0)","v":0},"Hi-Tech Gears Ltd","HITECHGEA.NS",{"$nulls":12},{"$f":"IFERROR(VLOOKUP(ROWS($Z$2:Z1501),K1501:$L$6000,2,0),\"\")","v":""},{"$f":"IFERROR(VLOOKUP(ROWS($AA$2:AA1501),K1501:$M$6000,3,0),\"\")","v":""}]
[{"$nulls":10},{"$f":"IF(ISNUMBER(SEARCH($A$3,L1502)),MAX($K$1:K1501)+1,0)","v":0},"Hitech Plast Ltd","HITECH.BO",{"$nulls":12},{"$f":"IFERROR(VLOOKUP(ROWS($Z$2:Z1502),K1502:$L$6000,2,0),\"\")","v":""},{"$f":"IFERROR(VLOOKUP(ROWS($AA$2:AA1502),K1502:$M$6000,3,0),\"\")","v":""}]
[{"$nulls":10},{"$f":"IF(ISNUMBER(SEARCH($A$3,L1503)),MAX($K$1:K1502)+1,0)","v":0},"Hitech Plast Ltd","HITECHPLA.NS",{"$nulls":12},{"$f":"IFERROR(VLOOKUP(ROWS($Z$2:Z1503),K1503:$L$6000,2,0),\"\")","v":""},{"$f":"IFERROR(VLOOKUP(ROWS($AA$2:AA1503),K1503:$M$6000,3,0),\"\")","v":""}]
[{"$nulls":10},{"$f":"IF(ISNUMBER(SEARCH($A$3,L1504)),MAX($K$1:K1503)+1,0)","v":0},"Hittco Tools Ltd","HITTCO.BO",{"$nulls":12},{"$f":"IFERROR(VLOOKUP(ROWS($Z$2:Z1504),K1504:$L$6000,2,0),\"\")","v":""},{"$f":"IFERROR(VLOOKUP(ROWS($AA$2:AA1504),K1504:$M$6000,3,0),\"\")","v":""}]
[{"$nulls":10},{"$f":"IF(ISNUMBER(SEARCH($A$3,L1505)),MAX($K$1:K1504)+1,0)","v":0},"HMT Ltd","HMT.BO",{"$nulls":12},{"$f":"IFERROR(VLOOKUP(ROWS($Z$2:Z1505),K1505:$L$6000,2,0),\"\")","v":""},{"$f":"IFERROR(VLOOKUP(ROWS($AA$2:AA1505),K1505:$M$6000,3,0),\"\")","v":""}]
[{"$nulls":10},{"$f":"IF(ISNUMBER(SEARCH($A$3,L1506)),MAX($K$1:K1505)+1,0)","v":0},"HMT Ltd","HMT.NS",{"$nulls":12},{"$f":"IFERROR(VLOOKUP(ROWS($Z$2:Z1506),K1506:$L$6000,2,0),\"\")","v":""},{"$f":"IFERROR(VLOOKUP(ROWS($AA$2:AA1506),K1506:$M$6000,3,0),\"\")","v":""}]
[{"$nulls":10},{"$f":"IF(ISNUMBER(SEARCH($A$3,L1507)),MAX($K$1:K1506)+1,0)","v":0},"Honda Siel Power Products Ltd","HONDASIEL.BO",{"$nulls":12},{"$f":"IFERROR(VLOOKUP(ROWS($Z$2:Z1507),K1507:$L$6000,2,0),\"\")","v":""},{"$f":"IFERROR(VLOOKUP(ROWS($AA$2:AA1507),K1507:$M$6000,3,0),\"\")","v":""}]
[{"$nulls":10},{"$f":"IF(ISNUMBER(SEARCH($A$3,L1508)),MAX($K$1:K1507)+1,0)","v":0},"Honda Siel Power Products Ltd","HONDAPOWE.NS",{"$nulls":12},{"$f":"IFERROR(VLOOKUP(ROWS($Z$2:Z1508),K1508:$L$6000,2,0),\"\")","v":""},{"$f":"IFERROR(VLOOKUP(ROWS($AA$2:AA1508),K1508:$M$6000,3,0),\"\")","v":""}]
[{"$nulls":10},{"$f":"IF(ISNUMBER(SEARCH($A$3,L1509)),MAX($K$1:K1508)+1,0)","v":0},"Honeywell Automation India Ltd","HONEYWELL.BO",{"$nulls":12},{"$f":"IFERROR(VLOOKUP(ROWS($Z$2:Z1509),K1509:$L$6000,2,0),\"\")","v":""},{"$f":"IFERROR(VLOOKUP(ROWS($AA$2:AA1509),K1509:$M$6000,3,0),\"\")","v":""}]
[{"$nulls":10},{"$f":"IF(ISNUMBER(SEARCH($A$3,L1510)),MAX($K$1:K1509)+1,0)","v":0},"Honeywell Automation India Ltd","HONAUT.NS",{"$nulls":12},{"$f":"IFERROR(VLOOKUP(ROWS($Z$2:Z1510),K1510:$L$6000,2,0),\"\")","v":""},{"$f":"IFERROR(VLOOKUP(ROWS($AA$2:AA1510),K1510:$M$6000,3,0),\"\")","v":""}]
[{"$nulls":10},{"$f":"IF(ISNUMBER(SEARCH($A$3,L1511)),MAX($K$1:K1510)+1,0)","v":0},"Hotel Leela Venture Ltd","HOTELEELA.BO",{"$nulls":12},{"$f":"IFERROR(VLOOKUP(ROWS($Z$2:Z1511),K1511:$L$6000,2,0),\"\")","v":""},{"$f":"IFERROR(VLOOKUP(ROWS($AA$2:AA1511),K1511:$M$6000,3,0),\"\")","v":""}]
[{"$nulls":10},{"$f":"IF(ISNUMBER(SEARCH($A$3,L1512)),MAX($K$1:K1511)+1,0)","v":0},"Hotel Leela Venture Ltd","HOTELEELA.NS",{"$nulls":12},{"$f":"IFERROR(VLOOKUP(ROWS($Z$2:Z1512),K1512:$L$6000,2,0),\"\")","v":""},{"$f":"IFERROR(VLOOKUP(ROWS($AA$2:AA1512),K1512:$M$6000,3,0),\"\")","v":""}]
[{"$nulls":10},{"$f":"IF(ISNUMBER(SEARCH($A$3,L1513)),MAX($K$1:K1512)+1,0)","v":0},"Housing Development & Inf","HDIL.BO",{"$nulls":12},{"$f":"IFERROR(VLOOKUP(ROWS($Z$2:Z1513),K1513:$L$6000,2,0),\"\")","v":""},{"$f":"IFERROR(VLOOKUP(ROWS($AA$2:AA1513),K1513:$M$6000,3,0),\"\")","v":""}]
[{"$nulls":10},{"$f":"IF(ISNUMBER(SEARCH($A$3,L1514)),MAX($K$1:K1513)+1,0)","v":0},"Housing Development & Inf","HDIL.NS",{"$nulls":12},{"$f":"IFERROR(VLOOKUP(ROWS($Z$2:Z1514),K1514:$L$6000,2,0),\"\")","v":""},{"$f":"IFERROR(VLOOKUP(ROWS($AA$2:AA1514),K1514:$M$6000,3,0),\"\")","v":""}]
[{"$nulls":10},{"$f":"IF(ISNUMBER(SEARCH($A$3,L1515)),MAX($K$1:K1514)+1,0)","v":0},"HOV Services Ltd","HOVS.BO",{"$nulls":12},{"$f":"IFERROR(VLOOKUP(ROWS($Z$2:Z1515),K1515:$L$6000,2,0),\"\")","v":""},{"$f":"IFERROR(VLOOKUP(ROWS($AA$2:AA1515),K1515:$M$6000,3,0),\"\")","v":""}]
[{"$nulls":10},{"$f":"IF(ISNUMBER(SEARCH($A$3,L1516)),MAX($K$1:K1515)+1,0)","v":0},"HOV Services Ltd","HOVS.NS",{"$nulls":12},{"$f":"IFERROR(VLOOKUP(ROWS($Z$2:Z1516),K1516:$L$6000,2,0),\"\")","v":""},{"$f":"IFERROR(VLOOKUP(ROWS($AA$2:AA1516),K1516:$M$6000,3,0),\"\")","v":""}]
[{"$nulls":10},{"$f":"IF(ISNUMBER(SEARCH($A$3,L1517)),MAX($K$1:K1516)+1,0)","v":0},"Howard Hotels Ltd","HOWARHO.BO",{"$nulls":12},{"$f":"IFERROR(VLOOKUP(ROWS($Z$2:Z1517),K1517:$L$6000,2,0),\"\")","v":""},{"$f":"IFERROR(VLOOKUP(ROWS($AA$2:AA1517),K1517:$M$6000,3,0),\"\")","v":""}]
[{"$nulls":10},{"$f":"IF(ISNUMBER(SEARCH($A$3,L1518)),MAX($K$1:K1517)+1,0)","v":0},"HSIL Ltd","HSIL.BO",{"$nulls":12},{"$f":"IFERROR(VLOOKUP(ROWS($Z$2:Z1518),K1518:$L$6000,2,0),\"\")","v":""},{"$f":"IFERROR(VLOOKUP(ROWS($AA$2:AA1518),K1518:$M$6000,3,0),\"\")","v":""}]
[{"$nulls":10},{"$f":"IF(ISNUMBER(SEARCH($A$3,L1519)),MAX($K$1:K1518)+1,0)","v":0},"HSIL Ltd","HSIL.NS",{"$nulls":12},{"$f":"IFERROR(VLOOKUP(ROWS($Z$2:Z1519),K1519:$L$6000,2,0),\"\")","v":""},{"$f":"IFERROR(VLOOKUP(ROWS($AA$2:AA1519),K1519:$M$6000,3,0),\"\")","v":""}]
[{"$nulls":10},{"$f":"IF(ISNUMBER(SEARCH($A$3,L1520)),MAX($K$1:K1519)+1,0)","v":0},"HT Media Ltd","HTMEDIA.BO",{"$nulls":12},{"$f":"IFERROR(VLOOKUP(ROWS($Z$2:Z1520),K1520:$L$6000,2,0),\"\")","v":""},{"$f":"IFERROR(VLOOKUP(ROWS($AA$2:AA1520),K1520:$M$6000,3,0),\"\")","v":""}]
[{"$nulls":10},{"$f":"IF(ISNUMBER(SEARCH($A$3,L1521)),MAX($K$1:K1520)+1,0)","v":0},"HT Media Ltd","HTMEDIA.NS",{"$nulls":12},{"$f":"IFERROR(VLOOKUP(ROWS($Z$2:Z1521),K1521:$L$6000,2,0),\"\")","v":""},{"$f":"IFERROR(VLOOKUP(ROWS($AA$2:AA1521),K1521:$M$6000,3,0),\"\")","v":""}]
[{"$nulls":10},{"$f":"IF(ISNUMBER(SEARCH($A$3,L1522)),MAX($K$1:K1521)+1,0)","v":0},"Hubtown Ltd","ACKRUTI.BO",{"$nulls":12},{"$f":"IFERROR(VLOOKUP(ROWS($Z$2:Z1522),K1522:$L$6000,2,0),\"\")","v":""},{"$f":"IFERROR(VLOOKUP(ROWS($AA$2:AA1522),K1522:$M$6000,3,0),\"\")","v":""}]
[{"$nulls":10},{"$f":"IF(ISNUMBER(SEARCH($A$3,L1523)),MAX($K$1:K1522)+1,0)","v":0},"Hubtown Ltd","ACKRUTI.NS",{"$nulls":12},{"$f":"IFERROR(VLOOKUP(ROWS($Z$2:Z1523),K1523:$L$6000,2,0),\"\")","v":""},{"$f":"IFERROR(VLOOKUP(ROWS($AA$2:AA1523),K1523:$M$6000,3,0),\"\")","v":""}]
[{"$nulls":10},{"$f":"IF(ISNUMBER(SEARCH($A$3,L1524)),MAX($K$1:K1523)+1,0)","v":0},"Hydro S & S Industries Ltd","HYDROSNS.BO",{"$nulls":12},{"$f":"IFERROR(VLOOKUP(ROWS($Z$2:Z1524),K1524:$L$6000,2,0),\"\")","v":""},{"$f":"IFERROR(VLOOKUP(ROWS($AA$2:AA1524),K1524:$M$6000,3,0),\"\")","v":""}]
[{"$nulls":10},{"$f":"IF(ISNUMBER(SEARCH($A$3,L1525)),MAX($K$1:K1524)+1,0)","v":0},"I Power Solutions India Ltd","IPOWER.BO",{"$nulls":12},{"$f":"IFERROR(VLOOKUP(ROWS($Z$2:Z1525),K1525:$L$6000,2,0),\"\")","v":""},{"$f":"IFERROR(VLOOKUP(ROWS($AA$2:AA1525),K1525:$M$6000,3,0),\"\")","v":""}]
[{"$nulls":10},{"$f":"IF(ISNUMBER(SEARCH($A$3,L1526)),MAX($K$1:K1525)+1,0)","v":0},"ICICI Bank Ltd","ICICIBANK.BO",{"$nulls":12},{"$f":"IFERROR(VLOOKUP(ROWS($Z$2:Z1526),K1526:$L$6000,2,0),\"\")","v":""},{"$f":"IFERROR(VLOOKUP(ROWS($AA$2:AA1526),K1526:$M$6000,3,0),\"\")","v":""}]
[{"$nulls":10},{"$f":"IF(ISNUMBER(SEARCH($A$3,L1527)),MAX($K$1:K1526)+1,0)","v":0},"ICICI Bank Ltd","ICICIBANK.NS",{"$nulls":12},{"$f":"IFERROR(VLOOKUP(ROWS($Z$2:Z1527),K1527:$L$6000,2,0),\"\")","v":""},{"$f":"IFERROR(VLOOKUP(ROWS($AA$2:AA1527),K1527:$M$6000,3,0),\"\")","v":""}]
[{"$nulls":10},{"$f":"IF(ISNUMBER(SEARCH($A$3,L1528)),MAX($K$1:K1527)+1,0)","v":0},"ICRA Ltd","ICRA.BO",{"$nulls":12},{"$f":"IFERROR(VLOOKUP(ROWS($Z$2:Z1528),K1528:$L$6000,2,0),\"\")","v":""},{"$f":"IFERROR(VLOOKUP(ROWS($AA$2:AA1528),K1528:$M$6000,3,0),\"\")","v":""}]
[{"$nulls":10},{"$f":"IF(ISNUMBER(SEARCH($A$3,L1529)),MAX($K$1:K1528)+1,0)","v":0},"ICRA Ltd","ICRA.NS",{"$nulls":12},{"$f":"IFERROR(VLOOKUP(ROWS($Z$2:Z1529),K1529:$L$6000,2,0),\"\")","v":""},{"$f":"IFERROR(VLOOKUP(ROWS($AA$2:AA1529),K1529:$M$6000,3,0),\"\")","v":""}]
[{"$nulls":10},{"$f":"IF(ISNUMBER(SEARCH($A$3,L1530)),MAX($K$1:K1529)+1,0)","v":0},"ICSA (India) Ltd","ICSAIND.BO",{"$nulls":12},{"$f":"IFERROR(VLOOKUP(ROWS($Z$2:Z1530),K1530:$L$6000,2,0),\"\")","v":""},{"$f":"IFERROR(VLOOKUP(ROWS($AA$2:AA1530),K1530:$M$6000,3,0),\"\")","v":""}]
[{"$nulls":10},{"$f":"IF(ISNUMBER(SEARCH($A$3,L1531)),MAX($K$1:K1530)+1,0)","v":0},"ICSA (India) Ltd","ICSA.NS",{"$nulls":12},{"$f":"IFERROR(VLOOKUP(ROWS($Z$2:Z1531),K1531:$L$6000,2,0),\"\")","v":""},{"$f":"IFERROR(VLOOKUP(ROWS($AA$2:AA1531),K1531:$M$6000,3,0),\"\")","v":""}]
[{"$nulls":10},{"$f":"IF(ISNUMBER(SEARCH($A$3,L1532)),MAX($K$1:K1531)+1,0)","v":0},"IDBI Bank Ltd","IDBI.BO",{"$nulls":12},{"$f":"IFERROR(VLOOKUP(ROWS($Z$2:Z1532),K1532:$L$6000,2,0),\"\")","v":""},{"$f":"IFERROR(VLOOKUP(ROWS($AA$2:AA1532),K1532:$M$6000,3,0),\"\")","v":""}]
[{"$nulls":10},{"$f":"IF(ISNUMBER(SEARCH($A$3,L1533)),MAX($K$1:K1532)+1,0)","v":0},"IDBI Bank Ltd","IDBI.NS",{"$nulls":12},{"$f":"IFERROR(VLOOKUP(ROWS($Z$2:Z1533),K1533:$L$6000,2,0),\"\")","v":""},{"$f":"IFERROR(VLOOKUP(ROWS($AA$2:AA1533),K1533:$M$6000,3,0),\"\")","v":""}]
[{"$nulls":10},{"$f":"IF(ISNUMBER(SEARCH($A$3,L1534)),MAX($K$1:K1533)+1,0)","v":0},"Idea Cellular Ltd","IDEA.BO",{"$nulls":12},{"$f":"IFERROR(VLOOKUP(ROWS($Z$2:Z1534),K1534:$L$6000,2,0),\"\")","v":""},{"$f":"IFERROR(VLOOKUP(ROWS($AA$2:AA1534),K1534:$M$6000,3,0),\"\")","v":""}]
[{"$nulls":10},{"$f":"IF(ISNUMBER(SEARCH($A$3,L1535)),MAX($K$1:K1534)+1,0)","v":0},"Idea Cellular Ltd","IDEA.NS",{"$nulls":12},{"$f":"IFERROR(VLOOKUP(ROWS($Z$2:Z1535),K1535:$L$6000,2,0),\"\")","v":""},{"$f":"IFERROR(VLOOKUP(ROWS($AA$2:AA1535),K1535:$M$6000,3,0),\"\")","v":""}]
[{"$nulls":10},{"$f":"IF(ISNUMBER(SEARCH($A$3,L1536)),MAX($K$1:K1535)+1,0)","v":0},"IDFC Ltd","IDFC.BO",{"$nulls":12},{"$f":"IFERROR(VLOOKUP(ROWS($Z$2:Z1536),K1536:$L$6000,2,0),\"\")","v":""},{"$f":"IFERROR(VLOOKUP(ROWS($AA$2:AA1536),K1536:$M$6000,3,0),\"\")","v":""}]
[{"$nulls":10},{"$f":"IF(ISNUMBER(SEARCH($A$3,L1537)),MAX($K$1:K1536)+1,0)","v":0},"IDFC Ltd","IDFC.NS",{"$nulls":12},{"$f":"IFERROR(VLOOKUP(ROWS($Z$2:Z1537),K1537:$L$6000,2,0),\"\")","v":""},{"$f":"IFERROR(VLOOKUP(ROWS($AA$2:AA1537),K1537:$M$6000,3,0),\"\")","v":""}]
[{"$nulls":10},{"$f":"IF(ISNUMBER(SEARCH($A$3,L1538)),MAX($K$1:K1537)+1,0)","v":0},"IDream Film","SOFTBPO.BO",{"$nulls":12},{"$f":"IFERROR(VLOOKUP(ROWS($Z$2:Z1538),K1538:$L$6000,2,0),\"\")","v":""},{"$f":"IFERROR(VLOOKUP(ROWS($AA$2:AA1538),K1538:$M$6000,3,0),\"\")","v":""}]
[{"$nulls":10},{"$f":"IF(ISNUMBER(SEARCH($A$3,L1539)),MAX($K$1:K1538)+1,0)","v":0},"IEC Education Ltd","IECEDU.BO",{"$nulls":12},{"$f":"IFERROR(VLOOKUP(ROWS($Z$2:Z1539),K1539:$L$6000,2,0),\"\")","v":""},{"$f":"IFERROR(VLOOKUP(ROWS($AA$2:AA1539),K1539:$M$6000,3,0),\"\")","v":""}]
[{"$nulls":10},{"$f":"IF(ISNUMBER(SEARCH($A$3,L1540)),MAX($K$1:K1539)+1,0)","v":0},"Ifb Agro Industries Ltd","IFBAGRQ.BO",{"$nulls":12},{"$f":"IFERROR(VLOOKUP(ROWS($Z$2:Z1540),K1540:$L$6000,2,0),\"\")","v":""},{"$f":"IFERROR(VLOOKUP(ROWS($AA$2:AA1540),K1540:$M$6000,3,0),\"\")","v":""}]
[{"$nulls":10},{"$f":"IF(ISNUMBER(SEARCH($A$3,L1541)),MAX($K$1:K1540)+1,0)","v":0},"Ifb Agro Industries Ltd","IFBAGRO.NS",{"$nulls":12},{"$f":"IFERROR(VLOOKUP(ROWS($Z$2:Z1541),K1541:$L$6000,2,0),\"\")","v":""},{"$f":"IFERROR(VLOOKUP(ROWS($AA$2:AA1541),K1541:$M$6000,3,0),\"\")","v":""}]
[{"$nulls":10},{"$f":"IF(ISNUMBER(SEARCH($A$3,L1542)),MAX($K$1:K1541)+1,0)","v":0},"IFB Industries Ltd","IFBIND.BO",{"$nulls":12},{"$f":"IFERROR(VLOOKUP(ROWS($Z$2:Z1542),K1542:$L$6000,2,0),\"\")","v":""},{"$f":"IFERROR(VLOOKUP(ROWS($AA$2:AA1542),K1542:$M$6000,3,0),\"\")","v":""}]
[{"$nulls":10},{"$f":"IF(ISNUMBER(SEARCH($A$3,L1543)),MAX($K$1:K1542)+1,0)","v":0},"IFB Industries Ltd","IFBIND.NS",{"$nulls":12},{"$f":"IFERROR(VLOOKUP(ROWS($Z$2:Z1543),K1543:$L$6000,2,0),\"\")","v":""},{"$f":"IFERROR(VLOOKUP(ROWS($AA$2:AA1543),K1543:$M$6000,3,0),\"\")","v":""}]
[{"$nulls":10},{"$f":"IF(ISNUMBER(SEARCH($A$3,L1544)),MAX($K$1:K1543)+1,0)","v":0},"IFCI Ltd","IFCI.BO",{"$nulls":12},{"$f":"IFERROR(VLOOKUP(ROWS($Z$2:Z1544),K1544:$L$6000,2,0),\"\")","v":""},{"$f":"IFERROR(VLOOKUP(ROWS($AA$2:AA1544),K1544:$M$6000,3,0),\"\")","v":""}]
[{"$nulls":10},{"$f":"IF(ISNUMBER(SEARCH($A$3,L1545)),MAX($K$1:K1544)+1,0)","v":0},"IFCI Ltd","IFCI.NS",{"$nulls":12},{"$f":"IFERROR(VLOOKUP(ROWS($Z$2:Z1545),K1545:$L$6000,2,0),\"\")","v":""},{"$f":"IFERROR(VLOOKUP(ROWS($AA$2:AA1545),K1545:$M$6000,3,0),\"\")","v":""}]
[{"$nulls":10},{"$f":"IF(ISNUMBER(SEARCH($A$3,L1546)),MAX($K$1:K1545)+1,0)","v":0},"IFGL Refractories Ltd","IFGLREF.BO",{"$nulls":12},{"$f":"IFERROR(VLOOKUP(ROWS($Z$2:Z1546),K1546:$L$6000,2,0),\"\")","v":""},{"$f":"IFERROR(VLOOKUP(ROWS($AA$2:AA1546),K1546:$M$6000,3,0),\"\")","v":""}]
[{"$nulls":10},{"$f":"IF(ISNUMBER(SEARCH($A$3,L1547)),MAX($K$1:K1546)+1,0)","v":0},"IFGL Refractories Ltd","IFGLREFRA.NS",{"$nulls":12},{"$f":"IFERROR(VLOOKUP(ROWS($Z$2:Z1547),K1547:$L$6000,2,0),\"\")","v":""},{"$f":"IFERROR(VLOOKUP(ROWS($AA$2:AA1547),K1547:$M$6000,3,0),\"\")","v":""}]
[{"$nulls":10},{"$f":"IF(ISNUMBER(SEARCH($A$3,L1548)),MAX($K$1:K1547)+1,0)","v":0},"IFL Promoters Limited","IFLPROMOT.BO",{"$nulls":12},{"$f":"IFERROR(VLOOKUP(ROWS($Z$2:Z1548),K1548:$L$6000,2,0),\"\")","v":""},{"$f":"IFERROR(VLOOKUP(ROWS($AA$2:AA1548),K1548:$M$6000,3,0),\"\")","v":""}]
[{"$nulls":10},{"$f":"IF(ISNUMBER(SEARCH($A$3,L1549)),MAX($K$1:K1548)+1,0)","v":0},"Ig Petrochemicals Ltd","IGPETRO.BO",{"$nulls":12},{"$f":"IFERROR(VLOOKUP(ROWS($Z$2:Z1549),K1549:$L$6000,2,0),\"\")","v":""},{"$f":"IFERROR(VLOOKUP(ROWS($AA$2:AA1549),K1549:$M$6000,3,0),\"\")","v":""}]
[{"$nulls":10},{"$f":"IF(ISNUMBER(SEARCH($A$3,L1550)),MAX($K$1:K1549)+1,0)","v":0},"Ig Petrochemicals Ltd","IGPL.NS",{"$nulls":12},{"$f":"IFERROR(VLOOKUP(ROWS($Z$2:Z1550),K1550:$L$6000,2,0),\"\")","v":""},{"$f":"IFERROR(VLOOKUP(ROWS($AA$2:AA1550),K1550:$M$6000,3,0),\"\")","v":""}]
[{"$nulls":10},{"$f":"IF(ISNUMBER(SEARCH($A$3,L1551)),MAX($K$1:K1550)+1,0)","v":0},"Igarashi Motors India Ltd","CGIGARSH.BO",{"$nulls":12},{"$f":"IFERROR(VLOOKUP(ROWS($Z$2:Z1551),K1551:$L$6000,2,0),\"\")","v":""},{"$f":"IFERROR(VLOOKUP(ROWS($AA$2:AA1551),K1551:$M$6000,3,0),\"\")","v":""}]
[{"$nulls":10},{"$f":"IF(ISNUMBER(SEARCH($A$3,L1552)),MAX($K$1:K1551)+1,0)","v":0},"Igarashi Motors India Ltd","IGARASHI.NS",{"$nulls":12},{"$f":"IFERROR(VLOOKUP(ROWS($Z$2:Z1552),K1552:$L$6000,2,0),\"\")","v":""},{"$f":"IFERROR(VLOOKUP(ROWS($AA$2:AA1552),K1552:$M$6000,3,0),\"\")","v":""}]
[{"$nulls":10},{"$f":"IF(ISNUMBER(SEARCH($A$3,L1553)),MAX($K$1:K1552)+1,0)","v":0},"IIFL Holdings Ltd","INDIAINFO.BO",{"$nulls":12},{"$f":"IFERROR(VLOOKUP(ROWS($Z$2:Z1553),K1553:$L$6000,2,0),\"\")","v":""},{"$f":"IFERROR(VLOOKUP(ROWS($AA$2:AA1553),K1553:$M$6000,3,0),\"\")","v":""}]
[{"$nulls":10},{"$f":"IF(ISNUMBER(SEARCH($A$3,L1554)),MAX($K$1:K1553)+1,0)","v":0},"IIFL Holdings Ltd","INDIAINFO.NS",{"$nulls":12},{"$f":"IFERROR(VLOOKUP(ROWS($Z$2:Z1554),K1554:$L$6000,2,0),\"\")","v":""},{"$f":"IFERROR(VLOOKUP(ROWS($AA$2:AA1554),K1554:$M$6000,3,0),\"\")","v":""}]
[{"$nulls":10},{"$f":"IF(ISNUMBER(SEARCH($A$3,L1555)),MAX($K$1:K1554)+1,0)","v":0},"IITL Projects Ltd","INDOGR.BO",{"$nulls":12},{"$f":"IFERROR(VLOOKUP(ROWS($Z$2:Z1555),K1555:$L$6000,2,0),\"\")","v":""},{"$f":"IFERROR(VLOOKUP(ROWS($AA$2:AA1555),K1555:$M$6000,3,0),\"\")","v":""}]
[{"$nulls":10},{"$f":"IF(ISNUMBER(SEARCH($A$3,L1556)),MAX($K$1:K1555)+1,0)","v":0},"IKF Finance Ltd","IKFIN.BO",{"$nulls":12},{"$f":"IFERROR(VLOOKUP(ROWS($Z$2:Z1556),K1556:$L$6000,2,0),\"\")","v":""},{"$f":"IFERROR(VLOOKUP(ROWS($AA$2:AA1556),K1556:$M$6000,3,0),\"\")","v":""}]
[{"$nulls":10},{"$f":"IF(ISNUMBER(SEARCH($A$3,L1557)),MAX($K$1:K1556)+1,0)","v":0},"IKF Technologies Ltd","IKFTECH.BO",{"$nulls":12},{"$f":"IFERROR(VLOOKUP(ROWS($Z$2:Z1557),K1557:$L$6000,2,0),\"\")","v":""},{"$f":"IFERROR(VLOOKUP(ROWS($AA$2:AA1557),K1557:$M$6000,3,0),\"\")","v":""}]
[{"$nulls":10},{"$f":"IF(ISNUMBER(SEARCH($A$3,L1558)),MAX($K$1:K1557)+1,0)","v":0},"IL&FS Engineering","MAYTASINFR.BO",{"$nulls":12},{"$f":"IFERROR(VLOOKUP(ROWS($Z$2:Z1558),K1558:$L$6000,2,0),\"\")","v":""},{"$f":"IFERROR(VLOOKUP(ROWS($AA$2:AA1558),K1558:$M$6000,3,0),\"\")","v":""}]
[{"$nulls":10},{"$f":"IF(ISNUMBER(SEARCH($A$3,L1559)),MAX($K$1:K1558)+1,0)","v":0},"IL&FS Engineering","MAYTASINF.NS",{"$nulls":12},{"$f":"IFERROR(VLOOKUP(ROWS($Z$2:Z1559),K1559:$L$6000,2,0),\"\")","v":""},{"$f":"IFERROR(VLOOKUP(ROWS($AA$2:AA1559),K1559:$M$6000,3,0),\"\")","v":""}]
[{"$nulls":10},{"$f":"IF(ISNUMBER(SEARCH($A$3,L1560)),MAX($K$1:K1559)+1,0)","v":0},"IL&FS Investment Managers Ltd","ILFSVC.BO",{"$nulls":12},{"$f":"IFERROR(VLOOKUP(ROWS($Z$2:Z1560),K1560:$L$6000,2,0),\"\")","v":""},{"$f":"IFERROR(VLOOKUP(ROWS($AA$2:AA1560),K1560:$M$6000,3,0),\"\")","v":""}]
[{"$nulls":10},{"$f":"IF(ISNUMBER(SEARCH($A$3,L1561)),MAX($K$1:K1560)+1,0)","v":0},"IL&FS Investment Managers Ltd","IVC.NS",{"$nulls":12},{"$f":"IFERROR(VLOOKUP(ROWS($Z$2:Z1561),K1561:$L$6000,2,0),\"\")","v":""},{"$f":"IFERROR(VLOOKUP(ROWS($AA$2:AA1561),K1561:$M$6000,3,0),\"\")","v":""}]
[{"$nulls":10},{"$f":"IF(ISNUMBER(SEARCH($A$3,L1562)),MAX($K$1:K1561)+1,0)","v":0},"IL&FS Transportation Netw","ILFSTRANS.BO",{"$nulls":12},{"$f":"IFERROR(VLOOKUP(ROWS($Z$2:Z1562),K1562:$L$6000,2,0),\"\")","v":""},{"$f":"IFERROR(VLOOKUP(ROWS($AA$2:AA1562),K1562:$M$6000,3,0),\"\")","v":""}]
[{"$nulls":10},{"$f":"IF(ISNUMBER(SEARCH($A$3,L1563)),MAX($K$1:K1562)+1,0)","v":0},"IM+ Capitals Ltd","BRESCON.BO",{"$nulls":12},{"$f":"IFERROR(VLOOKUP(ROWS($Z$2:Z1563),K1563:$L$6000,2,0),\"\")","v":""},{"$f":"IFERROR(VLOOKUP(ROWS($AA$2:AA1563),K1563:$M$6000,3,0),\"\")","v":""}]
[{"$nulls":10},{"$f":"IF(ISNUMBER(SEARCH($A$3,L1564)),MAX($K$1:K1563)+1,0)","v":0},"IMP Powers Ltd","IMPOWERS.BO",{"$nulls":12},{"$f":"IFERROR(VLOOKUP(ROWS($Z$2:Z1564),K1564:$L$6000,2,0),\"\")","v":""},{"$f":"IFERROR(VLOOKUP(ROWS($AA$2:AA1564),K1564:$M$6000,3,0),\"\")","v":""}]
[{"$nulls":10},{"$f":"IF(ISNUMBER(SEARCH($A$3,L1565)),MAX($K$1:K1564)+1,0)","v":0},"IMP Powers Ltd","INDLMETER.NS",{"$nulls":12},{"$f":"IFERROR(VLOOKUP(ROWS($Z$2:Z1565),K1565:$L$6000,2,0),\"\")","v":""},{"$f":"IFERROR(VLOOKUP(ROWS($AA$2:AA1565),K1565:$M$6000,3,0),\"\")","v":""}]
[{"$nulls":10},{"$f":"IF(ISNUMBER(SEARCH($A$3,L1566)),MAX($K$1:K1565)+1,0)","v":0},"In House Productions Ltd","INHOUPROD.BO",{"$nulls":12},{"$f":"IFERROR(VLOOKUP(ROWS($Z$2:Z1566),K1566:$L$6000,2,0),\"\")","v":""},{"$f":"IFERROR(VLOOKUP(ROWS($AA$2:AA1566),K1566:$M$6000,3,0),\"\")","v":""}]
[{"$nulls":10},{"$f":"IF(ISNUMBER(SEARCH($A$3,L1567)),MAX($K$1:K1566)+1,0)","v":0},"Inani Marbles & Industries Ltd","INANI.BO",{"$nulls":12},{"$f":"IFERROR(VLOOKUP(ROWS($Z$2:Z1567),K1567:$L$6000,2,0),\"\")","v":""},{"$f":"IFERROR(VLOOKUP(ROWS($AA$2:AA1567),K1567:$M$6000,3,0),\"\")","v":""}]
[{"$nulls":10},{"$f":"IF(ISNUMBER(SEARCH($A$3,L1568)),MAX($K$1:K1567)+1,0)","v":0},"Inani Securities Ltd","INANISEC.BO",{"$nulls":12},{"$f":"IFERROR(VLOOKUP(ROWS($Z$2:Z1568),K1568:$L$6000,2,0),\"\")","v":""},{"$f":"IFERROR(VLOOKUP(ROWS($AA$2:AA1568),K1568:$M$6000,3,0),\"\")","v":""}]
[{"$nulls":10},{"$f":"IF(ISNUMBER(SEARCH($A$3,L1569)),MAX($K$1:K1568)+1,0)","v":0},"Incap Ltd","INCAP.BO",{"$nulls":12},{"$f":"IFERROR(VLOOKUP(ROWS($Z$2:Z1569),K1569:$L$6000,2,0),\"\")","v":""},{"$f":"IFERROR(VLOOKUP(ROWS($AA$2:AA1569),K1569:$M$6000,3,0),\"\")","v":""}]
[{"$nulls":10},{"$f":"IF(ISNUMBER(SEARCH($A$3,L1570)),MAX($K$1:K1569)+1,0)","v":0},"Incon Engineers Ltd","INCON.BO",{"$nulls":12},{"$f":"IFERROR(VLOOKUP(ROWS($Z$2:Z1570),K1570:$L$6000,2,0),\"\")","v":""},{"$f":"IFERROR(VLOOKUP(ROWS($AA$2:AA1570),K1570:$M$6000,3,0),\"\")","v":""}]
[{"$nulls":10},{"$f":"IF(ISNUMBER(SEARCH($A$3,L1571)),MAX($K$1:K1570)+1,0)","v":0},"Ind Bank Housing Ltd","INDBNK.BO",{"$nulls":12},{"$f":"IFERROR(VLOOKUP(ROWS($Z$2:Z1571),K1571:$L$6000,2,0),\"\")","v":""},{"$f":"IFERROR(VLOOKUP(ROWS($AA$2:AA1571),K1571:$M$6000,3,0),\"\")","v":""}]
[{"$nulls":10},{"$f":"IF(ISNUMBER(SEARCH($A$3,L1572)),MAX($K$1:K1571)+1,0)","v":0},"Ind Swift Laboratories Ltd","INDSWFLA.BO",{"$nulls":12},{"$f":"IFERROR(VLOOKUP(ROWS($Z$2:Z1572),K1572:$L$6000,2,0),\"\")","v":""},{"$f":"IFERROR(VLOOKUP(ROWS($AA$2:AA1572),K1572:$M$6000,3,0),\"\")","v":""}]
[{"$nulls":10},{"$f":"IF(ISNUMBER(SEARCH($A$3,L1573)),MAX($K$1:K1572)+1,0)","v":0},"Ind Swift Laboratories Ltd","INDSWFTLA.NS",{"$nulls":12},{"$f":"IFERROR(VLOOKUP(ROWS($Z$2:Z1573),K1573:$L$6000,2,0),\"\")","v":""},{"$f":"IFERROR(VLOOKUP(ROWS($AA$2:AA1573),K1573:$M$6000,3,0),\"\")","v":""}]
[{"$nulls":10},{"$f":"IF(ISNUMBER(SEARCH($A$3,L1574)),MAX($K$1:K1573)+1,0)","v":0},"Ind Tra Deco Ltd","INTRA.BO",{"$nulls":12},{"$f":"IFERROR(VLOOKUP(ROWS($Z$2:Z1574),K1574:$L$6000,2,0),\"\")","v":""},{"$f":"IFERROR(VLOOKUP(ROWS($AA$2:AA1574),K1574:$M$6000,3,0),\"\")","v":""}]
[{"$nulls":10},{"$f":"IF(ISNUMBER(SEARCH($A$3,L1575)),MAX($K$1:K1574)+1,0)","v":0},"Indag Rubber Ltd","INDAG.BO",{"$nulls":12},{"$f":"IFERROR(VLOOKUP(ROWS($Z$2:Z1575),K1575:$L$6000,2,0),\"\")","v":""},{"$f":"IFERROR(VLOOKUP(ROWS($AA$2:AA1575),K1575:$M$6000,3,0),\"\")","v":""}]
[{"$nulls":10},{"$f":"IF(ISNUMBER(SEARCH($A$3,L1576)),MAX($K$1:K1575)+1,0)","v":0},"Ind-Agiv Commerce Ltd","INDAGIV.BO",{"$nulls":12},{"$f":"IFERROR(VLOOKUP(ROWS($Z$2:Z1576),K1576:$L$6000,2,0),\"\")","v":""},{"$f":"IFERROR(VLOOKUP(ROWS($AA$2:AA1576),K1576:$M$6000,3,0),\"\")","v":""}]
[{"$nulls":10},{"$f":"IF(ISNUMBER(SEARCH($A$3,L1577)),MAX($K$1:K1576)+1,0)","v":0},"Indbank Merchant Banking","INDBNKME.BO",{"$nulls":12},{"$f":"IFERROR(VLOOKUP(ROWS($Z$2:Z1577),K1577:$L$6000,2,0),\"\")","v":""},{"$f":"IFERROR(VLOOKUP(ROWS($AA$2:AA1577),K1577:$M$6000,3,0),\"\")","v":""}]
[{"$nulls":10},{"$f":"IF(ISNUMBER(SEARCH($A$3,L1578)),MAX($K$1:K1577)+1,0)","v":0},"Indergiri Finance Ltd","INDERGR.BO",{"$nulls":12},{"$f":"IFERROR(VLOOKUP(ROWS($Z$2:Z1578),K1578:$L$6000,2,0),\"\")","v":""},{"$f":"IFERROR(VLOOKUP(ROWS($AA$2:AA1578),K1578:$M$6000,3,0),\"\")","v":""}]
[{"$nulls":10},{"$f":"IF(ISNUMBER(SEARCH($A$3,L1579)),MAX($K$1:K1578)+1,0)","v":0},"India Cements Capital Ltd","INDCEMCAP.BO",{"$nulls":12},{"$f":"IFERROR(VLOOKUP(ROWS($Z$2:Z1579),K1579:$L$6000,2,0),\"\")","v":""},{"$f":"IFERROR(VLOOKUP(ROWS($AA$2:AA1579),K1579:$M$6000,3,0),\"\")","v":""}]
[{"$nulls":10},{"$f":"IF(ISNUMBER(SEARCH($A$3,L1580)),MAX($K$1:K1579)+1,0)","v":0},"India Cements Ltd","INDIACEM.BO",{"$nulls":12},{"$f":"IFERROR(VLOOKUP(ROWS($Z$2:Z1580),K1580:$L$6000,2,0),\"\")","v":""},{"$f":"IFERROR(VLOOKUP(ROWS($AA$2:AA1580),K1580:$M$6000,3,0),\"\")","v":""}]
[{"$nulls":10},{"$f":"IF(ISNUMBER(SEARCH($A$3,L1581)),MAX($K$1:K1580)+1,0)","v":0},"India Cements Ltd","INDIACEM.NS",{"$nulls":12},{"$f":"IFERROR(VLOOKUP(ROWS($Z$2:Z1581),K1581:$L$6000,2,0),\"\")","v":""},{"$f":"IFERROR(VLOOKUP(ROWS($AA$2:AA1581),K1581:$M$6000,3,0),\"\")","v":""}]
[{"$nulls":10},{"$f":"IF(ISNUMBER(SEARCH($A$3,L1582)),MAX($K$1:K1581)+1,0)","v":0},"India Gelatine & Chemicals Ltd","INDGELA.BO",{"$nulls":12},{"$f":"IFERROR(VLOOKUP(ROWS($Z$2:Z1582),K1582:$L$6000,2,0),\"\")","v":""},{"$f":"IFERROR(VLOOKUP(ROWS($AA$2:AA1582),K1582:$M$6000,3,0),\"\")","v":""}]
[{"$nulls":10},{"$f":"IF(ISNUMBER(SEARCH($A$3,L1583)),MAX($K$1:K1582)+1,0)","v":0},"India Glycols Ltd","INDIAGLYCOL.BO",{"$nulls":12},{"$f":"IFERROR(VLOOKUP(ROWS($Z$2:Z1583),K1583:$L$6000,2,0),\"\")","v":""},{"$f":"IFERROR(VLOOKUP(ROWS($AA$2:AA1583),K1583:$M$6000,3,0),\"\")","v":""}]
[{"$nulls":10},{"$f":"IF(ISNUMBER(SEARCH($A$3,L1584)),MAX($K$1:K1583)+1,0)","v":0},"India Glycols Ltd","INDIAGLYC.NS",{"$nulls":12},{"$f":"IFERROR(VLOOKUP(ROWS($Z$2:Z1584),K1584:$L$6000,2,0),\"\")","v":""},{"$f":"IFERROR(VLOOKUP(ROWS($AA$2:AA1584),K1584:$M$6000,3,0),\"\")","v":""}]
[{"$nulls":10},{"$f":"IF(ISNUMBER(SEARCH($A$3,L1585)),MAX($K$1:K1584)+1,0)","v":0},"India Home Loan Ltd","INDIAHOME.BO",{"$nulls":12},{"$f":"IFERROR(VLOOKUP(ROWS($Z$2:Z1585),K1585:$L$6000,2,0),\"\")","v":""},{"$f":"IFERROR(VLOOKUP(ROWS($AA$2:AA1585),K1585:$M$6000,3,0),\"\")","v":""}]
[{"$nulls":10},{"$f":"IF(ISNUMBER(SEARCH($A$3,L1586)),MAX($K$1:K1585)+1,0)","v":0},"India Lease Development Ltd","INDLEASE.BO",{"$nulls":12},{"$f":"IFERROR(VLOOKUP(ROWS($Z$2:Z1586),K1586:$L$6000,2,0),\"\")","v":""},{"$f":"IFERROR(VLOOKUP(ROWS($AA$2:AA1586),K1586:$M$6000,3,0),\"\")","v":""}]
[{"$nulls":10},{"$f":"IF(ISNUMBER(SEARCH($A$3,L1587)),MAX($K$1:K1586)+1,0)","v":0},"India Motor Parts & Acces","IMPAL.BO",{"$nulls":12},{"$f":"IFERROR(VLOOKUP(ROWS($Z$2:Z1587),K1587:$L$6000,2,0),\"\")","v":""},{"$f":"IFERROR(VLOOKUP(ROWS($AA$2:AA1587),K1587:$M$6000,3,0),\"\")","v":""}]
[{"$nulls":10},{"$f":"IF(ISNUMBER(SEARCH($A$3,L1588)),MAX($K$1:K1587)+1,0)","v":0},"India Nippon Electricals Ltd","INDIANIPPON.BO",{"$nulls":12},{"$f":"IFERROR(VLOOKUP(ROWS($Z$2:Z1588),K1588:$L$6000,2,0),\"\")","v":""},{"$f":"IFERROR(VLOOKUP(ROWS($AA$2:AA1588),K1588:$M$6000,3,0),\"\")","v":""}]
[{"$nulls":10},{"$f":"IF(ISNUMBER(SEARCH($A$3,L1589)),MAX($K$1:K1588)+1,0)","v":0},"India Nippon Electricals Ltd","INDNIPPON.NS",{"$nulls":12},{"$f":"IFERROR(VLOOKUP(ROWS($Z$2:Z1589),K1589:$L$6000,2,0),\"\")","v":""},{"$f":"IFERROR(VLOOKUP(ROWS($AA$2:AA1589),K1589:$M$6000,3,0),\"\")","v":""}]
[{"$nulls":10},{"$f":"IF(ISNUMBER(SEARCH($A$3,L1590)),MAX($K$1:K1589)+1,0)","v":0},"India Steel Works Ltd","ISWL.BO",{"$nulls":12},{"$f":"IFERROR(VLOOKUP(ROWS($Z$2:Z1590),K1590:$L$6000,2,0),\"\")","v":""},{"$f":"IFERROR(VLOOKUP(ROWS($AA$2:AA1590),K1590:$M$6000,3,0),\"\")","v":""}]
[{"$nulls":10},{"$f":"IF(ISNUMBER(SEARCH($A$3,L1591)),MAX($K$1:K1590)+1,0)","v":0},"India Tourism Development","INDTODE.BO",{"$nulls":12},{"$f":"IFERROR(VLOOKUP(ROWS($Z$2:Z1591),K1591:$L$6000,2,0),\"\")","v":""},{"$f":"IFERROR(VLOOKUP(ROWS($AA$2:AA1591),K1591:$M$6000,3,0),\"\")","v":""}]
[{"$nulls":10},{"$f":"IF(ISNUMBER(SEARCH($A$3,L1592)),MAX($K$1:K1591)+1,0)","v":0},"Indiabulls Power Ltd","IBPOWER.BO",{"$nulls":12},{"$f":"IFERROR(VLOOKUP(ROWS($Z$2:Z1592),K1592:$L$6000,2,0),\"\")","v":""},{"$f":"IFERROR(VLOOKUP(ROWS($AA$2:AA1592),K1592:$M$6000,3,0),\"\")","v":""}]
[{"$nulls":10},{"$f":"IF(ISNUMBER(SEARCH($A$3,L1593)),MAX($K$1:K1592)+1,0)","v":0},"Indiabulls Real Estate Ltd","IBREALEST.BO",{"$nulls":12},{"$f":"IFERROR(VLOOKUP(ROWS($Z$2:Z1593),K1593:$L$6000,2,0),\"\")","v":""},{"$f":"IFERROR(VLOOKUP(ROWS($AA$2:AA1593),K1593:$M$6000,3,0),\"\")","v":""}]
[{"$nulls":10},{"$f":"IF(ISNUMBER(SEARCH($A$3,L1594)),MAX($K$1:K1593)+1,0)","v":0},"Indiabulls Real Estate Ltd","IBREALEST.NS",{"$nulls":12},{"$f":"IFERROR(VLOOKUP(ROWS($Z$2:Z1594),K1594:$L$6000,2,0),\"\")","v":""},{"$f":"IFERROR(VLOOKUP(ROWS($AA$2:AA1594),K1594:$M$6000,3,0),\"\")","v":""}]
[{"$nulls":10},{"$f":"IF(ISNUMBER(SEARCH($A$3,L1595)),MAX($K$1:K1594)+1,0)","v":0},"Indiabulls Securities Ltd","IBSEC.BO",{"$nulls":12},{"$f":"IFERROR(VLOOKUP(ROWS($Z$2:Z1595),K1595:$L$6000,2,0),\"\")","v":""},{"$f":"IFERROR(VLOOKUP(ROWS($AA$2:AA1595),K1595:$M$6000,3,0),\"\")","v":""}]
[{"$nulls":10},{"$f":"IF(ISNUMBER(SEARCH($A$3,L1596)),MAX($K$1:K1595)+1,0)","v":0},"Indiabulls Securities Ltd","IBSEC.NS",{"$nulls":12},{"$f":"IFERROR(VLOOKUP(ROWS($Z$2:Z1596),K1596:$L$6000,2,0),\"\")","v":""},{"$f":"IFERROR(VLOOKUP(ROWS($AA$2:AA1596),K1596:$M$6000,3,0),\"\")","v":""}]
[{"$nulls":10},{"$f":"IF(ISNUMBER(SEARCH($A$3,L1597)),MAX($K$1:K1596)+1,0)","v":0},"Indiaco Ventures Ltd","INDIACO.BO",{"$nulls":12},{"$f":"IFERROR(VLOOKUP(ROWS($Z$2:Z1597),K1597:$L$6000,2,0),\"\")","v":""},{"$f":"IFERROR(VLOOKUP(ROWS($AA$2:AA1597),K1597:$M$6000,3,0),\"\")","v":""}]
[{"$nulls":10},{"$f":"IF(ISNUMBER(SEARCH($A$3,L1598)),MAX($K$1:K1597)+1,0)","v":0},"Indian Acrylics Ltd","INDACRY.BO",{"$nulls":12},{"$f":"IFERROR(VLOOKUP(ROWS($Z$2:Z1598),K1598:$L$6000,2,0),\"\")","v":""},{"$f":"IFERROR(VLOOKUP(ROWS($AA$2:AA1598),K1598:$M$6000,3,0),\"\")","v":""}]
[{"$nulls":10},{"$f":"IF(ISNUMBER(SEARCH($A$3,L1599)),MAX($K$1:K1598)+1,0)","v":0},"Indian Bank","INDIANB.BO",{"$nulls":12},{"$f":"IFERROR(VLOOKUP(ROWS($Z$2:Z1599),K1599:$L$6000,2,0),\"\")","v":""},{"$f":"IFERROR(VLOOKUP(ROWS($AA$2:AA1599),K1599:$M$6000,3,0),\"\")","v":""}]
[{"$nulls":10},{"$f":"IF(ISNUMBER(SEARCH($A$3,L1600)),MAX($K$1:K1599)+1,0)","v":0},"Indian Bank","INDIANB.NS",{"$nulls":12},{"$f":"IFERROR(VLOOKUP(ROWS($Z$2:Z1600),K1600:$L$6000,2,0),\"\")","v":""},{"$f":"IFERROR(VLOOKUP(ROWS($AA$2:AA1600),K1600:$M$6000,3,0),\"\")","v":""}]
[{"$nulls":10},{"$f":"IF(ISNUMBER(SEARCH($A$3,L1601)),MAX($K$1:K1600)+1,0)","v":0},"Indian Card Clothing Co Ltd","INDIANCA.BO",{"$nulls":12},{"$f":"IFERROR(VLOOKUP(ROWS($Z$2:Z1601),K1601:$L$6000,2,0),\"\")","v":""},{"$f":"IFERROR(VLOOKUP(ROWS($AA$2:AA1601),K1601:$M$6000,3,0),\"\")","v":""}]
[{"$nulls":10},{"$f":"IF(ISNUMBER(SEARCH($A$3,L1602)),MAX($K$1:K1601)+1,0)","v":0},"Indian Card Clothing Co Ltd","INDIANCAR.NS",{"$nulls":12},{"$f":"IFERROR(VLOOKUP(ROWS($Z$2:Z1602),K1602:$L$6000,2,0),\"\")","v":""},{"$f":"IFERROR(VLOOKUP(ROWS($AA$2:AA1602),K1602:$M$6000,3,0),\"\")","v":""}]
[{"$nulls":10},{"$f":"IF(ISNUMBER(SEARCH($A$3,L1603)),MAX($K$1:K1602)+1,0)","v":0},"Indian Extractions Ltd","INDXTRA.BO",{"$nulls":12},{"$f":"IFERROR(VLOOKUP(ROWS($Z$2:Z1603),K1603:$L$6000,2,0),\"\")","v":""},{"$f":"IFERROR(VLOOKUP(ROWS($AA$2:AA1603),K1603:$M$6000,3,0),\"\")","v":""}]
[{"$nulls":10},{"$f":"IF(ISNUMBER(SEARCH($A$3,L1604)),MAX($K$1:K1603)+1,0)","v":0},"Indian Hotels Co Ltd","INDHOTELS.BO",{"$nulls":12},{"$f":"IFERROR(VLOOKUP(ROWS($Z$2:Z1604),K1604:$L$6000,2,0),\"\")","v":""},{"$f":"IFERROR(VLOOKUP(ROWS($AA$2:AA1604),K1604:$M$6000,3,0),\"\")","v":""}]
[{"$nulls":10},{"$f":"IF(ISNUMBER(SEARCH($A$3,L1605)),MAX($K$1:K1604)+1,0)","v":0},"Indian Hotels Co Ltd","INDHOTEL.NS",{"$nulls":12},{"$f":"IFERROR(VLOOKUP(ROWS($Z$2:Z1605),K1605:$L$6000,2,0),\"\")","v":""},{"$f":"IFERROR(VLOOKUP(ROWS($AA$2:AA1605),K1605:$M$6000,3,0),\"\")","v":""}]
[{"$nulls":10},{"$f":"IF(ISNUMBER(SEARCH($A$3,L1606)),MAX($K$1:K1605)+1,0)","v":0},"Indian Hume Pipe Co Ltd","INDIANHU.BO",{"$nulls":12},{"$f":"IFERROR(VLOOKUP(ROWS($Z$2:Z1606),K1606:$L$6000,2,0),\"\")","v":""},{"$f":"IFERROR(VLOOKUP(ROWS($AA$2:AA1606),K1606:$M$6000,3,0),\"\")","v":""}]
[{"$nulls":10},{"$f":"IF(ISNUMBER(SEARCH($A$3,L1607)),MAX($K$1:K1606)+1,0)","v":0},"Indian Hume Pipe Co Ltd","INDIANHUM.NS",{"$nulls":12},{"$f":"IFERROR(VLOOKUP(ROWS($Z$2:Z1607),K1607:$L$6000,2,0),\"\")","v":""},{"$f":"IFERROR(VLOOKUP(ROWS($AA$2:AA1607),K1607:$M$6000,3,0),\"\")","v":""}]
[{"$nulls":10},{"$f":"IF(ISNUMBER(SEARCH($A$3,L1608)),MAX($K$1:K1607)+1,0)","v":0},"Indian Link Chain","INLCM.BO",{"$nulls":12},{"$f":"IFERROR(VLOOKUP(ROWS($Z$2:Z1608),K1608:$L$6000,2,0),\"\")","v":""},{"$f":"IFERROR(VLOOKUP(ROWS($AA$2:AA1608),K1608:$M$6000,3,0),\"\")","v":""}]
[{"$nulls":10},{"$f":"IF(ISNUMBER(SEARCH($A$3,L1609)),MAX($K$1:K1608)+1,0)","v":0},"Indian Metals & Ferro","IMFA.BO",{"$nulls":12},{"$f":"IFERROR(VLOOKUP(ROWS($Z$2:Z1609),K1609:$L$6000,2,0),\"\")","v":""},{"$f":"IFERROR(VLOOKUP(ROWS($AA$2:AA1609),K1609:$M$6000,3,0),\"\")","v":""}]
[{"$nulls":10},{"$f":"IF(ISNUMBER(SEARCH($A$3,L1610)),MAX($K$1:K1609)+1,0)","v":0},"Indian Oil Corp Ltd","IOC.BO",{"$nulls":12},{"$f":"IFERROR(VLOOKUP(ROWS($Z$2:Z1610),K1610:$L$6000,2,0),\"\")","v":""},{"$f":"IFERROR(VLOOKUP(ROWS($AA$2:AA1610),K1610:$M$6000,3,0),\"\")","v":""}]
[{"$nulls":10},{"$f":"IF(ISNUMBER(SEARCH($A$3,L1611)),MAX($K$1:K1610)+1,0)","v":0},"Indian Oil Corp Ltd","IOC.NS",{"$nulls":12},{"$f":"IFERROR(VLOOKUP(ROWS($Z$2:Z1611),K1611:$L$6000,2,0),\"\")","v":""},{"$f":"IFERROR(VLOOKUP(ROWS($AA$2:AA1611),K1611:$M$6000,3,0),\"\")","v":""}]
[{"$nulls":10},{"$f":"IF(ISNUMBER(SEARCH($A$3,L1612)),MAX($K$1:K1611)+1,0)","v":0},"Indian Overseas Bank","IOB.BO",{"$nulls":12},{"$f":"IFERROR(VLOOKUP(ROWS($Z$2:Z1612),K1612:$L$6000,2,0),\"\")","v":""},{"$f":"IFERROR(VLOOKUP(ROWS($AA$2:AA1612),K1612:$M$6000,3,0),\"\")","v":""}]
[{"$nulls":10},{"$f":"IF(ISNUMBER(SEARCH($A$3,L1613)),MAX($K$1:K1612)+1,0)","v":0},"Indian Overseas Bank","IOB.NS",{"$nulls":12},{"$f":"IFERROR(VLOOKUP(ROWS($Z$2:Z1613),K1613:$L$6000,2,0),\"\")","v":""},{"$f":"IFERROR(VLOOKUP(ROWS($AA$2:AA1613),K1613:$M$6000,3,0),\"\")","v":""}]
[{"$nulls":10},{"$f":"IF(ISNUMBER(SEARCH($A$3,L1614)),MAX($K$1:K1613)+1,0)","v":0},"Indian Sucrose Ltd","INDSUCR.BO",{"$nulls":12},{"$f":"IFERROR(VLOOKUP(ROWS($Z$2:Z1614),K1614:$L$6000,2,0),\"\")","v":""},{"$f":"IFERROR(VLOOKUP(ROWS($AA$2:AA1614),K1614:$M$6000,3,0),\"\")","v":""}]
[{"$nulls":10},{"$f":"IF(ISNUMBER(SEARCH($A$3,L1615)),MAX($K$1:K1614)+1,0)","v":0},"Indian Toners & Developers Ltd","INDTONER.BO",{"$nulls":12},{"$f":"IFERROR(VLOOKUP(ROWS($Z$2:Z1615),K1615:$L$6000,2,0),\"\")","v":""},{"$f":"IFERROR(VLOOKUP(ROWS($AA$2:AA1615),K1615:$M$6000,3,0),\"\")","v":""}]
[{"$nulls":10},{"$f":"IF(ISNUMBER(SEARCH($A$3,L1616)),MAX($K$1:K1615)+1,0)","v":0},"Inditrade Capital Ltd","JRG.BO",{"$nulls":12},{"$f":"IFERROR(VLOOKUP(ROWS($Z$2:Z1616),K1616:$L$6000,2,0),\"\")","v":""},{"$f":"IFERROR(VLOOKUP(ROWS($AA$2:AA1616),K1616:$M$6000,3,0),\"\")","v":""}]
[{"$nulls":10},{"$f":"IF(ISNUMBER(SEARCH($A$3,L1617)),MAX($K$1:K1616)+1,0)","v":0},"Indo Amines Ltd","INDOAMIN.BO",{"$nulls":12},{"$f":"IFERROR(VLOOKUP(ROWS($Z$2:Z1617),K1617:$L$6000,2,0),\"\")","v":""},{"$f":"IFERROR(VLOOKUP(ROWS($AA$2:AA1617),K1617:$M$6000,3,0),\"\")","v":""}]
[{"$nulls":10},{"$f":"IF(ISNUMBER(SEARCH($A$3,L1618)),MAX($K$1:K1617)+1,0)","v":0},"Indo Asian Finance Ltd","INDOASIAF.BO",{"$nulls":12},{"$f":"IFERROR(VLOOKUP(ROWS($Z$2:Z1618),K1618:$L$6000,2,0),\"\")","v":""},{"$f":"IFERROR(VLOOKUP(ROWS($AA$2:AA1618),K1618:$M$6000,3,0),\"\")","v":""}]
[{"$nulls":10},{"$f":"IF(ISNUMBER(SEARCH($A$3,L1619)),MAX($K$1:K1618)+1,0)","v":0},"Indo Bonito Multinational Ltd","INDOBONIT.BO",{"$nulls":12},{"$f":"IFERROR(VLOOKUP(ROWS($Z$2:Z1619),K1619:$L$6000,2,0),\"\")","v":""},{"$f":"IFERROR(VLOOKUP(ROWS($AA$2:AA1619),K1619:$M$6000,3,0),\"\")","v":""}]
[{"$nulls":10},{"$f":"IF(ISNUMBER(SEARCH($A$3,L1620)),MAX($K$1:K1619)+1,0)","v":0},"Indo Borax & Chemicals Ltd","INDOBORAX.BO",{"$nulls":12},{"$f":"IFERROR(VLOOKUP(ROWS($Z$2:Z1620),K1620:$L$6000,2,0),\"\")","v":""},{"$f":"IFERROR(VLOOKUP(ROWS($AA$2:AA1620),K1620:$M$6000,3,0),\"\")","v":""}]
[{"$nulls":10},{"$f":"IF(ISNUMBER(SEARCH($A$3,L1621)),MAX($K$1:K1620)+1,0)","v":0},"Indo Count Industries Ltd","INDOCOUIN.BO",{"$nulls":12},{"$f":"IFERROR(VLOOKUP(ROWS($Z$2:Z1621),K1621:$L$6000,2,0),\"\")","v":""},{"$f":"IFERROR(VLOOKUP(ROWS($AA$2:AA1621),K1621:$M$6000,3,0),\"\")","v":""}]
[{"$nulls":10},{"$f":"IF(ISNUMBER(SEARCH($A$3,L1622)),MAX($K$1:K1621)+1,0)","v":0},"Indo Count Industries Ltd","ICIL.NS",{"$nulls":12},{"$f":"IFERROR(VLOOKUP(ROWS($Z$2:Z1622),K1622:$L$6000,2,0),\"\")","v":""},{"$f":"IFERROR(VLOOKUP(ROWS($AA$2:AA1622),K1622:$M$6000,3,0),\"\")","v":""}]
[{"$nulls":10},{"$f":"IF(ISNUMBER(SEARCH($A$3,L1623)),MAX($K$1:K1622)+1,0)","v":0},"Indo Credit Capital Ltd","INDOCRED.BO",{"$nulls":12},{"$f":"IFERROR(VLOOKUP(ROWS($Z$2:Z1623),K1623:$L$6000,2,0),\"\")","v":""},{"$f":"IFERROR(VLOOKUP(ROWS($AA$2:AA1623),K1623:$M$6000,3,0),\"\")","v":""}]
[{"$nulls":10},{"$f":"IF(ISNUMBER(SEARCH($A$3,L1624)),MAX($K$1:K1623)+1,0)","v":0},"Indo Euro Indchem Ltd","RINKUPL.BO",{"$nulls":12},{"$f":"IFERROR(VLOOKUP(ROWS($Z$2:Z1624),K1624:$L$6000,2,0),\"\")","v":""},{"$f":"IFERROR(VLOOKUP(ROWS($AA$2:AA1624),K1624:$M$6000,3,0),\"\")","v":""}]
[{"$nulls":10},{"$f":"IF(ISNUMBER(SEARCH($A$3,L1625)),MAX($K$1:K1624)+1,0)","v":0},"Indo Rama Synthetics","INDORAMASYN.BO",{"$nulls":12},{"$f":"IFERROR(VLOOKUP(ROWS($Z$2:Z1625),K1625:$L$6000,2,0),\"\")","v":""},{"$f":"IFERROR(VLOOKUP(ROWS($AA$2:AA1625),K1625:$M$6000,3,0),\"\")","v":""}]
[{"$nulls":10},{"$f":"IF(ISNUMBER(SEARCH($A$3,L1626)),MAX($K$1:K1625)+1,0)","v":0},"Indo Rama Synthetics","INDORAMA.NS",{"$nulls":12},{"$f":"IFERROR(VLOOKUP(ROWS($Z$2:Z1626),K1626:$L$6000,2,0),\"\")","v":""},{"$f":"IFERROR(VLOOKUP(ROWS($AA$2:AA1626),K1626:$M$6000,3,0),\"\")","v":""}]
[{"$nulls":10},{"$f":"IF(ISNUMBER(SEARCH($A$3,L1627)),MAX($K$1:K1626)+1,0)","v":0},"Indo Tech Transformers Ltd","INDOTECH.BO",{"$nulls":12},{"$f":"IFERROR(VLOOKUP(ROWS($Z$2:Z1627),K1627:$L$6000,2,0),\"\")","v":""},{"$f":"IFERROR(VLOOKUP(ROWS($AA$2:AA1627),K1627:$M$6000,3,0),\"\")","v":""}]
[{"$nulls":10},{"$f":"IF(ISNUMBER(SEARCH($A$3,L1628)),MAX($K$1:K1627)+1,0)","v":0},"Indo Tech Transformers Ltd","INDOTECH.NS",{"$nulls":12},{"$f":"IFERROR(VLOOKUP(ROWS($Z$2:Z1628),K1628:$L$6000,2,0),\"\")","v":""},{"$f":"IFERROR(VLOOKUP(ROWS($AA$2:AA1628),K1628:$M$6000,3,0),\"\")","v":""}]
[{"$nulls":10},{"$f":"IF(ISNUMBER(SEARCH($A$3,L1629)),MAX($K$1:K1628)+1,0)","v":0},"Indo Thai Securities Ltd","INDOTHAI.NS",{"$nulls":12},{"$f":"IFERROR(VLOOKUP(ROWS($Z$2:Z1629),K1629:$L$6000,2,0),\"\")","v":""},{"$f":"IFERROR(VLOOKUP(ROWS($AA$2:AA1629),K1629:$M$6000,3,0),\"\")","v":""}]
[{"$nulls":10},{"$f":"IF(ISNUMBER(SEARCH($A$3,L1630)),MAX($K$1:K1629)+1,0)","v":0},"Indo-Asian Projects Ltd","INDOASIAP.BO",{"$nulls":12},{"$f":"IFERROR(VLOOKUP(ROWS($Z$2:Z1630),K1630:$L$6000,2,0),\"\")","v":""},{"$f":"IFERROR(VLOOKUP(ROWS($AA$2:AA1630),K1630:$M$6000,3,0),\"\")","v":""}]
[{"$nulls":10},{"$f":"IF(ISNUMBER(SEARCH($A$3,L1631)),MAX($K$1:K1630)+1,0)","v":0},"Indo-City Infotech Ltd","INDOCITY.BO",{"$nulls":12},{"$f":"IFERROR(VLOOKUP(ROWS($Z$2:Z1631),K1631:$L$6000,2,0),\"\")","v":""},{"$f":"IFERROR(VLOOKUP(ROWS($AA$2:AA1631),K1631:$M$6000,3,0),\"\")","v":""}]
[{"$nulls":10},{"$f":"IF(ISNUMBER(SEARCH($A$3,L1632)),MAX($K$1:K1631)+1,0)","v":0},"Indokem Ltd","INDOKEM.BO",{"$nulls":12},{"$f":"IFERROR(VLOOKUP(ROWS($Z$2:Z1632),K1632:$L$6000,2,0),\"\")","v":""},{"$f":"IFERROR(VLOOKUP(ROWS($AA$2:AA1632),K1632:$M$6000,3,0),\"\")","v":""}]
[{"$nulls":10},{"$f":"IF(ISNUMBER(SEARCH($A$3,L1633)),MAX($K$1:K1632)+1,0)","v":0},"Indo-National Ltd","NIPPO.BO",{"$nulls":12},{"$f":"IFERROR(VLOOKUP(ROWS($Z$2:Z1633),K1633:$L$6000,2,0),\"\")","v":""},{"$f":"IFERROR(VLOOKUP(ROWS($AA$2:AA1633),K1633:$M$6000,3,0),\"\")","v":""}]
[{"$nulls":10},{"$f":"IF(ISNUMBER(SEARCH($A$3,L1634)),MAX($K$1:K1633)+1,0)","v":0},"Indo-National Ltd","NIPPOBATR.NS",{"$nulls":12},{"$f":"IFERROR(VLOOKUP(ROWS($Z$2:Z1634),K1634:$L$6000,2,0),\"\")","v":""},{"$f":"IFERROR(VLOOKUP(ROWS($AA$2:AA1634),K1634:$M$6000,3,0),\"\")","v":""}]
[{"$nulls":10},{"$f":"IF(ISNUMBER(SEARCH($A$3,L1635)),MAX($K$1:K1634)+1,0)","v":0},"Indo-Pacific Software","INDOPACIF.BO",{"$nulls":12},{"$f":"IFERROR(VLOOKUP(ROWS($Z$2:Z1635),K1635:$L$6000,2,0),\"\")","v":""},{"$f":"IFERROR(VLOOKUP(ROWS($AA$2:AA1635),K1635:$M$6000,3,0),\"\")","v":""}]
[{"$nulls":10},{"$f":"IF(ISNUMBER(SEARCH($A$3,L1636)),MAX($K$1:K1635)+1,0)","v":0},"Indowind Energy Ltd","INDOWIND.BO",{"$nulls":12},{"$f":"IFERROR(VLOOKUP(ROWS($Z$2:Z1636),K1636:$L$6000,2,0),\"\")","v":""},{"$f":"IFERROR(VLOOKUP(ROWS($AA$2:AA1636),K1636:$M$6000,3,0),\"\")","v":""}]
[{"$nulls":10},{"$f":"IF(ISNUMBER(SEARCH($A$3,L1637)),MAX($K$1:K1636)+1,0)","v":0},"Indowind Energy Ltd","INDOWIND.NS",{"$nulls":12},{"$f":"IFERROR(VLOOKUP(ROWS($Z$2:Z1637),K1637:$L$6000,2,0),\"\")","v":""},{"$f":"IFERROR(VLOOKUP(ROWS($AA$2:AA1637),K1637:$M$6000,3,0),\"\")","v":""}]
[{"$nulls":10},{"$f":"IF(ISNUMBER(SEARCH($A$3,L1638)),MAX($K$1:K1637)+1,0)","v":0},"Indraprastha Gas Ltd","IGL.BO",{"$nulls":12},{"$f":"IFERROR(VLOOKUP(ROWS($Z$2:Z1638),K1638:$L$6000,2,0),\"\")","v":""},{"$f":"IFERROR(VLOOKUP(ROWS($AA$2:AA1638),K1638:$M$6000,3,0),\"\")","v":""}]
[{"$nulls":10},{"$f":"IF(ISNUMBER(SEARCH($A$3,L1639)),MAX($K$1:K1638)+1,0)","v":0},"Indraprastha Gas Ltd","IGL.NS",{"$nulls":12},{"$f":"IFERROR(VLOOKUP(ROWS($Z$2:Z1639),K1639:$L$6000,2,0),\"\")","v":""},{"$f":"IFERROR(VLOOKUP(ROWS($AA$2:AA1639),K1639:$M$6000,3,0),\"\")","v":""}]
[{"$nulls":10},{"$f":"IF(ISNUMBER(SEARCH($A$3,L1640)),MAX($K$1:K1639)+1,0)","v":0},"Indraprastha Medical Corp Ltd","INDRAMEDCO.BO",{"$nulls":12},{"$f":"IFERROR(VLOOKUP(ROWS($Z$2:Z1640),K1640:$L$6000,2,0),\"\")","v":""},{"$f":"IFERROR(VLOOKUP(ROWS($AA$2:AA1640),K1640:$M$6000,3,0),\"\")","v":""}]
[{"$nulls":10},{"$f":"IF(ISNUMBER(SEARCH($A$3,L1641)),MAX($K$1:K1640)+1,0)","v":0},"Indraprastha Medical Corp Ltd","INDRAMEDC.NS",{"$nulls":12},{"$f":"IFERROR(VLOOKUP(ROWS($Z$2:Z1641),K1641:$L$6000,2,0),\"\")","v":""},{"$f":"IFERROR(VLOOKUP(ROWS($AA$2:AA1641),K1641:$M$6000,3,0),\"\")","v":""}]
[{"$nulls":10},{"$f":"IF(ISNUMBER(SEARCH($A$3,L1642)),MAX($K$1:K1641)+1,0)","v":0},"Indsil Hydro Power","INDSILHYD.BO",{"$nulls":12},{"$f":"IFERROR(VLOOKUP(ROWS($Z$2:Z1642),K1642:$L$6000,2,0),\"\")","v":""},{"$f":"IFERROR(VLOOKUP(ROWS($AA$2:AA1642),K1642:$M$6000,3,0),\"\")","v":""}]
[{"$nulls":10},{"$f":"IF(ISNUMBER(SEARCH($A$3,L1643)),MAX($K$1:K1642)+1,0)","v":0},"Ind-Swift Ltd","INDSWIF.BO",{"$nulls":12},{"$f":"IFERROR(VLOOKUP(ROWS($Z$2:Z1643),K1643:$L$6000,2,0),\"\")","v":""},{"$f":"IFERROR(VLOOKUP(ROWS($AA$2:AA1643),K1643:$M$6000,3,0),\"\")","v":""}]
[{"$nulls":10},{"$f":"IF(ISNUMBER(SEARCH($A$3,L1644)),MAX($K$1:K1643)+1,0)","v":0},"Ind-Swift Ltd","INDSWFTLT.NS",{"$nulls":12},{"$f":"IFERROR(VLOOKUP(ROWS($Z$2:Z1644),K1644:$L$6000,2,0),\"\")","v":""},{"$f":"IFERROR(VLOOKUP(ROWS($AA$2:AA1644),K1644:$M$6000,3,0),\"\")","v":""}]
[{"$nulls":10},{"$f":"IF(ISNUMBER(SEARCH($A$3,L1645)),MAX($K$1:K1644)+1,0)","v":0},"Inducto Steel Ltd","INDCTST.BO",{"$nulls":12},{"$f":"IFERROR(VLOOKUP(ROWS($Z$2:Z1645),K1645:$L$6000,2,0),\"\")","v":""},{"$f":"IFERROR(VLOOKUP(ROWS($AA$2:AA1645),K1645:$M$6000,3,0),\"\")","v":""}]
[{"$nulls":10},{"$f":"IF(ISNUMBER(SEARCH($A$3,L1646)),MAX($K$1:K1645)+1,0)","v":0},"Indus Fila Ltd","INDUSFILA.BO",{"$nulls":12},{"$f":"IFERROR(VLOOKUP(ROWS($Z$2:Z1646),K1646:$L$6000,2,0),\"\")","v":""},{"$f":"IFERROR(VLOOKUP(ROWS($AA$2:AA1646),K1646:$M$6000,3,0),\"\")","v":""}]
[{"$nulls":10},{"$f":"IF(ISNUMBER(SEARCH($A$3,L1647)),MAX($K$1:K1646)+1,0)","v":0},"Indus Fila Ltd","INDUSFILA.NS",{"$nulls":12},{"$f":"IFERROR(VLOOKUP(ROWS($Z$2:Z1647),K1647:$L$6000,2,0),\"\")","v":""},{"$f":"IFERROR(VLOOKUP(ROWS($AA$2:AA1647),K1647:$M$6000,3,0),\"\")","v":""}]
[{"$nulls":10},{"$f":"IF(ISNUMBER(SEARCH($A$3,L1648)),MAX($K$1:K1647)+1,0)","v":0},"Indus Finance Corp Ltd","SUBUTHI.BO",{"$nulls":12},{"$f":"IFERROR(VLOOKUP(ROWS($Z$2:Z1648),K1648:$L$6000,2,0),\"\")","v":""},{"$f":"IFERROR(VLOOKUP(ROWS($AA$2:AA1648),K1648:$M$6000,3,0),\"\")","v":""}]
[{"$nulls":10},{"$f":"IF(ISNUMBER(SEARCH($A$3,L1649)),MAX($K$1:K1648)+1,0)","v":0},"IndusInd Bank Ltd","INDUSINDBK.BO",{"$nulls":12},{"$f":"IFERROR(VLOOKUP(ROWS($Z$2:Z1649),K1649:$L$6000,2,0),\"\")","v":""},{"$f":"IFERROR(VLOOKUP(ROWS($AA$2:AA1649),K1649:$M$6000,3,0),\"\")","v":""}]
[{"$nulls":10},{"$f":"IF(ISNUMBER(SEARCH($A$3,L1650)),MAX($K$1:K1649)+1,0)","v":0},"IndusInd Bank Ltd","INDUSINDB.NS",{"$nulls":12},{"$f":"IFERROR(VLOOKUP(ROWS($Z$2:Z1650),K1650:$L$6000,2,0),\"\")","v":""},{"$f":"IFERROR(VLOOKUP(ROWS($AA$2:AA1650),K1650:$M$6000,3,0),\"\")","v":""}]
[{"$nulls":10},{"$f":"IF(ISNUMBER(SEARCH($A$3,L1651)),MAX($K$1:K1650)+1,0)","v":0},"Industrial & Prudential","INDPRUD.BO",{"$nulls":12},{"$f":"IFERROR(VLOOKUP(ROWS($Z$2:Z1651),K1651:$L$6000,2,0),\"\")","v":""},{"$f":"IFERROR(VLOOKUP(ROWS($AA$2:AA1651),K1651:$M$6000,3,0),\"\")","v":""}]
[{"$nulls":10},{"$f":"IF(ISNUMBER(SEARCH($A$3,L1652)),MAX($K$1:K1651)+1,0)","v":0},"Industrial Investment","IITL.BO",{"$nulls":12},{"$f":"IFERROR(VLOOKUP(ROWS($Z$2:Z1652),K1652:$L$6000,2,0),\"\")","v":""},{"$f":"IFERROR(VLOOKUP(ROWS($AA$2:AA1652),K1652:$M$6000,3,0),\"\")","v":""}]
[{"$nulls":10},{"$f":"IF(ISNUMBER(SEARCH($A$3,L1653)),MAX($K$1:K1652)+1,0)","v":0},"Infinite Computer Solutio","INFINITE.BO",{"$nulls":12},{"$f":"IFERROR(VLOOKUP(ROWS($Z$2:Z1653),K1653:$L$6000,2,0),\"\")","v":""},{"$f":"IFERROR(VLOOKUP(ROWS($AA$2:AA1653),K1653:$M$6000,3,0),\"\")","v":""}]
[{"$nulls":10},{"$f":"IF(ISNUMBER(SEARCH($A$3,L1654)),MAX($K$1:K1653)+1,0)","v":0},"Info Edge (India) Ltd","NAUKRI.BO",{"$nulls":12},{"$f":"IFERROR(VLOOKUP(ROWS($Z$2:Z1654),K1654:$L$6000,2,0),\"\")","v":""},{"$f":"IFERROR(VLOOKUP(ROWS($AA$2:AA1654),K1654:$M$6000,3,0),\"\")","v":""}]
[{"$nulls":10},{"$f":"IF(ISNUMBER(SEARCH($A$3,L1655)),MAX($K$1:K1654)+1,0)","v":0},"Info Edge (India) Ltd","NAUKRI.NS",{"$nulls":12},{"$f":"IFERROR(VLOOKUP(ROWS($Z$2:Z1655),K1655:$L$6000,2,0),\"\")","v":""},{"$f":"IFERROR(VLOOKUP(ROWS($AA$2:AA1655),K1655:$M$6000,3,0),\"\")","v":""}]
[{"$nulls":10},{"$f":"IF(ISNUMBER(SEARCH($A$3,L1656)),MAX($K$1:K1655)+1,0)","v":0},"Info-Drive Software Ltd","INFDS.BO",{"$nulls":12},{"$f":"IFERROR(VLOOKUP(ROWS($Z$2:Z1656),K1656:$L$6000,2,0),\"\")","v":""},{"$f":"IFERROR(VLOOKUP(ROWS($AA$2:AA1656),K1656:$M$6000,3,0),\"\")","v":""}]
[{"$nulls":10},{"$f":"IF(ISNUMBER(SEARCH($A$3,L1657)),MAX($K$1:K1656)+1,0)","v":0},"Infomedia Press Ltd","INFOMEDIA.BO",{"$nulls":12},{"$f":"IFERROR(VLOOKUP(ROWS($Z$2:Z1657),K1657:$L$6000,2,0),\"\")","v":""},{"$f":"IFERROR(VLOOKUP(ROWS($AA$2:AA1657),K1657:$M$6000,3,0),\"\")","v":""}]
[{"$nulls":10},{"$f":"IF(ISNUMBER(SEARCH($A$3,L1658)),MAX($K$1:K1657)+1,0)","v":0},"Infomedia Press Ltd","INFOMEDIA.NS",{"$nulls":12},{"$f":"IFERROR(VLOOKUP(ROWS($Z$2:Z1658),K1658:$L$6000,2,0),\"\")","v":""},{"$f":"IFERROR(VLOOKUP(ROWS($AA$2:AA1658),K1658:$M$6000,3,0),\"\")","v":""}]
[{"$nulls":10},{"$f":"IF(ISNUMBER(SEARCH($A$3,L1659)),MAX($K$1:K1658)+1,0)","v":0},"Informed Technologies Ind","INFORTEC.BO",{"$nulls":12},{"$f":"IFERROR(VLOOKUP(ROWS($Z$2:Z1659),K1659:$L$6000,2,0),\"\")","v":""},{"$f":"IFERROR(VLOOKUP(ROWS($AA$2:AA1659),K1659:$M$6000,3,0),\"\")","v":""}]
[{"$nulls":10},{"$f":"IF(ISNUMBER(SEARCH($A$3,L1660)),MAX($K$1:K1659)+1,0)","v":0},"Infosys Ltd","INFY.BO",{"$nulls":12},{"$f":"IFERROR(VLOOKUP(ROWS($Z$2:Z1660),K1660:$L$6000,2,0),\"\")","v":""},{"$f":"IFERROR(VLOOKUP(ROWS($AA$2:AA1660),K1660:$M$6000,3,0),\"\")","v":""}]
[{"$nulls":10},{"$f":"IF(ISNUMBER(SEARCH($A$3,L1661)),MAX($K$1:K1660)+1,0)","v":0},"Infosys Ltd","INFOSYSTC.NS",{"$nulls":12},{"$f":"IFERROR(VLOOKUP(ROWS($Z$2:Z1661),K1661:$L$6000,2,0),\"\")","v":""},{"$f":"IFERROR(VLOOKUP(ROWS($AA$2:AA1661),K1661:$M$6000,3,0),\"\")","v":""}]
[{"$nulls":10},{"$f":"IF(ISNUMBER(SEARCH($A$3,L1662)),MAX($K$1:K1661)+1,0)","v":0},"Infra Industries Ltd","INFRAIND.BO",{"$nulls":12},{"$f":"IFERROR(VLOOKUP(ROWS($Z$2:Z1662),K1662:$L$6000,2,0),\"\")","v":""},{"$f":"IFERROR(VLOOKUP(ROWS($AA$2:AA1662),K1662:$M$6000,3,0),\"\")","v":""}]
[{"$nulls":10},{"$f":"IF(ISNUMBER(SEARCH($A$3,L1663)),MAX($K$1:K1662)+1,0)","v":0},"ING Vysya Bank Ltd","INGVYSYA.BO",{"$nulls":12},{"$f":"IFERROR(VLOOKUP(ROWS($Z$2:Z1663),K1663:$L$6000,2,0),\"\")","v":""},{"$f":"IFERROR(VLOOKUP(ROWS($AA$2:AA1663),K1663:$M$6000,3,0),\"\")","v":""}]
[{"$nulls":10},{"$f":"IF(ISNUMBER(SEARCH($A$3,L1664)),MAX($K$1:K1663)+1,0)","v":0},"ING Vysya Bank Ltd","INGVYSYAB.NS",{"$nulls":12},{"$f":"IFERROR(VLOOKUP(ROWS($Z$2:Z1664),K1664:$L$6000,2,0),\"\")","v":""},{"$f":"IFERROR(VLOOKUP(ROWS($AA$2:AA1664),K1664:$M$6000,3,0),\"\")","v":""}]
[{"$nulls":10},{"$f":"IF(ISNUMBER(SEARCH($A$3,L1665)),MAX($K$1:K1664)+1,0)","v":0},"Ingersoll Rand (India) Ltd","INGERSOL.BO",{"$nulls":12},{"$f":"IFERROR(VLOOKUP(ROWS($Z$2:Z1665),K1665:$L$6000,2,0),\"\")","v":""},{"$f":"IFERROR(VLOOKUP(ROWS($AA$2:AA1665),K1665:$M$6000,3,0),\"\")","v":""}]
[{"$nulls":10},{"$f":"IF(ISNUMBER(SEARCH($A$3,L1666)),MAX($K$1:K1665)+1,0)","v":0},"Ingersoll Rand (India) Ltd","INGERRAND.NS",{"$nulls":12},{"$f":"IFERROR(VLOOKUP(ROWS($Z$2:Z1666),K1666:$L$6000,2,0),\"\")","v":""},{"$f":"IFERROR(VLOOKUP(ROWS($AA$2:AA1666),K1666:$M$6000,3,0),\"\")","v":""}]
[{"$nulls":10},{"$f":"IF(ISNUMBER(SEARCH($A$3,L1667)),MAX($K$1:K1666)+1,0)","v":0},"Innocorp Ltd","INNOCORP.BO",{"$nulls":12},{"$f":"IFERROR(VLOOKUP(ROWS($Z$2:Z1667),K1667:$L$6000,2,0),\"\")","v":""},{"$f":"IFERROR(VLOOKUP(ROWS($AA$2:AA1667),K1667:$M$6000,3,0),\"\")","v":""}]
[{"$nulls":10},{"$f":"IF(ISNUMBER(SEARCH($A$3,L1668)),MAX($K$1:K1667)+1,0)","v":0},"Innovation Software","INSOE.BO",{"$nulls":12},{"$f":"IFERROR(VLOOKUP(ROWS($Z$2:Z1668),K1668:$L$6000,2,0),\"\")","v":""},{"$f":"IFERROR(VLOOKUP(ROWS($AA$2:AA1668),K1668:$M$6000,3,0),\"\")","v":""}]
[{"$nulls":10},{"$f":"IF(ISNUMBER(SEARCH($A$3,L1669)),MAX($K$1:K1668)+1,0)","v":0},"Inox Leisure Ltd","INOXLEISUR.BO",{"$nulls":12},{"$f":"IFERROR(VLOOKUP(ROWS($Z$2:Z1669),K1669:$L$6000,2,0),\"\")","v":""},{"$f":"IFERROR(VLOOKUP(ROWS($AA$2:AA1669),K1669:$M$6000,3,0),\"\")","v":""}]
[{"$nulls":10},{"$f":"IF(ISNUMBER(SEARCH($A$3,L1670)),MAX($K$1:K1669)+1,0)","v":0},"Inox Leisure Ltd","INOXLEISU.NS",{"$nulls":12},{"$f":"IFERROR(VLOOKUP(ROWS($Z$2:Z1670),K1670:$L$6000,2,0),\"\")","v":""},{"$f":"IFERROR(VLOOKUP(ROWS($AA$2:AA1670),K1670:$M$6000,3,0),\"\")","v":""}]
[{"$nulls":10},{"$f":"IF(ISNUMBER(SEARCH($A$3,L1671)),MAX($K$1:K1670)+1,0)","v":0},"Insecticides (India) Ltd","INSECTCID.BO",{"$nulls":12},{"$f":"IFERROR(VLOOKUP(ROWS($Z$2:Z1671),K1671:$L$6000,2,0),\"\")","v":""},{"$f":"IFERROR(VLOOKUP(ROWS($AA$2:AA1671),K1671:$M$6000,3,0),\"\")","v":""}]
[{"$nulls":10},{"$f":"IF(ISNUMBER(SEARCH($A$3,L1672)),MAX($K$1:K1671)+1,0)","v":0},"Insecticides (India) Ltd","INSECTICI.NS",{"$nulls":12},{"$f":"IFERROR(VLOOKUP(ROWS($Z$2:Z1672),K1672:$L$6000,2,0),\"\")","v":""},{"$f":"IFERROR(VLOOKUP(ROWS($AA$2:AA1672),K1672:$M$6000,3,0),\"\")","v":""}]
[{"$nulls":10},{"$f":"IF(ISNUMBER(SEARCH($A$3,L1673)),MAX($K$1:K1672)+1,0)","v":0},"Insilco Ltd","INSILCO.BO",{"$nulls":12},{"$f":"IFERROR(VLOOKUP(ROWS($Z$2:Z1673),K1673:$L$6000,2,0),\"\")","v":""},{"$f":"IFERROR(VLOOKUP(ROWS($AA$2:AA1673),K1673:$M$6000,3,0),\"\")","v":""}]
[{"$nulls":10},{"$f":"IF(ISNUMBER(SEARCH($A$3,L1674)),MAX($K$1:K1673)+1,0)","v":0},"Intec Capital Ltd","INTECCAP.BO",{"$nulls":12},{"$f":"IFERROR(VLOOKUP(ROWS($Z$2:Z1674),K1674:$L$6000,2,0),\"\")","v":""},{"$f":"IFERROR(VLOOKUP(ROWS($AA$2:AA1674),K1674:$M$6000,3,0),\"\")","v":""}]
[{"$nulls":10},{"$f":"IF(ISNUMBER(SEARCH($A$3,L1675)),MAX($K$1:K1674)+1,0)","v":0},"Integra Capital Management Ltd","INTCAPM.BO",{"$nulls":12},{"$f":"IFERROR(VLOOKUP(ROWS($Z$2:Z1675),K1675:$L$6000,2,0),\"\")","v":""},{"$f":"IFERROR(VLOOKUP(ROWS($AA$2:AA1675),K1675:$M$6000,3,0),\"\")","v":""}]
[{"$nulls":10},{"$f":"IF(ISNUMBER(SEARCH($A$3,L1676)),MAX($K$1:K1675)+1,0)","v":0},"Integra Engineering India Ltd","SCHEI.BO",{"$nulls":12},{"$f":"IFERROR(VLOOKUP(ROWS($Z$2:Z1676),K1676:$L$6000,2,0),\"\")","v":""},{"$f":"IFERROR(VLOOKUP(ROWS($AA$2:AA1676),K1676:$M$6000,3,0),\"\")","v":""}]
[{"$nulls":10},{"$f":"IF(ISNUMBER(SEARCH($A$3,L1677)),MAX($K$1:K1676)+1,0)","v":0},"Integrated Financial Serv","IFSL.BO",{"$nulls":12},{"$f":"IFERROR(VLOOKUP(ROWS($Z$2:Z1677),K1677:$L$6000,2,0),\"\")","v":""},{"$f":"IFERROR(VLOOKUP(ROWS($AA$2:AA1677),K1677:$M$6000,3,0),\"\")","v":""}]
[{"$nulls":10},{"$f":"IF(ISNUMBER(SEARCH($A$3,L1678)),MAX($K$1:K1677)+1,0)","v":0},"Integrated Hitech Ltd","INTEGHIT.BO",{"$nulls":12},{"$f":"IFERROR(VLOOKUP(ROWS($Z$2:Z1678),K1678:$L$6000,2,0),\"\")","v":""},{"$f":"IFERROR(VLOOKUP(ROWS($AA$2:AA1678),K1678:$M$6000,3,0),\"\")","v":""}]
[{"$nulls":10},{"$f":"IF(ISNUMBER(SEARCH($A$3,L1679)),MAX($K$1:K1678)+1,0)","v":0},"Integrated Technologies Ltd","INTECH.BO",{"$nulls":12},{"$f":"IFERROR(VLOOKUP(ROWS($Z$2:Z1679),K1679:$L$6000,2,0),\"\")","v":""},{"$f":"IFERROR(VLOOKUP(ROWS($AA$2:AA1679),K1679:$M$6000,3,0),\"\")","v":""}]
[{"$nulls":10},{"$f":"IF(ISNUMBER(SEARCH($A$3,L1680)),MAX($K$1:K1679)+1,0)","v":0},"Intellivate Capital Ventu","INTELLCAP.BO",{"$nulls":12},{"$f":"IFERROR(VLOOKUP(ROWS($Z$2:Z1680),K1680:$L$6000,2,0),\"\")","v":""},{"$f":"IFERROR(VLOOKUP(ROWS($AA$2:AA1680),K1680:$M$6000,3,0),\"\")","v":""}]
[{"$nulls":10},{"$f":"IF(ISNUMBER(SEARCH($A$3,L1681)),MAX($K$1:K1680)+1,0)","v":0},"Intellvisions Software Ltd","INTELVIS.BO",{"$nulls":12},{"$f":"IFERROR(VLOOKUP(ROWS($Z$2:Z1681),K1681:$L$6000,2,0),\"\")","v":""},{"$f":"IFERROR(VLOOKUP(ROWS($AA$2:AA1681),K1681:$M$6000,3,0),\"\")","v":""}]
[{"$nulls":10},{"$f":"IF(ISNUMBER(SEARCH($A$3,L1682)),MAX($K$1:K1681)+1,0)","v":0},"Inter State Oil Carrier Ltd","INTSTOIL.BO",{"$nulls":12},{"$f":"IFERROR(VLOOKUP(ROWS($Z$2:Z1682),K1682:$L$6000,2,0),\"\")","v":""},{"$f":"IFERROR(VLOOKUP(ROWS($AA$2:AA1682),K1682:$M$6000,3,0),\"\")","v":""}]
[{"$nulls":10},{"$f":"IF(ISNUMBER(SEARCH($A$3,L1683)),MAX($K$1:K1682)+1,0)","v":0},"Interface Financial Servi","INTERFAC.BO",{"$nulls":12},{"$f":"IFERROR(VLOOKUP(ROWS($Z$2:Z1683),K1683:$L$6000,2,0),\"\")","v":""},{"$f":"IFERROR(VLOOKUP(ROWS($AA$2:AA1683),K1683:$M$6000,3,0),\"\")","v":""}]
[{"$nulls":10},{"$f":"IF(ISNUMBER(SEARCH($A$3,L1684)),MAX($K$1:K1683)+1,0)","v":0},"Interlink Petroleum Ltd","INTLNKP.BO",{"$nulls":12},{"$f":"IFERROR(VLOOKUP(ROWS($Z$2:Z1684),K1684:$L$6000,2,0),\"\")","v":""},{"$f":"IFERROR(VLOOKUP(ROWS($AA$2:AA1684),K1684:$M$6000,3,0),\"\")","v":""}]
[{"$nulls":10},{"$f":"IF(ISNUMBER(SEARCH($A$3,L1685)),MAX($K$1:K1684)+1,0)","v":0},"International Combustion","INTLCOMBQ.BO",{"$nulls":12},{"$f":"IFERROR(VLOOKUP(ROWS($Z$2:Z1685),K1685:$L$6000,2,0),\"\")","v":""},{"$f":"IFERROR(VLOOKUP(ROWS($AA$2:AA1685),K1685:$M$6000,3,0),\"\")","v":""}]
[{"$nulls":10},{"$f":"IF(ISNUMBER(SEARCH($A$3,L1686)),MAX($K$1:K1685)+1,0)","v":0},"International Conveyors Ltd","INTLCONV.BO",{"$nulls":12},{"$f":"IFERROR(VLOOKUP(ROWS($Z$2:Z1686),K1686:$L$6000,2,0),\"\")","v":""},{"$f":"IFERROR(VLOOKUP(ROWS($AA$2:AA1686),K1686:$M$6000,3,0),\"\")","v":""}]
[{"$nulls":10},{"$f":"IF(ISNUMBER(SEARCH($A$3,L1687)),MAX($K$1:K1686)+1,0)","v":0},"International Housing Fin","INTERHG.BO",{"$nulls":12},{"$f":"IFERROR(VLOOKUP(ROWS($Z$2:Z1687),K1687:$L$6000,2,0),\"\")","v":""},{"$f":"IFERROR(VLOOKUP(ROWS($AA$2:AA1687),K1687:$M$6000,3,0),\"\")","v":""}]
[{"$nulls":10},{"$f":"IF(ISNUMBER(SEARCH($A$3,L1688)),MAX($K$1:K1687)+1,0)","v":0},"International Paper APPM Ltd","APPAPER.BO",{"$nulls":12},{"$f":"IFERROR(VLOOKUP(ROWS($Z$2:Z1688),K1688:$L$6000,2,0),\"\")","v":""},{"$f":"IFERROR(VLOOKUP(ROWS($AA$2:AA1688),K1688:$M$6000,3,0),\"\")","v":""}]
[{"$nulls":10},{"$f":"IF(ISNUMBER(SEARCH($A$3,L1689)),MAX($K$1:K1688)+1,0)","v":0},"International Paper APPM Ltd","APPAPER.NS",{"$nulls":12},{"$f":"IFERROR(VLOOKUP(ROWS($Z$2:Z1689),K1689:$L$6000,2,0),\"\")","v":""},{"$f":"IFERROR(VLOOKUP(ROWS($AA$2:AA1689),K1689:$M$6000,3,0),\"\")","v":""}]
[{"$nulls":10},{"$f":"IF(ISNUMBER(SEARCH($A$3,L1690)),MAX($K$1:K1689)+1,0)","v":0},"International Travel House Ltd","ITHL.BO",{"$nulls":12},{"$f":"IFERROR(VLOOKUP(ROWS($Z$2:Z1690),K1690:$L$6000,2,0),\"\")","v":""},{"$f":"IFERROR(VLOOKUP(ROWS($AA$2:AA1690),K1690:$M$6000,3,0),\"\")","v":""}]
[{"$nulls":10},{"$f":"IF(ISNUMBER(SEARCH($A$3,L1691)),MAX($K$1:K1690)+1,0)","v":0},"Interworld Digital Ltd","INTERDIGI.BO",{"$nulls":12},{"$f":"IFERROR(VLOOKUP(ROWS($Z$2:Z1691),K1691:$L$6000,2,0),\"\")","v":""},{"$f":"IFERROR(VLOOKUP(ROWS($AA$2:AA1691),K1691:$M$6000,3,0),\"\")","v":""}]
[{"$nulls":10},{"$f":"IF(ISNUMBER(SEARCH($A$3,L1692)),MAX($K$1:K1691)+1,0)","v":0},"Intrasoft Technologies Ltd","ISFT.BO",{"$nulls":12},{"$f":"IFERROR(VLOOKUP(ROWS($Z$2:Z1692),K1692:$L$6000,2,0),\"\")","v":""},{"$f":"IFERROR(VLOOKUP(ROWS($AA$2:AA1692),K1692:$M$6000,3,0),\"\")","v":""}]
[{"$nulls":10},{"$f":"IF(ISNUMBER(SEARCH($A$3,L1693)),MAX($K$1:K1692)+1,0)","v":0},"Inventure Growth","INVENTURE.NS",{"$nulls":12},{"$f":"IFERROR(VLOOKUP(ROWS($Z$2:Z1693),K1693:$L$6000,2,0),\"\")","v":""},{"$f":"IFERROR(VLOOKUP(ROWS($AA$2:AA1693),K1693:$M$6000,3,0),\"\")","v":""}]
[{"$nulls":10},{"$f":"IF(ISNUMBER(SEARCH($A$3,L1694)),MAX($K$1:K1693)+1,0)","v":0},"Investment & Precision","INVPRECQ.BO",{"$nulls":12},{"$f":"IFERROR(VLOOKUP(ROWS($Z$2:Z1694),K1694:$L$6000,2,0),\"\")","v":""},{"$f":"IFERROR(VLOOKUP(ROWS($AA$2:AA1694),K1694:$M$6000,3,0),\"\")","v":""}]
[{"$nulls":10},{"$f":"IF(ISNUMBER(SEARCH($A$3,L1695)),MAX($K$1:K1694)+1,0)","v":0},"Invicta Meditek Ltd","INVICTA.BO",{"$nulls":12},{"$f":"IFERROR(VLOOKUP(ROWS($Z$2:Z1695),K1695:$L$6000,2,0),\"\")","v":""},{"$f":"IFERROR(VLOOKUP(ROWS($AA$2:AA1695),K1695:$M$6000,3,0),\"\")","v":""}]
[{"$nulls":10},{"$f":"IF(ISNUMBER(SEARCH($A$3,L1696)),MAX($K$1:K1695)+1,0)","v":0},"IOL Chemicals And Pharmac","IOLCHEMPH.BO",{"$nulls":12},{"$f":"IFERROR(VLOOKUP(ROWS($Z$2:Z1696),K1696:$L$6000,2,0),\"\")","v":""},{"$f":"IFERROR(VLOOKUP(ROWS($AA$2:AA1696),K1696:$M$6000,3,0),\"\")","v":""}]
[{"$nulls":10},{"$f":"IF(ISNUMBER(SEARCH($A$3,L1697)),MAX($K$1:K1696)+1,0)","v":0},"Ion Exchange India Ltd","IONEX.BO",{"$nulls":12},{"$f":"IFERROR(VLOOKUP(ROWS($Z$2:Z1697),K1697:$L$6000,2,0),\"\")","v":""},{"$f":"IFERROR(VLOOKUP(ROWS($AA$2:AA1697),K1697:$M$6000,3,0),\"\")","v":""}]
[{"$nulls":10},{"$f":"IF(ISNUMBER(SEARCH($A$3,L1698)),MAX($K$1:K1697)+1,0)","v":0},"IP Rings Ltd","IPRINGS.BO",{"$nulls":12},{"$f":"IFERROR(VLOOKUP(ROWS($Z$2:Z1698),K1698:$L$6000,2,0),\"\")","v":""},{"$f":"IFERROR(VLOOKUP(ROWS($AA$2:AA1698),K1698:$M$6000,3,0),\"\")","v":""}]
[{"$nulls":10},{"$f":"IF(ISNUMBER(SEARCH($A$3,L1699)),MAX($K$1:K1698)+1,0)","v":0},"Ipca Laboratories Ltd","IPCALAB.BO",{"$nulls":12},{"$f":"IFERROR(VLOOKUP(ROWS($Z$2:Z1699),K1699:$L$6000,2,0),\"\")","v":""},{"$f":"IFERROR(VLOOKUP(ROWS($AA$2:AA1699),K1699:$M$6000,3,0),\"\")","v":""}]
[{"$nulls":10},{"$f":"IF(ISNUMBER(SEARCH($A$3,L1700)),MAX($K$1:K1699)+1,0)","v":0},"Ipca Laboratories Ltd","IPCALAB.NS",{"$nulls":12},{"$f":"IFERROR(VLOOKUP(ROWS($Z$2:Z1700),K1700:$L$6000,2,0),\"\")","v":""},{"$f":"IFERROR(VLOOKUP(ROWS($AA$2:AA1700),K1700:$M$6000,3,0),\"\")","v":""}]
[{"$nulls":10},{"$f":"IF(ISNUMBER(SEARCH($A$3,L1701)),MAX($K$1:K1700)+1,0)","v":0},"IRB Infrastructure Develo","IRB.BO",{"$nulls":12},{"$f":"IFERROR(VLOOKUP(ROWS($Z$2:Z1701),K1701:$L$6000,2,0),\"\")","v":""},{"$f":"IFERROR(VLOOKUP(ROWS($AA$2:AA1701),K1701:$M$6000,3,0),\"\")","v":""}]
[{"$nulls":10},{"$f":"IF(ISNUMBER(SEARCH($A$3,L1702)),MAX($K$1:K1701)+1,0)","v":0},"IRB Infrastructure Develo","IRB.NS",{"$nulls":12},{"$f":"IFERROR(VLOOKUP(ROWS($Z$2:Z1702),K1702:$L$6000,2,0),\"\")","v":""},{"$f":"IFERROR(VLOOKUP(ROWS($AA$2:AA1702),K1702:$M$6000,3,0),\"\")","v":""}]
[{"$nulls":10},{"$f":"IF(ISNUMBER(SEARCH($A$3,L1703)),MAX($K$1:K1702)+1,0)","v":0},"Iris Mediaworks Ltd","CHANNELG.BO",{"$nulls":12},{"$f":"IFERROR(VLOOKUP(ROWS($Z$2:Z1703),K1703:$L$6000,2,0),\"\")","v":""},{"$f":"IFERROR(VLOOKUP(ROWS($AA$2:AA1703),K1703:$M$6000,3,0),\"\")","v":""}]
[{"$nulls":10},{"$f":"IF(ISNUMBER(SEARCH($A$3,L1704)),MAX($K$1:K1703)+1,0)","v":0},"ISF Ltd","INTSTFIN.BO",{"$nulls":12},{"$f":"IFERROR(VLOOKUP(ROWS($Z$2:Z1704),K1704:$L$6000,2,0),\"\")","v":""},{"$f":"IFERROR(VLOOKUP(ROWS($AA$2:AA1704),K1704:$M$6000,3,0),\"\")","v":""}]
[{"$nulls":10},{"$f":"IF(ISNUMBER(SEARCH($A$3,L1705)),MAX($K$1:K1704)+1,0)","v":0},"ISGEC Heavy Engineering Ltd","SARASWATI.BO",{"$nulls":12},{"$f":"IFERROR(VLOOKUP(ROWS($Z$2:Z1705),K1705:$L$6000,2,0),\"\")","v":""},{"$f":"IFERROR(VLOOKUP(ROWS($AA$2:AA1705),K1705:$M$6000,3,0),\"\")","v":""}]
[{"$nulls":10},{"$f":"IF(ISNUMBER(SEARCH($A$3,L1706)),MAX($K$1:K1705)+1,0)","v":0},"Ishita Drugs And Industri","ISHITADR.BO",{"$nulls":12},{"$f":"IFERROR(VLOOKUP(ROWS($Z$2:Z1706),K1706:$L$6000,2,0),\"\")","v":""},{"$f":"IFERROR(VLOOKUP(ROWS($AA$2:AA1706),K1706:$M$6000,3,0),\"\")","v":""}]
[{"$nulls":10},{"$f":"IF(ISNUMBER(SEARCH($A$3,L1707)),MAX($K$1:K1706)+1,0)","v":0},"ISL Consulting Ltd","INNOVSE.BO",{"$nulls":12},{"$f":"IFERROR(VLOOKUP(ROWS($Z$2:Z1707),K1707:$L$6000,2,0),\"\")","v":""},{"$f":"IFERROR(VLOOKUP(ROWS($AA$2:AA1707),K1707:$M$6000,3,0),\"\")","v":""}]
[{"$nulls":10},{"$f":"IF(ISNUMBER(SEARCH($A$3,L1708)),MAX($K$1:K1707)+1,0)","v":0},"ISMT Limited","ISMT.BO",{"$nulls":12},{"$f":"IFERROR(VLOOKUP(ROWS($Z$2:Z1708),K1708:$L$6000,2,0),\"\")","v":""},{"$f":"IFERROR(VLOOKUP(ROWS($AA$2:AA1708),K1708:$M$6000,3,0),\"\")","v":""}]
[{"$nulls":10},{"$f":"IF(ISNUMBER(SEARCH($A$3,L1709)),MAX($K$1:K1708)+1,0)","v":0},"ISMT Limited","ISMTLTD.NS",{"$nulls":12},{"$f":"IFERROR(VLOOKUP(ROWS($Z$2:Z1709),K1709:$L$6000,2,0),\"\")","v":""},{"$f":"IFERROR(VLOOKUP(ROWS($AA$2:AA1709),K1709:$M$6000,3,0),\"\")","v":""}]
[{"$nulls":10},{"$f":"IF(ISNUMBER(SEARCH($A$3,L1710)),MAX($K$1:K1709)+1,0)","v":0},"IST Ltd","ISTLTD.BO",{"$nulls":12},{"$f":"IFERROR(VLOOKUP(ROWS($Z$2:Z1710),K1710:$L$6000,2,0),\"\")","v":""},{"$f":"IFERROR(VLOOKUP(ROWS($AA$2:AA1710),K1710:$M$6000,3,0),\"\")","v":""}]
[{"$nulls":10},{"$f":"IF(ISNUMBER(SEARCH($A$3,L1711)),MAX($K$1:K1710)+1,0)","v":0},"ITC Ltd","ITC.BO",{"$nulls":12},{"$f":"IFERROR(VLOOKUP(ROWS($Z$2:Z1711),K1711:$L$6000,2,0),\"\")","v":""},{"$f":"IFERROR(VLOOKUP(ROWS($AA$2:AA1711),K1711:$M$6000,3,0),\"\")","v":""}]
[{"$nulls":10},{"$f":"IF(ISNUMBER(SEARCH($A$3,L1712)),MAX($K$1:K1711)+1,0)","v":0},"ITC Ltd","ITC.NS",{"$nulls":12},{"$f":"IFERROR(VLOOKUP(ROWS($Z$2:Z1712),K1712:$L$6000,2,0),\"\")","v":""},{"$f":"IFERROR(VLOOKUP(ROWS($AA$2:AA1712),K1712:$M$6000,3,0),\"\")","v":""}]
[{"$nulls":10},{"$f":"IF(ISNUMBER(SEARCH($A$3,L1713)),MAX($K$1:K1712)+1,0)","v":0},"ITD Cementation India Ltd","ITDCEM.BO",{"$nulls":12},{"$f":"IFERROR(VLOOKUP(ROWS($Z$2:Z1713),K1713:$L$6000,2,0),\"\")","v":""},{"$f":"IFERROR(VLOOKUP(ROWS($AA$2:AA1713),K1713:$M$6000,3,0),\"\")","v":""}]
[{"$nulls":10},{"$f":"IF(ISNUMBER(SEARCH($A$3,L1714)),MAX($K$1:K1713)+1,0)","v":0},"ITD Cementation India Ltd","ITDCEM.NS",{"$nulls":12},{"$f":"IFERROR(VLOOKUP(ROWS($Z$2:Z1714),K1714:$L$6000,2,0),\"\")","v":""},{"$f":"IFERROR(VLOOKUP(ROWS($AA$2:AA1714),K1714:$M$6000,3,0),\"\")","v":""}]
[{"$nulls":10},{"$f":"IF(ISNUMBER(SEARCH($A$3,L1715)),MAX($K$1:K1714)+1,0)","v":0},"ITI Ltd","ITI.BO",{"$nulls":12},{"$f":"IFERROR(VLOOKUP(ROWS($Z$2:Z1715),K1715:$L$6000,2,0),\"\")","v":""},{"$f":"IFERROR(VLOOKUP(ROWS($AA$2:AA1715),K1715:$M$6000,3,0),\"\")","v":""}]
[{"$nulls":10},{"$f":"IF(ISNUMBER(SEARCH($A$3,L1716)),MAX($K$1:K1715)+1,0)","v":0},"ITI Ltd","ITI.NS",{"$nulls":12},{"$f":"IFERROR(VLOOKUP(ROWS($Z$2:Z1716),K1716:$L$6000,2,0),\"\")","v":""},{"$f":"IFERROR(VLOOKUP(ROWS($AA$2:AA1716),K1716:$M$6000,3,0),\"\")","v":""}]
[{"$nulls":10},{"$f":"IF(ISNUMBER(SEARCH($A$3,L1717)),MAX($K$1:K1716)+1,0)","v":0},"ITL Industries Ltd","ITL.BO",{"$nulls":12},{"$f":"IFERROR(VLOOKUP(ROWS($Z$2:Z1717),K1717:$L$6000,2,0),\"\")","v":""},{"$f":"IFERROR(VLOOKUP(ROWS($AA$2:AA1717),K1717:$M$6000,3,0),\"\")","v":""}]
[{"$nulls":10},{"$f":"IF(ISNUMBER(SEARCH($A$3,L1718)),MAX($K$1:K1717)+1,0)","v":0},"Ivee Injectaa Ltd","IVEE.BO",{"$nulls":12},{"$f":"IFERROR(VLOOKUP(ROWS($Z$2:Z1718),K1718:$L$6000,2,0),\"\")","v":""},{"$f":"IFERROR(VLOOKUP(ROWS($AA$2:AA1718),K1718:$M$6000,3,0),\"\")","v":""}]
[{"$nulls":10},{"$f":"IF(ISNUMBER(SEARCH($A$3,L1719)),MAX($K$1:K1718)+1,0)","v":0},"IVP Ltd","IVP.BO",{"$nulls":12},{"$f":"IFERROR(VLOOKUP(ROWS($Z$2:Z1719),K1719:$L$6000,2,0),\"\")","v":""},{"$f":"IFERROR(VLOOKUP(ROWS($AA$2:AA1719),K1719:$M$6000,3,0),\"\")","v":""}]
[{"$nulls":10},{"$f":"IF(ISNUMBER(SEARCH($A$3,L1720)),MAX($K$1:K1719)+1,0)","v":0},"IVP Ltd","IVP.NS",{"$nulls":12},{"$f":"IFERROR(VLOOKUP(ROWS($Z$2:Z1720),K1720:$L$6000,2,0),\"\")","v":""},{"$f":"IFERROR(VLOOKUP(ROWS($AA$2:AA1720),K1720:$M$6000,3,0),\"\")","v":""}]
[{"$nulls":10},{"$f":"IF(ISNUMBER(SEARCH($A$3,L1721)),MAX($K$1:K1720)+1,0)","v":0},"IVRCL Ltd","IVRCLINFRA.BO",{"$nulls":12},{"$f":"IFERROR(VLOOKUP(ROWS($Z$2:Z1721),K1721:$L$6000,2,0),\"\")","v":""},{"$f":"IFERROR(VLOOKUP(ROWS($AA$2:AA1721),K1721:$M$6000,3,0),\"\")","v":""}]
[{"$nulls":10},{"$f":"IF(ISNUMBER(SEARCH($A$3,L1722)),MAX($K$1:K1721)+1,0)","v":0},"IVRCL Ltd","IVRCLINFR.NS",{"$nulls":12},{"$f":"IFERROR(VLOOKUP(ROWS($Z$2:Z1722),K1722:$L$6000,2,0),\"\")","v":""},{"$f":"IFERROR(VLOOKUP(ROWS($AA$2:AA1722),K1722:$M$6000,3,0),\"\")","v":""}]
[{"$nulls":10},{"$f":"IF(ISNUMBER(SEARCH($A$3,L1723)),MAX($K$1:K1722)+1,0)","v":0},"Iykot Hitech Toolroom Ltd","IYKOTHITE.BO",{"$nulls":12},{"$f":"IFERROR(VLOOKUP(ROWS($Z$2:Z1723),K1723:$L$6000,2,0),\"\")","v":""},{"$f":"IFERROR(VLOOKUP(ROWS($AA$2:AA1723),K1723:$M$6000,3,0),\"\")","v":""}]
[{"$nulls":10},{"$f":"IF(ISNUMBER(SEARCH($A$3,L1724)),MAX($K$1:K1723)+1,0)","v":0},"J J Exporters Limited","JJEXPO.BO",{"$nulls":12},{"$f":"IFERROR(VLOOKUP(ROWS($Z$2:Z1724),K1724:$L$6000,2,0),\"\")","v":""},{"$f":"IFERROR(VLOOKUP(ROWS($AA$2:AA1724),K1724:$M$6000,3,0),\"\")","v":""}]
[{"$nulls":10},{"$f":"IF(ISNUMBER(SEARCH($A$3,L1725)),MAX($K$1:K1724)+1,0)","v":0},"J J Finance Corp Ltd","JJFINCOR.BO",{"$nulls":12},{"$f":"IFERROR(VLOOKUP(ROWS($Z$2:Z1725),K1725:$L$6000,2,0),\"\")","v":""},{"$f":"IFERROR(VLOOKUP(ROWS($AA$2:AA1725),K1725:$M$6000,3,0),\"\")","v":""}]
[{"$nulls":10},{"$f":"IF(ISNUMBER(SEARCH($A$3,L1726)),MAX($K$1:K1725)+1,0)","v":0},"J Kumar Infraprojects Ltd","JKIL.BO",{"$nulls":12},{"$f":"IFERROR(VLOOKUP(ROWS($Z$2:Z1726),K1726:$L$6000,2,0),\"\")","v":""},{"$f":"IFERROR(VLOOKUP(ROWS($AA$2:AA1726),K1726:$M$6000,3,0),\"\")","v":""}]
[{"$nulls":10},{"$f":"IF(ISNUMBER(SEARCH($A$3,L1727)),MAX($K$1:K1726)+1,0)","v":0},"J Kumar Infraprojects Ltd","JKIL.NS",{"$nulls":12},{"$f":"IFERROR(VLOOKUP(ROWS($Z$2:Z1727),K1727:$L$6000,2,0),\"\")","v":""},{"$f":"IFERROR(VLOOKUP(ROWS($AA$2:AA1727),K1727:$M$6000,3,0),\"\")","v":""}]
[{"$nulls":10},{"$f":"IF(ISNUMBER(SEARCH($A$3,L1728)),MAX($K$1:K1727)+1,0)","v":0},"Jagan Lamps Ltd","JAGANLAM.BO",{"$nulls":12},{"$f":"IFERROR(VLOOKUP(ROWS($Z$2:Z1728),K1728:$L$6000,2,0),\"\")","v":""},{"$f":"IFERROR(VLOOKUP(ROWS($AA$2:AA1728),K1728:$M$6000,3,0),\"\")","v":""}]
[{"$nulls":10},{"$f":"IF(ISNUMBER(SEARCH($A$3,L1729)),MAX($K$1:K1728)+1,0)","v":0},"Jagatjit Industries Ltd","JAGATJITIND.BO",{"$nulls":12},{"$f":"IFERROR(VLOOKUP(ROWS($Z$2:Z1729),K1729:$L$6000,2,0),\"\")","v":""},{"$f":"IFERROR(VLOOKUP(ROWS($AA$2:AA1729),K1729:$M$6000,3,0),\"\")","v":""}]
[{"$nulls":10},{"$f":"IF(ISNUMBER(SEARCH($A$3,L1730)),MAX($K$1:K1729)+1,0)","v":0},"Jagjanani Textiles Ltd","JAGJANANI.BO",{"$nulls":12},{"$f":"IFERROR(VLOOKUP(ROWS($Z$2:Z1730),K1730:$L$6000,2,0),\"\")","v":""},{"$f":"IFERROR(VLOOKUP(ROWS($AA$2:AA1730),K1730:$M$6000,3,0),\"\")","v":""}]
[{"$nulls":10},{"$f":"IF(ISNUMBER(SEARCH($A$3,L1731)),MAX($K$1:K1730)+1,0)","v":0},"Jagran Prakashan Ltd","JAGRAN.BO",{"$nulls":12},{"$f":"IFERROR(VLOOKUP(ROWS($Z$2:Z1731),K1731:$L$6000,2,0),\"\")","v":""},{"$f":"IFERROR(VLOOKUP(ROWS($AA$2:AA1731),K1731:$M$6000,3,0),\"\")","v":""}]
[{"$nulls":10},{"$f":"IF(ISNUMBER(SEARCH($A$3,L1732)),MAX($K$1:K1731)+1,0)","v":0},"Jagran Prakashan Ltd","JAGRAN.NS",{"$nulls":12},{"$f":"IFERROR(VLOOKUP(ROWS($Z$2:Z1732),K1732:$L$6000,2,0),\"\")","v":""},{"$f":"IFERROR(VLOOKUP(ROWS($AA$2:AA1732),K1732:$M$6000,3,0),\"\")","v":""}]
[{"$nulls":10},{"$f":"IF(ISNUMBER(SEARCH($A$3,L1733)),MAX($K$1:K1732)+1,0)","v":0},"Jagson Airlines Ltd","JAGSONAI.BO",{"$nulls":12},{"$f":"IFERROR(VLOOKUP(ROWS($Z$2:Z1733),K1733:$L$6000,2,0),\"\")","v":""},{"$f":"IFERROR(VLOOKUP(ROWS($AA$2:AA1733),K1733:$M$6000,3,0),\"\")","v":""}]
[{"$nulls":10},{"$f":"IF(ISNUMBER(SEARCH($A$3,L1734)),MAX($K$1:K1733)+1,0)","v":0},"Jagsonpal Finance","JAGSONFI.BO",{"$nulls":12},{"$f":"IFERROR(VLOOKUP(ROWS($Z$2:Z1734),K1734:$L$6000,2,0),\"\")","v":""},{"$f":"IFERROR(VLOOKUP(ROWS($AA$2:AA1734),K1734:$M$6000,3,0),\"\")","v":""}]
[{"$nulls":10},{"$f":"IF(ISNUMBER(SEARCH($A$3,L1735)),MAX($K$1:K1734)+1,0)","v":0},"Jagsonpal Pharmaceuticals Ltd","JAGSONPH.BO",{"$nulls":12},{"$f":"IFERROR(VLOOKUP(ROWS($Z$2:Z1735),K1735:$L$6000,2,0),\"\")","v":""},{"$f":"IFERROR(VLOOKUP(ROWS($AA$2:AA1735),K1735:$M$6000,3,0),\"\")","v":""}]
[{"$nulls":10},{"$f":"IF(ISNUMBER(SEARCH($A$3,L1736)),MAX($K$1:K1735)+1,0)","v":0},"Jagsonpal Pharmaceuticals Ltd","JAGSNPHAR.NS",{"$nulls":12},{"$f":"IFERROR(VLOOKUP(ROWS($Z$2:Z1736),K1736:$L$6000,2,0),\"\")","v":""},{"$f":"IFERROR(VLOOKUP(ROWS($AA$2:AA1736),K1736:$M$6000,3,0),\"\")","v":""}]
[{"$nulls":10},{"$f":"IF(ISNUMBER(SEARCH($A$3,L1737)),MAX($K$1:K1736)+1,0)","v":0},"Jai Balaji Industries Ltd","JAIBALAJI.BO",{"$nulls":12},{"$f":"IFERROR(VLOOKUP(ROWS($Z$2:Z1737),K1737:$L$6000,2,0),\"\")","v":""},{"$f":"IFERROR(VLOOKUP(ROWS($AA$2:AA1737),K1737:$M$6000,3,0),\"\")","v":""}]
[{"$nulls":10},{"$f":"IF(ISNUMBER(SEARCH($A$3,L1738)),MAX($K$1:K1737)+1,0)","v":0},"Jai Balaji Industries Ltd","JAIBALAJI.NS",{"$nulls":12},{"$f":"IFERROR(VLOOKUP(ROWS($Z$2:Z1738),K1738:$L$6000,2,0),\"\")","v":""},{"$f":"IFERROR(VLOOKUP(ROWS($AA$2:AA1738),K1738:$M$6000,3,0),\"\")","v":""}]
[{"$nulls":10},{"$f":"IF(ISNUMBER(SEARCH($A$3,L1739)),MAX($K$1:K1738)+1,0)","v":0},"Jai Corp Ltd","JAICORP.BO",{"$nulls":12},{"$f":"IFERROR(VLOOKUP(ROWS($Z$2:Z1739),K1739:$L$6000,2,0),\"\")","v":""},{"$f":"IFERROR(VLOOKUP(ROWS($AA$2:AA1739),K1739:$M$6000,3,0),\"\")","v":""}]
[{"$nulls":10},{"$f":"IF(ISNUMBER(SEARCH($A$3,L1740)),MAX($K$1:K1739)+1,0)","v":0},"Jai Corp Ltd","JAICORPLT.NS",{"$nulls":12},{"$f":"IFERROR(VLOOKUP(ROWS($Z$2:Z1740),K1740:$L$6000,2,0),\"\")","v":""},{"$f":"IFERROR(VLOOKUP(ROWS($AA$2:AA1740),K1740:$M$6000,3,0),\"\")","v":""}]
[{"$nulls":10},{"$f":"IF(ISNUMBER(SEARCH($A$3,L1741)),MAX($K$1:K1740)+1,0)","v":0},"Jai Mata Glass Ltd","JAIMATAG.BO",{"$nulls":12},{"$f":"IFERROR(VLOOKUP(ROWS($Z$2:Z1741),K1741:$L$6000,2,0),\"\")","v":""},{"$f":"IFERROR(VLOOKUP(ROWS($AA$2:AA1741),K1741:$M$6000,3,0),\"\")","v":""}]
[{"$nulls":10},{"$f":"IF(ISNUMBER(SEARCH($A$3,L1742)),MAX($K$1:K1741)+1,0)","v":0},"Jaihind Projects Ltd","JAIPROJ.BO",{"$nulls":12},{"$f":"IFERROR(VLOOKUP(ROWS($Z$2:Z1742),K1742:$L$6000,2,0),\"\")","v":""},{"$f":"IFERROR(VLOOKUP(ROWS($AA$2:AA1742),K1742:$M$6000,3,0),\"\")","v":""}]
[{"$nulls":10},{"$f":"IF(ISNUMBER(SEARCH($A$3,L1743)),MAX($K$1:K1742)+1,0)","v":0},"Jaihind Synthetics Ltd","JAIHINDS.BO",{"$nulls":12},{"$f":"IFERROR(VLOOKUP(ROWS($Z$2:Z1743),K1743:$L$6000,2,0),\"\")","v":""},{"$f":"IFERROR(VLOOKUP(ROWS($AA$2:AA1743),K1743:$M$6000,3,0),\"\")","v":""}]
[{"$nulls":10},{"$f":"IF(ISNUMBER(SEARCH($A$3,L1744)),MAX($K$1:K1743)+1,0)","v":0},"Jain Irrigation Systems Ltd","JAINIRRIG.BO",{"$nulls":12},{"$f":"IFERROR(VLOOKUP(ROWS($Z$2:Z1744),K1744:$L$6000,2,0),\"\")","v":""},{"$f":"IFERROR(VLOOKUP(ROWS($AA$2:AA1744),K1744:$M$6000,3,0),\"\")","v":""}]
[{"$nulls":10},{"$f":"IF(ISNUMBER(SEARCH($A$3,L1745)),MAX($K$1:K1744)+1,0)","v":0},"Jain Studios Ltd","JAINSTUD.BO",{"$nulls":12},{"$f":"IFERROR(VLOOKUP(ROWS($Z$2:Z1745),K1745:$L$6000,2,0),\"\")","v":""},{"$f":"IFERROR(VLOOKUP(ROWS($AA$2:AA1745),K1745:$M$6000,3,0),\"\")","v":""}]
[{"$nulls":10},{"$f":"IF(ISNUMBER(SEARCH($A$3,L1746)),MAX($K$1:K1745)+1,0)","v":0},"Jain Studios Ltd","JAINSTUDI.NS",{"$nulls":12},{"$f":"IFERROR(VLOOKUP(ROWS($Z$2:Z1746),K1746:$L$6000,2,0),\"\")","v":""},{"$f":"IFERROR(VLOOKUP(ROWS($AA$2:AA1746),K1746:$M$6000,3,0),\"\")","v":""}]
[{"$nulls":10},{"$f":"IF(ISNUMBER(SEARCH($A$3,L1747)),MAX($K$1:K1746)+1,0)","v":0},"Jainco Projects (India) Ltd","JAINCO.BO",{"$nulls":12},{"$f":"IFERROR(VLOOKUP(ROWS($Z$2:Z1747),K1747:$L$6000,2,0),\"\")","v":""},{"$f":"IFERROR(VLOOKUP(ROWS($AA$2:AA1747),K1747:$M$6000,3,0),\"\")","v":""}]
[{"$nulls":10},{"$f":"IF(ISNUMBER(SEARCH($A$3,L1748)),MAX($K$1:K1747)+1,0)","v":0},"Jaipan Industries Ltd","JAIPAN.BO",{"$nulls":12},{"$f":"IFERROR(VLOOKUP(ROWS($Z$2:Z1748),K1748:$L$6000,2,0),\"\")","v":""},{"$f":"IFERROR(VLOOKUP(ROWS($AA$2:AA1748),K1748:$M$6000,3,0),\"\")","v":""}]
[{"$nulls":10},{"$f":"IF(ISNUMBER(SEARCH($A$3,L1749)),MAX($K$1:K1748)+1,0)","v":0},"Jaiprakash Associates Ltd","JAIPRA.BO",{"$nulls":12},{"$f":"IFERROR(VLOOKUP(ROWS($Z$2:Z1749),K1749:$L$6000,2,0),\"\")","v":""},{"$f":"IFERROR(VLOOKUP(ROWS($AA$2:AA1749),K1749:$M$6000,3,0),\"\")","v":""}]
[{"$nulls":10},{"$f":"IF(ISNUMBER(SEARCH($A$3,L1750)),MAX($K$1:K1749)+1,0)","v":0},"Jaiprakash Associates Ltd","JPASSOCIA.NS",{"$nulls":12},{"$f":"IFERROR(VLOOKUP(ROWS($Z$2:Z1750),K1750:$L$6000,2,0),\"\")","v":""},{"$f":"IFERROR(VLOOKUP(ROWS($AA$2:AA1750),K1750:$M$6000,3,0),\"\")","v":""}]
[{"$nulls":10},{"$f":"IF(ISNUMBER(SEARCH($A$3,L1751)),MAX($K$1:K1750)+1,0)","v":0},"Jaiprakash Power Ventures Ltd","JPPOWER.BO",{"$nulls":12},{"$f":"IFERROR(VLOOKUP(ROWS($Z$2:Z1751),K1751:$L$6000,2,0),\"\")","v":""},{"$f":"IFERROR(VLOOKUP(ROWS($AA$2:AA1751),K1751:$M$6000,3,0),\"\")","v":""}]
[{"$nulls":10},{"$f":"IF(ISNUMBER(SEARCH($A$3,L1752)),MAX($K$1:K1751)+1,0)","v":0},"Jaiprakash Power Ventures Ltd","JPPOWER.NS",{"$nulls":12},{"$f":"IFERROR(VLOOKUP(ROWS($Z$2:Z1752),K1752:$L$6000,2,0),\"\")","v":""},{"$f":"IFERROR(VLOOKUP(ROWS($AA$2:AA1752),K1752:$M$6000,3,0),\"\")","v":""}]
[{"$nulls":10},{"$f":"IF(ISNUMBER(SEARCH($A$3,L1753)),MAX($K$1:K1752)+1,0)","v":0},"James Hotels Ltd","JAMEHOT.BO",{"$nulls":12},{"$f":"IFERROR(VLOOKUP(ROWS($Z$2:Z1753),K1753:$L$6000,2,0),\"\")","v":""},{"$f":"IFERROR(VLOOKUP(ROWS($AA$2:AA1753),K1753:$M$6000,3,0),\"\")","v":""}]
[{"$nulls":10},{"$f":"IF(ISNUMBER(SEARCH($A$3,L1754)),MAX($K$1:K1753)+1,0)","v":0},"Jammu & Kashmir Bank Ltd","JKBANK.BO",{"$nulls":12},{"$f":"IFERROR(VLOOKUP(ROWS($Z$2:Z1754),K1754:$L$6000,2,0),\"\")","v":""},{"$f":"IFERROR(VLOOKUP(ROWS($AA$2:AA1754),K1754:$M$6000,3,0),\"\")","v":""}]
[{"$nulls":10},{"$f":"IF(ISNUMBER(SEARCH($A$3,L1755)),MAX($K$1:K1754)+1,0)","v":0},"Jamna Auto Industries Ltd","JAMNAUTO.BO",{"$nulls":12},{"$f":"IFERROR(VLOOKUP(ROWS($Z$2:Z1755),K1755:$L$6000,2,0),\"\")","v":""},{"$f":"IFERROR(VLOOKUP(ROWS($AA$2:AA1755),K1755:$M$6000,3,0),\"\")","v":""}]
[{"$nulls":10},{"$f":"IF(ISNUMBER(SEARCH($A$3,L1756)),MAX($K$1:K1755)+1,0)","v":0},"Jamshri Ranjitsinghji","JAMSHRI.BO",{"$nulls":12},{"$f":"IFERROR(VLOOKUP(ROWS($Z$2:Z1756),K1756:$L$6000,2,0),\"\")","v":""},{"$f":"IFERROR(VLOOKUP(ROWS($AA$2:AA1756),K1756:$M$6000,3,0),\"\")","v":""}]
[{"$nulls":10},{"$f":"IF(ISNUMBER(SEARCH($A$3,L1757)),MAX($K$1:K1756)+1,0)","v":0},"Jasch Industries Ltd","JASCH.BO",{"$nulls":12},{"$f":"IFERROR(VLOOKUP(ROWS($Z$2:Z1757),K1757:$L$6000,2,0),\"\")","v":""},{"$f":"IFERROR(VLOOKUP(ROWS($AA$2:AA1757),K1757:$M$6000,3,0),\"\")","v":""}]
[{"$nulls":10},{"$f":"IF(ISNUMBER(SEARCH($A$3,L1758)),MAX($K$1:K1757)+1,0)","v":0},"Jay Bharat Maruti Ltd","JBML.BO",{"$nulls":12},{"$f":"IFERROR(VLOOKUP(ROWS($Z$2:Z1758),K1758:$L$6000,2,0),\"\")","v":""},{"$f":"IFERROR(VLOOKUP(ROWS($AA$2:AA1758),K1758:$M$6000,3,0),\"\")","v":""}]
[{"$nulls":10},{"$f":"IF(ISNUMBER(SEARCH($A$3,L1759)),MAX($K$1:K1758)+1,0)","v":0},"Jay Bharat Maruti Ltd","JAYBARMAR.NS",{"$nulls":12},{"$f":"IFERROR(VLOOKUP(ROWS($Z$2:Z1759),K1759:$L$6000,2,0),\"\")","v":""},{"$f":"IFERROR(VLOOKUP(ROWS($AA$2:AA1759),K1759:$M$6000,3,0),\"\")","v":""}]
[{"$nulls":10},{"$f":"IF(ISNUMBER(SEARCH($A$3,L1760)),MAX($K$1:K1759)+1,0)","v":0},"Jay shree Tea & Industries Ltd","JAYSHREETEA.BO",{"$nulls":12},{"$f":"IFERROR(VLOOKUP(ROWS($Z$2:Z1760),K1760:$L$6000,2,0),\"\")","v":""},{"$f":"IFERROR(VLOOKUP(ROWS($AA$2:AA1760),K1760:$M$6000,3,0),\"\")","v":""}]
[{"$nulls":10},{"$f":"IF(ISNUMBER(SEARCH($A$3,L1761)),MAX($K$1:K1760)+1,0)","v":0},"Jay shree Tea & Industries Ltd","JAYSREETE.NS",{"$nulls":12},{"$f":"IFERROR(VLOOKUP(ROWS($Z$2:Z1761),K1761:$L$6000,2,0),\"\")","v":""},{"$f":"IFERROR(VLOOKUP(ROWS($AA$2:AA1761),K1761:$M$6000,3,0),\"\")","v":""}]
[{"$nulls":10},{"$f":"IF(ISNUMBER(SEARCH($A$3,L1762)),MAX($K$1:K1761)+1,0)","v":0},"Jay Ushin Ltd","JAYUSH.BO",{"$nulls":12},{"$f":"IFERROR(VLOOKUP(ROWS($Z$2:Z1762),K1762:$L$6000,2,0),\"\")","v":""},{"$f":"IFERROR(VLOOKUP(ROWS($AA$2:AA1762),K1762:$M$6000,3,0),\"\")","v":""}]
[{"$nulls":10},{"$f":"IF(ISNUMBER(SEARCH($A$3,L1763)),MAX($K$1:K1762)+1,0)","v":0},"Jayabharat Credit Ltd","JAYBHCR.BO",{"$nulls":12},{"$f":"IFERROR(VLOOKUP(ROWS($Z$2:Z1763),K1763:$L$6000,2,0),\"\")","v":""},{"$f":"IFERROR(VLOOKUP(ROWS($AA$2:AA1763),K1763:$M$6000,3,0),\"\")","v":""}]
[{"$nulls":10},{"$f":"IF(ISNUMBER(SEARCH($A$3,L1764)),MAX($K$1:K1763)+1,0)","v":0},"Jayant Agro-Organics Ltd","JAYANTAG.BO",{"$nulls":12},{"$f":"IFERROR(VLOOKUP(ROWS($Z$2:Z1764),K1764:$L$6000,2,0),\"\")","v":""},{"$f":"IFERROR(VLOOKUP(ROWS($AA$2:AA1764),K1764:$M$6000,3,0),\"\")","v":""}]
[{"$nulls":10},{"$f":"IF(ISNUMBER(SEARCH($A$3,L1765)),MAX($K$1:K1764)+1,0)","v":0},"Jayant Agro-Organics Ltd","JAYAGROGN.NS",{"$nulls":12},{"$f":"IFERROR(VLOOKUP(ROWS($Z$2:Z1765),K1765:$L$6000,2,0),\"\")","v":""},{"$f":"IFERROR(VLOOKUP(ROWS($AA$2:AA1765),K1765:$M$6000,3,0),\"\")","v":""}]
[{"$nulls":10},{"$f":"IF(ISNUMBER(SEARCH($A$3,L1766)),MAX($K$1:K1765)+1,0)","v":0},"Jayant Mercantile Co Ltd","JAYAMEL.BO",{"$nulls":12},{"$f":"IFERROR(VLOOKUP(ROWS($Z$2:Z1766),K1766:$L$6000,2,0),\"\")","v":""},{"$f":"IFERROR(VLOOKUP(ROWS($AA$2:AA1766),K1766:$M$6000,3,0),\"\")","v":""}]
[{"$nulls":10},{"$f":"IF(ISNUMBER(SEARCH($A$3,L1767)),MAX($K$1:K1766)+1,0)","v":0},"Jayaswal NECO Industries Ltd","JAYASWAL.BO",{"$nulls":12},{"$f":"IFERROR(VLOOKUP(ROWS($Z$2:Z1767),K1767:$L$6000,2,0),\"\")","v":""},{"$f":"IFERROR(VLOOKUP(ROWS($AA$2:AA1767),K1767:$M$6000,3,0),\"\")","v":""}]
[{"$nulls":10},{"$f":"IF(ISNUMBER(SEARCH($A$3,L1768)),MAX($K$1:K1767)+1,0)","v":0},"Jayaswal NECO Industries Ltd","JAYNECOIN.NS",{"$nulls":12},{"$f":"IFERROR(VLOOKUP(ROWS($Z$2:Z1768),K1768:$L$6000,2,0),\"\")","v":""},{"$f":"IFERROR(VLOOKUP(ROWS($AA$2:AA1768),K1768:$M$6000,3,0),\"\")","v":""}]
[{"$nulls":10},{"$f":"IF(ISNUMBER(SEARCH($A$3,L1769)),MAX($K$1:K1768)+1,0)","v":0},"Jayavant Products Ltd","JAVNTPR.BO",{"$nulls":12},{"$f":"IFERROR(VLOOKUP(ROWS($Z$2:Z1769),K1769:$L$6000,2,0),\"\")","v":""},{"$f":"IFERROR(VLOOKUP(ROWS($AA$2:AA1769),K1769:$M$6000,3,0),\"\")","v":""}]
[{"$nulls":10},{"$f":"IF(ISNUMBER(SEARCH($A$3,L1770)),MAX($K$1:K1769)+1,0)","v":0},"Jaybharat Textiles","JAYTEX.BO",{"$nulls":12},{"$f":"IFERROR(VLOOKUP(ROWS($Z$2:Z1770),K1770:$L$6000,2,0),\"\")","v":""},{"$f":"IFERROR(VLOOKUP(ROWS($AA$2:AA1770),K1770:$M$6000,3,0),\"\")","v":""}]
[{"$nulls":10},{"$f":"IF(ISNUMBER(SEARCH($A$3,L1771)),MAX($K$1:K1770)+1,0)","v":0},"Jaykay Enterprises Ltd","JKSYNTH.BO",{"$nulls":12},{"$f":"IFERROR(VLOOKUP(ROWS($Z$2:Z1771),K1771:$L$6000,2,0),\"\")","v":""},{"$f":"IFERROR(VLOOKUP(ROWS($AA$2:AA1771),K1771:$M$6000,3,0),\"\")","v":""}]
[{"$nulls":10},{"$f":"IF(ISNUMBER(SEARCH($A$3,L1772)),MAX($K$1:K1771)+1,0)","v":0},"Jaypee Infratech Ltd","JPINFRATEC.BO",{"$nulls":12},{"$f":"IFERROR(VLOOKUP(ROWS($Z$2:Z1772),K1772:$L$6000,2,0),\"\")","v":""},{"$f":"IFERROR(VLOOKUP(ROWS($AA$2:AA1772),K1772:$M$6000,3,0),\"\")","v":""}]
[{"$nulls":10},{"$f":"IF(ISNUMBER(SEARCH($A$3,L1773)),MAX($K$1:K1772)+1,0)","v":0},"Jayshree Chemicals Ltd","JAYCH.BO",{"$nulls":12},{"$f":"IFERROR(VLOOKUP(ROWS($Z$2:Z1773),K1773:$L$6000,2,0),\"\")","v":""},{"$f":"IFERROR(VLOOKUP(ROWS($AA$2:AA1773),K1773:$M$6000,3,0),\"\")","v":""}]
[{"$nulls":10},{"$f":"IF(ISNUMBER(SEARCH($A$3,L1774)),MAX($K$1:K1773)+1,0)","v":0},"Jaysynth Dyestuff (India) Ltd","JAYSYN.BO",{"$nulls":12},{"$f":"IFERROR(VLOOKUP(ROWS($Z$2:Z1774),K1774:$L$6000,2,0),\"\")","v":""},{"$f":"IFERROR(VLOOKUP(ROWS($AA$2:AA1774),K1774:$M$6000,3,0),\"\")","v":""}]
[{"$nulls":10},{"$f":"IF(ISNUMBER(SEARCH($A$3,L1775)),MAX($K$1:K1774)+1,0)","v":0},"JB Chemicals & Pharmaceut","JBCHEM.BO",{"$nulls":12},{"$f":"IFERROR(VLOOKUP(ROWS($Z$2:Z1775),K1775:$L$6000,2,0),\"\")","v":""},{"$f":"IFERROR(VLOOKUP(ROWS($AA$2:AA1775),K1775:$M$6000,3,0),\"\")","v":""}]
[{"$nulls":10},{"$f":"IF(ISNUMBER(SEARCH($A$3,L1776)),MAX($K$1:K1775)+1,0)","v":0},"JB Chemicals & Pharmaceut","JBCHEPHAR.NS",{"$nulls":12},{"$f":"IFERROR(VLOOKUP(ROWS($Z$2:Z1776),K1776:$L$6000,2,0),\"\")","v":""},{"$f":"IFERROR(VLOOKUP(ROWS($AA$2:AA1776),K1776:$M$6000,3,0),\"\")","v":""}]
[{"$nulls":10},{"$f":"IF(ISNUMBER(SEARCH($A$3,L1777)),MAX($K$1:K1776)+1,0)","v":0},"JBF Industries Ltd","JBFIND.BO",{"$nulls":12},{"$f":"IFERROR(VLOOKUP(ROWS($Z$2:Z1777),K1777:$L$6000,2,0),\"\")","v":""},{"$f":"IFERROR(VLOOKUP(ROWS($AA$2:AA1777),K1777:$M$6000,3,0),\"\")","v":""}]
[{"$nulls":10},{"$f":"IF(ISNUMBER(SEARCH($A$3,L1778)),MAX($K$1:K1777)+1,0)","v":0},"JBF Industries Ltd","JBFIND.NS",{"$nulls":12},{"$f":"IFERROR(VLOOKUP(ROWS($Z$2:Z1778),K1778:$L$6000,2,0),\"\")","v":""},{"$f":"IFERROR(VLOOKUP(ROWS($AA$2:AA1778),K1778:$M$6000,3,0),\"\")","v":""}]
[{"$nulls":10},{"$f":"IF(ISNUMBER(SEARCH($A$3,L1779)),MAX($K$1:K1778)+1,0)","v":0},"JBM Auto Ltd","JBMA.BO",{"$nulls":12},{"$f":"IFERROR(VLOOKUP(ROWS($Z$2:Z1779),K1779:$L$6000,2,0),\"\")","v":""},{"$f":"IFERROR(VLOOKUP(ROWS($AA$2:AA1779),K1779:$M$6000,3,0),\"\")","v":""}]
[{"$nulls":10},{"$f":"IF(ISNUMBER(SEARCH($A$3,L1780)),MAX($K$1:K1779)+1,0)","v":0},"JBM Auto Ltd","JBMA.NS",{"$nulls":12},{"$f":"IFERROR(VLOOKUP(ROWS($Z$2:Z1780),K1780:$L$6000,2,0),\"\")","v":""},{"$f":"IFERROR(VLOOKUP(ROWS($AA$2:AA1780),K1780:$M$6000,3,0),\"\")","v":""}]
[{"$nulls":10},{"$f":"IF(ISNUMBER(SEARCH($A$3,L1781)),MAX($K$1:K1780)+1,0)","v":0},"JCT Electronics Ltd","JCTELE.BO",{"$nulls":12},{"$f":"IFERROR(VLOOKUP(ROWS($Z$2:Z1781),K1781:$L$6000,2,0),\"\")","v":""},{"$f":"IFERROR(VLOOKUP(ROWS($AA$2:AA1781),K1781:$M$6000,3,0),\"\")","v":""}]
[{"$nulls":10},{"$f":"IF(ISNUMBER(SEARCH($A$3,L1782)),MAX($K$1:K1781)+1,0)","v":0},"JCT Electronics Ltd","JCTEL.NS",{"$nulls":12},{"$f":"IFERROR(VLOOKUP(ROWS($Z$2:Z1782),K1782:$L$6000,2,0),\"\")","v":""},{"$f":"IFERROR(VLOOKUP(ROWS($AA$2:AA1782),K1782:$M$6000,3,0),\"\")","v":""}]
[{"$nulls":10},{"$f":"IF(ISNUMBER(SEARCH($A$3,L1783)),MAX($K$1:K1782)+1,0)","v":0},"JCT Ltd","JCTLTD.BO",{"$nulls":12},{"$f":"IFERROR(VLOOKUP(ROWS($Z$2:Z1783),K1783:$L$6000,2,0),\"\")","v":""},{"$f":"IFERROR(VLOOKUP(ROWS($AA$2:AA1783),K1783:$M$6000,3,0),\"\")","v":""}]
[{"$nulls":10},{"$f":"IF(ISNUMBER(SEARCH($A$3,L1784)),MAX($K$1:K1783)+1,0)","v":0},"JD Orgochem Ltd","JDORGO.BO",{"$nulls":12},{"$f":"IFERROR(VLOOKUP(ROWS($Z$2:Z1784),K1784:$L$6000,2,0),\"\")","v":""},{"$f":"IFERROR(VLOOKUP(ROWS($AA$2:AA1784),K1784:$M$6000,3,0),\"\")","v":""}]
[{"$nulls":10},{"$f":"IF(ISNUMBER(SEARCH($A$3,L1785)),MAX($K$1:K1784)+1,0)","v":0},"JD Orgochem Ltd","JDORGOCHE.NS",{"$nulls":12},{"$f":"IFERROR(VLOOKUP(ROWS($Z$2:Z1785),K1785:$L$6000,2,0),\"\")","v":""},{"$f":"IFERROR(VLOOKUP(ROWS($AA$2:AA1785),K1785:$M$6000,3,0),\"\")","v":""}]
[{"$nulls":10},{"$f":"IF(ISNUMBER(SEARCH($A$3,L1786)),MAX($K$1:K1785)+1,0)","v":0},"Jenburkt Pharmaceuticals Ltd","JENBURPH.BO",{"$nulls":12},{"$f":"IFERROR(VLOOKUP(ROWS($Z$2:Z1786),K1786:$L$6000,2,0),\"\")","v":""},{"$f":"IFERROR(VLOOKUP(ROWS($AA$2:AA1786),K1786:$M$6000,3,0),\"\")","v":""}]
[{"$nulls":10},{"$f":"IF(ISNUMBER(SEARCH($A$3,L1787)),MAX($K$1:K1786)+1,0)","v":0},"Jenson & Nicholson India Ltd","JENSONIC.BO",{"$nulls":12},{"$f":"IFERROR(VLOOKUP(ROWS($Z$2:Z1787),K1787:$L$6000,2,0),\"\")","v":""},{"$f":"IFERROR(VLOOKUP(ROWS($AA$2:AA1787),K1787:$M$6000,3,0),\"\")","v":""}]
[{"$nulls":10},{"$f":"IF(ISNUMBER(SEARCH($A$3,L1788)),MAX($K$1:K1787)+1,0)","v":0},"Jenson & Nicholson India Ltd","JENSONICO.NS",{"$nulls":12},{"$f":"IFERROR(VLOOKUP(ROWS($Z$2:Z1788),K1788:$L$6000,2,0),\"\")","v":""},{"$f":"IFERROR(VLOOKUP(ROWS($AA$2:AA1788),K1788:$M$6000,3,0),\"\")","v":""}]
[{"$nulls":10},{"$f":"IF(ISNUMBER(SEARCH($A$3,L1789)),MAX($K$1:K1788)+1,0)","v":0},"Jet Airways (India) Ltd","JETAIRWAYS.BO",{"$nulls":12},{"$f":"IFERROR(VLOOKUP(ROWS($Z$2:Z1789),K1789:$L$6000,2,0),\"\")","v":""},{"$f":"IFERROR(VLOOKUP(ROWS($AA$2:AA1789),K1789:$M$6000,3,0),\"\")","v":""}]
[{"$nulls":10},{"$f":"IF(ISNUMBER(SEARCH($A$3,L1790)),MAX($K$1:K1789)+1,0)","v":0},"Jet Airways (India) Ltd","JETAIRWAY.NS",{"$nulls":12},{"$f":"IFERROR(VLOOKUP(ROWS($Z$2:Z1790),K1790:$L$6000,2,0),\"\")","v":""},{"$f":"IFERROR(VLOOKUP(ROWS($AA$2:AA1790),K1790:$M$6000,3,0),\"\")","v":""}]
[{"$nulls":10},{"$f":"IF(ISNUMBER(SEARCH($A$3,L1791)),MAX($K$1:K1790)+1,0)","v":0},"Jetking Infotrain Ltd","JETKINGQ.BO",{"$nulls":12},{"$f":"IFERROR(VLOOKUP(ROWS($Z$2:Z1791),K1791:$L$6000,2,0),\"\")","v":""},{"$f":"IFERROR(VLOOKUP(ROWS($AA$2:AA1791),K1791:$M$6000,3,0),\"\")","v":""}]
[{"$nulls":10},{"$f":"IF(ISNUMBER(SEARCH($A$3,L1792)),MAX($K$1:K1791)+1,0)","v":0},"Jeypore Sugar Co Ltd","JEYPORE.BO",{"$nulls":12},{"$f":"IFERROR(VLOOKUP(ROWS($Z$2:Z1792),K1792:$L$6000,2,0),\"\")","v":""},{"$f":"IFERROR(VLOOKUP(ROWS($AA$2:AA1792),K1792:$M$6000,3,0),\"\")","v":""}]
[{"$nulls":10},{"$f":"IF(ISNUMBER(SEARCH($A$3,L1793)),MAX($K$1:K1792)+1,0)","v":0},"Jhaveri Credits & Capital Ltd","JHACC.BO",{"$nulls":12},{"$f":"IFERROR(VLOOKUP(ROWS($Z$2:Z1793),K1793:$L$6000,2,0),\"\")","v":""},{"$f":"IFERROR(VLOOKUP(ROWS($AA$2:AA1793),K1793:$M$6000,3,0),\"\")","v":""}]
[{"$nulls":10},{"$f":"IF(ISNUMBER(SEARCH($A$3,L1794)),MAX($K$1:K1793)+1,0)","v":0},"JHS Svendgaard Laboratori","JHS.BO",{"$nulls":12},{"$f":"IFERROR(VLOOKUP(ROWS($Z$2:Z1794),K1794:$L$6000,2,0),\"\")","v":""},{"$f":"IFERROR(VLOOKUP(ROWS($AA$2:AA1794),K1794:$M$6000,3,0),\"\")","v":""}]
[{"$nulls":10},{"$f":"IF(ISNUMBER(SEARCH($A$3,L1795)),MAX($K$1:K1794)+1,0)","v":0},"JHS Svendgaard Laboratori","JHS.NS",{"$nulls":12},{"$f":"IFERROR(VLOOKUP(ROWS($Z$2:Z1795),K1795:$L$6000,2,0),\"\")","v":""},{"$f":"IFERROR(VLOOKUP(ROWS($AA$2:AA1795),K1795:$M$6000,3,0),\"\")","v":""}]
[{"$nulls":10},{"$f":"IF(ISNUMBER(SEARCH($A$3,L1796)),MAX($K$1:K1795)+1,0)","v":0},"JIK Industries Ltd","JIKINDS.BO",{"$nulls":12},{"$f":"IFERROR(VLOOKUP(ROWS($Z$2:Z1796),K1796:$L$6000,2,0),\"\")","v":""},{"$f":"IFERROR(VLOOKUP(ROWS($AA$2:AA1796),K1796:$M$6000,3,0),\"\")","v":""}]
[{"$nulls":10},{"$f":"IF(ISNUMBER(SEARCH($A$3,L1797)),MAX($K$1:K1796)+1,0)","v":0},"JIK Industries Ltd","JIKIND.NS",{"$nulls":12},{"$f":"IFERROR(VLOOKUP(ROWS($Z$2:Z1797),K1797:$L$6000,2,0),\"\")","v":""},{"$f":"IFERROR(VLOOKUP(ROWS($AA$2:AA1797),K1797:$M$6000,3,0),\"\")","v":""}]
[{"$nulls":10},{"$f":"IF(ISNUMBER(SEARCH($A$3,L1798)),MAX($K$1:K1797)+1,0)","v":0},"Jindal Capital Ltd","JINDCAP.BO",{"$nulls":12},{"$f":"IFERROR(VLOOKUP(ROWS($Z$2:Z1798),K1798:$L$6000,2,0),\"\")","v":""},{"$f":"IFERROR(VLOOKUP(ROWS($AA$2:AA1798),K1798:$M$6000,3,0),\"\")","v":""}]
[{"$nulls":10},{"$f":"IF(ISNUMBER(SEARCH($A$3,L1799)),MAX($K$1:K1798)+1,0)","v":0},"Jindal Cotex Ltd","JINDALCOT.BO",{"$nulls":12},{"$f":"IFERROR(VLOOKUP(ROWS($Z$2:Z1799),K1799:$L$6000,2,0),\"\")","v":""},{"$f":"IFERROR(VLOOKUP(ROWS($AA$2:AA1799),K1799:$M$6000,3,0),\"\")","v":""}]
[{"$nulls":10},{"$f":"IF(ISNUMBER(SEARCH($A$3,L1800)),MAX($K$1:K1799)+1,0)","v":0},"Jindal Cotex Ltd","JINDCOT.NS",{"$nulls":12},{"$f":"IFERROR(VLOOKUP(ROWS($Z$2:Z1800),K1800:$L$6000,2,0),\"\")","v":""},{"$f":"IFERROR(VLOOKUP(ROWS($AA$2:AA1800),K1800:$M$6000,3,0),\"\")","v":""}]
[{"$nulls":10},{"$f":"IF(ISNUMBER(SEARCH($A$3,L1801)),MAX($K$1:K1800)+1,0)","v":0},"Jindal Drilling & Industr","JINDRILL.BO",{"$nulls":12},{"$f":"IFERROR(VLOOKUP(ROWS($Z$2:Z1801),K1801:$L$6000,2,0),\"\")","v":""},{"$f":"IFERROR(VLOOKUP(ROWS($AA$2:AA1801),K1801:$M$6000,3,0),\"\")","v":""}]
[{"$nulls":10},{"$f":"IF(ISNUMBER(SEARCH($A$3,L1802)),MAX($K$1:K1801)+1,0)","v":0},"Jindal Drilling & Industr","JINDRILL.NS",{"$nulls":12},{"$f":"IFERROR(VLOOKUP(ROWS($Z$2:Z1802),K1802:$L$6000,2,0),\"\")","v":""},{"$f":"IFERROR(VLOOKUP(ROWS($AA$2:AA1802),K1802:$M$6000,3,0),\"\")","v":""}]
[{"$nulls":10},{"$f":"IF(ISNUMBER(SEARCH($A$3,L1803)),MAX($K$1:K1802)+1,0)","v":0},"Jindal Hotels Ltd","JINDHOT.BO",{"$nulls":12},{"$f":"IFERROR(VLOOKUP(ROWS($Z$2:Z1803),K1803:$L$6000,2,0),\"\")","v":""},{"$f":"IFERROR(VLOOKUP(ROWS($AA$2:AA1803),K1803:$M$6000,3,0),\"\")","v":""}]
[{"$nulls":10},{"$f":"IF(ISNUMBER(SEARCH($A$3,L1804)),MAX($K$1:K1803)+1,0)","v":0},"Jindal Photo Ltd","JINDALPH.BO",{"$nulls":12},{"$f":"IFERROR(VLOOKUP(ROWS($Z$2:Z1804),K1804:$L$6000,2,0),\"\")","v":""},{"$f":"IFERROR(VLOOKUP(ROWS($AA$2:AA1804),K1804:$M$6000,3,0),\"\")","v":""}]
[{"$nulls":10},{"$f":"IF(ISNUMBER(SEARCH($A$3,L1805)),MAX($K$1:K1804)+1,0)","v":0},"Jindal Photo Ltd","JINDALPHO.NS",{"$nulls":12},{"$f":"IFERROR(VLOOKUP(ROWS($Z$2:Z1805),K1805:$L$6000,2,0),\"\")","v":""},{"$f":"IFERROR(VLOOKUP(ROWS($AA$2:AA1805),K1805:$M$6000,3,0),\"\")","v":""}]
[{"$nulls":10},{"$f":"IF(ISNUMBER(SEARCH($A$3,L1806)),MAX($K$1:K1805)+1,0)","v":0},"Jindal Poly Films Ltd","JINDPOLYFM.BO",{"$nulls":12},{"$f":"IFERROR(VLOOKUP(ROWS($Z$2:Z1806),K1806:$L$6000,2,0),\"\")","v":""},{"$f":"IFERROR(VLOOKUP(ROWS($AA$2:AA1806),K1806:$M$6000,3,0),\"\")","v":""}]
[{"$nulls":10},{"$f":"IF(ISNUMBER(SEARCH($A$3,L1807)),MAX($K$1:K1806)+1,0)","v":0},"Jindal Poly Films Ltd","JINDALPOL.NS",{"$nulls":12},{"$f":"IFERROR(VLOOKUP(ROWS($Z$2:Z1807),K1807:$L$6000,2,0),\"\")","v":""},{"$f":"IFERROR(VLOOKUP(ROWS($AA$2:AA1807),K1807:$M$6000,3,0),\"\")","v":""}]
[{"$nulls":10},{"$f":"IF(ISNUMBER(SEARCH($A$3,L1808)),MAX($K$1:K1807)+1,0)","v":0},"Jindal Saw Ltd","JINDAL.BO",{"$nulls":12},{"$f":"IFERROR(VLOOKUP(ROWS($Z$2:Z1808),K1808:$L$6000,2,0),\"\")","v":""},{"$f":"IFERROR(VLOOKUP(ROWS($AA$2:AA1808),K1808:$M$6000,3,0),\"\")","v":""}]
[{"$nulls":10},{"$f":"IF(ISNUMBER(SEARCH($A$3,L1809)),MAX($K$1:K1808)+1,0)","v":0},"Jindal Saw Ltd","JINDALSAW.NS",{"$nulls":12},{"$f":"IFERROR(VLOOKUP(ROWS($Z$2:Z1809),K1809:$L$6000,2,0),\"\")","v":""},{"$f":"IFERROR(VLOOKUP(ROWS($AA$2:AA1809),K1809:$M$6000,3,0),\"\")","v":""}]
[{"$nulls":10},{"$f":"IF(ISNUMBER(SEARCH($A$3,L1810)),MAX($K$1:K1809)+1,0)","v":0},"Jindal Steel & Power Ltd","JINDALSTEEL.BO",{"$nulls":12},{"$f":"IFERROR(VLOOKUP(ROWS($Z$2:Z1810),K1810:$L$6000,2,0),\"\")","v":""},{"$f":"IFERROR(VLOOKUP(ROWS($AA$2:AA1810),K1810:$M$6000,3,0),\"\")","v":""}]
[{"$nulls":10},{"$f":"IF(ISNUMBER(SEARCH($A$3,L1811)),MAX($K$1:K1810)+1,0)","v":0},"Jindal Steel & Power Ltd","JINDALSTE.NS",{"$nulls":12},{"$f":"IFERROR(VLOOKUP(ROWS($Z$2:Z1811),K1811:$L$6000,2,0),\"\")","v":""},{"$f":"IFERROR(VLOOKUP(ROWS($AA$2:AA1811),K1811:$M$6000,3,0),\"\")","v":""}]
[{"$nulls":10},{"$f":"IF(ISNUMBER(SEARCH($A$3,L1812)),MAX($K$1:K1811)+1,0)","v":0},"Jindal Worldwide Ltd","JINDWORL.BO",{"$nulls":12},{"$f":"IFERROR(VLOOKUP(ROWS($Z$2:Z1812),K1812:$L$6000,2,0),\"\")","v":""},{"$f":"IFERROR(VLOOKUP(ROWS($AA$2:AA1812),K1812:$M$6000,3,0),\"\")","v":""}]
[{"$nulls":10},{"$f":"IF(ISNUMBER(SEARCH($A$3,L1813)),MAX($K$1:K1812)+1,0)","v":0},"JK Cement Ltd","JKCEM.BO",{"$nulls":12},{"$f":"IFERROR(VLOOKUP(ROWS($Z$2:Z1813),K1813:$L$6000,2,0),\"\")","v":""},{"$f":"IFERROR(VLOOKUP(ROWS($AA$2:AA1813),K1813:$M$6000,3,0),\"\")","v":""}]
[{"$nulls":10},{"$f":"IF(ISNUMBER(SEARCH($A$3,L1814)),MAX($K$1:K1813)+1,0)","v":0},"JK Cement Ltd","JKCEMENT.NS",{"$nulls":12},{"$f":"IFERROR(VLOOKUP(ROWS($Z$2:Z1814),K1814:$L$6000,2,0),\"\")","v":""},{"$f":"IFERROR(VLOOKUP(ROWS($AA$2:AA1814),K1814:$M$6000,3,0),\"\")","v":""}]
[{"$nulls":10},{"$f":"IF(ISNUMBER(SEARCH($A$3,L1815)),MAX($K$1:K1814)+1,0)","v":0},"JK Lakshmi Cement Ltd","JKLAKSHMI.BO",{"$nulls":12},{"$f":"IFERROR(VLOOKUP(ROWS($Z$2:Z1815),K1815:$L$6000,2,0),\"\")","v":""},{"$f":"IFERROR(VLOOKUP(ROWS($AA$2:AA1815),K1815:$M$6000,3,0),\"\")","v":""}]
[{"$nulls":10},{"$f":"IF(ISNUMBER(SEARCH($A$3,L1816)),MAX($K$1:K1815)+1,0)","v":0},"JK Lakshmi Cement Ltd","JKLAKSHMI.NS",{"$nulls":12},{"$f":"IFERROR(VLOOKUP(ROWS($Z$2:Z1816),K1816:$L$6000,2,0),\"\")","v":""},{"$f":"IFERROR(VLOOKUP(ROWS($AA$2:AA1816),K1816:$M$6000,3,0),\"\")","v":""}]
[{"$nulls":10},{"$f":"IF(ISNUMBER(SEARCH($A$3,L1817)),MAX($K$1:K1816)+1,0)","v":0},"JK Paper Ltd","JKPPRQ.BO",{"$nulls":12},{"$f":"IFERROR(VLOOKUP(ROWS($Z$2:Z1817),K1817:$L$6000,2,0),\"\")","v":""},{"$f":"IFERROR(VLOOKUP(ROWS($AA$2:AA1817),K1817:$M$6000,3,0),\"\")","v":""}]
[{"$nulls":10},{"$f":"IF(ISNUMBER(SEARCH($A$3,L1818)),MAX($K$1:K1817)+1,0)","v":0},"JK Paper Ltd","JKPAPER.NS",{"$nulls":12},{"$f":"IFERROR(VLOOKUP(ROWS($Z$2:Z1818),K1818:$L$6000,2,0),\"\")","v":""},{"$f":"IFERROR(VLOOKUP(ROWS($AA$2:AA1818),K1818:$M$6000,3,0),\"\")","v":""}]
[{"$nulls":10},{"$f":"IF(ISNUMBER(SEARCH($A$3,L1819)),MAX($K$1:K1818)+1,0)","v":0},"JK Tyre & Industries Ltd","JKTYREIND.BO",{"$nulls":12},{"$f":"IFERROR(VLOOKUP(ROWS($Z$2:Z1819),K1819:$L$6000,2,0),\"\")","v":""},{"$f":"IFERROR(VLOOKUP(ROWS($AA$2:AA1819),K1819:$M$6000,3,0),\"\")","v":""}]
[{"$nulls":10},{"$f":"IF(ISNUMBER(SEARCH($A$3,L1820)),MAX($K$1:K1819)+1,0)","v":0},"JK Tyre & Industries Ltd","JKTYRE.NS",{"$nulls":12},{"$f":"IFERROR(VLOOKUP(ROWS($Z$2:Z1820),K1820:$L$6000,2,0),\"\")","v":""},{"$f":"IFERROR(VLOOKUP(ROWS($AA$2:AA1820),K1820:$M$6000,3,0),\"\")","v":""}]
[{"$nulls":10},{"$f":"IF(ISNUMBER(SEARCH($A$3,L1821)),MAX($K$1:K1820)+1,0)","v":0},"JL Morison India Ltd","JLMORI.BO",{"$nulls":12},{"$f":"IFERROR(VLOOKUP(ROWS($Z$2:Z1821),K1821:$L$6000,2,0),\"\")","v":""},{"$f":"IFERROR(VLOOKUP(ROWS($AA$2:AA1821),K1821:$M$6000,3,0),\"\")","v":""}]
[{"$nulls":10},{"$f":"IF(ISNUMBER(SEARCH($A$3,L1822)),MAX($K$1:K1821)+1,0)","v":0},"JM Financial Ltd","JMFINAN.BO",{"$nulls":12},{"$f":"IFERROR(VLOOKUP(ROWS($Z$2:Z1822),K1822:$L$6000,2,0),\"\")","v":""},{"$f":"IFERROR(VLOOKUP(ROWS($AA$2:AA1822),K1822:$M$6000,3,0),\"\")","v":""}]
[{"$nulls":10},{"$f":"IF(ISNUMBER(SEARCH($A$3,L1823)),MAX($K$1:K1822)+1,0)","v":0},"JM Financial Ltd","JMFINANCI.NS",{"$nulls":12},{"$f":"IFERROR(VLOOKUP(ROWS($Z$2:Z1823),K1823:$L$6000,2,0),\"\")","v":""},{"$f":"IFERROR(VLOOKUP(ROWS($AA$2:AA1823),K1823:$M$6000,3,0),\"\")","v":""}]
[{"$nulls":10},{"$f":"IF(ISNUMBER(SEARCH($A$3,L1824)),MAX($K$1:K1823)+1,0)","v":0},"JMC Projects (india) Ltd","JMCPRO.BO",{"$nulls":12},{"$f":"IFERROR(VLOOKUP(ROWS($Z$2:Z1824),K1824:$L$6000,2,0),\"\")","v":""},{"$f":"IFERROR(VLOOKUP(ROWS($AA$2:AA1824),K1824:$M$6000,3,0),\"\")","v":""}]
[{"$nulls":10},{"$f":"IF(ISNUMBER(SEARCH($A$3,L1825)),MAX($K$1:K1824)+1,0)","v":0},"JMC Projects (india) Ltd","JMCPROJEC.NS",{"$nulls":12},{"$f":"IFERROR(VLOOKUP(ROWS($Z$2:Z1825),K1825:$L$6000,2,0),\"\")","v":""},{"$f":"IFERROR(VLOOKUP(ROWS($AA$2:AA1825),K1825:$M$6000,3,0),\"\")","v":""}]
[{"$nulls":10},{"$f":"IF(ISNUMBER(SEARCH($A$3,L1826)),MAX($K$1:K1825)+1,0)","v":0},"JMD Telefilms Industries Ltd","JMDTELEFILM.BO",{"$nulls":12},{"$f":"IFERROR(VLOOKUP(ROWS($Z$2:Z1826),K1826:$L$6000,2,0),\"\")","v":""},{"$f":"IFERROR(VLOOKUP(ROWS($AA$2:AA1826),K1826:$M$6000,3,0),\"\")","v":""}]
[{"$nulls":10},{"$f":"IF(ISNUMBER(SEARCH($A$3,L1827)),MAX($K$1:K1826)+1,0)","v":0},"JMG Corp Ltd","JMGCORP.BO",{"$nulls":12},{"$f":"IFERROR(VLOOKUP(ROWS($Z$2:Z1827),K1827:$L$6000,2,0),\"\")","v":""},{"$f":"IFERROR(VLOOKUP(ROWS($AA$2:AA1827),K1827:$M$6000,3,0),\"\")","v":""}]
[{"$nulls":10},{"$f":"IF(ISNUMBER(SEARCH($A$3,L1828)),MAX($K$1:K1827)+1,0)","v":0},"JMT Auto Ltd","JMTAUTO.BO",{"$nulls":12},{"$f":"IFERROR(VLOOKUP(ROWS($Z$2:Z1828),K1828:$L$6000,2,0),\"\")","v":""},{"$f":"IFERROR(VLOOKUP(ROWS($AA$2:AA1828),K1828:$M$6000,3,0),\"\")","v":""}]
[{"$nulls":10},{"$f":"IF(ISNUMBER(SEARCH($A$3,L1829)),MAX($K$1:K1828)+1,0)","v":0},"JMT Auto Ltd","JMTAUTOLT.NS",{"$nulls":12},{"$f":"IFERROR(VLOOKUP(ROWS($Z$2:Z1829),K1829:$L$6000,2,0),\"\")","v":""},{"$f":"IFERROR(VLOOKUP(ROWS($AA$2:AA1829),K1829:$M$6000,3,0),\"\")","v":""}]
[{"$nulls":10},{"$f":"IF(ISNUMBER(SEARCH($A$3,L1830)),MAX($K$1:K1829)+1,0)","v":0},"Jocil Ltd","JOCIL.NS",{"$nulls":12},{"$f":"IFERROR(VLOOKUP(ROWS($Z$2:Z1830),K1830:$L$6000,2,0),\"\")","v":""},{"$f":"IFERROR(VLOOKUP(ROWS($AA$2:AA1830),K1830:$M$6000,3,0),\"\")","v":""}]
[{"$nulls":10},{"$f":"IF(ISNUMBER(SEARCH($A$3,L1831)),MAX($K$1:K1830)+1,0)","v":0},"Joindre Capital Services Ltd","JOINDRE.BO",{"$nulls":12},{"$f":"IFERROR(VLOOKUP(ROWS($Z$2:Z1831),K1831:$L$6000,2,0),\"\")","v":""},{"$f":"IFERROR(VLOOKUP(ROWS($AA$2:AA1831),K1831:$M$6000,3,0),\"\")","v":""}]
[{"$nulls":10},{"$f":"IF(ISNUMBER(SEARCH($A$3,L1832)),MAX($K$1:K1831)+1,0)","v":0},"Joonktollee Tea & Industr","JOONKTOLL.BO",{"$nulls":12},{"$f":"IFERROR(VLOOKUP(ROWS($Z$2:Z1832),K1832:$L$6000,2,0),\"\")","v":""},{"$f":"IFERROR(VLOOKUP(ROWS($AA$2:AA1832),K1832:$M$6000,3,0),\"\")","v":""}]
[{"$nulls":10},{"$f":"IF(ISNUMBER(SEARCH($A$3,L1833)),MAX($K$1:K1832)+1,0)","v":0},"Jost'S Engineering Co Ltd","JOSTS.BO",{"$nulls":12},{"$f":"IFERROR(VLOOKUP(ROWS($Z$2:Z1833),K1833:$L$6000,2,0),\"\")","v":""},{"$f":"IFERROR(VLOOKUP(ROWS($AA$2:AA1833),K1833:$M$6000,3,0),\"\")","v":""}]
[{"$nulls":10},{"$f":"IF(ISNUMBER(SEARCH($A$3,L1834)),MAX($K$1:K1833)+1,0)","v":0},"JPT Securities Ltd","JPTSEC.BO",{"$nulls":12},{"$f":"IFERROR(VLOOKUP(ROWS($Z$2:Z1834),K1834:$L$6000,2,0),\"\")","v":""},{"$f":"IFERROR(VLOOKUP(ROWS($AA$2:AA1834),K1834:$M$6000,3,0),\"\")","v":""}]
[{"$nulls":10},{"$f":"IF(ISNUMBER(SEARCH($A$3,L1835)),MAX($K$1:K1834)+1,0)","v":0},"JSL Stainless Ltd","JSL.BO",{"$nulls":12},{"$f":"IFERROR(VLOOKUP(ROWS($Z$2:Z1835),K1835:$L$6000,2,0),\"\")","v":""},{"$f":"IFERROR(VLOOKUP(ROWS($AA$2:AA1835),K1835:$M$6000,3,0),\"\")","v":""}]
[{"$nulls":10},{"$f":"IF(ISNUMBER(SEARCH($A$3,L1836)),MAX($K$1:K1835)+1,0)","v":0},"JSL Stainless Ltd","JSL.NS",{"$nulls":12},{"$f":"IFERROR(VLOOKUP(ROWS($Z$2:Z1836),K1836:$L$6000,2,0),\"\")","v":""},{"$f":"IFERROR(VLOOKUP(ROWS($AA$2:AA1836),K1836:$M$6000,3,0),\"\")","v":""}]
[{"$nulls":10},{"$f":"IF(ISNUMBER(SEARCH($A$3,L1837)),MAX($K$1:K1836)+1,0)","v":0},"JSW Energy Ltd","JSWENERGY.BO",{"$nulls":12},{"$f":"IFERROR(VLOOKUP(ROWS($Z$2:Z1837),K1837:$L$6000,2,0),\"\")","v":""},{"$f":"IFERROR(VLOOKUP(ROWS($AA$2:AA1837),K1837:$M$6000,3,0),\"\")","v":""}]
[{"$nulls":10},{"$f":"IF(ISNUMBER(SEARCH($A$3,L1838)),MAX($K$1:K1837)+1,0)","v":0},"JSW Holdings Ltd","JSWHL.BO",{"$nulls":12},{"$f":"IFERROR(VLOOKUP(ROWS($Z$2:Z1838),K1838:$L$6000,2,0),\"\")","v":""},{"$f":"IFERROR(VLOOKUP(ROWS($AA$2:AA1838),K1838:$M$6000,3,0),\"\")","v":""}]
[{"$nulls":10},{"$f":"IF(ISNUMBER(SEARCH($A$3,L1839)),MAX($K$1:K1838)+1,0)","v":0},"JSW Holdings Ltd","JINDALSWH.NS",{"$nulls":12},{"$f":"IFERROR(VLOOKUP(ROWS($Z$2:Z1839),K1839:$L$6000,2,0),\"\")","v":""},{"$f":"IFERROR(VLOOKUP(ROWS($AA$2:AA1839),K1839:$M$6000,3,0),\"\")","v":""}]
[{"$nulls":10},{"$f":"IF(ISNUMBER(SEARCH($A$3,L1840)),MAX($K$1:K1839)+1,0)","v":0},"JSW Steel Ltd","JSWSL.BO",{"$nulls":12},{"$f":"IFERROR(VLOOKUP(ROWS($Z$2:Z1840),K1840:$L$6000,2,0),\"\")","v":""},{"$f":"IFERROR(VLOOKUP(ROWS($AA$2:AA1840),K1840:$M$6000,3,0),\"\")","v":""}]
[{"$nulls":10},{"$f":"IF(ISNUMBER(SEARCH($A$3,L1841)),MAX($K$1:K1840)+1,0)","v":0},"JSW Steel Ltd","JSWSTEEL.NS",{"$nulls":12},{"$f":"IFERROR(VLOOKUP(ROWS($Z$2:Z1841),K1841:$L$6000,2,0),\"\")","v":""},{"$f":"IFERROR(VLOOKUP(ROWS($AA$2:AA1841),K1841:$M$6000,3,0),\"\")","v":""}]
[{"$nulls":10},{"$f":"IF(ISNUMBER(SEARCH($A$3,L1842)),MAX($K$1:K1841)+1,0)","v":0},"Jubilant Foodworks Ltd","JUBLFOOD.BO",{"$nulls":12},{"$f":"IFERROR(VLOOKUP(ROWS($Z$2:Z1842),K1842:$L$6000,2,0),\"\")","v":""},{"$f":"IFERROR(VLOOKUP(ROWS($AA$2:AA1842),K1842:$M$6000,3,0),\"\")","v":""}]
[{"$nulls":10},{"$f":"IF(ISNUMBER(SEARCH($A$3,L1843)),MAX($K$1:K1842)+1,0)","v":0},"Jubilant Foodworks Ltd","JUBLFOOD.NS",{"$nulls":12},{"$f":"IFERROR(VLOOKUP(ROWS($Z$2:Z1843),K1843:$L$6000,2,0),\"\")","v":""},{"$f":"IFERROR(VLOOKUP(ROWS($AA$2:AA1843),K1843:$M$6000,3,0),\"\")","v":""}]
[{"$nulls":10},{"$f":"IF(ISNUMBER(SEARCH($A$3,L1844)),MAX($K$1:K1843)+1,0)","v":0},"Jubilant Life Sciences Ltd","JUBILANTORG.BO",{"$nulls":12},{"$f":"IFERROR(VLOOKUP(ROWS($Z$2:Z1844),K1844:$L$6000,2,0),\"\")","v":""},{"$f":"IFERROR(VLOOKUP(ROWS($AA$2:AA1844),K1844:$M$6000,3,0),\"\")","v":""}]
[{"$nulls":10},{"$f":"IF(ISNUMBER(SEARCH($A$3,L1845)),MAX($K$1:K1844)+1,0)","v":0},"Jubilant Life Sciences Ltd","JUBILANT.NS",{"$nulls":12},{"$f":"IFERROR(VLOOKUP(ROWS($Z$2:Z1845),K1845:$L$6000,2,0),\"\")","v":""},{"$f":"IFERROR(VLOOKUP(ROWS($AA$2:AA1845),K1845:$M$6000,3,0),\"\")","v":""}]
[{"$nulls":10},{"$f":"IF(ISNUMBER(SEARCH($A$3,L1846)),MAX($K$1:K1845)+1,0)","v":0},"Jumbo Bag Ltd","JUMBOBA.BO",{"$nulls":12},{"$f":"IFERROR(VLOOKUP(ROWS($Z$2:Z1846),K1846:$L$6000,2,0),\"\")","v":""},{"$f":"IFERROR(VLOOKUP(ROWS($AA$2:AA1846),K1846:$M$6000,3,0),\"\")","v":""}]
[{"$nulls":10},{"$f":"IF(ISNUMBER(SEARCH($A$3,L1847)),MAX($K$1:K1846)+1,0)","v":0},"Jupiter Industries","JPTRLES.BO",{"$nulls":12},{"$f":"IFERROR(VLOOKUP(ROWS($Z$2:Z1847),K1847:$L$6000,2,0),\"\")","v":""},{"$f":"IFERROR(VLOOKUP(ROWS($AA$2:AA1847),K1847:$M$6000,3,0),\"\")","v":""}]
[{"$nulls":10},{"$f":"IF(ISNUMBER(SEARCH($A$3,L1848)),MAX($K$1:K1847)+1,0)","v":0},"JVL Agro Industries Ltd","JVLAGRO.BO",{"$nulls":12},{"$f":"IFERROR(VLOOKUP(ROWS($Z$2:Z1848),K1848:$L$6000,2,0),\"\")","v":""},{"$f":"IFERROR(VLOOKUP(ROWS($AA$2:AA1848),K1848:$M$6000,3,0),\"\")","v":""}]
[{"$nulls":10},{"$f":"IF(ISNUMBER(SEARCH($A$3,L1849)),MAX($K$1:K1848)+1,0)","v":0},"Jyothi Infraventures Ltd","BOSSECU.BO",{"$nulls":12},{"$f":"IFERROR(VLOOKUP(ROWS($Z$2:Z1849),K1849:$L$6000,2,0),\"\")","v":""},{"$f":"IFERROR(VLOOKUP(ROWS($AA$2:AA1849),K1849:$M$6000,3,0),\"\")","v":""}]
[{"$nulls":10},{"$f":"IF(ISNUMBER(SEARCH($A$3,L1850)),MAX($K$1:K1849)+1,0)","v":0},"Jyothy Laboratories Ltd","JYOTHYLAB.BO",{"$nulls":12},{"$f":"IFERROR(VLOOKUP(ROWS($Z$2:Z1850),K1850:$L$6000,2,0),\"\")","v":""},{"$f":"IFERROR(VLOOKUP(ROWS($AA$2:AA1850),K1850:$M$6000,3,0),\"\")","v":""}]
[{"$nulls":10},{"$f":"IF(ISNUMBER(SEARCH($A$3,L1851)),MAX($K$1:K1850)+1,0)","v":0},"Jyothy Laboratories Ltd","JYOTHYLAB.NS",{"$nulls":12},{"$f":"IFERROR(VLOOKUP(ROWS($Z$2:Z1851),K1851:$L$6000,2,0),\"\")","v":""},{"$f":"IFERROR(VLOOKUP(ROWS($AA$2:AA1851),K1851:$M$6000,3,0),\"\")","v":""}]
[{"$nulls":10},{"$f":"IF(ISNUMBER(SEARCH($A$3,L1852)),MAX($K$1:K1851)+1,0)","v":0},"Jyoti Ltd","JYOTI.BO",{"$nulls":12},{"$f":"IFERROR(VLOOKUP(ROWS($Z$2:Z1852),K1852:$L$6000,2,0),\"\")","v":""},{"$f":"IFERROR(VLOOKUP(ROWS($AA$2:AA1852),K1852:$M$6000,3,0),\"\")","v":""}]
[{"$nulls":10},{"$f":"IF(ISNUMBER(SEARCH($A$3,L1853)),MAX($K$1:K1852)+1,0)","v":0},"Jyoti Overseas Ltd","JYOTIOVR.BO",{"$nulls":12},{"$f":"IFERROR(VLOOKUP(ROWS($Z$2:Z1853),K1853:$L$6000,2,0),\"\")","v":""},{"$f":"IFERROR(VLOOKUP(ROWS($AA$2:AA1853),K1853:$M$6000,3,0),\"\")","v":""}]
[{"$nulls":10},{"$f":"IF(ISNUMBER(SEARCH($A$3,L1854)),MAX($K$1:K1853)+1,0)","v":0},"Jyoti Resins & Adhesives Ltd","JYOTIRES.BO",{"$nulls":12},{"$f":"IFERROR(VLOOKUP(ROWS($Z$2:Z1854),K1854:$L$6000,2,0),\"\")","v":""},{"$f":"IFERROR(VLOOKUP(ROWS($AA$2:AA1854),K1854:$M$6000,3,0),\"\")","v":""}]
[{"$nulls":10},{"$f":"IF(ISNUMBER(SEARCH($A$3,L1855)),MAX($K$1:K1854)+1,0)","v":0},"Jyoti Structures Ltd","JYOTIST.BO",{"$nulls":12},{"$f":"IFERROR(VLOOKUP(ROWS($Z$2:Z1855),K1855:$L$6000,2,0),\"\")","v":""},{"$f":"IFERROR(VLOOKUP(ROWS($AA$2:AA1855),K1855:$M$6000,3,0),\"\")","v":""}]
[{"$nulls":10},{"$f":"IF(ISNUMBER(SEARCH($A$3,L1856)),MAX($K$1:K1855)+1,0)","v":0},"Jyoti Structures Ltd","JYOTISTRU.NS",{"$nulls":12},{"$f":"IFERROR(VLOOKUP(ROWS($Z$2:Z1856),K1856:$L$6000,2,0),\"\")","v":""},{"$f":"IFERROR(VLOOKUP(ROWS($AA$2:AA1856),K1856:$M$6000,3,0),\"\")","v":""}]
[{"$nulls":10},{"$f":"IF(ISNUMBER(SEARCH($A$3,L1857)),MAX($K$1:K1856)+1,0)","v":0},"K G Denim Ltd","KGDENIM.BO",{"$nulls":12},{"$f":"IFERROR(VLOOKUP(ROWS($Z$2:Z1857),K1857:$L$6000,2,0),\"\")","v":""},{"$f":"IFERROR(VLOOKUP(ROWS($AA$2:AA1857),K1857:$M$6000,3,0),\"\")","v":""}]
[{"$nulls":10},{"$f":"IF(ISNUMBER(SEARCH($A$3,L1858)),MAX($K$1:K1857)+1,0)","v":0},"K M Sugar Mills Ltd","KMSUGAR.BO",{"$nulls":12},{"$f":"IFERROR(VLOOKUP(ROWS($Z$2:Z1858),K1858:$L$6000,2,0),\"\")","v":""},{"$f":"IFERROR(VLOOKUP(ROWS($AA$2:AA1858),K1858:$M$6000,3,0),\"\")","v":""}]
[{"$nulls":10},{"$f":"IF(ISNUMBER(SEARCH($A$3,L1859)),MAX($K$1:K1858)+1,0)","v":0},"K S Oils Ltd","KSOIL.BO",{"$nulls":12},{"$f":"IFERROR(VLOOKUP(ROWS($Z$2:Z1859),K1859:$L$6000,2,0),\"\")","v":""},{"$f":"IFERROR(VLOOKUP(ROWS($AA$2:AA1859),K1859:$M$6000,3,0),\"\")","v":""}]
[{"$nulls":10},{"$f":"IF(ISNUMBER(SEARCH($A$3,L1860)),MAX($K$1:K1859)+1,0)","v":0},"K S Oils Ltd","KSOILS.NS",{"$nulls":12},{"$f":"IFERROR(VLOOKUP(ROWS($Z$2:Z1860),K1860:$L$6000,2,0),\"\")","v":""},{"$f":"IFERROR(VLOOKUP(ROWS($AA$2:AA1860),K1860:$M$6000,3,0),\"\")","v":""}]
[{"$nulls":10},{"$f":"IF(ISNUMBER(SEARCH($A$3,L1861)),MAX($K$1:K1860)+1,0)","v":0},"K Z Leasing & Finance Ltd","KZLFIN.BO",{"$nulls":12},{"$f":"IFERROR(VLOOKUP(ROWS($Z$2:Z1861),K1861:$L$6000,2,0),\"\")","v":""},{"$f":"IFERROR(VLOOKUP(ROWS($AA$2:AA1861),K1861:$M$6000,3,0),\"\")","v":""}]
[{"$nulls":10},{"$f":"IF(ISNUMBER(SEARCH($A$3,L1862)),MAX($K$1:K1861)+1,0)","v":0},"Kabra Extrusion Technik Ltd","KABRAEXT.BO",{"$nulls":12},{"$f":"IFERROR(VLOOKUP(ROWS($Z$2:Z1862),K1862:$L$6000,2,0),\"\")","v":""},{"$f":"IFERROR(VLOOKUP(ROWS($AA$2:AA1862),K1862:$M$6000,3,0),\"\")","v":""}]
[{"$nulls":10},{"$f":"IF(ISNUMBER(SEARCH($A$3,L1863)),MAX($K$1:K1862)+1,0)","v":0},"Kabra Extrusion Technik Ltd","KABRAEXTR.NS",{"$nulls":12},{"$f":"IFERROR(VLOOKUP(ROWS($Z$2:Z1863),K1863:$L$6000,2,0),\"\")","v":""},{"$f":"IFERROR(VLOOKUP(ROWS($AA$2:AA1863),K1863:$M$6000,3,0),\"\")","v":""}]
[{"$nulls":10},{"$f":"IF(ISNUMBER(SEARCH($A$3,L1864)),MAX($K$1:K1863)+1,0)","v":0},"Kaira Can Co Ltd","KAIRA.BO",{"$nulls":12},{"$f":"IFERROR(VLOOKUP(ROWS($Z$2:Z1864),K1864:$L$6000,2,0),\"\")","v":""},{"$f":"IFERROR(VLOOKUP(ROWS($AA$2:AA1864),K1864:$M$6000,3,0),\"\")","v":""}]
[{"$nulls":10},{"$f":"IF(ISNUMBER(SEARCH($A$3,L1865)),MAX($K$1:K1864)+1,0)","v":0},"Kaiser Press Ltd","KAISERP.BO",{"$nulls":12},{"$f":"IFERROR(VLOOKUP(ROWS($Z$2:Z1865),K1865:$L$6000,2,0),\"\")","v":""},{"$f":"IFERROR(VLOOKUP(ROWS($AA$2:AA1865),K1865:$M$6000,3,0),\"\")","v":""}]
[{"$nulls":10},{"$f":"IF(ISNUMBER(SEARCH($A$3,L1866)),MAX($K$1:K1865)+1,0)","v":0},"Kajaria Ceramics Ltd","KAJARIAC.BO",{"$nulls":12},{"$f":"IFERROR(VLOOKUP(ROWS($Z$2:Z1866),K1866:$L$6000,2,0),\"\")","v":""},{"$f":"IFERROR(VLOOKUP(ROWS($AA$2:AA1866),K1866:$M$6000,3,0),\"\")","v":""}]
[{"$nulls":10},{"$f":"IF(ISNUMBER(SEARCH($A$3,L1867)),MAX($K$1:K1866)+1,0)","v":0},"Kajaria Ceramics Ltd","KAJARIACE.NS",{"$nulls":12},{"$f":"IFERROR(VLOOKUP(ROWS($Z$2:Z1867),K1867:$L$6000,2,0),\"\")","v":""},{"$f":"IFERROR(VLOOKUP(ROWS($AA$2:AA1867),K1867:$M$6000,3,0),\"\")","v":""}]
[{"$nulls":10},{"$f":"IF(ISNUMBER(SEARCH($A$3,L1868)),MAX($K$1:K1867)+1,0)","v":0},"Kakatiya Cement Sugar","KAKCEM.BO",{"$nulls":12},{"$f":"IFERROR(VLOOKUP(ROWS($Z$2:Z1868),K1868:$L$6000,2,0),\"\")","v":""},{"$f":"IFERROR(VLOOKUP(ROWS($AA$2:AA1868),K1868:$M$6000,3,0),\"\")","v":""}]
[{"$nulls":10},{"$f":"IF(ISNUMBER(SEARCH($A$3,L1869)),MAX($K$1:K1868)+1,0)","v":0},"Kakatiya Cement Sugar","KAKATCEM.NS",{"$nulls":12},{"$f":"IFERROR(VLOOKUP(ROWS($Z$2:Z1869),K1869:$L$6000,2,0),\"\")","v":""},{"$f":"IFERROR(VLOOKUP(ROWS($AA$2:AA1869),K1869:$M$6000,3,0),\"\")","v":""}]
[{"$nulls":10},{"$f":"IF(ISNUMBER(SEARCH($A$3,L1870)),MAX($K$1:K1869)+1,0)","v":0},"Kakatiya Textiles Ltd","KAKTEX.BO",{"$nulls":12},{"$f":"IFERROR(VLOOKUP(ROWS($Z$2:Z1870),K1870:$L$6000,2,0),\"\")","v":""},{"$f":"IFERROR(VLOOKUP(ROWS($AA$2:AA1870),K1870:$M$6000,3,0),\"\")","v":""}]
[{"$nulls":10},{"$f":"IF(ISNUMBER(SEARCH($A$3,L1871)),MAX($K$1:K1870)+1,0)","v":0},"Kalindee Rail Nirman (Eng","KALINDRA.BO",{"$nulls":12},{"$f":"IFERROR(VLOOKUP(ROWS($Z$2:Z1871),K1871:$L$6000,2,0),\"\")","v":""},{"$f":"IFERROR(VLOOKUP(ROWS($AA$2:AA1871),K1871:$M$6000,3,0),\"\")","v":""}]
[{"$nulls":10},{"$f":"IF(ISNUMBER(SEARCH($A$3,L1872)),MAX($K$1:K1871)+1,0)","v":0},"Kalindee Rail Nirman (Eng","KALINDEE.NS",{"$nulls":12},{"$f":"IFERROR(VLOOKUP(ROWS($Z$2:Z1872),K1872:$L$6000,2,0),\"\")","v":""},{"$f":"IFERROR(VLOOKUP(ROWS($AA$2:AA1872),K1872:$M$6000,3,0),\"\")","v":""}]
[{"$nulls":10},{"$f":"IF(ISNUMBER(SEARCH($A$3,L1873)),MAX($K$1:K1872)+1,0)","v":0},"Kallam Spinning Mills Ltd","KALLAM.BO",{"$nulls":12},{"$f":"IFERROR(VLOOKUP(ROWS($Z$2:Z1873),K1873:$L$6000,2,0),\"\")","v":""},{"$f":"IFERROR(VLOOKUP(ROWS($AA$2:AA1873),K1873:$M$6000,3,0),\"\")","v":""}]
[{"$nulls":10},{"$f":"IF(ISNUMBER(SEARCH($A$3,L1874)),MAX($K$1:K1873)+1,0)","v":0},"Kalpataru Power Transmiss","KALPOWR.BO",{"$nulls":12},{"$f":"IFERROR(VLOOKUP(ROWS($Z$2:Z1874),K1874:$L$6000,2,0),\"\")","v":""},{"$f":"IFERROR(VLOOKUP(ROWS($AA$2:AA1874),K1874:$M$6000,3,0),\"\")","v":""}]
[{"$nulls":10},{"$f":"IF(ISNUMBER(SEARCH($A$3,L1875)),MAX($K$1:K1874)+1,0)","v":0},"Kalpataru Power Transmiss","KALPATPOW.NS",{"$nulls":12},{"$f":"IFERROR(VLOOKUP(ROWS($Z$2:Z1875),K1875:$L$6000,2,0),\"\")","v":""},{"$f":"IFERROR(VLOOKUP(ROWS($AA$2:AA1875),K1875:$M$6000,3,0),\"\")","v":""}]
[{"$nulls":10},{"$f":"IF(ISNUMBER(SEARCH($A$3,L1876)),MAX($K$1:K1875)+1,0)","v":0},"Kalpena Industries Ltd","KALPENA.BO",{"$nulls":12},{"$f":"IFERROR(VLOOKUP(ROWS($Z$2:Z1876),K1876:$L$6000,2,0),\"\")","v":""},{"$f":"IFERROR(VLOOKUP(ROWS($AA$2:AA1876),K1876:$M$6000,3,0),\"\")","v":""}]
[{"$nulls":10},{"$f":"IF(ISNUMBER(SEARCH($A$3,L1877)),MAX($K$1:K1876)+1,0)","v":0},"Kalpena Plastiks Ltd","KPLASTIK.BO",{"$nulls":12},{"$f":"IFERROR(VLOOKUP(ROWS($Z$2:Z1877),K1877:$L$6000,2,0),\"\")","v":""},{"$f":"IFERROR(VLOOKUP(ROWS($AA$2:AA1877),K1877:$M$6000,3,0),\"\")","v":""}]
[{"$nulls":10},{"$f":"IF(ISNUMBER(SEARCH($A$3,L1878)),MAX($K$1:K1877)+1,0)","v":0},"Kalptaru Papers Ltd","KALPAPER.BO",{"$nulls":12},{"$f":"IFERROR(VLOOKUP(ROWS($Z$2:Z1878),K1878:$L$6000,2,0),\"\")","v":""},{"$f":"IFERROR(VLOOKUP(ROWS($AA$2:AA1878),K1878:$M$6000,3,0),\"\")","v":""}]
[{"$nulls":10},{"$f":"IF(ISNUMBER(SEARCH($A$3,L1879)),MAX($K$1:K1878)+1,0)","v":0},"Kalyani Forge Ltd","KALYFRG.BO",{"$nulls":12},{"$f":"IFERROR(VLOOKUP(ROWS($Z$2:Z1879),K1879:$L$6000,2,0),\"\")","v":""},{"$f":"IFERROR(VLOOKUP(ROWS($AA$2:AA1879),K1879:$M$6000,3,0),\"\")","v":""}]
[{"$nulls":10},{"$f":"IF(ISNUMBER(SEARCH($A$3,L1880)),MAX($K$1:K1879)+1,0)","v":0},"Kalyani Steels Ltd","KALYANISTE.BO",{"$nulls":12},{"$f":"IFERROR(VLOOKUP(ROWS($Z$2:Z1880),K1880:$L$6000,2,0),\"\")","v":""},{"$f":"IFERROR(VLOOKUP(ROWS($AA$2:AA1880),K1880:$M$6000,3,0),\"\")","v":""}]
[{"$nulls":10},{"$f":"IF(ISNUMBER(SEARCH($A$3,L1881)),MAX($K$1:K1880)+1,0)","v":0},"Kalyanpur Cements Ltd","KLYNCEM.BO",{"$nulls":12},{"$f":"IFERROR(VLOOKUP(ROWS($Z$2:Z1881),K1881:$L$6000,2,0),\"\")","v":""},{"$f":"IFERROR(VLOOKUP(ROWS($AA$2:AA1881),K1881:$M$6000,3,0),\"\")","v":""}]
[{"$nulls":10},{"$f":"IF(ISNUMBER(SEARCH($A$3,L1882)),MAX($K$1:K1881)+1,0)","v":0},"Kama Holdings Ltd","SRFPOLY.BO",{"$nulls":12},{"$f":"IFERROR(VLOOKUP(ROWS($Z$2:Z1882),K1882:$L$6000,2,0),\"\")","v":""},{"$f":"IFERROR(VLOOKUP(ROWS($AA$2:AA1882),K1882:$M$6000,3,0),\"\")","v":""}]
[{"$nulls":10},{"$f":"IF(ISNUMBER(SEARCH($A$3,L1883)),MAX($K$1:K1882)+1,0)","v":0},"Kamadgiri Fashion Ltd","KAMADSYN.BO",{"$nulls":12},{"$f":"IFERROR(VLOOKUP(ROWS($Z$2:Z1883),K1883:$L$6000,2,0),\"\")","v":""},{"$f":"IFERROR(VLOOKUP(ROWS($AA$2:AA1883),K1883:$M$6000,3,0),\"\")","v":""}]
[{"$nulls":10},{"$f":"IF(ISNUMBER(SEARCH($A$3,L1884)),MAX($K$1:K1883)+1,0)","v":0},"Kamanwala Housing Constru","KAMANWALA.BO",{"$nulls":12},{"$f":"IFERROR(VLOOKUP(ROWS($Z$2:Z1884),K1884:$L$6000,2,0),\"\")","v":""},{"$f":"IFERROR(VLOOKUP(ROWS($AA$2:AA1884),K1884:$M$6000,3,0),\"\")","v":""}]
[{"$nulls":10},{"$f":"IF(ISNUMBER(SEARCH($A$3,L1885)),MAX($K$1:K1884)+1,0)","v":0},"Kamat Hotels India Ltd","KAMATHOQ.BO",{"$nulls":12},{"$f":"IFERROR(VLOOKUP(ROWS($Z$2:Z1885),K1885:$L$6000,2,0),\"\")","v":""},{"$f":"IFERROR(VLOOKUP(ROWS($AA$2:AA1885),K1885:$M$6000,3,0),\"\")","v":""}]
[{"$nulls":10},{"$f":"IF(ISNUMBER(SEARCH($A$3,L1886)),MAX($K$1:K1885)+1,0)","v":0},"Kamat Hotels India Ltd","KAMATHOTE.NS",{"$nulls":12},{"$f":"IFERROR(VLOOKUP(ROWS($Z$2:Z1886),K1886:$L$6000,2,0),\"\")","v":""},{"$f":"IFERROR(VLOOKUP(ROWS($AA$2:AA1886),K1886:$M$6000,3,0),\"\")","v":""}]
[{"$nulls":10},{"$f":"IF(ISNUMBER(SEARCH($A$3,L1887)),MAX($K$1:K1886)+1,0)","v":0},"Kamdhenu Ispat Ltd","KIL.BO",{"$nulls":12},{"$f":"IFERROR(VLOOKUP(ROWS($Z$2:Z1887),K1887:$L$6000,2,0),\"\")","v":""},{"$f":"IFERROR(VLOOKUP(ROWS($AA$2:AA1887),K1887:$M$6000,3,0),\"\")","v":""}]
[{"$nulls":10},{"$f":"IF(ISNUMBER(SEARCH($A$3,L1888)),MAX($K$1:K1887)+1,0)","v":0},"Kamdhenu Ispat Ltd","KIL.NS",{"$nulls":12},{"$f":"IFERROR(VLOOKUP(ROWS($Z$2:Z1888),K1888:$L$6000,2,0),\"\")","v":""},{"$f":"IFERROR(VLOOKUP(ROWS($AA$2:AA1888),K1888:$M$6000,3,0),\"\")","v":""}]
[{"$nulls":10},{"$f":"IF(ISNUMBER(SEARCH($A$3,L1889)),MAX($K$1:K1888)+1,0)","v":0},"Kanco Enterprises Ltd","KANCOENT.BO",{"$nulls":12},{"$f":"IFERROR(VLOOKUP(ROWS($Z$2:Z1889),K1889:$L$6000,2,0),\"\")","v":""},{"$f":"IFERROR(VLOOKUP(ROWS($AA$2:AA1889),K1889:$M$6000,3,0),\"\")","v":""}]
[{"$nulls":10},{"$f":"IF(ISNUMBER(SEARCH($A$3,L1890)),MAX($K$1:K1889)+1,0)","v":0},"Kandagiri Spinning Mills Ltd","KANDAGSPQ.BO",{"$nulls":12},{"$f":"IFERROR(VLOOKUP(ROWS($Z$2:Z1890),K1890:$L$6000,2,0),\"\")","v":""},{"$f":"IFERROR(VLOOKUP(ROWS($AA$2:AA1890),K1890:$M$6000,3,0),\"\")","v":""}]
[{"$nulls":10},{"$f":"IF(ISNUMBER(SEARCH($A$3,L1891)),MAX($K$1:K1890)+1,0)","v":0},"Kanel Industries Ltd","KANELOIL.BO",{"$nulls":12},{"$f":"IFERROR(VLOOKUP(ROWS($Z$2:Z1891),K1891:$L$6000,2,0),\"\")","v":""},{"$f":"IFERROR(VLOOKUP(ROWS($AA$2:AA1891),K1891:$M$6000,3,0),\"\")","v":""}]
[{"$nulls":10},{"$f":"IF(ISNUMBER(SEARCH($A$3,L1892)),MAX($K$1:K1891)+1,0)","v":0},"Kanika Infrastructure & P","KANIKAIN.BO",{"$nulls":12},{"$f":"IFERROR(VLOOKUP(ROWS($Z$2:Z1892),K1892:$L$6000,2,0),\"\")","v":""},{"$f":"IFERROR(VLOOKUP(ROWS($AA$2:AA1892),K1892:$M$6000,3,0),\"\")","v":""}]
[{"$nulls":10},{"$f":"IF(ISNUMBER(SEARCH($A$3,L1893)),MAX($K$1:K1892)+1,0)","v":0},"Kanishk Steel Industries Ltd","KANSHST.BO",{"$nulls":12},{"$f":"IFERROR(VLOOKUP(ROWS($Z$2:Z1893),K1893:$L$6000,2,0),\"\")","v":""},{"$f":"IFERROR(VLOOKUP(ROWS($AA$2:AA1893),K1893:$M$6000,3,0),\"\")","v":""}]
[{"$nulls":10},{"$f":"IF(ISNUMBER(SEARCH($A$3,L1894)),MAX($K$1:K1893)+1,0)","v":0},"Kanoria Chemicals & Indus","KANORIAC.BO",{"$nulls":12},{"$f":"IFERROR(VLOOKUP(ROWS($Z$2:Z1894),K1894:$L$6000,2,0),\"\")","v":""},{"$f":"IFERROR(VLOOKUP(ROWS($AA$2:AA1894),K1894:$M$6000,3,0),\"\")","v":""}]
[{"$nulls":10},{"$f":"IF(ISNUMBER(SEARCH($A$3,L1895)),MAX($K$1:K1894)+1,0)","v":0},"Kanoria Chemicals & Indus","KANORICHE.NS",{"$nulls":12},{"$f":"IFERROR(VLOOKUP(ROWS($Z$2:Z1895),K1895:$L$6000,2,0),\"\")","v":""},{"$f":"IFERROR(VLOOKUP(ROWS($AA$2:AA1895),K1895:$M$6000,3,0),\"\")","v":""}]
[{"$nulls":10},{"$f":"IF(ISNUMBER(SEARCH($A$3,L1896)),MAX($K$1:K1895)+1,0)","v":0},"Kanpur Plastipacks Ltd","KANPRPLA.BO",{"$nulls":12},{"$f":"IFERROR(VLOOKUP(ROWS($Z$2:Z1896),K1896:$L$6000,2,0),\"\")","v":""},{"$f":"IFERROR(VLOOKUP(ROWS($AA$2:AA1896),K1896:$M$6000,3,0),\"\")","v":""}]
[{"$nulls":10},{"$f":"IF(ISNUMBER(SEARCH($A$3,L1897)),MAX($K$1:K1896)+1,0)","v":0},"Kansai Nerolac Paints Ltd","KANSANERO.BO",{"$nulls":12},{"$f":"IFERROR(VLOOKUP(ROWS($Z$2:Z1897),K1897:$L$6000,2,0),\"\")","v":""},{"$f":"IFERROR(VLOOKUP(ROWS($AA$2:AA1897),K1897:$M$6000,3,0),\"\")","v":""}]
[{"$nulls":10},{"$f":"IF(ISNUMBER(SEARCH($A$3,L1898)),MAX($K$1:K1897)+1,0)","v":0},"Kansai Nerolac Paints Ltd","KANSAINER.NS",{"$nulls":12},{"$f":"IFERROR(VLOOKUP(ROWS($Z$2:Z1898),K1898:$L$6000,2,0),\"\")","v":""},{"$f":"IFERROR(VLOOKUP(ROWS($AA$2:AA1898),K1898:$M$6000,3,0),\"\")","v":""}]
[{"$nulls":10},{"$f":"IF(ISNUMBER(SEARCH($A$3,L1899)),MAX($K$1:K1898)+1,0)","v":0},"Kapil Cotex Ltd","KAPILCO.BO",{"$nulls":12},{"$f":"IFERROR(VLOOKUP(ROWS($Z$2:Z1899),K1899:$L$6000,2,0),\"\")","v":""},{"$f":"IFERROR(VLOOKUP(ROWS($AA$2:AA1899),K1899:$M$6000,3,0),\"\")","v":""}]
[{"$nulls":10},{"$f":"IF(ISNUMBER(SEARCH($A$3,L1900)),MAX($K$1:K1899)+1,0)","v":0},"Kappac Pharma Ltd","KAPPH.BO",{"$nulls":12},{"$f":"IFERROR(VLOOKUP(ROWS($Z$2:Z1900),K1900:$L$6000,2,0),\"\")","v":""},{"$f":"IFERROR(VLOOKUP(ROWS($AA$2:AA1900),K1900:$M$6000,3,0),\"\")","v":""}]
[{"$nulls":10},{"$f":"IF(ISNUMBER(SEARCH($A$3,L1901)),MAX($K$1:K1900)+1,0)","v":0},"Kar Mobiles Ltd","KARMOB.BO",{"$nulls":12},{"$f":"IFERROR(VLOOKUP(ROWS($Z$2:Z1901),K1901:$L$6000,2,0),\"\")","v":""},{"$f":"IFERROR(VLOOKUP(ROWS($AA$2:AA1901),K1901:$M$6000,3,0),\"\")","v":""}]
[{"$nulls":10},{"$f":"IF(ISNUMBER(SEARCH($A$3,L1902)),MAX($K$1:K1901)+1,0)","v":0},"Karan Woo-Sin Ltd","KARANWO.BO",{"$nulls":12},{"$f":"IFERROR(VLOOKUP(ROWS($Z$2:Z1902),K1902:$L$6000,2,0),\"\")","v":""},{"$f":"IFERROR(VLOOKUP(ROWS($AA$2:AA1902),K1902:$M$6000,3,0),\"\")","v":""}]
[{"$nulls":10},{"$f":"IF(ISNUMBER(SEARCH($A$3,L1903)),MAX($K$1:K1902)+1,0)","v":0},"Karma Industries Ltd","KARMAISP.BO",{"$nulls":12},{"$f":"IFERROR(VLOOKUP(ROWS($Z$2:Z1903),K1903:$L$6000,2,0),\"\")","v":""},{"$f":"IFERROR(VLOOKUP(ROWS($AA$2:AA1903),K1903:$M$6000,3,0),\"\")","v":""}]
[{"$nulls":10},{"$f":"IF(ISNUMBER(SEARCH($A$3,L1904)),MAX($K$1:K1903)+1,0)","v":0},"Karnataka Bank Ltd","KTKBANK.BO",{"$nulls":12},{"$f":"IFERROR(VLOOKUP(ROWS($Z$2:Z1904),K1904:$L$6000,2,0),\"\")","v":""},{"$f":"IFERROR(VLOOKUP(ROWS($AA$2:AA1904),K1904:$M$6000,3,0),\"\")","v":""}]
[{"$nulls":10},{"$f":"IF(ISNUMBER(SEARCH($A$3,L1905)),MAX($K$1:K1904)+1,0)","v":0},"Karnataka Bank Ltd","KTKBANK.NS",{"$nulls":12},{"$f":"IFERROR(VLOOKUP(ROWS($Z$2:Z1905),K1905:$L$6000,2,0),\"\")","v":""},{"$f":"IFERROR(VLOOKUP(ROWS($AA$2:AA1905),K1905:$M$6000,3,0),\"\")","v":""}]
[{"$nulls":10},{"$f":"IF(ISNUMBER(SEARCH($A$3,L1906)),MAX($K$1:K1905)+1,0)","v":0},"Karur KCP Packkagings Ltd","KARUKCP.BO",{"$nulls":12},{"$f":"IFERROR(VLOOKUP(ROWS($Z$2:Z1906),K1906:$L$6000,2,0),\"\")","v":""},{"$f":"IFERROR(VLOOKUP(ROWS($AA$2:AA1906),K1906:$M$6000,3,0),\"\")","v":""}]
[{"$nulls":10},{"$f":"IF(ISNUMBER(SEARCH($A$3,L1907)),MAX($K$1:K1906)+1,0)","v":0},"Karur Vysya Bank Ltd","KARURVY.BO",{"$nulls":12},{"$f":"IFERROR(VLOOKUP(ROWS($Z$2:Z1907),K1907:$L$6000,2,0),\"\")","v":""},{"$f":"IFERROR(VLOOKUP(ROWS($AA$2:AA1907),K1907:$M$6000,3,0),\"\")","v":""}]
[{"$nulls":10},{"$f":"IF(ISNUMBER(SEARCH($A$3,L1908)),MAX($K$1:K1907)+1,0)","v":0},"Karur Vysya Bank Ltd","KARURVYSY.NS",{"$nulls":12},{"$f":"IFERROR(VLOOKUP(ROWS($Z$2:Z1908),K1908:$L$6000,2,0),\"\")","v":""},{"$f":"IFERROR(VLOOKUP(ROWS($AA$2:AA1908),K1908:$M$6000,3,0),\"\")","v":""}]
[{"$nulls":10},{"$f":"IF(ISNUMBER(SEARCH($A$3,L1909)),MAX($K$1:K1908)+1,0)","v":0},"Karuturi Global Ltd","KARUTGLOB.BO",{"$nulls":12},{"$f":"IFERROR(VLOOKUP(ROWS($Z$2:Z1909),K1909:$L$6000,2,0),\"\")","v":""},{"$f":"IFERROR(VLOOKUP(ROWS($AA$2:AA1909),K1909:$M$6000,3,0),\"\")","v":""}]
[{"$nulls":10},{"$f":"IF(ISNUMBER(SEARCH($A$3,L1910)),MAX($K$1:K1909)+1,0)","v":0},"Karuturi Global Ltd","KGL.NS",{"$nulls":12},{"$f":"IFERROR(VLOOKUP(ROWS($Z$2:Z1910),K1910:$L$6000,2,0),\"\")","v":""},{"$f":"IFERROR(VLOOKUP(ROWS($AA$2:AA1910),K1910:$M$6000,3,0),\"\")","v":""}]
[{"$nulls":10},{"$f":"IF(ISNUMBER(SEARCH($A$3,L1911)),MAX($K$1:K1910)+1,0)","v":0},"Kashyap Tele-Medicines Ltd","JINDONL.BO",{"$nulls":12},{"$f":"IFERROR(VLOOKUP(ROWS($Z$2:Z1911),K1911:$L$6000,2,0),\"\")","v":""},{"$f":"IFERROR(VLOOKUP(ROWS($AA$2:AA1911),K1911:$M$6000,3,0),\"\")","v":""}]
[{"$nulls":10},{"$f":"IF(ISNUMBER(SEARCH($A$3,L1912)),MAX($K$1:K1911)+1,0)","v":0},"Katare Spinning Mills Ltd","KATRSPG.BO",{"$nulls":12},{"$f":"IFERROR(VLOOKUP(ROWS($Z$2:Z1912),K1912:$L$6000,2,0),\"\")","v":""},{"$f":"IFERROR(VLOOKUP(ROWS($AA$2:AA1912),K1912:$M$6000,3,0),\"\")","v":""}]
[{"$nulls":10},{"$f":"IF(ISNUMBER(SEARCH($A$3,L1913)),MAX($K$1:K1912)+1,0)","v":0},"Katwa Udyog Ltd","KATWAUD.BO",{"$nulls":12},{"$f":"IFERROR(VLOOKUP(ROWS($Z$2:Z1913),K1913:$L$6000,2,0),\"\")","v":""},{"$f":"IFERROR(VLOOKUP(ROWS($AA$2:AA1913),K1913:$M$6000,3,0),\"\")","v":""}]
[{"$nulls":10},{"$f":"IF(ISNUMBER(SEARCH($A$3,L1914)),MAX($K$1:K1913)+1,0)","v":0},"Kaushalya Infrastructure","KAUSHALYA.BO",{"$nulls":12},{"$f":"IFERROR(VLOOKUP(ROWS($Z$2:Z1914),K1914:$L$6000,2,0),\"\")","v":""},{"$f":"IFERROR(VLOOKUP(ROWS($AA$2:AA1914),K1914:$M$6000,3,0),\"\")","v":""}]
[{"$nulls":10},{"$f":"IF(ISNUMBER(SEARCH($A$3,L1915)),MAX($K$1:K1914)+1,0)","v":0},"Kaushalya Infrastructure","KAUSHALYA.NS",{"$nulls":12},{"$f":"IFERROR(VLOOKUP(ROWS($Z$2:Z1915),K1915:$L$6000,2,0),\"\")","v":""},{"$f":"IFERROR(VLOOKUP(ROWS($AA$2:AA1915),K1915:$M$6000,3,0),\"\")","v":""}]
[{"$nulls":10},{"$f":"IF(ISNUMBER(SEARCH($A$3,L1916)),MAX($K$1:K1915)+1,0)","v":0},"Kavveri Telecom Products Ltd","KAVERITEL.BO",{"$nulls":12},{"$f":"IFERROR(VLOOKUP(ROWS($Z$2:Z1916),K1916:$L$6000,2,0),\"\")","v":""},{"$f":"IFERROR(VLOOKUP(ROWS($AA$2:AA1916),K1916:$M$6000,3,0),\"\")","v":""}]
[{"$nulls":10},{"$f":"IF(ISNUMBER(SEARCH($A$3,L1917)),MAX($K$1:K1916)+1,0)","v":0},"Kavveri Telecom Products Ltd","KAVVERITE.NS",{"$nulls":12},{"$f":"IFERROR(VLOOKUP(ROWS($Z$2:Z1917),K1917:$L$6000,2,0),\"\")","v":""},{"$f":"IFERROR(VLOOKUP(ROWS($AA$2:AA1917),K1917:$M$6000,3,0),\"\")","v":""}]
[{"$nulls":10},{"$f":"IF(ISNUMBER(SEARCH($A$3,L1918)),MAX($K$1:K1917)+1,0)","v":0},"Kay Power & Paper Ltd","KAYPOWR.BO",{"$nulls":12},{"$f":"IFERROR(VLOOKUP(ROWS($Z$2:Z1918),K1918:$L$6000,2,0),\"\")","v":""},{"$f":"IFERROR(VLOOKUP(ROWS($AA$2:AA1918),K1918:$M$6000,3,0),\"\")","v":""}]
[{"$nulls":10},{"$f":"IF(ISNUMBER(SEARCH($A$3,L1919)),MAX($K$1:K1918)+1,0)","v":0},"Kaycee Industries Ltd","KAYCEEI.BO",{"$nulls":12},{"$f":"IFERROR(VLOOKUP(ROWS($Z$2:Z1919),K1919:$L$6000,2,0),\"\")","v":""},{"$f":"IFERROR(VLOOKUP(ROWS($AA$2:AA1919),K1919:$M$6000,3,0),\"\")","v":""}]
[{"$nulls":10},{"$f":"IF(ISNUMBER(SEARCH($A$3,L1920)),MAX($K$1:K1919)+1,0)","v":0},"KBS India Ltd","KBSCAP.BO",{"$nulls":12},{"$f":"IFERROR(VLOOKUP(ROWS($Z$2:Z1920),K1920:$L$6000,2,0),\"\")","v":""},{"$f":"IFERROR(VLOOKUP(ROWS($AA$2:AA1920),K1920:$M$6000,3,0),\"\")","v":""}]
[{"$nulls":10},{"$f":"IF(ISNUMBER(SEARCH($A$3,L1921)),MAX($K$1:K1920)+1,0)","v":0},"KCCL Plastic Ltd","KOSHACN.BO",{"$nulls":12},{"$f":"IFERROR(VLOOKUP(ROWS($Z$2:Z1921),K1921:$L$6000,2,0),\"\")","v":""},{"$f":"IFERROR(VLOOKUP(ROWS($AA$2:AA1921),K1921:$M$6000,3,0),\"\")","v":""}]
[{"$nulls":10},{"$f":"IF(ISNUMBER(SEARCH($A$3,L1922)),MAX($K$1:K1921)+1,0)","v":0},"KCL Infra Projects Ltd","KADCONS.BO",{"$nulls":12},{"$f":"IFERROR(VLOOKUP(ROWS($Z$2:Z1922),K1922:$L$6000,2,0),\"\")","v":""},{"$f":"IFERROR(VLOOKUP(ROWS($AA$2:AA1922),K1922:$M$6000,3,0),\"\")","v":""}]
[{"$nulls":10},{"$f":"IF(ISNUMBER(SEARCH($A$3,L1923)),MAX($K$1:K1922)+1,0)","v":0},"KCP Ltd","KCP.BO",{"$nulls":12},{"$f":"IFERROR(VLOOKUP(ROWS($Z$2:Z1923),K1923:$L$6000,2,0),\"\")","v":""},{"$f":"IFERROR(VLOOKUP(ROWS($AA$2:AA1923),K1923:$M$6000,3,0),\"\")","v":""}]
[{"$nulls":10},{"$f":"IF(ISNUMBER(SEARCH($A$3,L1924)),MAX($K$1:K1923)+1,0)","v":0},"KCP Ltd","KCP.NS",{"$nulls":12},{"$f":"IFERROR(VLOOKUP(ROWS($Z$2:Z1924),K1924:$L$6000,2,0),\"\")","v":""},{"$f":"IFERROR(VLOOKUP(ROWS($AA$2:AA1924),K1924:$M$6000,3,0),\"\")","v":""}]
[{"$nulls":10},{"$f":"IF(ISNUMBER(SEARCH($A$3,L1925)),MAX($K$1:K1924)+1,0)","v":0},"KCP Sugar & Industries","KCPSUGIND.BO",{"$nulls":12},{"$f":"IFERROR(VLOOKUP(ROWS($Z$2:Z1925),K1925:$L$6000,2,0),\"\")","v":""},{"$f":"IFERROR(VLOOKUP(ROWS($AA$2:AA1925),K1925:$M$6000,3,0),\"\")","v":""}]
[{"$nulls":10},{"$f":"IF(ISNUMBER(SEARCH($A$3,L1926)),MAX($K$1:K1925)+1,0)","v":0},"KCP Sugar & Industries","KCPSUGIND.NS",{"$nulls":12},{"$f":"IFERROR(VLOOKUP(ROWS($Z$2:Z1926),K1926:$L$6000,2,0),\"\")","v":""},{"$f":"IFERROR(VLOOKUP(ROWS($AA$2:AA1926),K1926:$M$6000,3,0),\"\")","v":""}]
[{"$nulls":10},{"$f":"IF(ISNUMBER(SEARCH($A$3,L1927)),MAX($K$1:K1926)+1,0)","v":0},"KDDL Ltd","KDDL.BO",{"$nulls":12},{"$f":"IFERROR(VLOOKUP(ROWS($Z$2:Z1927),K1927:$L$6000,2,0),\"\")","v":""},{"$f":"IFERROR(VLOOKUP(ROWS($AA$2:AA1927),K1927:$M$6000,3,0),\"\")","v":""}]
[{"$nulls":10},{"$f":"IF(ISNUMBER(SEARCH($A$3,L1928)),MAX($K$1:K1927)+1,0)","v":0},"KDJ Holidayscapes","GOMFI.BO",{"$nulls":12},{"$f":"IFERROR(VLOOKUP(ROWS($Z$2:Z1928),K1928:$L$6000,2,0),\"\")","v":""},{"$f":"IFERROR(VLOOKUP(ROWS($AA$2:AA1928),K1928:$M$6000,3,0),\"\")","v":""}]
[{"$nulls":10},{"$f":"IF(ISNUMBER(SEARCH($A$3,L1929)),MAX($K$1:K1928)+1,0)","v":0},"KDL Biotech Ltd","KDLBIO.BO",{"$nulls":12},{"$f":"IFERROR(VLOOKUP(ROWS($Z$2:Z1929),K1929:$L$6000,2,0),\"\")","v":""},{"$f":"IFERROR(VLOOKUP(ROWS($AA$2:AA1929),K1929:$M$6000,3,0),\"\")","v":""}]
[{"$nulls":10},{"$f":"IF(ISNUMBER(SEARCH($A$3,L1930)),MAX($K$1:K1929)+1,0)","v":0},"KEC International Ltd","KECIL.BO",{"$nulls":12},{"$f":"IFERROR(VLOOKUP(ROWS($Z$2:Z1930),K1930:$L$6000,2,0),\"\")","v":""},{"$f":"IFERROR(VLOOKUP(ROWS($AA$2:AA1930),K1930:$M$6000,3,0),\"\")","v":""}]
[{"$nulls":10},{"$f":"IF(ISNUMBER(SEARCH($A$3,L1931)),MAX($K$1:K1930)+1,0)","v":0},"Kedia Construction Co Ltd","KEDIACN.BO",{"$nulls":12},{"$f":"IFERROR(VLOOKUP(ROWS($Z$2:Z1931),K1931:$L$6000,2,0),\"\")","v":""},{"$f":"IFERROR(VLOOKUP(ROWS($AA$2:AA1931),K1931:$M$6000,3,0),\"\")","v":""}]
[{"$nulls":10},{"$f":"IF(ISNUMBER(SEARCH($A$3,L1932)),MAX($K$1:K1931)+1,0)","v":0},"Keerthi Industries Ltd","KEERTHI.BO",{"$nulls":12},{"$f":"IFERROR(VLOOKUP(ROWS($Z$2:Z1932),K1932:$L$6000,2,0),\"\")","v":""},{"$f":"IFERROR(VLOOKUP(ROWS($AA$2:AA1932),K1932:$M$6000,3,0),\"\")","v":""}]
[{"$nulls":10},{"$f":"IF(ISNUMBER(SEARCH($A$3,L1933)),MAX($K$1:K1932)+1,0)","v":0},"KEI Industries Ltd","KEIND.BO",{"$nulls":12},{"$f":"IFERROR(VLOOKUP(ROWS($Z$2:Z1933),K1933:$L$6000,2,0),\"\")","v":""},{"$f":"IFERROR(VLOOKUP(ROWS($AA$2:AA1933),K1933:$M$6000,3,0),\"\")","v":""}]
[{"$nulls":10},{"$f":"IF(ISNUMBER(SEARCH($A$3,L1934)),MAX($K$1:K1933)+1,0)","v":0},"KEI Industries Ltd","KEI.NS",{"$nulls":12},{"$f":"IFERROR(VLOOKUP(ROWS($Z$2:Z1934),K1934:$L$6000,2,0),\"\")","v":""},{"$f":"IFERROR(VLOOKUP(ROWS($AA$2:AA1934),K1934:$M$6000,3,0),\"\")","v":""}]
[{"$nulls":10},{"$f":"IF(ISNUMBER(SEARCH($A$3,L1935)),MAX($K$1:K1934)+1,0)","v":0},"Kellton Tech Solutions Ltd","VMFSOFT.BO",{"$nulls":12},{"$f":"IFERROR(VLOOKUP(ROWS($Z$2:Z1935),K1935:$L$6000,2,0),\"\")","v":""},{"$f":"IFERROR(VLOOKUP(ROWS($AA$2:AA1935),K1935:$M$6000,3,0),\"\")","v":""}]
[{"$nulls":10},{"$f":"IF(ISNUMBER(SEARCH($A$3,L1936)),MAX($K$1:K1935)+1,0)","v":0},"Keltech Energies Ltd","KELENRG.BO",{"$nulls":12},{"$f":"IFERROR(VLOOKUP(ROWS($Z$2:Z1936),K1936:$L$6000,2,0),\"\")","v":""},{"$f":"IFERROR(VLOOKUP(ROWS($AA$2:AA1936),K1936:$M$6000,3,0),\"\")","v":""}]
[{"$nulls":10},{"$f":"IF(ISNUMBER(SEARCH($A$3,L1937)),MAX($K$1:K1936)+1,0)","v":0},"Kemp & Company Ltd","KEMP.BO",{"$nulls":12},{"$f":"IFERROR(VLOOKUP(ROWS($Z$2:Z1937),K1937:$L$6000,2,0),\"\")","v":""},{"$f":"IFERROR(VLOOKUP(ROWS($AA$2:AA1937),K1937:$M$6000,3,0),\"\")","v":""}]
[{"$nulls":10},{"$f":"IF(ISNUMBER(SEARCH($A$3,L1938)),MAX($K$1:K1937)+1,0)","v":0},"Kemrock Ind & Exports","KEMIE.BO",{"$nulls":12},{"$f":"IFERROR(VLOOKUP(ROWS($Z$2:Z1938),K1938:$L$6000,2,0),\"\")","v":""},{"$f":"IFERROR(VLOOKUP(ROWS($AA$2:AA1938),K1938:$M$6000,3,0),\"\")","v":""}]
[{"$nulls":10},{"$f":"IF(ISNUMBER(SEARCH($A$3,L1939)),MAX($K$1:K1938)+1,0)","v":0},"Ken Financial Services Ltd","KENFIN.BO",{"$nulls":12},{"$f":"IFERROR(VLOOKUP(ROWS($Z$2:Z1939),K1939:$L$6000,2,0),\"\")","v":""},{"$f":"IFERROR(VLOOKUP(ROWS($AA$2:AA1939),K1939:$M$6000,3,0),\"\")","v":""}]
[{"$nulls":10},{"$f":"IF(ISNUMBER(SEARCH($A$3,L1940)),MAX($K$1:K1939)+1,0)","v":0},"Kennametal India Ltd","KENNAMET.BO",{"$nulls":12},{"$f":"IFERROR(VLOOKUP(ROWS($Z$2:Z1940),K1940:$L$6000,2,0),\"\")","v":""},{"$f":"IFERROR(VLOOKUP(ROWS($AA$2:AA1940),K1940:$M$6000,3,0),\"\")","v":""}]
[{"$nulls":10},{"$f":"IF(ISNUMBER(SEARCH($A$3,L1941)),MAX($K$1:K1940)+1,0)","v":0},"Kerala Ayurveda Ltd","KERALAYUR.BO",{"$nulls":12},{"$f":"IFERROR(VLOOKUP(ROWS($Z$2:Z1941),K1941:$L$6000,2,0),\"\")","v":""},{"$f":"IFERROR(VLOOKUP(ROWS($AA$2:AA1941),K1941:$M$6000,3,0),\"\")","v":""}]
[{"$nulls":10},{"$f":"IF(ISNUMBER(SEARCH($A$3,L1942)),MAX($K$1:K1941)+1,0)","v":0},"Kernex Microsystems India Ltd","KERNEX.BO",{"$nulls":12},{"$f":"IFERROR(VLOOKUP(ROWS($Z$2:Z1942),K1942:$L$6000,2,0),\"\")","v":""},{"$f":"IFERROR(VLOOKUP(ROWS($AA$2:AA1942),K1942:$M$6000,3,0),\"\")","v":""}]
[{"$nulls":10},{"$f":"IF(ISNUMBER(SEARCH($A$3,L1943)),MAX($K$1:K1942)+1,0)","v":0},"Kernex Microsystems India Ltd","KERNEX.NS",{"$nulls":12},{"$f":"IFERROR(VLOOKUP(ROWS($Z$2:Z1943),K1943:$L$6000,2,0),\"\")","v":""},{"$f":"IFERROR(VLOOKUP(ROWS($AA$2:AA1943),K1943:$M$6000,3,0),\"\")","v":""}]
[{"$nulls":10},{"$f":"IF(ISNUMBER(SEARCH($A$3,L1944)),MAX($K$1:K1943)+1,0)","v":0},"Kesar Enterprises Ltd","KESARENQ.BO",{"$nulls":12},{"$f":"IFERROR(VLOOKUP(ROWS($Z$2:Z1944),K1944:$L$6000,2,0),\"\")","v":""},{"$f":"IFERROR(VLOOKUP(ROWS($AA$2:AA1944),K1944:$M$6000,3,0),\"\")","v":""}]
[{"$nulls":10},{"$f":"IF(ISNUMBER(SEARCH($A$3,L1945)),MAX($K$1:K1944)+1,0)","v":0},"Kesar Enterprises Ltd","KESARENT.NS",{"$nulls":12},{"$f":"IFERROR(VLOOKUP(ROWS($Z$2:Z1945),K1945:$L$6000,2,0),\"\")","v":""},{"$f":"IFERROR(VLOOKUP(ROWS($AA$2:AA1945),K1945:$M$6000,3,0),\"\")","v":""}]
[{"$nulls":10},{"$f":"IF(ISNUMBER(SEARCH($A$3,L1946)),MAX($K$1:K1945)+1,0)","v":0},"Kesar Petroproducts Ltd","KESARPE.BO",{"$nulls":12},{"$f":"IFERROR(VLOOKUP(ROWS($Z$2:Z1946),K1946:$L$6000,2,0),\"\")","v":""},{"$f":"IFERROR(VLOOKUP(ROWS($AA$2:AA1946),K1946:$M$6000,3,0),\"\")","v":""}]
[{"$nulls":10},{"$f":"IF(ISNUMBER(SEARCH($A$3,L1947)),MAX($K$1:K1946)+1,0)","v":0},"Kesoram Industries Ltd","KESORAMIND.BO",{"$nulls":12},{"$f":"IFERROR(VLOOKUP(ROWS($Z$2:Z1947),K1947:$L$6000,2,0),\"\")","v":""},{"$f":"IFERROR(VLOOKUP(ROWS($AA$2:AA1947),K1947:$M$6000,3,0),\"\")","v":""}]
[{"$nulls":10},{"$f":"IF(ISNUMBER(SEARCH($A$3,L1948)),MAX($K$1:K1947)+1,0)","v":0},"Kesoram Industries Ltd","KESORAMIN.NS",{"$nulls":12},{"$f":"IFERROR(VLOOKUP(ROWS($Z$2:Z1948),K1948:$L$6000,2,0),\"\")","v":""},{"$f":"IFERROR(VLOOKUP(ROWS($AA$2:AA1948),K1948:$M$6000,3,0),\"\")","v":""}]
[{"$nulls":10},{"$f":"IF(ISNUMBER(SEARCH($A$3,L1949)),MAX($K$1:K1948)+1,0)","v":0},"KEW Industries Ltd","KEWIND.BO",{"$nulls":12},{"$f":"IFERROR(VLOOKUP(ROWS($Z$2:Z1949),K1949:$L$6000,2,0),\"\")","v":""},{"$f":"IFERROR(VLOOKUP(ROWS($AA$2:AA1949),K1949:$M$6000,3,0),\"\")","v":""}]
[{"$nulls":10},{"$f":"IF(ISNUMBER(SEARCH($A$3,L1950)),MAX($K$1:K1949)+1,0)","v":0},"Kewal Kiran Clothing Ltd","KKCL.BO",{"$nulls":12},{"$f":"IFERROR(VLOOKUP(ROWS($Z$2:Z1950),K1950:$L$6000,2,0),\"\")","v":""},{"$f":"IFERROR(VLOOKUP(ROWS($AA$2:AA1950),K1950:$M$6000,3,0),\"\")","v":""}]
[{"$nulls":10},{"$f":"IF(ISNUMBER(SEARCH($A$3,L1951)),MAX($K$1:K1950)+1,0)","v":0},"Kewal Kiran Clothing Ltd","KKCL.NS",{"$nulls":12},{"$f":"IFERROR(VLOOKUP(ROWS($Z$2:Z1951),K1951:$L$6000,2,0),\"\")","v":""},{"$f":"IFERROR(VLOOKUP(ROWS($AA$2:AA1951),K1951:$M$6000,3,0),\"\")","v":""}]
[{"$nulls":10},{"$f":"IF(ISNUMBER(SEARCH($A$3,L1952)),MAX($K$1:K1951)+1,0)","v":0},"Keynote Corporate Services Ltd","KEYNOTE.BO",{"$nulls":12},{"$f":"IFERROR(VLOOKUP(ROWS($Z$2:Z1952),K1952:$L$6000,2,0),\"\")","v":""},{"$f":"IFERROR(VLOOKUP(ROWS($AA$2:AA1952),K1952:$M$6000,3,0),\"\")","v":""}]
[{"$nulls":10},{"$f":"IF(ISNUMBER(SEARCH($A$3,L1953)),MAX($K$1:K1952)+1,0)","v":0},"Keynote Corporate Services Ltd","KEYCORPSE.NS",{"$nulls":12},{"$f":"IFERROR(VLOOKUP(ROWS($Z$2:Z1953),K1953:$L$6000,2,0),\"\")","v":""},{"$f":"IFERROR(VLOOKUP(ROWS($AA$2:AA1953),K1953:$M$6000,3,0),\"\")","v":""}]
[{"$nulls":10},{"$f":"IF(ISNUMBER(SEARCH($A$3,L1954)),MAX($K$1:K1953)+1,0)","v":0},"KG Petrochem Ltd","KGPETRO.BO",{"$nulls":12},{"$f":"IFERROR(VLOOKUP(ROWS($Z$2:Z1954),K1954:$L$6000,2,0),\"\")","v":""},{"$f":"IFERROR(VLOOKUP(ROWS($AA$2:AA1954),K1954:$M$6000,3,0),\"\")","v":""}]
[{"$nulls":10},{"$f":"IF(ISNUMBER(SEARCH($A$3,L1955)),MAX($K$1:K1954)+1,0)","v":0},"KGN Industries Ltd","KGNIND.BO",{"$nulls":12},{"$f":"IFERROR(VLOOKUP(ROWS($Z$2:Z1955),K1955:$L$6000,2,0),\"\")","v":""},{"$f":"IFERROR(VLOOKUP(ROWS($AA$2:AA1955),K1955:$M$6000,3,0),\"\")","v":""}]
[{"$nulls":10},{"$f":"IF(ISNUMBER(SEARCH($A$3,L1956)),MAX($K$1:K1955)+1,0)","v":0},"Khaitan Chemicals","KHAICHEM.BO",{"$nulls":12},{"$f":"IFERROR(VLOOKUP(ROWS($Z$2:Z1956),K1956:$L$6000,2,0),\"\")","v":""},{"$f":"IFERROR(VLOOKUP(ROWS($AA$2:AA1956),K1956:$M$6000,3,0),\"\")","v":""}]
[{"$nulls":10},{"$f":"IF(ISNUMBER(SEARCH($A$3,L1957)),MAX($K$1:K1956)+1,0)","v":0},"Khaitan Electricals Ltd","KHAITANE.BO",{"$nulls":12},{"$f":"IFERROR(VLOOKUP(ROWS($Z$2:Z1957),K1957:$L$6000,2,0),\"\")","v":""},{"$f":"IFERROR(VLOOKUP(ROWS($AA$2:AA1957),K1957:$M$6000,3,0),\"\")","v":""}]
[{"$nulls":10},{"$f":"IF(ISNUMBER(SEARCH($A$3,L1958)),MAX($K$1:K1957)+1,0)","v":0},"Khaitan Electricals Ltd","KHAITANEL.NS",{"$nulls":12},{"$f":"IFERROR(VLOOKUP(ROWS($Z$2:Z1958),K1958:$L$6000,2,0),\"\")","v":""},{"$f":"IFERROR(VLOOKUP(ROWS($AA$2:AA1958),K1958:$M$6000,3,0),\"\")","v":""}]
[{"$nulls":10},{"$f":"IF(ISNUMBER(SEARCH($A$3,L1959)),MAX($K$1:K1958)+1,0)","v":0},"Khaitan India Ltd","KHAITANLTD.BO",{"$nulls":12},{"$f":"IFERROR(VLOOKUP(ROWS($Z$2:Z1959),K1959:$L$6000,2,0),\"\")","v":""},{"$f":"IFERROR(VLOOKUP(ROWS($AA$2:AA1959),K1959:$M$6000,3,0),\"\")","v":""}]
[{"$nulls":10},{"$f":"IF(ISNUMBER(SEARCH($A$3,L1960)),MAX($K$1:K1959)+1,0)","v":0},"Khaitan India Ltd","KHAITANLT.NS",{"$nulls":12},{"$f":"IFERROR(VLOOKUP(ROWS($Z$2:Z1960),K1960:$L$6000,2,0),\"\")","v":""},{"$f":"IFERROR(VLOOKUP(ROWS($AA$2:AA1960),K1960:$M$6000,3,0),\"\")","v":""}]
[{"$nulls":10},{"$f":"IF(ISNUMBER(SEARCH($A$3,L1961)),MAX($K$1:K1960)+1,0)","v":0},"Khandwala Securities Ltd","KHANDSE.BO",{"$nulls":12},{"$f":"IFERROR(VLOOKUP(ROWS($Z$2:Z1961),K1961:$L$6000,2,0),\"\")","v":""},{"$f":"IFERROR(VLOOKUP(ROWS($AA$2:AA1961),K1961:$M$6000,3,0),\"\")","v":""}]
[{"$nulls":10},{"$f":"IF(ISNUMBER(SEARCH($A$3,L1962)),MAX($K$1:K1961)+1,0)","v":0},"Khandwala Securities Ltd","KHANDSE.NS",{"$nulls":12},{"$f":"IFERROR(VLOOKUP(ROWS($Z$2:Z1962),K1962:$L$6000,2,0),\"\")","v":""},{"$f":"IFERROR(VLOOKUP(ROWS($AA$2:AA1962),K1962:$M$6000,3,0),\"\")","v":""}]
[{"$nulls":10},{"$f":"IF(ISNUMBER(SEARCH($A$3,L1963)),MAX($K$1:K1962)+1,0)","v":0},"Khator Fiber & Fabrics Ltd","KHTRFIB.BO",{"$nulls":12},{"$f":"IFERROR(VLOOKUP(ROWS($Z$2:Z1963),K1963:$L$6000,2,0),\"\")","v":""},{"$f":"IFERROR(VLOOKUP(ROWS($AA$2:AA1963),K1963:$M$6000,3,0),\"\")","v":""}]
[{"$nulls":10},{"$f":"IF(ISNUMBER(SEARCH($A$3,L1964)),MAX($K$1:K1963)+1,0)","v":0},"Khoday India Ltd","KHODAY.BO",{"$nulls":12},{"$f":"IFERROR(VLOOKUP(ROWS($Z$2:Z1964),K1964:$L$6000,2,0),\"\")","v":""},{"$f":"IFERROR(VLOOKUP(ROWS($AA$2:AA1964),K1964:$M$6000,3,0),\"\")","v":""}]
[{"$nulls":10},{"$f":"IF(ISNUMBER(SEARCH($A$3,L1965)),MAX($K$1:K1964)+1,0)","v":0},"Khyati Multimedia-Enterta","KHYATI.BO",{"$nulls":12},{"$f":"IFERROR(VLOOKUP(ROWS($Z$2:Z1965),K1965:$L$6000,2,0),\"\")","v":""},{"$f":"IFERROR(VLOOKUP(ROWS($AA$2:AA1965),K1965:$M$6000,3,0),\"\")","v":""}]
[{"$nulls":10},{"$f":"IF(ISNUMBER(SEARCH($A$3,L1966)),MAX($K$1:K1965)+1,0)","v":0},"KIC Metaliks Ltd","KAJARIR.BO",{"$nulls":12},{"$f":"IFERROR(VLOOKUP(ROWS($Z$2:Z1966),K1966:$L$6000,2,0),\"\")","v":""},{"$f":"IFERROR(VLOOKUP(ROWS($AA$2:AA1966),K1966:$M$6000,3,0),\"\")","v":""}]
[{"$nulls":10},{"$f":"IF(ISNUMBER(SEARCH($A$3,L1967)),MAX($K$1:K1966)+1,0)","v":0},"Kiduja India Ltd","KIDUJA.BO",{"$nulls":12},{"$f":"IFERROR(VLOOKUP(ROWS($Z$2:Z1967),K1967:$L$6000,2,0),\"\")","v":""},{"$f":"IFERROR(VLOOKUP(ROWS($AA$2:AA1967),K1967:$M$6000,3,0),\"\")","v":""}]
[{"$nulls":10},{"$f":"IF(ISNUMBER(SEARCH($A$3,L1968)),MAX($K$1:K1967)+1,0)","v":0},"Kilburn Chemicals Ltd","KILBURNC.BO",{"$nulls":12},{"$f":"IFERROR(VLOOKUP(ROWS($Z$2:Z1968),K1968:$L$6000,2,0),\"\")","v":""},{"$f":"IFERROR(VLOOKUP(ROWS($AA$2:AA1968),K1968:$M$6000,3,0),\"\")","v":""}]
[{"$nulls":10},{"$f":"IF(ISNUMBER(SEARCH($A$3,L1969)),MAX($K$1:K1968)+1,0)","v":0},"Kilburn Engineering Ltd","KLBRENG-B.BO",{"$nulls":12},{"$f":"IFERROR(VLOOKUP(ROWS($Z$2:Z1969),K1969:$L$6000,2,0),\"\")","v":""},{"$f":"IFERROR(VLOOKUP(ROWS($AA$2:AA1969),K1969:$M$6000,3,0),\"\")","v":""}]
[{"$nulls":10},{"$f":"IF(ISNUMBER(SEARCH($A$3,L1970)),MAX($K$1:K1969)+1,0)","v":0},"Kilburn Office Automation Ltd","KILBURN.BO",{"$nulls":12},{"$f":"IFERROR(VLOOKUP(ROWS($Z$2:Z1970),K1970:$L$6000,2,0),\"\")","v":""},{"$f":"IFERROR(VLOOKUP(ROWS($AA$2:AA1970),K1970:$M$6000,3,0),\"\")","v":""}]
[{"$nulls":10},{"$f":"IF(ISNUMBER(SEARCH($A$3,L1971)),MAX($K$1:K1970)+1,0)","v":0},"Kilitch Drugs (India) Ltd","KILITCHD.BO",{"$nulls":12},{"$f":"IFERROR(VLOOKUP(ROWS($Z$2:Z1971),K1971:$L$6000,2,0),\"\")","v":""},{"$f":"IFERROR(VLOOKUP(ROWS($AA$2:AA1971),K1971:$M$6000,3,0),\"\")","v":""}]
[{"$nulls":10},{"$f":"IF(ISNUMBER(SEARCH($A$3,L1972)),MAX($K$1:K1971)+1,0)","v":0},"Kilpest India Ltd","KILPEST.BO",{"$nulls":12},{"$f":"IFERROR(VLOOKUP(ROWS($Z$2:Z1972),K1972:$L$6000,2,0),\"\")","v":""},{"$f":"IFERROR(VLOOKUP(ROWS($AA$2:AA1972),K1972:$M$6000,3,0),\"\")","v":""}]
[{"$nulls":10},{"$f":"IF(ISNUMBER(SEARCH($A$3,L1973)),MAX($K$1:K1972)+1,0)","v":0},"Kinetic Engineering Ltd","KINETICE.BO",{"$nulls":12},{"$f":"IFERROR(VLOOKUP(ROWS($Z$2:Z1973),K1973:$L$6000,2,0),\"\")","v":""},{"$f":"IFERROR(VLOOKUP(ROWS($AA$2:AA1973),K1973:$M$6000,3,0),\"\")","v":""}]
[{"$nulls":10},{"$f":"IF(ISNUMBER(SEARCH($A$3,L1974)),MAX($K$1:K1973)+1,0)","v":0},"Kingfisher Airlines Ltd","KFA.BO",{"$nulls":12},{"$f":"IFERROR(VLOOKUP(ROWS($Z$2:Z1974),K1974:$L$6000,2,0),\"\")","v":""},{"$f":"IFERROR(VLOOKUP(ROWS($AA$2:AA1974),K1974:$M$6000,3,0),\"\")","v":""}]
[{"$nulls":10},{"$f":"IF(ISNUMBER(SEARCH($A$3,L1975)),MAX($K$1:K1974)+1,0)","v":0},"Kingfisher Airlines Ltd","KFA.NS",{"$nulls":12},{"$f":"IFERROR(VLOOKUP(ROWS($Z$2:Z1975),K1975:$L$6000,2,0),\"\")","v":""},{"$f":"IFERROR(VLOOKUP(ROWS($AA$2:AA1975),K1975:$M$6000,3,0),\"\")","v":""}]
[{"$nulls":10},{"$f":"IF(ISNUMBER(SEARCH($A$3,L1976)),MAX($K$1:K1975)+1,0)","v":0},"Kiran Print Pack Ltd","KIRANPR.BO",{"$nulls":12},{"$f":"IFERROR(VLOOKUP(ROWS($Z$2:Z1976),K1976:$L$6000,2,0),\"\")","v":""},{"$f":"IFERROR(VLOOKUP(ROWS($AA$2:AA1976),K1976:$M$6000,3,0),\"\")","v":""}]
[{"$nulls":10},{"$f":"IF(ISNUMBER(SEARCH($A$3,L1977)),MAX($K$1:K1976)+1,0)","v":0},"Kiri Industries Ltd","KIRIDYES.BO",{"$nulls":12},{"$f":"IFERROR(VLOOKUP(ROWS($Z$2:Z1977),K1977:$L$6000,2,0),\"\")","v":""},{"$f":"IFERROR(VLOOKUP(ROWS($AA$2:AA1977),K1977:$M$6000,3,0),\"\")","v":""}]
[{"$nulls":10},{"$f":"IF(ISNUMBER(SEARCH($A$3,L1978)),MAX($K$1:K1977)+1,0)","v":0},"Kiri Industries Ltd","KIRIDYES.NS",{"$nulls":12},{"$f":"IFERROR(VLOOKUP(ROWS($Z$2:Z1978),K1978:$L$6000,2,0),\"\")","v":""},{"$f":"IFERROR(VLOOKUP(ROWS($AA$2:AA1978),K1978:$M$6000,3,0),\"\")","v":""}]
[{"$nulls":10},{"$f":"IF(ISNUMBER(SEARCH($A$3,L1979)),MAX($K$1:K1978)+1,0)","v":0},"Kirloskar Brothers Ltd","KIRLBROS.BO",{"$nulls":12},{"$f":"IFERROR(VLOOKUP(ROWS($Z$2:Z1979),K1979:$L$6000,2,0),\"\")","v":""},{"$f":"IFERROR(VLOOKUP(ROWS($AA$2:AA1979),K1979:$M$6000,3,0),\"\")","v":""}]
[{"$nulls":10},{"$f":"IF(ISNUMBER(SEARCH($A$3,L1980)),MAX($K$1:K1979)+1,0)","v":0},"Kirloskar Brothers Ltd","KIRLOSBRO.NS",{"$nulls":12},{"$f":"IFERROR(VLOOKUP(ROWS($Z$2:Z1980),K1980:$L$6000,2,0),\"\")","v":""},{"$f":"IFERROR(VLOOKUP(ROWS($AA$2:AA1980),K1980:$M$6000,3,0),\"\")","v":""}]
[{"$nulls":10},{"$f":"IF(ISNUMBER(SEARCH($A$3,L1981)),MAX($K$1:K1980)+1,0)","v":0},"Kirloskar Electric Co Ltd","KIRELECT.BO",{"$nulls":12},{"$f":"IFERROR(VLOOKUP(ROWS($Z$2:Z1981),K1981:$L$6000,2,0),\"\")","v":""},{"$f":"IFERROR(VLOOKUP(ROWS($AA$2:AA1981),K1981:$M$6000,3,0),\"\")","v":""}]
[{"$nulls":10},{"$f":"IF(ISNUMBER(SEARCH($A$3,L1982)),MAX($K$1:K1981)+1,0)","v":0},"Kirloskar Ferrous","KIRLFER.BO",{"$nulls":12},{"$f":"IFERROR(VLOOKUP(ROWS($Z$2:Z1982),K1982:$L$6000,2,0),\"\")","v":""},{"$f":"IFERROR(VLOOKUP(ROWS($AA$2:AA1982),K1982:$M$6000,3,0),\"\")","v":""}]
[{"$nulls":10},{"$f":"IF(ISNUMBER(SEARCH($A$3,L1983)),MAX($K$1:K1982)+1,0)","v":0},"Kirloskar Industries Ltd","KIRLOIL.BO",{"$nulls":12},{"$f":"IFERROR(VLOOKUP(ROWS($Z$2:Z1983),K1983:$L$6000,2,0),\"\")","v":""},{"$f":"IFERROR(VLOOKUP(ROWS($AA$2:AA1983),K1983:$M$6000,3,0),\"\")","v":""}]
[{"$nulls":10},{"$f":"IF(ISNUMBER(SEARCH($A$3,L1984)),MAX($K$1:K1983)+1,0)","v":0},"Kirloskar Industries Ltd","KIRLOSIND.NS",{"$nulls":12},{"$f":"IFERROR(VLOOKUP(ROWS($Z$2:Z1984),K1984:$L$6000,2,0),\"\")","v":""},{"$f":"IFERROR(VLOOKUP(ROWS($AA$2:AA1984),K1984:$M$6000,3,0),\"\")","v":""}]
[{"$nulls":10},{"$f":"IF(ISNUMBER(SEARCH($A$3,L1985)),MAX($K$1:K1984)+1,0)","v":0},"Kirloskar Pneumatic Co Ltd","KIRLPNU.BO",{"$nulls":12},{"$f":"IFERROR(VLOOKUP(ROWS($Z$2:Z1985),K1985:$L$6000,2,0),\"\")","v":""},{"$f":"IFERROR(VLOOKUP(ROWS($AA$2:AA1985),K1985:$M$6000,3,0),\"\")","v":""}]
[{"$nulls":10},{"$f":"IF(ISNUMBER(SEARCH($A$3,L1986)),MAX($K$1:K1985)+1,0)","v":0},"Kisan Mouldings Ltd","KISAN.BO",{"$nulls":12},{"$f":"IFERROR(VLOOKUP(ROWS($Z$2:Z1986),K1986:$L$6000,2,0),\"\")","v":""},{"$f":"IFERROR(VLOOKUP(ROWS($AA$2:AA1986),K1986:$M$6000,3,0),\"\")","v":""}]
[{"$nulls":10},{"$f":"IF(ISNUMBER(SEARCH($A$3,L1987)),MAX($K$1:K1986)+1,0)","v":0},"Kitex Garments Ltd","KITEXTX.BO",{"$nulls":12},{"$f":"IFERROR(VLOOKUP(ROWS($Z$2:Z1987),K1987:$L$6000,2,0),\"\")","v":""},{"$f":"IFERROR(VLOOKUP(ROWS($AA$2:AA1987),K1987:$M$6000,3,0),\"\")","v":""}]
[{"$nulls":10},{"$f":"IF(ISNUMBER(SEARCH($A$3,L1988)),MAX($K$1:K1987)+1,0)","v":0},"KJMC Corporate Advisors","KJMCGLO.BO",{"$nulls":12},{"$f":"IFERROR(VLOOKUP(ROWS($Z$2:Z1988),K1988:$L$6000,2,0),\"\")","v":""},{"$f":"IFERROR(VLOOKUP(ROWS($AA$2:AA1988),K1988:$M$6000,3,0),\"\")","v":""}]
[{"$nulls":10},{"$f":"IF(ISNUMBER(SEARCH($A$3,L1989)),MAX($K$1:K1988)+1,0)","v":0},"KJMC Financial Services Ltd","KJMCFIN.BO",{"$nulls":12},{"$f":"IFERROR(VLOOKUP(ROWS($Z$2:Z1989),K1989:$L$6000,2,0),\"\")","v":""},{"$f":"IFERROR(VLOOKUP(ROWS($AA$2:AA1989),K1989:$M$6000,3,0),\"\")","v":""}]
[{"$nulls":10},{"$f":"IF(ISNUMBER(SEARCH($A$3,L1990)),MAX($K$1:K1989)+1,0)","v":0},"KLG Capital Services Ltd","KLGCAP.BO",{"$nulls":12},{"$f":"IFERROR(VLOOKUP(ROWS($Z$2:Z1990),K1990:$L$6000,2,0),\"\")","v":""},{"$f":"IFERROR(VLOOKUP(ROWS($AA$2:AA1990),K1990:$M$6000,3,0),\"\")","v":""}]
[{"$nulls":10},{"$f":"IF(ISNUMBER(SEARCH($A$3,L1991)),MAX($K$1:K1990)+1,0)","v":0},"K-Lifestyle & Industries Ltd","KRISHNAL.BO",{"$nulls":12},{"$f":"IFERROR(VLOOKUP(ROWS($Z$2:Z1991),K1991:$L$6000,2,0),\"\")","v":""},{"$f":"IFERROR(VLOOKUP(ROWS($AA$2:AA1991),K1991:$M$6000,3,0),\"\")","v":""}]
[{"$nulls":10},{"$f":"IF(ISNUMBER(SEARCH($A$3,L1992)),MAX($K$1:K1991)+1,0)","v":0},"KLK Electrical Ltd","KLKELEC.BO",{"$nulls":12},{"$f":"IFERROR(VLOOKUP(ROWS($Z$2:Z1992),K1992:$L$6000,2,0),\"\")","v":""},{"$f":"IFERROR(VLOOKUP(ROWS($AA$2:AA1992),K1992:$M$6000,3,0),\"\")","v":""}]
[{"$nulls":10},{"$f":"IF(ISNUMBER(SEARCH($A$3,L1993)),MAX($K$1:K1992)+1,0)","v":0},"KLRF Ltd","KLRFLTD.BO",{"$nulls":12},{"$f":"IFERROR(VLOOKUP(ROWS($Z$2:Z1993),K1993:$L$6000,2,0),\"\")","v":""},{"$f":"IFERROR(VLOOKUP(ROWS($AA$2:AA1993),K1993:$M$6000,3,0),\"\")","v":""}]
[{"$nulls":10},{"$f":"IF(ISNUMBER(SEARCH($A$3,L1994)),MAX($K$1:K1993)+1,0)","v":0},"KMC Speciality","KMCSHIL.BO",{"$nulls":12},{"$f":"IFERROR(VLOOKUP(ROWS($Z$2:Z1994),K1994:$L$6000,2,0),\"\")","v":""},{"$f":"IFERROR(VLOOKUP(ROWS($AA$2:AA1994),K1994:$M$6000,3,0),\"\")","v":""}]
[{"$nulls":10},{"$f":"IF(ISNUMBER(SEARCH($A$3,L1995)),MAX($K$1:K1994)+1,0)","v":0},"KNR Constructions Ltd","KNRCON.BO",{"$nulls":12},{"$f":"IFERROR(VLOOKUP(ROWS($Z$2:Z1995),K1995:$L$6000,2,0),\"\")","v":""},{"$f":"IFERROR(VLOOKUP(ROWS($AA$2:AA1995),K1995:$M$6000,3,0),\"\")","v":""}]
[{"$nulls":10},{"$f":"IF(ISNUMBER(SEARCH($A$3,L1996)),MAX($K$1:K1995)+1,0)","v":0},"KNR Constructions Ltd","KNRCON.NS",{"$nulls":12},{"$f":"IFERROR(VLOOKUP(ROWS($Z$2:Z1996),K1996:$L$6000,2,0),\"\")","v":""},{"$f":"IFERROR(VLOOKUP(ROWS($AA$2:AA1996),K1996:$M$6000,3,0),\"\")","v":""}]
[{"$nulls":10},{"$f":"IF(ISNUMBER(SEARCH($A$3,L1997)),MAX($K$1:K1996)+1,0)","v":0},"Koffee Break Pictures Ltd","KOFFBREAK.BO",{"$nulls":12},{"$f":"IFERROR(VLOOKUP(ROWS($Z$2:Z1997),K1997:$L$6000,2,0),\"\")","v":""},{"$f":"IFERROR(VLOOKUP(ROWS($AA$2:AA1997),K1997:$M$6000,3,0),\"\")","v":""}]
[{"$nulls":10},{"$f":"IF(ISNUMBER(SEARCH($A$3,L1998)),MAX($K$1:K1997)+1,0)","v":0},"Kohinoor Broadcasting Corp Ltd","KOHINOORBRO.BO",{"$nulls":12},{"$f":"IFERROR(VLOOKUP(ROWS($Z$2:Z1998),K1998:$L$6000,2,0),\"\")","v":""},{"$f":"IFERROR(VLOOKUP(ROWS($AA$2:AA1998),K1998:$M$6000,3,0),\"\")","v":""}]
[{"$nulls":10},{"$f":"IF(ISNUMBER(SEARCH($A$3,L1999)),MAX($K$1:K1998)+1,0)","v":0},"Kohinoor Foods Ltd","KOHINOOR.BO",{"$nulls":12},{"$f":"IFERROR(VLOOKUP(ROWS($Z$2:Z1999),K1999:$L$6000,2,0),\"\")","v":""},{"$f":"IFERROR(VLOOKUP(ROWS($AA$2:AA1999),K1999:$M$6000,3,0),\"\")","v":""}]
[{"$nulls":10},{"$f":"IF(ISNUMBER(SEARCH($A$3,L2000)),MAX($K$1:K1999)+1,0)","v":0},"Kohinoor Foods Ltd","KOHINOOR.NS",{"$nulls":12},{"$f":"IFERROR(VLOOKUP(ROWS($Z$2:Z2000),K2000:$L$6000,2,0),\"\")","v":""},{"$f":"IFERROR(VLOOKUP(ROWS($AA$2:AA2000),K2000:$M$6000,3,0),\"\")","v":""}]
[{"$nulls":10},{"$f":"IF(ISNUMBER(SEARCH($A$3,L2001)),MAX($K$1:K2000)+1,0)","v":0},"Kohinoor Techno Engineers Ltd","KOHINOORT.BO",{"$nulls":12},{"$f":"IFERROR(VLOOKUP(ROWS($Z$2:Z2001),K2001:$L$6000,2,0),\"\")","v":""},{"$f":"IFERROR(VLOOKUP(ROWS($AA$2:AA2001),K2001:$M$6000,3,0),\"\")","v":""}]
[{"$nulls":10},{"$f":"IF(ISNUMBER(SEARCH($A$3,L2002)),MAX($K$1:K2001)+1,0)","v":0},"Kolte Patil Developers Ltd","KOLTEPATI.BO",{"$nulls":12},{"$f":"IFERROR(VLOOKUP(ROWS($Z$2:Z2002),K2002:$L$6000,2,0),\"\")","v":""},{"$f":"IFERROR(VLOOKUP(ROWS($AA$2:AA2002),K2002:$M$6000,3,0),\"\")","v":""}]
[{"$nulls":10},{"$f":"IF(ISNUMBER(SEARCH($A$3,L2003)),MAX($K$1:K2002)+1,0)","v":0},"Kolte Patil Developers Ltd","KOLTEPATI.NS",{"$nulls":12},{"$f":"IFERROR(VLOOKUP(ROWS($Z$2:Z2003),K2003:$L$6000,2,0),\"\")","v":""},{"$f":"IFERROR(VLOOKUP(ROWS($AA$2:AA2003),K2003:$M$6000,3,0),\"\")","v":""}]
[{"$nulls":10},{"$f":"IF(ISNUMBER(SEARCH($A$3,L2004)),MAX($K$1:K2003)+1,0)","v":0},"Konark Synthetics Ltd","KONARKSY.BO",{"$nulls":12},{"$f":"IFERROR(VLOOKUP(ROWS($Z$2:Z2004),K2004:$L$6000,2,0),\"\")","v":""},{"$f":"IFERROR(VLOOKUP(ROWS($AA$2:AA2004),K2004:$M$6000,3,0),\"\")","v":""}]
[{"$nulls":10},{"$f":"IF(ISNUMBER(SEARCH($A$3,L2005)),MAX($K$1:K2004)+1,0)","v":0},"Kopran Ltd","KOPRAN.BO",{"$nulls":12},{"$f":"IFERROR(VLOOKUP(ROWS($Z$2:Z2005),K2005:$L$6000,2,0),\"\")","v":""},{"$f":"IFERROR(VLOOKUP(ROWS($AA$2:AA2005),K2005:$M$6000,3,0),\"\")","v":""}]
[{"$nulls":10},{"$f":"IF(ISNUMBER(SEARCH($A$3,L2006)),MAX($K$1:K2005)+1,0)","v":0},"Kopran Ltd","KOPRAN.NS",{"$nulls":12},{"$f":"IFERROR(VLOOKUP(ROWS($Z$2:Z2006),K2006:$L$6000,2,0),\"\")","v":""},{"$f":"IFERROR(VLOOKUP(ROWS($AA$2:AA2006),K2006:$M$6000,3,0),\"\")","v":""}]
[{"$nulls":10},{"$f":"IF(ISNUMBER(SEARCH($A$3,L2007)),MAX($K$1:K2006)+1,0)","v":0},"Kotak Mahindra Bank Ltd","KOTAKBANK.BO",{"$nulls":12},{"$f":"IFERROR(VLOOKUP(ROWS($Z$2:Z2007),K2007:$L$6000,2,0),\"\")","v":""},{"$f":"IFERROR(VLOOKUP(ROWS($AA$2:AA2007),K2007:$M$6000,3,0),\"\")","v":""}]
[{"$nulls":10},{"$f":"IF(ISNUMBER(SEARCH($A$3,L2008)),MAX($K$1:K2007)+1,0)","v":0},"Kotak Mahindra Bank Ltd","KOTAKBANK.NS",{"$nulls":12},{"$f":"IFERROR(VLOOKUP(ROWS($Z$2:Z2008),K2008:$L$6000,2,0),\"\")","v":""},{"$f":"IFERROR(VLOOKUP(ROWS($AA$2:AA2008),K2008:$M$6000,3,0),\"\")","v":""}]
[{"$nulls":10},{"$f":"IF(ISNUMBER(SEARCH($A$3,L2009)),MAX($K$1:K2008)+1,0)","v":0},"Kothari Fermentation And","KFBL.BO",{"$nulls":12},{"$f":"IFERROR(VLOOKUP(ROWS($Z$2:Z2009),K2009:$L$6000,2,0),\"\")","v":""},{"$f":"IFERROR(VLOOKUP(ROWS($AA$2:AA2009),K2009:$M$6000,3,0),\"\")","v":""}]
[{"$nulls":10},{"$f":"IF(ISNUMBER(SEARCH($A$3,L2010)),MAX($K$1:K2009)+1,0)","v":0},"Kothari Petrochemicals Ltd","KOTHARIPE.NS",{"$nulls":12},{"$f":"IFERROR(VLOOKUP(ROWS($Z$2:Z2010),K2010:$L$6000,2,0),\"\")","v":""},{"$f":"IFERROR(VLOOKUP(ROWS($AA$2:AA2010),K2010:$M$6000,3,0),\"\")","v":""}]
[{"$nulls":10},{"$f":"IF(ISNUMBER(SEARCH($A$3,L2011)),MAX($K$1:K2010)+1,0)","v":0},"Kothari Products Ltd","KOTHARIPRO.BO",{"$nulls":12},{"$f":"IFERROR(VLOOKUP(ROWS($Z$2:Z2011),K2011:$L$6000,2,0),\"\")","v":""},{"$f":"IFERROR(VLOOKUP(ROWS($AA$2:AA2011),K2011:$M$6000,3,0),\"\")","v":""}]
[{"$nulls":10},{"$f":"IF(ISNUMBER(SEARCH($A$3,L2012)),MAX($K$1:K2011)+1,0)","v":0},"Kothari Products Ltd","KOTHARIPR.NS",{"$nulls":12},{"$f":"IFERROR(VLOOKUP(ROWS($Z$2:Z2012),K2012:$L$6000,2,0),\"\")","v":""},{"$f":"IFERROR(VLOOKUP(ROWS($AA$2:AA2012),K2012:$M$6000,3,0),\"\")","v":""}]
[{"$nulls":10},{"$f":"IF(ISNUMBER(SEARCH($A$3,L2013)),MAX($K$1:K2012)+1,0)","v":0},"Kothari Sugars & Chemicals Ltd","KOTARISUG.NS",{"$nulls":12},{"$f":"IFERROR(VLOOKUP(ROWS($Z$2:Z2013),K2013:$L$6000,2,0),\"\")","v":""},{"$f":"IFERROR(VLOOKUP(ROWS($AA$2:AA2013),K2013:$M$6000,3,0),\"\")","v":""}]
[{"$nulls":10},{"$f":"IF(ISNUMBER(SEARCH($A$3,L2014)),MAX($K$1:K2013)+1,0)","v":0},"Kothari World Finance Ltd","ZGRRENIN.BO",{"$nulls":12},{"$f":"IFERROR(VLOOKUP(ROWS($Z$2:Z2014),K2014:$L$6000,2,0),\"\")","v":""},{"$f":"IFERROR(VLOOKUP(ROWS($AA$2:AA2014),K2014:$M$6000,3,0),\"\")","v":""}]
[{"$nulls":10},{"$f":"IF(ISNUMBER(SEARCH($A$3,L2015)),MAX($K$1:K2014)+1,0)","v":0},"Kovai Medical Center & Ho","KOVAIMD.BO",{"$nulls":12},{"$f":"IFERROR(VLOOKUP(ROWS($Z$2:Z2015),K2015:$L$6000,2,0),\"\")","v":""},{"$f":"IFERROR(VLOOKUP(ROWS($AA$2:AA2015),K2015:$M$6000,3,0),\"\")","v":""}]
[{"$nulls":10},{"$f":"IF(ISNUMBER(SEARCH($A$3,L2016)),MAX($K$1:K2015)+1,0)","v":0},"Kovai Medical Center & Ho","KOVAI.NS",{"$nulls":12},{"$f":"IFERROR(VLOOKUP(ROWS($Z$2:Z2016),K2016:$L$6000,2,0),\"\")","v":""},{"$f":"IFERROR(VLOOKUP(ROWS($AA$2:AA2016),K2016:$M$6000,3,0),\"\")","v":""}]
[{"$nulls":10},{"$f":"IF(ISNUMBER(SEARCH($A$3,L2017)),MAX($K$1:K2016)+1,0)","v":0},"KPIT Technologies Ltd","KPITCUMM.BO",{"$nulls":12},{"$f":"IFERROR(VLOOKUP(ROWS($Z$2:Z2017),K2017:$L$6000,2,0),\"\")","v":""},{"$f":"IFERROR(VLOOKUP(ROWS($AA$2:AA2017),K2017:$M$6000,3,0),\"\")","v":""}]
[{"$nulls":10},{"$f":"IF(ISNUMBER(SEARCH($A$3,L2018)),MAX($K$1:K2017)+1,0)","v":0},"KPIT Technologies Ltd","KPIT.NS",{"$nulls":12},{"$f":"IFERROR(VLOOKUP(ROWS($Z$2:Z2018),K2018:$L$6000,2,0),\"\")","v":""},{"$f":"IFERROR(VLOOKUP(ROWS($AA$2:AA2018),K2018:$M$6000,3,0),\"\")","v":""}]
[{"$nulls":10},{"$f":"IF(ISNUMBER(SEARCH($A$3,L2019)),MAX($K$1:K2018)+1,0)","v":0},"KPR Mill Ltd","KPRMILL.BO",{"$nulls":12},{"$f":"IFERROR(VLOOKUP(ROWS($Z$2:Z2019),K2019:$L$6000,2,0),\"\")","v":""},{"$f":"IFERROR(VLOOKUP(ROWS($AA$2:AA2019),K2019:$M$6000,3,0),\"\")","v":""}]
[{"$nulls":10},{"$f":"IF(ISNUMBER(SEARCH($A$3,L2020)),MAX($K$1:K2019)+1,0)","v":0},"KPR Mill Ltd","KPRMILL.NS",{"$nulls":12},{"$f":"IFERROR(VLOOKUP(ROWS($Z$2:Z2020),K2020:$L$6000,2,0),\"\")","v":""},{"$f":"IFERROR(VLOOKUP(ROWS($AA$2:AA2020),K2020:$M$6000,3,0),\"\")","v":""}]
[{"$nulls":10},{"$f":"IF(ISNUMBER(SEARCH($A$3,L2021)),MAX($K$1:K2020)+1,0)","v":0},"KRBL Ltd","KRBL.BO",{"$nulls":12},{"$f":"IFERROR(VLOOKUP(ROWS($Z$2:Z2021),K2021:$L$6000,2,0),\"\")","v":""},{"$f":"IFERROR(VLOOKUP(ROWS($AA$2:AA2021),K2021:$M$6000,3,0),\"\")","v":""}]
[{"$nulls":10},{"$f":"IF(ISNUMBER(SEARCH($A$3,L2022)),MAX($K$1:K2021)+1,0)","v":0},"KRBL Ltd","KRBL.NS",{"$nulls":12},{"$f":"IFERROR(VLOOKUP(ROWS($Z$2:Z2022),K2022:$L$6000,2,0),\"\")","v":""},{"$f":"IFERROR(VLOOKUP(ROWS($AA$2:AA2022),K2022:$M$6000,3,0),\"\")","v":""}]
[{"$nulls":10},{"$f":"IF(ISNUMBER(SEARCH($A$3,L2023)),MAX($K$1:K2022)+1,0)","v":0},"Krebs Biochemicals & Indu","KREBSBIO.BO",{"$nulls":12},{"$f":"IFERROR(VLOOKUP(ROWS($Z$2:Z2023),K2023:$L$6000,2,0),\"\")","v":""},{"$f":"IFERROR(VLOOKUP(ROWS($AA$2:AA2023),K2023:$M$6000,3,0),\"\")","v":""}]
[{"$nulls":10},{"$f":"IF(ISNUMBER(SEARCH($A$3,L2024)),MAX($K$1:K2023)+1,0)","v":0},"Kreon Financial Services Ltd","KREONFIN.BO",{"$nulls":12},{"$f":"IFERROR(VLOOKUP(ROWS($Z$2:Z2024),K2024:$L$6000,2,0),\"\")","v":""},{"$f":"IFERROR(VLOOKUP(ROWS($AA$2:AA2024),K2024:$M$6000,3,0),\"\")","v":""}]
[{"$nulls":10},{"$f":"IF(ISNUMBER(SEARCH($A$3,L2025)),MAX($K$1:K2024)+1,0)","v":0},"Kriptol Industries Ltd","ROSEIND.BO",{"$nulls":12},{"$f":"IFERROR(VLOOKUP(ROWS($Z$2:Z2025),K2025:$L$6000,2,0),\"\")","v":""},{"$f":"IFERROR(VLOOKUP(ROWS($AA$2:AA2025),K2025:$M$6000,3,0),\"\")","v":""}]
[{"$nulls":10},{"$f":"IF(ISNUMBER(SEARCH($A$3,L2026)),MAX($K$1:K2025)+1,0)","v":0},"Krishna Engineering Works Ltd","KRISHNAEN.NS",{"$nulls":12},{"$f":"IFERROR(VLOOKUP(ROWS($Z$2:Z2026),K2026:$L$6000,2,0),\"\")","v":""},{"$f":"IFERROR(VLOOKUP(ROWS($AA$2:AA2026),K2026:$M$6000,3,0),\"\")","v":""}]
[{"$nulls":10},{"$f":"IF(ISNUMBER(SEARCH($A$3,L2027)),MAX($K$1:K2026)+1,0)","v":0},"Krishna Ferro Products Ltd","KRISFEP.BO",{"$nulls":12},{"$f":"IFERROR(VLOOKUP(ROWS($Z$2:Z2027),K2027:$L$6000,2,0),\"\")","v":""},{"$f":"IFERROR(VLOOKUP(ROWS($AA$2:AA2027),K2027:$M$6000,3,0),\"\")","v":""}]
[{"$nulls":10},{"$f":"IF(ISNUMBER(SEARCH($A$3,L2028)),MAX($K$1:K2027)+1,0)","v":0},"Kriti Industries (India) Ltd","KRITIIND.BO",{"$nulls":12},{"$f":"IFERROR(VLOOKUP(ROWS($Z$2:Z2028),K2028:$L$6000,2,0),\"\")","v":""},{"$f":"IFERROR(VLOOKUP(ROWS($AA$2:AA2028),K2028:$M$6000,3,0),\"\")","v":""}]
[{"$nulls":10},{"$f":"IF(ISNUMBER(SEARCH($A$3,L2029)),MAX($K$1:K2028)+1,0)","v":0},"Kriti Nutrients Ltd","KRITINUT.BO",{"$nulls":12},{"$f":"IFERROR(VLOOKUP(ROWS($Z$2:Z2029),K2029:$L$6000,2,0),\"\")","v":""},{"$f":"IFERROR(VLOOKUP(ROWS($AA$2:AA2029),K2029:$M$6000,3,0),\"\")","v":""}]
[{"$nulls":10},{"$f":"IF(ISNUMBER(SEARCH($A$3,L2030)),MAX($K$1:K2029)+1,0)","v":0},"Krypton Industries Ltd","KRYPTONQ.BO",{"$nulls":12},{"$f":"IFERROR(VLOOKUP(ROWS($Z$2:Z2030),K2030:$L$6000,2,0),\"\")","v":""},{"$f":"IFERROR(VLOOKUP(ROWS($AA$2:AA2030),K2030:$M$6000,3,0),\"\")","v":""}]
[{"$nulls":10},{"$f":"IF(ISNUMBER(SEARCH($A$3,L2031)),MAX($K$1:K2030)+1,0)","v":0},"KSB Pumps Ltd","KSBPUMPS.BO",{"$nulls":12},{"$f":"IFERROR(VLOOKUP(ROWS($Z$2:Z2031),K2031:$L$6000,2,0),\"\")","v":""},{"$f":"IFERROR(VLOOKUP(ROWS($AA$2:AA2031),K2031:$M$6000,3,0),\"\")","v":""}]
[{"$nulls":10},{"$f":"IF(ISNUMBER(SEARCH($A$3,L2032)),MAX($K$1:K2031)+1,0)","v":0},"KSB Pumps Ltd","KSBPUMPS.NS",{"$nulls":12},{"$f":"IFERROR(VLOOKUP(ROWS($Z$2:Z2032),K2032:$L$6000,2,0),\"\")","v":""},{"$f":"IFERROR(VLOOKUP(ROWS($AA$2:AA2032),K2032:$M$6000,3,0),\"\")","v":""}]
[{"$nulls":10},{"$f":"IF(ISNUMBER(SEARCH($A$3,L2033)),MAX($K$1:K2032)+1,0)","v":0},"KSE Ltd","KSELTD.BO",{"$nulls":12},{"$f":"IFERROR(VLOOKUP(ROWS($Z$2:Z2033),K2033:$L$6000,2,0),\"\")","v":""},{"$f":"IFERROR(VLOOKUP(ROWS($AA$2:AA2033),K2033:$M$6000,3,0),\"\")","v":""}]
[{"$nulls":10},{"$f":"IF(ISNUMBER(SEARCH($A$3,L2034)),MAX($K$1:K2033)+1,0)","v":0},"KSK Energy Ventures Ltd","KSK.BO",{"$nulls":12},{"$f":"IFERROR(VLOOKUP(ROWS($Z$2:Z2034),K2034:$L$6000,2,0),\"\")","v":""},{"$f":"IFERROR(VLOOKUP(ROWS($AA$2:AA2034),K2034:$M$6000,3,0),\"\")","v":""}]
[{"$nulls":10},{"$f":"IF(ISNUMBER(SEARCH($A$3,L2035)),MAX($K$1:K2034)+1,0)","v":0},"KSK Energy Ventures Ltd","KSK.NS",{"$nulls":12},{"$f":"IFERROR(VLOOKUP(ROWS($Z$2:Z2035),K2035:$L$6000,2,0),\"\")","v":""},{"$f":"IFERROR(VLOOKUP(ROWS($AA$2:AA2035),K2035:$M$6000,3,0),\"\")","v":""}]
[{"$nulls":10},{"$f":"IF(ISNUMBER(SEARCH($A$3,L2036)),MAX($K$1:K2035)+1,0)","v":0},"KSL and Industries Ltd","KSLIND.BO",{"$nulls":12},{"$f":"IFERROR(VLOOKUP(ROWS($Z$2:Z2036),K2036:$L$6000,2,0),\"\")","v":""},{"$f":"IFERROR(VLOOKUP(ROWS($AA$2:AA2036),K2036:$M$6000,3,0),\"\")","v":""}]
[{"$nulls":10},{"$f":"IF(ISNUMBER(SEARCH($A$3,L2037)),MAX($K$1:K2036)+1,0)","v":0},"KSS Ltd","KSERA.BO",{"$nulls":12},{"$f":"IFERROR(VLOOKUP(ROWS($Z$2:Z2037),K2037:$L$6000,2,0),\"\")","v":""},{"$f":"IFERROR(VLOOKUP(ROWS($AA$2:AA2037),K2037:$M$6000,3,0),\"\")","v":""}]
[{"$nulls":10},{"$f":"IF(ISNUMBER(SEARCH($A$3,L2038)),MAX($K$1:K2037)+1,0)","v":0},"KSS Ltd","KSERAPRO.NS",{"$nulls":12},{"$f":"IFERROR(VLOOKUP(ROWS($Z$2:Z2038),K2038:$L$6000,2,0),\"\")","v":""},{"$f":"IFERROR(VLOOKUP(ROWS($AA$2:AA2038),K2038:$M$6000,3,0),\"\")","v":""}]
[{"$nulls":10},{"$f":"IF(ISNUMBER(SEARCH($A$3,L2039)),MAX($K$1:K2038)+1,0)","v":0},"Kuantum Papers Ltd","ABCPAPER.BO",{"$nulls":12},{"$f":"IFERROR(VLOOKUP(ROWS($Z$2:Z2039),K2039:$L$6000,2,0),\"\")","v":""},{"$f":"IFERROR(VLOOKUP(ROWS($AA$2:AA2039),K2039:$M$6000,3,0),\"\")","v":""}]
[{"$nulls":10},{"$f":"IF(ISNUMBER(SEARCH($A$3,L2040)),MAX($K$1:K2039)+1,0)","v":0},"Kulkarni Power Tools Ltd","KULKPOWT.BO",{"$nulls":12},{"$f":"IFERROR(VLOOKUP(ROWS($Z$2:Z2040),K2040:$L$6000,2,0),\"\")","v":""},{"$f":"IFERROR(VLOOKUP(ROWS($AA$2:AA2040),K2040:$M$6000,3,0),\"\")","v":""}]
[{"$nulls":10},{"$f":"IF(ISNUMBER(SEARCH($A$3,L2041)),MAX($K$1:K2040)+1,0)","v":0},"Kumar Wire Cloth","KUMARWI.BO",{"$nulls":12},{"$f":"IFERROR(VLOOKUP(ROWS($Z$2:Z2041),K2041:$L$6000,2,0),\"\")","v":""},{"$f":"IFERROR(VLOOKUP(ROWS($AA$2:AA2041),K2041:$M$6000,3,0),\"\")","v":""}]
[{"$nulls":10},{"$f":"IF(ISNUMBER(SEARCH($A$3,L2042)),MAX($K$1:K2041)+1,0)","v":0},"Kuwer Industries Ltd","KUWERIN.BO",{"$nulls":12},{"$f":"IFERROR(VLOOKUP(ROWS($Z$2:Z2042),K2042:$L$6000,2,0),\"\")","v":""},{"$f":"IFERROR(VLOOKUP(ROWS($AA$2:AA2042),K2042:$M$6000,3,0),\"\")","v":""}]
[{"$nulls":10},{"$f":"IF(ISNUMBER(SEARCH($A$3,L2043)),MAX($K$1:K2042)+1,0)","v":0},"Kwality Credit & Leasing Ltd","KWALITY.BO",{"$nulls":12},{"$f":"IFERROR(VLOOKUP(ROWS($Z$2:Z2043),K2043:$L$6000,2,0),\"\")","v":""},{"$f":"IFERROR(VLOOKUP(ROWS($AA$2:AA2043),K2043:$M$6000,3,0),\"\")","v":""}]
[{"$nulls":10},{"$f":"IF(ISNUMBER(SEARCH($A$3,L2044)),MAX($K$1:K2043)+1,0)","v":0},"Kwality Dairy (India) Ltd","KWALITYD.BO",{"$nulls":12},{"$f":"IFERROR(VLOOKUP(ROWS($Z$2:Z2044),K2044:$L$6000,2,0),\"\")","v":""},{"$f":"IFERROR(VLOOKUP(ROWS($AA$2:AA2044),K2044:$M$6000,3,0),\"\")","v":""}]
[{"$nulls":10},{"$f":"IF(ISNUMBER(SEARCH($A$3,L2045)),MAX($K$1:K2044)+1,0)","v":0},"La Opala RG Ltd","LAOPALA.BO",{"$nulls":12},{"$f":"IFERROR(VLOOKUP(ROWS($Z$2:Z2045),K2045:$L$6000,2,0),\"\")","v":""},{"$f":"IFERROR(VLOOKUP(ROWS($AA$2:AA2045),K2045:$M$6000,3,0),\"\")","v":""}]
[{"$nulls":10},{"$f":"IF(ISNUMBER(SEARCH($A$3,L2046)),MAX($K$1:K2045)+1,0)","v":0},"La Opala RG Ltd","LAOPALA.NS",{"$nulls":12},{"$f":"IFERROR(VLOOKUP(ROWS($Z$2:Z2046),K2046:$L$6000,2,0),\"\")","v":""},{"$f":"IFERROR(VLOOKUP(ROWS($AA$2:AA2046),K2046:$M$6000,3,0),\"\")","v":""}]
[{"$nulls":10},{"$f":"IF(ISNUMBER(SEARCH($A$3,L2047)),MAX($K$1:K2046)+1,0)","v":0},"Lactose (India) Ltd","LACTOSE.BO",{"$nulls":12},{"$f":"IFERROR(VLOOKUP(ROWS($Z$2:Z2047),K2047:$L$6000,2,0),\"\")","v":""},{"$f":"IFERROR(VLOOKUP(ROWS($AA$2:AA2047),K2047:$M$6000,3,0),\"\")","v":""}]
[{"$nulls":10},{"$f":"IF(ISNUMBER(SEARCH($A$3,L2048)),MAX($K$1:K2047)+1,0)","v":0},"Ladderup Finance Ltd","LADDERUP.BO",{"$nulls":12},{"$f":"IFERROR(VLOOKUP(ROWS($Z$2:Z2048),K2048:$L$6000,2,0),\"\")","v":""},{"$f":"IFERROR(VLOOKUP(ROWS($AA$2:AA2048),K2048:$M$6000,3,0),\"\")","v":""}]
[{"$nulls":10},{"$f":"IF(ISNUMBER(SEARCH($A$3,L2049)),MAX($K$1:K2048)+1,0)","v":0},"Laffans Petrochemicals Ltd","LAFFANSQ.BO",{"$nulls":12},{"$f":"IFERROR(VLOOKUP(ROWS($Z$2:Z2049),K2049:$L$6000,2,0),\"\")","v":""},{"$f":"IFERROR(VLOOKUP(ROWS($AA$2:AA2049),K2049:$M$6000,3,0),\"\")","v":""}]
[{"$nulls":10},{"$f":"IF(ISNUMBER(SEARCH($A$3,L2050)),MAX($K$1:K2049)+1,0)","v":0},"Lahoti Overseas Ltd","LAHOTIOV.BO",{"$nulls":12},{"$f":"IFERROR(VLOOKUP(ROWS($Z$2:Z2050),K2050:$L$6000,2,0),\"\")","v":""},{"$f":"IFERROR(VLOOKUP(ROWS($AA$2:AA2050),K2050:$M$6000,3,0),\"\")","v":""}]
[{"$nulls":10},{"$f":"IF(ISNUMBER(SEARCH($A$3,L2051)),MAX($K$1:K2050)+1,0)","v":0},"Lakshmi Electrical","LAKSELEC.BO",{"$nulls":12},{"$f":"IFERROR(VLOOKUP(ROWS($Z$2:Z2051),K2051:$L$6000,2,0),\"\")","v":""},{"$f":"IFERROR(VLOOKUP(ROWS($AA$2:AA2051),K2051:$M$6000,3,0),\"\")","v":""}]
[{"$nulls":10},{"$f":"IF(ISNUMBER(SEARCH($A$3,L2052)),MAX($K$1:K2051)+1,0)","v":0},"Lakshmi Energy & Foods Ltd","LAKSHMIO.BO",{"$nulls":12},{"$f":"IFERROR(VLOOKUP(ROWS($Z$2:Z2052),K2052:$L$6000,2,0),\"\")","v":""},{"$f":"IFERROR(VLOOKUP(ROWS($AA$2:AA2052),K2052:$M$6000,3,0),\"\")","v":""}]
[{"$nulls":10},{"$f":"IF(ISNUMBER(SEARCH($A$3,L2053)),MAX($K$1:K2052)+1,0)","v":0},"Lakshmi Energy & Foods Ltd","LAKSHMIEF.NS",{"$nulls":12},{"$f":"IFERROR(VLOOKUP(ROWS($Z$2:Z2053),K2053:$L$6000,2,0),\"\")","v":""},{"$f":"IFERROR(VLOOKUP(ROWS($AA$2:AA2053),K2053:$M$6000,3,0),\"\")","v":""}]
[{"$nulls":10},{"$f":"IF(ISNUMBER(SEARCH($A$3,L2054)),MAX($K$1:K2053)+1,0)","v":0},"Lakshmi Finance","LAKSHMIFI.NS",{"$nulls":12},{"$f":"IFERROR(VLOOKUP(ROWS($Z$2:Z2054),K2054:$L$6000,2,0),\"\")","v":""},{"$f":"IFERROR(VLOOKUP(ROWS($AA$2:AA2054),K2054:$M$6000,3,0),\"\")","v":""}]
[{"$nulls":10},{"$f":"IF(ISNUMBER(SEARCH($A$3,L2055)),MAX($K$1:K2054)+1,0)","v":0},"Lakshmi Machine Works Ltd","LMW.BO",{"$nulls":12},{"$f":"IFERROR(VLOOKUP(ROWS($Z$2:Z2055),K2055:$L$6000,2,0),\"\")","v":""},{"$f":"IFERROR(VLOOKUP(ROWS($AA$2:AA2055),K2055:$M$6000,3,0),\"\")","v":""}]
[{"$nulls":10},{"$f":"IF(ISNUMBER(SEARCH($A$3,L2056)),MAX($K$1:K2055)+1,0)","v":0},"Lakshmi Machine Works Ltd","LAXMIMACH.NS",{"$nulls":12},{"$f":"IFERROR(VLOOKUP(ROWS($Z$2:Z2056),K2056:$L$6000,2,0),\"\")","v":""},{"$f":"IFERROR(VLOOKUP(ROWS($AA$2:AA2056),K2056:$M$6000,3,0),\"\")","v":""}]
[{"$nulls":10},{"$f":"IF(ISNUMBER(SEARCH($A$3,L2057)),MAX($K$1:K2056)+1,0)","v":0},"Lakshmi Mills Co Ltd","LAKSHMILQ.BO",{"$nulls":12},{"$f":"IFERROR(VLOOKUP(ROWS($Z$2:Z2057),K2057:$L$6000,2,0),\"\")","v":""},{"$f":"IFERROR(VLOOKUP(ROWS($AA$2:AA2057),K2057:$M$6000,3,0),\"\")","v":""}]
[{"$nulls":10},{"$f":"IF(ISNUMBER(SEARCH($A$3,L2058)),MAX($K$1:K2057)+1,0)","v":0},"Lakshmi Precision Screws Ltd","LAKSMIPR.BO",{"$nulls":12},{"$f":"IFERROR(VLOOKUP(ROWS($Z$2:Z2058),K2058:$L$6000,2,0),\"\")","v":""},{"$f":"IFERROR(VLOOKUP(ROWS($AA$2:AA2058),K2058:$M$6000,3,0),\"\")","v":""}]
[{"$nulls":10},{"$f":"IF(ISNUMBER(SEARCH($A$3,L2059)),MAX($K$1:K2058)+1,0)","v":0},"Lakshmi Precision Screws Ltd","LAKPRE.NS",{"$nulls":12},{"$f":"IFERROR(VLOOKUP(ROWS($Z$2:Z2059),K2059:$L$6000,2,0),\"\")","v":""},{"$f":"IFERROR(VLOOKUP(ROWS($AA$2:AA2059),K2059:$M$6000,3,0),\"\")","v":""}]
[{"$nulls":10},{"$f":"IF(ISNUMBER(SEARCH($A$3,L2060)),MAX($K$1:K2059)+1,0)","v":0},"Lakshmi Vilas Bank Ltd","LAKSHVILAS.BO",{"$nulls":12},{"$f":"IFERROR(VLOOKUP(ROWS($Z$2:Z2060),K2060:$L$6000,2,0),\"\")","v":""},{"$f":"IFERROR(VLOOKUP(ROWS($AA$2:AA2060),K2060:$M$6000,3,0),\"\")","v":""}]
[{"$nulls":10},{"$f":"IF(ISNUMBER(SEARCH($A$3,L2061)),MAX($K$1:K2060)+1,0)","v":0},"Lakshmi Vilas Bank Ltd","LAKSHVILA.NS",{"$nulls":12},{"$f":"IFERROR(VLOOKUP(ROWS($Z$2:Z2061),K2061:$L$6000,2,0),\"\")","v":""},{"$f":"IFERROR(VLOOKUP(ROWS($AA$2:AA2061),K2061:$M$6000,3,0),\"\")","v":""}]
[{"$nulls":10},{"$f":"IF(ISNUMBER(SEARCH($A$3,L2062)),MAX($K$1:K2061)+1,0)","v":0},"Lambodhara Textiles Ltd","LAMBODHARA.BO",{"$nulls":12},{"$f":"IFERROR(VLOOKUP(ROWS($Z$2:Z2062),K2062:$L$6000,2,0),\"\")","v":""},{"$f":"IFERROR(VLOOKUP(ROWS($AA$2:AA2062),K2062:$M$6000,3,0),\"\")","v":""}]
[{"$nulls":10},{"$f":"IF(ISNUMBER(SEARCH($A$3,L2063)),MAX($K$1:K2062)+1,0)","v":0},"Lanco Industries Ltd","LANCO.BO",{"$nulls":12},{"$f":"IFERROR(VLOOKUP(ROWS($Z$2:Z2063),K2063:$L$6000,2,0),\"\")","v":""},{"$f":"IFERROR(VLOOKUP(ROWS($AA$2:AA2063),K2063:$M$6000,3,0),\"\")","v":""}]
[{"$nulls":10},{"$f":"IF(ISNUMBER(SEARCH($A$3,L2064)),MAX($K$1:K2063)+1,0)","v":0},"Lanco Industries Ltd","LANCOIN.NS",{"$nulls":12},{"$f":"IFERROR(VLOOKUP(ROWS($Z$2:Z2064),K2064:$L$6000,2,0),\"\")","v":""},{"$f":"IFERROR(VLOOKUP(ROWS($AA$2:AA2064),K2064:$M$6000,3,0),\"\")","v":""}]
[{"$nulls":10},{"$f":"IF(ISNUMBER(SEARCH($A$3,L2065)),MAX($K$1:K2064)+1,0)","v":0},"Lanco Infratech Ltd","LITL.BO",{"$nulls":12},{"$f":"IFERROR(VLOOKUP(ROWS($Z$2:Z2065),K2065:$L$6000,2,0),\"\")","v":""},{"$f":"IFERROR(VLOOKUP(ROWS($AA$2:AA2065),K2065:$M$6000,3,0),\"\")","v":""}]
[{"$nulls":10},{"$f":"IF(ISNUMBER(SEARCH($A$3,L2066)),MAX($K$1:K2065)+1,0)","v":0},"Lanco Infratech Ltd","LITL.NS",{"$nulls":12},{"$f":"IFERROR(VLOOKUP(ROWS($Z$2:Z2066),K2066:$L$6000,2,0),\"\")","v":""},{"$f":"IFERROR(VLOOKUP(ROWS($AA$2:AA2066),K2066:$M$6000,3,0),\"\")","v":""}]
[{"$nulls":10},{"$f":"IF(ISNUMBER(SEARCH($A$3,L2067)),MAX($K$1:K2066)+1,0)","v":0},"Lancor Holdings Ltd","LANCORHOL.BO",{"$nulls":12},{"$f":"IFERROR(VLOOKUP(ROWS($Z$2:Z2067),K2067:$L$6000,2,0),\"\")","v":""},{"$f":"IFERROR(VLOOKUP(ROWS($AA$2:AA2067),K2067:$M$6000,3,0),\"\")","v":""}]
[{"$nulls":10},{"$f":"IF(ISNUMBER(SEARCH($A$3,L2068)),MAX($K$1:K2067)+1,0)","v":0},"Landmarc Leisure Corp Ltd","LANDMARC.BO",{"$nulls":12},{"$f":"IFERROR(VLOOKUP(ROWS($Z$2:Z2068),K2068:$L$6000,2,0),\"\")","v":""},{"$f":"IFERROR(VLOOKUP(ROWS($AA$2:AA2068),K2068:$M$6000,3,0),\"\")","v":""}]
[{"$nulls":10},{"$f":"IF(ISNUMBER(SEARCH($A$3,L2069)),MAX($K$1:K2068)+1,0)","v":0},"Landmark Property Develop","LANDMARK.BO",{"$nulls":12},{"$f":"IFERROR(VLOOKUP(ROWS($Z$2:Z2069),K2069:$L$6000,2,0),\"\")","v":""},{"$f":"IFERROR(VLOOKUP(ROWS($AA$2:AA2069),K2069:$M$6000,3,0),\"\")","v":""}]
[{"$nulls":10},{"$f":"IF(ISNUMBER(SEARCH($A$3,L2070)),MAX($K$1:K2069)+1,0)","v":0},"Landmark Property Develop","LPDC.NS",{"$nulls":12},{"$f":"IFERROR(VLOOKUP(ROWS($Z$2:Z2070),K2070:$L$6000,2,0),\"\")","v":""},{"$f":"IFERROR(VLOOKUP(ROWS($AA$2:AA2070),K2070:$M$6000,3,0),\"\")","v":""}]
[{"$nulls":10},{"$f":"IF(ISNUMBER(SEARCH($A$3,L2071)),MAX($K$1:K2070)+1,0)","v":0},"Larsen & Toubro Ltd","LNT.BO",{"$nulls":12},{"$f":"IFERROR(VLOOKUP(ROWS($Z$2:Z2071),K2071:$L$6000,2,0),\"\")","v":""},{"$f":"IFERROR(VLOOKUP(ROWS($AA$2:AA2071),K2071:$M$6000,3,0),\"\")","v":""}]
[{"$nulls":10},{"$f":"IF(ISNUMBER(SEARCH($A$3,L2072)),MAX($K$1:K2071)+1,0)","v":0},"Larsen & Toubro Ltd","LT.NS",{"$nulls":12},{"$f":"IFERROR(VLOOKUP(ROWS($Z$2:Z2072),K2072:$L$6000,2,0),\"\")","v":""},{"$f":"IFERROR(VLOOKUP(ROWS($AA$2:AA2072),K2072:$M$6000,3,0),\"\")","v":""}]
[{"$nulls":10},{"$f":"IF(ISNUMBER(SEARCH($A$3,L2073)),MAX($K$1:K2072)+1,0)","v":0},"Lawreshwar Polymers Ltd","LEHAR.BO",{"$nulls":12},{"$f":"IFERROR(VLOOKUP(ROWS($Z$2:Z2073),K2073:$L$6000,2,0),\"\")","v":""},{"$f":"IFERROR(VLOOKUP(ROWS($AA$2:AA2073),K2073:$M$6000,3,0),\"\")","v":""}]
[{"$nulls":10},{"$f":"IF(ISNUMBER(SEARCH($A$3,L2074)),MAX($K$1:K2073)+1,0)","v":0},"LCC Infotech Ltd","LCCINFOTE.NS",{"$nulls":12},{"$f":"IFERROR(VLOOKUP(ROWS($Z$2:Z2074),K2074:$L$6000,2,0),\"\")","v":""},{"$f":"IFERROR(VLOOKUP(ROWS($AA$2:AA2074),K2074:$M$6000,3,0),\"\")","v":""}]
[{"$nulls":10},{"$f":"IF(ISNUMBER(SEARCH($A$3,L2075)),MAX($K$1:K2074)+1,0)","v":0},"Lead Financial Services Ltd","LEADFIN.BO",{"$nulls":12},{"$f":"IFERROR(VLOOKUP(ROWS($Z$2:Z2075),K2075:$L$6000,2,0),\"\")","v":""},{"$f":"IFERROR(VLOOKUP(ROWS($AA$2:AA2075),K2075:$M$6000,3,0),\"\")","v":""}]
[{"$nulls":10},{"$f":"IF(ISNUMBER(SEARCH($A$3,L2076)),MAX($K$1:K2075)+1,0)","v":0},"Ledo Tea Co Ltd","LEDOTEA.BO",{"$nulls":12},{"$f":"IFERROR(VLOOKUP(ROWS($Z$2:Z2076),K2076:$L$6000,2,0),\"\")","v":""},{"$f":"IFERROR(VLOOKUP(ROWS($AA$2:AA2076),K2076:$M$6000,3,0),\"\")","v":""}]
[{"$nulls":10},{"$f":"IF(ISNUMBER(SEARCH($A$3,L2077)),MAX($K$1:K2076)+1,0)","v":0},"Lee & Nee Softwares (Expo","LEENEE.BO",{"$nulls":12},{"$f":"IFERROR(VLOOKUP(ROWS($Z$2:Z2077),K2077:$L$6000,2,0),\"\")","v":""},{"$f":"IFERROR(VLOOKUP(ROWS($AA$2:AA2077),K2077:$M$6000,3,0),\"\")","v":""}]
[{"$nulls":10},{"$f":"IF(ISNUMBER(SEARCH($A$3,L2078)),MAX($K$1:K2077)+1,0)","v":0},"LG Balakrishnan & Bros Ltd","LGBROS.BO",{"$nulls":12},{"$f":"IFERROR(VLOOKUP(ROWS($Z$2:Z2078),K2078:$L$6000,2,0),\"\")","v":""},{"$f":"IFERROR(VLOOKUP(ROWS($AA$2:AA2078),K2078:$M$6000,3,0),\"\")","v":""}]
[{"$nulls":10},{"$f":"IF(ISNUMBER(SEARCH($A$3,L2079)),MAX($K$1:K2078)+1,0)","v":0},"LG Balakrishnan & Bros Ltd","LGBBROSLT.NS",{"$nulls":12},{"$f":"IFERROR(VLOOKUP(ROWS($Z$2:Z2079),K2079:$L$6000,2,0),\"\")","v":""},{"$f":"IFERROR(VLOOKUP(ROWS($AA$2:AA2079),K2079:$M$6000,3,0),\"\")","v":""}]
[{"$nulls":10},{"$f":"IF(ISNUMBER(SEARCH($A$3,L2080)),MAX($K$1:K2079)+1,0)","v":0},"LGB Forge Ltd","LGBFL.BO",{"$nulls":12},{"$f":"IFERROR(VLOOKUP(ROWS($Z$2:Z2080),K2080:$L$6000,2,0),\"\")","v":""},{"$f":"IFERROR(VLOOKUP(ROWS($AA$2:AA2080),K2080:$M$6000,3,0),\"\")","v":""}]
[{"$nulls":10},{"$f":"IF(ISNUMBER(SEARCH($A$3,L2081)),MAX($K$1:K2080)+1,0)","v":0},"LGB Forge Ltd","LGBFORGE.NS",{"$nulls":12},{"$f":"IFERROR(VLOOKUP(ROWS($Z$2:Z2081),K2081:$L$6000,2,0),\"\")","v":""},{"$f":"IFERROR(VLOOKUP(ROWS($AA$2:AA2081),K2081:$M$6000,3,0),\"\")","v":""}]
[{"$nulls":10},{"$f":"IF(ISNUMBER(SEARCH($A$3,L2082)),MAX($K$1:K2081)+1,0)","v":0},"Liberty Phosphate Ltd","LIBERTYP.BO",{"$nulls":12},{"$f":"IFERROR(VLOOKUP(ROWS($Z$2:Z2082),K2082:$L$6000,2,0),\"\")","v":""},{"$f":"IFERROR(VLOOKUP(ROWS($AA$2:AA2082),K2082:$M$6000,3,0),\"\")","v":""}]
[{"$nulls":10},{"$f":"IF(ISNUMBER(SEARCH($A$3,L2083)),MAX($K$1:K2082)+1,0)","v":0},"Liberty Shoes Ltd","LIBERTY.BO",{"$nulls":12},{"$f":"IFERROR(VLOOKUP(ROWS($Z$2:Z2083),K2083:$L$6000,2,0),\"\")","v":""},{"$f":"IFERROR(VLOOKUP(ROWS($AA$2:AA2083),K2083:$M$6000,3,0),\"\")","v":""}]
[{"$nulls":10},{"$f":"IF(ISNUMBER(SEARCH($A$3,L2084)),MAX($K$1:K2083)+1,0)","v":0},"Liberty Shoes Ltd","LIBERTSHO.NS",{"$nulls":12},{"$f":"IFERROR(VLOOKUP(ROWS($Z$2:Z2084),K2084:$L$6000,2,0),\"\")","v":""},{"$f":"IFERROR(VLOOKUP(ROWS($AA$2:AA2084),K2084:$M$6000,3,0),\"\")","v":""}]
[{"$nulls":10},{"$f":"IF(ISNUMBER(SEARCH($A$3,L2085)),MAX($K$1:K2084)+1,0)","v":0},"Libord Finance Ltd","LIBORDIN.BO",{"$nulls":12},{"$f":"IFERROR(VLOOKUP(ROWS($Z$2:Z2085),K2085:$L$6000,2,0),\"\")","v":""},{"$f":"IFERROR(VLOOKUP(ROWS($AA$2:AA2085),K2085:$M$6000,3,0),\"\")","v":""}]
[{"$nulls":10},{"$f":"IF(ISNUMBER(SEARCH($A$3,L2086)),MAX($K$1:K2085)+1,0)","v":0},"Libord Securities Ltd","LIBORDS.BO",{"$nulls":12},{"$f":"IFERROR(VLOOKUP(ROWS($Z$2:Z2086),K2086:$L$6000,2,0),\"\")","v":""},{"$f":"IFERROR(VLOOKUP(ROWS($AA$2:AA2086),K2086:$M$6000,3,0),\"\")","v":""}]
[{"$nulls":10},{"$f":"IF(ISNUMBER(SEARCH($A$3,L2087)),MAX($K$1:K2086)+1,0)","v":0},"LIC Housing Finance Ltd","LICHSGFIN.BO",{"$nulls":12},{"$f":"IFERROR(VLOOKUP(ROWS($Z$2:Z2087),K2087:$L$6000,2,0),\"\")","v":""},{"$f":"IFERROR(VLOOKUP(ROWS($AA$2:AA2087),K2087:$M$6000,3,0),\"\")","v":""}]
[{"$nulls":10},{"$f":"IF(ISNUMBER(SEARCH($A$3,L2088)),MAX($K$1:K2087)+1,0)","v":0},"Lime Chemicals Ltd","LIMECHM.BO",{"$nulls":12},{"$f":"IFERROR(VLOOKUP(ROWS($Z$2:Z2088),K2088:$L$6000,2,0),\"\")","v":""},{"$f":"IFERROR(VLOOKUP(ROWS($AA$2:AA2088),K2088:$M$6000,3,0),\"\")","v":""}]
[{"$nulls":10},{"$f":"IF(ISNUMBER(SEARCH($A$3,L2089)),MAX($K$1:K2088)+1,0)","v":0},"Linc Pen & Plastics Ltd","LINCPENQ.BO",{"$nulls":12},{"$f":"IFERROR(VLOOKUP(ROWS($Z$2:Z2089),K2089:$L$6000,2,0),\"\")","v":""},{"$f":"IFERROR(VLOOKUP(ROWS($AA$2:AA2089),K2089:$M$6000,3,0),\"\")","v":""}]
[{"$nulls":10},{"$f":"IF(ISNUMBER(SEARCH($A$3,L2090)),MAX($K$1:K2089)+1,0)","v":0},"Lincoln Pharmaceuticals Ltd","LINCOPH.BO",{"$nulls":12},{"$f":"IFERROR(VLOOKUP(ROWS($Z$2:Z2090),K2090:$L$6000,2,0),\"\")","v":""},{"$f":"IFERROR(VLOOKUP(ROWS($AA$2:AA2090),K2090:$M$6000,3,0),\"\")","v":""}]
[{"$nulls":10},{"$f":"IF(ISNUMBER(SEARCH($A$3,L2091)),MAX($K$1:K2090)+1,0)","v":0},"Linde India Ltd","BOCINDIA.BO",{"$nulls":12},{"$f":"IFERROR(VLOOKUP(ROWS($Z$2:Z2091),K2091:$L$6000,2,0),\"\")","v":""},{"$f":"IFERROR(VLOOKUP(ROWS($AA$2:AA2091),K2091:$M$6000,3,0),\"\")","v":""}]
[{"$nulls":10},{"$f":"IF(ISNUMBER(SEARCH($A$3,L2092)),MAX($K$1:K2091)+1,0)","v":0},"Linde India Ltd","BOC.NS",{"$nulls":12},{"$f":"IFERROR(VLOOKUP(ROWS($Z$2:Z2092),K2092:$L$6000,2,0),\"\")","v":""},{"$f":"IFERROR(VLOOKUP(ROWS($AA$2:AA2092),K2092:$M$6000,3,0),\"\")","v":""}]
[{"$nulls":10},{"$f":"IF(ISNUMBER(SEARCH($A$3,L2093)),MAX($K$1:K2092)+1,0)","v":0},"Linear Industries Ltd","LINEARPO.BO",{"$nulls":12},{"$f":"IFERROR(VLOOKUP(ROWS($Z$2:Z2093),K2093:$L$6000,2,0),\"\")","v":""},{"$f":"IFERROR(VLOOKUP(ROWS($AA$2:AA2093),K2093:$M$6000,3,0),\"\")","v":""}]
[{"$nulls":10},{"$f":"IF(ISNUMBER(SEARCH($A$3,L2094)),MAX($K$1:K2093)+1,0)","v":0},"Link Pharma Chem Ltd","LINKPH.BO",{"$nulls":12},{"$f":"IFERROR(VLOOKUP(ROWS($Z$2:Z2094),K2094:$L$6000,2,0),\"\")","v":""},{"$f":"IFERROR(VLOOKUP(ROWS($AA$2:AA2094),K2094:$M$6000,3,0),\"\")","v":""}]
[{"$nulls":10},{"$f":"IF(ISNUMBER(SEARCH($A$3,L2095)),MAX($K$1:K2094)+1,0)","v":0},"Lippi Systems Ltd","LIPPISYS.BO",{"$nulls":12},{"$f":"IFERROR(VLOOKUP(ROWS($Z$2:Z2095),K2095:$L$6000,2,0),\"\")","v":""},{"$f":"IFERROR(VLOOKUP(ROWS($AA$2:AA2095),K2095:$M$6000,3,0),\"\")","v":""}]
[{"$nulls":10},{"$f":"IF(ISNUMBER(SEARCH($A$3,L2096)),MAX($K$1:K2095)+1,0)","v":0},"LKP Finance Ltd","LKPFIN.BO",{"$nulls":12},{"$f":"IFERROR(VLOOKUP(ROWS($Z$2:Z2096),K2096:$L$6000,2,0),\"\")","v":""},{"$f":"IFERROR(VLOOKUP(ROWS($AA$2:AA2096),K2096:$M$6000,3,0),\"\")","v":""}]
[{"$nulls":10},{"$f":"IF(ISNUMBER(SEARCH($A$3,L2097)),MAX($K$1:K2096)+1,0)","v":0},"Lloyd Electric & Eng","LLOYDELE.BO",{"$nulls":12},{"$f":"IFERROR(VLOOKUP(ROWS($Z$2:Z2097),K2097:$L$6000,2,0),\"\")","v":""},{"$f":"IFERROR(VLOOKUP(ROWS($AA$2:AA2097),K2097:$M$6000,3,0),\"\")","v":""}]
[{"$nulls":10},{"$f":"IF(ISNUMBER(SEARCH($A$3,L2098)),MAX($K$1:K2097)+1,0)","v":0},"Lloyd Electric & Eng","LLOYDELEN.NS",{"$nulls":12},{"$f":"IFERROR(VLOOKUP(ROWS($Z$2:Z2098),K2098:$L$6000,2,0),\"\")","v":""},{"$f":"IFERROR(VLOOKUP(ROWS($AA$2:AA2098),K2098:$M$6000,3,0),\"\")","v":""}]
[{"$nulls":10},{"$f":"IF(ISNUMBER(SEARCH($A$3,L2099)),MAX($K$1:K2098)+1,0)","v":0},"LLoyds Finance Ltd","LLOYDSFI.BO",{"$nulls":12},{"$f":"IFERROR(VLOOKUP(ROWS($Z$2:Z2099),K2099:$L$6000,2,0),\"\")","v":""},{"$f":"IFERROR(VLOOKUP(ROWS($AA$2:AA2099),K2099:$M$6000,3,0),\"\")","v":""}]
[{"$nulls":10},{"$f":"IF(ISNUMBER(SEARCH($A$3,L2100)),MAX($K$1:K2099)+1,0)","v":0},"LLoyds Finance Ltd","LLOYDFIN.NS",{"$nulls":12},{"$f":"IFERROR(VLOOKUP(ROWS($Z$2:Z2100),K2100:$L$6000,2,0),\"\")","v":""},{"$f":"IFERROR(VLOOKUP(ROWS($AA$2:AA2100),K2100:$M$6000,3,0),\"\")","v":""}]
[{"$nulls":10},{"$f":"IF(ISNUMBER(SEARCH($A$3,L2101)),MAX($K$1:K2100)+1,0)","v":0},"Lloyds Metals & Energy Ltd","LLOYDSMEQ.BO",{"$nulls":12},{"$f":"IFERROR(VLOOKUP(ROWS($Z$2:Z2101),K2101:$L$6000,2,0),\"\")","v":""},{"$f":"IFERROR(VLOOKUP(ROWS($AA$2:AA2101),K2101:$M$6000,3,0),\"\")","v":""}]
[{"$nulls":10},{"$f":"IF(ISNUMBER(SEARCH($A$3,L2102)),MAX($K$1:K2101)+1,0)","v":0},"LML Ltd","LML.BO",{"$nulls":12},{"$f":"IFERROR(VLOOKUP(ROWS($Z$2:Z2102),K2102:$L$6000,2,0),\"\")","v":""},{"$f":"IFERROR(VLOOKUP(ROWS($AA$2:AA2102),K2102:$M$6000,3,0),\"\")","v":""}]
[{"$nulls":10},{"$f":"IF(ISNUMBER(SEARCH($A$3,L2103)),MAX($K$1:K2102)+1,0)","v":0},"LML Ltd","LML.NS",{"$nulls":12},{"$f":"IFERROR(VLOOKUP(ROWS($Z$2:Z2103),K2103:$L$6000,2,0),\"\")","v":""},{"$f":"IFERROR(VLOOKUP(ROWS($AA$2:AA2103),K2103:$M$6000,3,0),\"\")","v":""}]
[{"$nulls":10},{"$f":"IF(ISNUMBER(SEARCH($A$3,L2104)),MAX($K$1:K2103)+1,0)","v":0},"LN Industries India Ltd","LNPOL.BO",{"$nulls":12},{"$f":"IFERROR(VLOOKUP(ROWS($Z$2:Z2104),K2104:$L$6000,2,0),\"\")","v":""},{"$f":"IFERROR(VLOOKUP(ROWS($AA$2:AA2104),K2104:$M$6000,3,0),\"\")","v":""}]
[{"$nulls":10},{"$f":"IF(ISNUMBER(SEARCH($A$3,L2105)),MAX($K$1:K2104)+1,0)","v":0},"Logix Microsystems Ltd","LOGIX.BO",{"$nulls":12},{"$f":"IFERROR(VLOOKUP(ROWS($Z$2:Z2105),K2105:$L$6000,2,0),\"\")","v":""},{"$f":"IFERROR(VLOOKUP(ROWS($AA$2:AA2105),K2105:$M$6000,3,0),\"\")","v":""}]
[{"$nulls":10},{"$f":"IF(ISNUMBER(SEARCH($A$3,L2106)),MAX($K$1:K2105)+1,0)","v":0},"Logix Microsystems Ltd","LOGIXMICR.NS",{"$nulls":12},{"$f":"IFERROR(VLOOKUP(ROWS($Z$2:Z2106),K2106:$L$6000,2,0),\"\")","v":""},{"$f":"IFERROR(VLOOKUP(ROWS($AA$2:AA2106),K2106:$M$6000,3,0),\"\")","v":""}]
[{"$nulls":10},{"$f":"IF(ISNUMBER(SEARCH($A$3,L2107)),MAX($K$1:K2106)+1,0)","v":0},"Lohia Securities Ltd","LOHIASEC.BO",{"$nulls":12},{"$f":"IFERROR(VLOOKUP(ROWS($Z$2:Z2107),K2107:$L$6000,2,0),\"\")","v":""},{"$f":"IFERROR(VLOOKUP(ROWS($AA$2:AA2107),K2107:$M$6000,3,0),\"\")","v":""}]
[{"$nulls":10},{"$f":"IF(ISNUMBER(SEARCH($A$3,L2108)),MAX($K$1:K2107)+1,0)","v":0},"Lok Housing & Constructio","LOKHSG.BO",{"$nulls":12},{"$f":"IFERROR(VLOOKUP(ROWS($Z$2:Z2108),K2108:$L$6000,2,0),\"\")","v":""},{"$f":"IFERROR(VLOOKUP(ROWS($AA$2:AA2108),K2108:$M$6000,3,0),\"\")","v":""}]
[{"$nulls":10},{"$f":"IF(ISNUMBER(SEARCH($A$3,L2109)),MAX($K$1:K2108)+1,0)","v":0},"Lokesh Machines Ltd","LOKESH.BO",{"$nulls":12},{"$f":"IFERROR(VLOOKUP(ROWS($Z$2:Z2109),K2109:$L$6000,2,0),\"\")","v":""},{"$f":"IFERROR(VLOOKUP(ROWS($AA$2:AA2109),K2109:$M$6000,3,0),\"\")","v":""}]
[{"$nulls":10},{"$f":"IF(ISNUMBER(SEARCH($A$3,L2110)),MAX($K$1:K2109)+1,0)","v":0},"Lokesh Machines Ltd","LOKESHMAC.NS",{"$nulls":12},{"$f":"IFERROR(VLOOKUP(ROWS($Z$2:Z2110),K2110:$L$6000,2,0),\"\")","v":""},{"$f":"IFERROR(VLOOKUP(ROWS($AA$2:AA2110),K2110:$M$6000,3,0),\"\")","v":""}]
[{"$nulls":10},{"$f":"IF(ISNUMBER(SEARCH($A$3,L2111)),MAX($K$1:K2110)+1,0)","v":0},"Longview Tea Co Ltd","LONTE.BO",{"$nulls":12},{"$f":"IFERROR(VLOOKUP(ROWS($Z$2:Z2111),K2111:$L$6000,2,0),\"\")","v":""},{"$f":"IFERROR(VLOOKUP(ROWS($AA$2:AA2111),K2111:$M$6000,3,0),\"\")","v":""}]
[{"$nulls":10},{"$f":"IF(ISNUMBER(SEARCH($A$3,L2112)),MAX($K$1:K2111)+1,0)","v":0},"Lords Chloro Alkali Ltd","LORDSCHLO.BO",{"$nulls":12},{"$f":"IFERROR(VLOOKUP(ROWS($Z$2:Z2112),K2112:$L$6000,2,0),\"\")","v":""},{"$f":"IFERROR(VLOOKUP(ROWS($AA$2:AA2112),K2112:$M$6000,3,0),\"\")","v":""}]
[{"$nulls":10},{"$f":"IF(ISNUMBER(SEARCH($A$3,L2113)),MAX($K$1:K2112)+1,0)","v":0},"Lords Ishwar Hotels Ltd","ISHBHOT.BO",{"$nulls":12},{"$f":"IFERROR(VLOOKUP(ROWS($Z$2:Z2113),K2113:$L$6000,2,0),\"\")","v":""},{"$f":"IFERROR(VLOOKUP(ROWS($AA$2:AA2113),K2113:$M$6000,3,0),\"\")","v":""}]
[{"$nulls":10},{"$f":"IF(ISNUMBER(SEARCH($A$3,L2114)),MAX($K$1:K2113)+1,0)","v":0},"Lotus Chocolate Co Ltd","LOTUSCHO.BO",{"$nulls":12},{"$f":"IFERROR(VLOOKUP(ROWS($Z$2:Z2114),K2114:$L$6000,2,0),\"\")","v":""},{"$f":"IFERROR(VLOOKUP(ROWS($AA$2:AA2114),K2114:$M$6000,3,0),\"\")","v":""}]
[{"$nulls":10},{"$f":"IF(ISNUMBER(SEARCH($A$3,L2115)),MAX($K$1:K2114)+1,0)","v":0},"Lotus Eye Hospital","LOTUSEYE.BO",{"$nulls":12},{"$f":"IFERROR(VLOOKUP(ROWS($Z$2:Z2115),K2115:$L$6000,2,0),\"\")","v":""},{"$f":"IFERROR(VLOOKUP(ROWS($AA$2:AA2115),K2115:$M$6000,3,0),\"\")","v":""}]
[{"$nulls":10},{"$f":"IF(ISNUMBER(SEARCH($A$3,L2116)),MAX($K$1:K2115)+1,0)","v":0},"Lotus Eye Hospital","LOTUSEYE.NS",{"$nulls":12},{"$f":"IFERROR(VLOOKUP(ROWS($Z$2:Z2116),K2116:$L$6000,2,0),\"\")","v":""},{"$f":"IFERROR(VLOOKUP(ROWS($AA$2:AA2116),K2116:$M$6000,3,0),\"\")","v":""}]
[{"$nulls":10},{"$f":"IF(ISNUMBER(SEARCH($A$3,L2117)),MAX($K$1:K2116)+1,0)","v":0},"Loyal Textile Mills Ltd","LOYALTEX.BO",{"$nulls":12},{"$f":"IFERROR(VLOOKUP(ROWS($Z$2:Z2117),K2117:$L$6000,2,0),\"\")","v":""},{"$f":"IFERROR(VLOOKUP(ROWS($AA$2:AA2117),K2117:$M$6000,3,0),\"\")","v":""}]
[{"$nulls":10},{"$f":"IF(ISNUMBER(SEARCH($A$3,L2118)),MAX($K$1:K2117)+1,0)","v":0},"LT Foods Ltd","DAAWAT.BO",{"$nulls":12},{"$f":"IFERROR(VLOOKUP(ROWS($Z$2:Z2118),K2118:$L$6000,2,0),\"\")","v":""},{"$f":"IFERROR(VLOOKUP(ROWS($AA$2:AA2118),K2118:$M$6000,3,0),\"\")","v":""}]
[{"$nulls":10},{"$f":"IF(ISNUMBER(SEARCH($A$3,L2119)),MAX($K$1:K2118)+1,0)","v":0},"LT Foods Ltd","DAAWAT.NS",{"$nulls":12},{"$f":"IFERROR(VLOOKUP(ROWS($Z$2:Z2119),K2119:$L$6000,2,0),\"\")","v":""},{"$f":"IFERROR(VLOOKUP(ROWS($AA$2:AA2119),K2119:$M$6000,3,0),\"\")","v":""}]
[{"$nulls":10},{"$f":"IF(ISNUMBER(SEARCH($A$3,L2120)),MAX($K$1:K2119)+1,0)","v":0},"Ludlow Jute & Specialities Ltd","LUDLOWJUT.BO",{"$nulls":12},{"$f":"IFERROR(VLOOKUP(ROWS($Z$2:Z2120),K2120:$L$6000,2,0),\"\")","v":""},{"$f":"IFERROR(VLOOKUP(ROWS($AA$2:AA2120),K2120:$M$6000,3,0),\"\")","v":""}]
[{"$nulls":10},{"$f":"IF(ISNUMBER(SEARCH($A$3,L2121)),MAX($K$1:K2120)+1,0)","v":0},"Lumax Auto Technologies Ltd","LUMAXTECH.BO",{"$nulls":12},{"$f":"IFERROR(VLOOKUP(ROWS($Z$2:Z2121),K2121:$L$6000,2,0),\"\")","v":""},{"$f":"IFERROR(VLOOKUP(ROWS($AA$2:AA2121),K2121:$M$6000,3,0),\"\")","v":""}]
[{"$nulls":10},{"$f":"IF(ISNUMBER(SEARCH($A$3,L2122)),MAX($K$1:K2121)+1,0)","v":0},"Lumax Auto Technologies Ltd","LUMAXTECH.NS",{"$nulls":12},{"$f":"IFERROR(VLOOKUP(ROWS($Z$2:Z2122),K2122:$L$6000,2,0),\"\")","v":""},{"$f":"IFERROR(VLOOKUP(ROWS($AA$2:AA2122),K2122:$M$6000,3,0),\"\")","v":""}]
[{"$nulls":10},{"$f":"IF(ISNUMBER(SEARCH($A$3,L2123)),MAX($K$1:K2122)+1,0)","v":0},"Lumax Automotive Systems Ltd","LUMAXAU.BO",{"$nulls":12},{"$f":"IFERROR(VLOOKUP(ROWS($Z$2:Z2123),K2123:$L$6000,2,0),\"\")","v":""},{"$f":"IFERROR(VLOOKUP(ROWS($AA$2:AA2123),K2123:$M$6000,3,0),\"\")","v":""}]
[{"$nulls":10},{"$f":"IF(ISNUMBER(SEARCH($A$3,L2124)),MAX($K$1:K2123)+1,0)","v":0},"Lumax Automotive Systems Ltd","LUMAXAUTO.NS",{"$nulls":12},{"$f":"IFERROR(VLOOKUP(ROWS($Z$2:Z2124),K2124:$L$6000,2,0),\"\")","v":""},{"$f":"IFERROR(VLOOKUP(ROWS($AA$2:AA2124),K2124:$M$6000,3,0),\"\")","v":""}]
[{"$nulls":10},{"$f":"IF(ISNUMBER(SEARCH($A$3,L2125)),MAX($K$1:K2124)+1,0)","v":0},"Lumax Industries Ltd","LUMAXIND.BO",{"$nulls":12},{"$f":"IFERROR(VLOOKUP(ROWS($Z$2:Z2125),K2125:$L$6000,2,0),\"\")","v":""},{"$f":"IFERROR(VLOOKUP(ROWS($AA$2:AA2125),K2125:$M$6000,3,0),\"\")","v":""}]
[{"$nulls":10},{"$f":"IF(ISNUMBER(SEARCH($A$3,L2126)),MAX($K$1:K2125)+1,0)","v":0},"Lumax Industries Ltd","LUMAXIND.NS",{"$nulls":12},{"$f":"IFERROR(VLOOKUP(ROWS($Z$2:Z2126),K2126:$L$6000,2,0),\"\")","v":""},{"$f":"IFERROR(VLOOKUP(ROWS($AA$2:AA2126),K2126:$M$6000,3,0),\"\")","v":""}]
[{"$nulls":10},{"$f":"IF(ISNUMBER(SEARCH($A$3,L2127)),MAX($K$1:K2126)+1,0)","v":0},"Luminaire Technologies Ltd","LUMITECH.BO",{"$nulls":12},{"$f":"IFERROR(VLOOKUP(ROWS($Z$2:Z2127),K2127:$L$6000,2,0),\"\")","v":""},{"$f":"IFERROR(VLOOKUP(ROWS($AA$2:AA2127),K2127:$M$6000,3,0),\"\")","v":""}]
[{"$nulls":10},{"$f":"IF(ISNUMBER(SEARCH($A$3,L2128)),MAX($K$1:K2127)+1,0)","v":0},"Lupin Ltd","LUPIN.BO",{"$nulls":12},{"$f":"IFERROR(VLOOKUP(ROWS($Z$2:Z2128),K2128:$L$6000,2,0),\"\")","v":""},{"$f":"IFERROR(VLOOKUP(ROWS($AA$2:AA2128),K2128:$M$6000,3,0),\"\")","v":""}]
[{"$nulls":10},{"$f":"IF(ISNUMBER(SEARCH($A$3,L2129)),MAX($K$1:K2128)+1,0)","v":0},"Lupin Ltd","LUPIN.NS",{"$nulls":12},{"$f":"IFERROR(VLOOKUP(ROWS($Z$2:Z2129),K2129:$L$6000,2,0),\"\")","v":""},{"$f":"IFERROR(VLOOKUP(ROWS($AA$2:AA2129),K2129:$M$6000,3,0),\"\")","v":""}]
[{"$nulls":10},{"$f":"IF(ISNUMBER(SEARCH($A$3,L2130)),MAX($K$1:K2129)+1,0)","v":0},"Lyka Labs Ltd","LYKALAB.BO",{"$nulls":12},{"$f":"IFERROR(VLOOKUP(ROWS($Z$2:Z2130),K2130:$L$6000,2,0),\"\")","v":""},{"$f":"IFERROR(VLOOKUP(ROWS($AA$2:AA2130),K2130:$M$6000,3,0),\"\")","v":""}]
[{"$nulls":10},{"$f":"IF(ISNUMBER(SEARCH($A$3,L2131)),MAX($K$1:K2130)+1,0)","v":0},"Lyka Labs Ltd","LYKALABS.NS",{"$nulls":12},{"$f":"IFERROR(VLOOKUP(ROWS($Z$2:Z2131),K2131:$L$6000,2,0),\"\")","v":""},{"$f":"IFERROR(VLOOKUP(ROWS($AA$2:AA2131),K2131:$M$6000,3,0),\"\")","v":""}]
[{"$nulls":10},{"$f":"IF(ISNUMBER(SEARCH($A$3,L2132)),MAX($K$1:K2131)+1,0)","v":0},"Lynx Machinery","LYNMC.BO",{"$nulls":12},{"$f":"IFERROR(VLOOKUP(ROWS($Z$2:Z2132),K2132:$L$6000,2,0),\"\")","v":""},{"$f":"IFERROR(VLOOKUP(ROWS($AA$2:AA2132),K2132:$M$6000,3,0),\"\")","v":""}]
[{"$nulls":10},{"$f":"IF(ISNUMBER(SEARCH($A$3,L2133)),MAX($K$1:K2132)+1,0)","v":0},"M B Parikh Finstocks Ltd","MBPARIKH.BO",{"$nulls":12},{"$f":"IFERROR(VLOOKUP(ROWS($Z$2:Z2133),K2133:$L$6000,2,0),\"\")","v":""},{"$f":"IFERROR(VLOOKUP(ROWS($AA$2:AA2133),K2133:$M$6000,3,0),\"\")","v":""}]
[{"$nulls":10},{"$f":"IF(ISNUMBER(SEARCH($A$3,L2134)),MAX($K$1:K2133)+1,0)","v":0},"M K Exim (India) Ltd","MKEXIM.BO",{"$nulls":12},{"$f":"IFERROR(VLOOKUP(ROWS($Z$2:Z2134),K2134:$L$6000,2,0),\"\")","v":""},{"$f":"IFERROR(VLOOKUP(ROWS($AA$2:AA2134),K2134:$M$6000,3,0),\"\")","v":""}]
[{"$nulls":10},{"$f":"IF(ISNUMBER(SEARCH($A$3,L2135)),MAX($K$1:K2134)+1,0)","v":0},"M P Agro Industries Ltd","MPAGI.BO",{"$nulls":12},{"$f":"IFERROR(VLOOKUP(ROWS($Z$2:Z2135),K2135:$L$6000,2,0),\"\")","v":""},{"$f":"IFERROR(VLOOKUP(ROWS($AA$2:AA2135),K2135:$M$6000,3,0),\"\")","v":""}]
[{"$nulls":10},{"$f":"IF(ISNUMBER(SEARCH($A$3,L2136)),MAX($K$1:K2135)+1,0)","v":0},"Maan Aluminium Ltd","MANALUM.BO",{"$nulls":12},{"$f":"IFERROR(VLOOKUP(ROWS($Z$2:Z2136),K2136:$L$6000,2,0),\"\")","v":""},{"$f":"IFERROR(VLOOKUP(ROWS($AA$2:AA2136),K2136:$M$6000,3,0),\"\")","v":""}]
[{"$nulls":10},{"$f":"IF(ISNUMBER(SEARCH($A$3,L2137)),MAX($K$1:K2136)+1,0)","v":0},"Maan Aluminium Ltd","MANALU.NS",{"$nulls":12},{"$f":"IFERROR(VLOOKUP(ROWS($Z$2:Z2137),K2137:$L$6000,2,0),\"\")","v":""},{"$f":"IFERROR(VLOOKUP(ROWS($AA$2:AA2137),K2137:$M$6000,3,0),\"\")","v":""}]
[{"$nulls":10},{"$f":"IF(ISNUMBER(SEARCH($A$3,L2138)),MAX($K$1:K2137)+1,0)","v":0},"Mac Charles (India) Ltd","MCCHRLS-B.BO",{"$nulls":12},{"$f":"IFERROR(VLOOKUP(ROWS($Z$2:Z2138),K2138:$L$6000,2,0),\"\")","v":""},{"$f":"IFERROR(VLOOKUP(ROWS($AA$2:AA2138),K2138:$M$6000,3,0),\"\")","v":""}]
[{"$nulls":10},{"$f":"IF(ISNUMBER(SEARCH($A$3,L2139)),MAX($K$1:K2138)+1,0)","v":0},"Machino Plastics Ltd","MACPLASQ.BO",{"$nulls":12},{"$f":"IFERROR(VLOOKUP(ROWS($Z$2:Z2139),K2139:$L$6000,2,0),\"\")","v":""},{"$f":"IFERROR(VLOOKUP(ROWS($AA$2:AA2139),K2139:$M$6000,3,0),\"\")","v":""}]
[{"$nulls":10},{"$f":"IF(ISNUMBER(SEARCH($A$3,L2140)),MAX($K$1:K2139)+1,0)","v":0},"Madhav Marbles","MADHAVMA.BO",{"$nulls":12},{"$f":"IFERROR(VLOOKUP(ROWS($Z$2:Z2140),K2140:$L$6000,2,0),\"\")","v":""},{"$f":"IFERROR(VLOOKUP(ROWS($AA$2:AA2140),K2140:$M$6000,3,0),\"\")","v":""}]
[{"$nulls":10},{"$f":"IF(ISNUMBER(SEARCH($A$3,L2141)),MAX($K$1:K2140)+1,0)","v":0},"Madhav Marbles","MADHAV.NS",{"$nulls":12},{"$f":"IFERROR(VLOOKUP(ROWS($Z$2:Z2141),K2141:$L$6000,2,0),\"\")","v":""},{"$f":"IFERROR(VLOOKUP(ROWS($AA$2:AA2141),K2141:$M$6000,3,0),\"\")","v":""}]
[{"$nulls":10},{"$f":"IF(ISNUMBER(SEARCH($A$3,L2142)),MAX($K$1:K2141)+1,0)","v":0},"Madhucon Projects Ltd","MADHUPRO.BO",{"$nulls":12},{"$f":"IFERROR(VLOOKUP(ROWS($Z$2:Z2142),K2142:$L$6000,2,0),\"\")","v":""},{"$f":"IFERROR(VLOOKUP(ROWS($AA$2:AA2142),K2142:$M$6000,3,0),\"\")","v":""}]
[{"$nulls":10},{"$f":"IF(ISNUMBER(SEARCH($A$3,L2143)),MAX($K$1:K2142)+1,0)","v":0},"Madhucon Projects Ltd","MADHUCON.NS",{"$nulls":12},{"$f":"IFERROR(VLOOKUP(ROWS($Z$2:Z2143),K2143:$L$6000,2,0),\"\")","v":""},{"$f":"IFERROR(VLOOKUP(ROWS($AA$2:AA2143),K2143:$M$6000,3,0),\"\")","v":""}]
[{"$nulls":10},{"$f":"IF(ISNUMBER(SEARCH($A$3,L2144)),MAX($K$1:K2143)+1,0)","v":0},"Madhur Capital & Finances Ltd","MADHURC.BO",{"$nulls":12},{"$f":"IFERROR(VLOOKUP(ROWS($Z$2:Z2144),K2144:$L$6000,2,0),\"\")","v":""},{"$f":"IFERROR(VLOOKUP(ROWS($AA$2:AA2144),K2144:$M$6000,3,0),\"\")","v":""}]
[{"$nulls":10},{"$f":"IF(ISNUMBER(SEARCH($A$3,L2145)),MAX($K$1:K2144)+1,0)","v":0},"Madhur Industries Ltd","MADHURIND.BO",{"$nulls":12},{"$f":"IFERROR(VLOOKUP(ROWS($Z$2:Z2145),K2145:$L$6000,2,0),\"\")","v":""},{"$f":"IFERROR(VLOOKUP(ROWS($AA$2:AA2145),K2145:$M$6000,3,0),\"\")","v":""}]
[{"$nulls":10},{"$f":"IF(ISNUMBER(SEARCH($A$3,L2146)),MAX($K$1:K2145)+1,0)","v":0},"Madhusudan Industries Ltd","MADHUDIN.BO",{"$nulls":12},{"$f":"IFERROR(VLOOKUP(ROWS($Z$2:Z2146),K2146:$L$6000,2,0),\"\")","v":""},{"$f":"IFERROR(VLOOKUP(ROWS($AA$2:AA2146),K2146:$M$6000,3,0),\"\")","v":""}]
[{"$nulls":10},{"$f":"IF(ISNUMBER(SEARCH($A$3,L2147)),MAX($K$1:K2146)+1,0)","v":0},"Madhusudan Securities Ltd","MADHUSE.BO",{"$nulls":12},{"$f":"IFERROR(VLOOKUP(ROWS($Z$2:Z2147),K2147:$L$6000,2,0),\"\")","v":""},{"$f":"IFERROR(VLOOKUP(ROWS($AA$2:AA2147),K2147:$M$6000,3,0),\"\")","v":""}]
[{"$nulls":10},{"$f":"IF(ISNUMBER(SEARCH($A$3,L2148)),MAX($K$1:K2147)+1,0)","v":0},"Madras Fertilizers Ltd","MADRASFER.NS",{"$nulls":12},{"$f":"IFERROR(VLOOKUP(ROWS($Z$2:Z2148),K2148:$L$6000,2,0),\"\")","v":""},{"$f":"IFERROR(VLOOKUP(ROWS($AA$2:AA2148),K2148:$M$6000,3,0),\"\")","v":""}]
[{"$nulls":10},{"$f":"IF(ISNUMBER(SEARCH($A$3,L2149)),MAX($K$1:K2148)+1,0)","v":0},"Maestros Mediline Systems Ltd","MAESTROM.BO",{"$nulls":12},{"$f":"IFERROR(VLOOKUP(ROWS($Z$2:Z2149),K2149:$L$6000,2,0),\"\")","v":""},{"$f":"IFERROR(VLOOKUP(ROWS($AA$2:AA2149),K2149:$M$6000,3,0),\"\")","v":""}]
[{"$nulls":10},{"$f":"IF(ISNUMBER(SEARCH($A$3,L2150)),MAX($K$1:K2149)+1,0)","v":0},"Mafatlal Industries Ltd","MAFATIND.BO",{"$nulls":12},{"$f":"IFERROR(VLOOKUP(ROWS($Z$2:Z2150),K2150:$L$6000,2,0),\"\")","v":""},{"$f":"IFERROR(VLOOKUP(ROWS($AA$2:AA2150),K2150:$M$6000,3,0),\"\")","v":""}]
[{"$nulls":10},{"$f":"IF(ISNUMBER(SEARCH($A$3,L2151)),MAX($K$1:K2150)+1,0)","v":0},"Magma Fincorp Ltd","MAGMAFIN.BO",{"$nulls":12},{"$f":"IFERROR(VLOOKUP(ROWS($Z$2:Z2151),K2151:$L$6000,2,0),\"\")","v":""},{"$f":"IFERROR(VLOOKUP(ROWS($AA$2:AA2151),K2151:$M$6000,3,0),\"\")","v":""}]
[{"$nulls":10},{"$f":"IF(ISNUMBER(SEARCH($A$3,L2152)),MAX($K$1:K2151)+1,0)","v":0},"Magma Fincorp Ltd","MAGMA.NS",{"$nulls":12},{"$f":"IFERROR(VLOOKUP(ROWS($Z$2:Z2152),K2152:$L$6000,2,0),\"\")","v":""},{"$f":"IFERROR(VLOOKUP(ROWS($AA$2:AA2152),K2152:$M$6000,3,0),\"\")","v":""}]
[{"$nulls":10},{"$f":"IF(ISNUMBER(SEARCH($A$3,L2153)),MAX($K$1:K2152)+1,0)","v":0},"Magna Electro Castings Ltd","MAGNAELQ.BO",{"$nulls":12},{"$f":"IFERROR(VLOOKUP(ROWS($Z$2:Z2153),K2153:$L$6000,2,0),\"\")","v":""},{"$f":"IFERROR(VLOOKUP(ROWS($AA$2:AA2153),K2153:$M$6000,3,0),\"\")","v":""}]
[{"$nulls":10},{"$f":"IF(ISNUMBER(SEARCH($A$3,L2154)),MAX($K$1:K2153)+1,0)","v":0},"Magnum Ltd","MAGNUM.BO",{"$nulls":12},{"$f":"IFERROR(VLOOKUP(ROWS($Z$2:Z2154),K2154:$L$6000,2,0),\"\")","v":""},{"$f":"IFERROR(VLOOKUP(ROWS($AA$2:AA2154),K2154:$M$6000,3,0),\"\")","v":""}]
[{"$nulls":10},{"$f":"IF(ISNUMBER(SEARCH($A$3,L2155)),MAX($K$1:K2154)+1,0)","v":0},"Magnum Ventures Ltd","MAGNUMV.BO",{"$nulls":12},{"$f":"IFERROR(VLOOKUP(ROWS($Z$2:Z2155),K2155:$L$6000,2,0),\"\")","v":""},{"$f":"IFERROR(VLOOKUP(ROWS($AA$2:AA2155),K2155:$M$6000,3,0),\"\")","v":""}]
[{"$nulls":10},{"$f":"IF(ISNUMBER(SEARCH($A$3,L2156)),MAX($K$1:K2155)+1,0)","v":0},"Magnum Ventures Ltd","MAGNUM.NS",{"$nulls":12},{"$f":"IFERROR(VLOOKUP(ROWS($Z$2:Z2156),K2156:$L$6000,2,0),\"\")","v":""},{"$f":"IFERROR(VLOOKUP(ROWS($AA$2:AA2156),K2156:$M$6000,3,0),\"\")","v":""}]
[{"$nulls":10},{"$f":"IF(ISNUMBER(SEARCH($A$3,L2157)),MAX($K$1:K2156)+1,0)","v":0},"Maha Rashtra Apex Corp Ltd","MAHAPEX.BO",{"$nulls":12},{"$f":"IFERROR(VLOOKUP(ROWS($Z$2:Z2157),K2157:$L$6000,2,0),\"\")","v":""},{"$f":"IFERROR(VLOOKUP(ROWS($AA$2:AA2157),K2157:$M$6000,3,0),\"\")","v":""}]
[{"$nulls":10},{"$f":"IF(ISNUMBER(SEARCH($A$3,L2158)),MAX($K$1:K2157)+1,0)","v":0},"Mahaan Foods Ltd","MAHAANF.BO",{"$nulls":12},{"$f":"IFERROR(VLOOKUP(ROWS($Z$2:Z2158),K2158:$L$6000,2,0),\"\")","v":""},{"$f":"IFERROR(VLOOKUP(ROWS($AA$2:AA2158),K2158:$M$6000,3,0),\"\")","v":""}]
[{"$nulls":10},{"$f":"IF(ISNUMBER(SEARCH($A$3,L2159)),MAX($K$1:K2158)+1,0)","v":0},"Mahalaxmi Rubtech Ltd","MHLXMIRU.BO",{"$nulls":12},{"$f":"IFERROR(VLOOKUP(ROWS($Z$2:Z2159),K2159:$L$6000,2,0),\"\")","v":""},{"$f":"IFERROR(VLOOKUP(ROWS($AA$2:AA2159),K2159:$M$6000,3,0),\"\")","v":""}]
[{"$nulls":10},{"$f":"IF(ISNUMBER(SEARCH($A$3,L2160)),MAX($K$1:K2159)+1,0)","v":0},"Mahalaxmi Seamless Ltd","MAHALXSE.BO",{"$nulls":12},{"$f":"IFERROR(VLOOKUP(ROWS($Z$2:Z2160),K2160:$L$6000,2,0),\"\")","v":""},{"$f":"IFERROR(VLOOKUP(ROWS($AA$2:AA2160),K2160:$M$6000,3,0),\"\")","v":""}]
[{"$nulls":10},{"$f":"IF(ISNUMBER(SEARCH($A$3,L2161)),MAX($K$1:K2160)+1,0)","v":0},"Mahamaya Investments Ltd","MAHAINV.BO",{"$nulls":12},{"$f":"IFERROR(VLOOKUP(ROWS($Z$2:Z2161),K2161:$L$6000,2,0),\"\")","v":""},{"$f":"IFERROR(VLOOKUP(ROWS($AA$2:AA2161),K2161:$M$6000,3,0),\"\")","v":""}]
[{"$nulls":10},{"$f":"IF(ISNUMBER(SEARCH($A$3,L2162)),MAX($K$1:K2161)+1,0)","v":0},"Mahamaya Steel Industries Ltd","MAHASTEEL.BO",{"$nulls":12},{"$f":"IFERROR(VLOOKUP(ROWS($Z$2:Z2162),K2162:$L$6000,2,0),\"\")","v":""},{"$f":"IFERROR(VLOOKUP(ROWS($AA$2:AA2162),K2162:$M$6000,3,0),\"\")","v":""}]
[{"$nulls":10},{"$f":"IF(ISNUMBER(SEARCH($A$3,L2163)),MAX($K$1:K2162)+1,0)","v":0},"Mahanagar Telephone Nigam Ltd","MTNL.BO",{"$nulls":12},{"$f":"IFERROR(VLOOKUP(ROWS($Z$2:Z2163),K2163:$L$6000,2,0),\"\")","v":""},{"$f":"IFERROR(VLOOKUP(ROWS($AA$2:AA2163),K2163:$M$6000,3,0),\"\")","v":""}]
[{"$nulls":10},{"$f":"IF(ISNUMBER(SEARCH($A$3,L2164)),MAX($K$1:K2163)+1,0)","v":0},"Mahanagar Telephone Nigam Ltd","MTNL.NS",{"$nulls":12},{"$f":"IFERROR(VLOOKUP(ROWS($Z$2:Z2164),K2164:$L$6000,2,0),\"\")","v":""},{"$f":"IFERROR(VLOOKUP(ROWS($AA$2:AA2164),K2164:$M$6000,3,0),\"\")","v":""}]
[{"$nulls":10},{"$f":"IF(ISNUMBER(SEARCH($A$3,L2165)),MAX($K$1:K2164)+1,0)","v":0},"Mahanivesh India Ltd","MAHAN.BO",{"$nulls":12},{"$f":"IFERROR(VLOOKUP(ROWS($Z$2:Z2165),K2165:$L$6000,2,0),\"\")","v":""},{"$f":"IFERROR(VLOOKUP(ROWS($AA$2:AA2165),K2165:$M$6000,3,0),\"\")","v":""}]
[{"$nulls":10},{"$f":"IF(ISNUMBER(SEARCH($A$3,L2166)),MAX($K$1:K2165)+1,0)","v":0},"Maharaja Shree Umaid Mills Ltd","MAHASHR.BO",{"$nulls":12},{"$f":"IFERROR(VLOOKUP(ROWS($Z$2:Z2166),K2166:$L$6000,2,0),\"\")","v":""},{"$f":"IFERROR(VLOOKUP(ROWS($AA$2:AA2166),K2166:$M$6000,3,0),\"\")","v":""}]
[{"$nulls":10},{"$f":"IF(ISNUMBER(SEARCH($A$3,L2167)),MAX($K$1:K2166)+1,0)","v":0},"Maharashtra Corp Ltd","MAILI.BO",{"$nulls":12},{"$f":"IFERROR(VLOOKUP(ROWS($Z$2:Z2167),K2167:$L$6000,2,0),\"\")","v":""},{"$f":"IFERROR(VLOOKUP(ROWS($AA$2:AA2167),K2167:$M$6000,3,0),\"\")","v":""}]
[{"$nulls":10},{"$f":"IF(ISNUMBER(SEARCH($A$3,L2168)),MAX($K$1:K2167)+1,0)","v":0},"Maharashtra Scooters Ltd","MAHSCOOTER.BO",{"$nulls":12},{"$f":"IFERROR(VLOOKUP(ROWS($Z$2:Z2168),K2168:$L$6000,2,0),\"\")","v":""},{"$f":"IFERROR(VLOOKUP(ROWS($AA$2:AA2168),K2168:$M$6000,3,0),\"\")","v":""}]
[{"$nulls":10},{"$f":"IF(ISNUMBER(SEARCH($A$3,L2169)),MAX($K$1:K2168)+1,0)","v":0},"Maharashtra Scooters Ltd","MAHSCOOTE.NS",{"$nulls":12},{"$f":"IFERROR(VLOOKUP(ROWS($Z$2:Z2169),K2169:$L$6000,2,0),\"\")","v":""},{"$f":"IFERROR(VLOOKUP(ROWS($AA$2:AA2169),K2169:$M$6000,3,0),\"\")","v":""}]
[{"$nulls":10},{"$f":"IF(ISNUMBER(SEARCH($A$3,L2170)),MAX($K$1:K2169)+1,0)","v":0},"Maharashtra Seamless Ltd","MAHSEAMLES.BO",{"$nulls":12},{"$f":"IFERROR(VLOOKUP(ROWS($Z$2:Z2170),K2170:$L$6000,2,0),\"\")","v":""},{"$f":"IFERROR(VLOOKUP(ROWS($AA$2:AA2170),K2170:$M$6000,3,0),\"\")","v":""}]
[{"$nulls":10},{"$f":"IF(ISNUMBER(SEARCH($A$3,L2171)),MAX($K$1:K2170)+1,0)","v":0},"Maharashtra Seamless Ltd","MAHSEAMLE.NS",{"$nulls":12},{"$f":"IFERROR(VLOOKUP(ROWS($Z$2:Z2171),K2171:$L$6000,2,0),\"\")","v":""},{"$f":"IFERROR(VLOOKUP(ROWS($AA$2:AA2171),K2171:$M$6000,3,0),\"\")","v":""}]
[{"$nulls":10},{"$f":"IF(ISNUMBER(SEARCH($A$3,L2172)),MAX($K$1:K2171)+1,0)","v":0},"Mahasagar Travels Ltd","MHSGRMS.BO",{"$nulls":12},{"$f":"IFERROR(VLOOKUP(ROWS($Z$2:Z2172),K2172:$L$6000,2,0),\"\")","v":""},{"$f":"IFERROR(VLOOKUP(ROWS($AA$2:AA2172),K2172:$M$6000,3,0),\"\")","v":""}]
[{"$nulls":10},{"$f":"IF(ISNUMBER(SEARCH($A$3,L2173)),MAX($K$1:K2172)+1,0)","v":0},"Mahavir Impex Ltd","MAHAV.BO",{"$nulls":12},{"$f":"IFERROR(VLOOKUP(ROWS($Z$2:Z2173),K2173:$L$6000,2,0),\"\")","v":""},{"$f":"IFERROR(VLOOKUP(ROWS($AA$2:AA2173),K2173:$M$6000,3,0),\"\")","v":""}]
[{"$nulls":10},{"$f":"IF(ISNUMBER(SEARCH($A$3,L2174)),MAX($K$1:K2173)+1,0)","v":0},"Mahesh Agricultural","MAISF.BO",{"$nulls":12},{"$f":"IFERROR(VLOOKUP(ROWS($Z$2:Z2174),K2174:$L$6000,2,0),\"\")","v":""},{"$f":"IFERROR(VLOOKUP(ROWS($AA$2:AA2174),K2174:$M$6000,3,0),\"\")","v":""}]
[{"$nulls":10},{"$f":"IF(ISNUMBER(SEARCH($A$3,L2175)),MAX($K$1:K2174)+1,0)","v":0},"Mahindra & Mahindra","MMFIN.BO",{"$nulls":12},{"$f":"IFERROR(VLOOKUP(ROWS($Z$2:Z2175),K2175:$L$6000,2,0),\"\")","v":""},{"$f":"IFERROR(VLOOKUP(ROWS($AA$2:AA2175),K2175:$M$6000,3,0),\"\")","v":""}]
[{"$nulls":10},{"$f":"IF(ISNUMBER(SEARCH($A$3,L2176)),MAX($K$1:K2175)+1,0)","v":0},"Mahindra & Mahindra Ltd","MNM.BO",{"$nulls":12},{"$f":"IFERROR(VLOOKUP(ROWS($Z$2:Z2176),K2176:$L$6000,2,0),\"\")","v":""},{"$f":"IFERROR(VLOOKUP(ROWS($AA$2:AA2176),K2176:$M$6000,3,0),\"\")","v":""}]
[{"$nulls":10},{"$f":"IF(ISNUMBER(SEARCH($A$3,L2177)),MAX($K$1:K2176)+1,0)","v":0},"Mahindra CIE Automotive Ltd","MAHFORG.BO",{"$nulls":12},{"$f":"IFERROR(VLOOKUP(ROWS($Z$2:Z2177),K2177:$L$6000,2,0),\"\")","v":""},{"$f":"IFERROR(VLOOKUP(ROWS($AA$2:AA2177),K2177:$M$6000,3,0),\"\")","v":""}]
[{"$nulls":10},{"$f":"IF(ISNUMBER(SEARCH($A$3,L2178)),MAX($K$1:K2177)+1,0)","v":0},"Mahindra CIE Automotive Ltd","MAHINDFOR.NS",{"$nulls":12},{"$f":"IFERROR(VLOOKUP(ROWS($Z$2:Z2178),K2178:$L$6000,2,0),\"\")","v":""},{"$f":"IFERROR(VLOOKUP(ROWS($AA$2:AA2178),K2178:$M$6000,3,0),\"\")","v":""}]
[{"$nulls":10},{"$f":"IF(ISNUMBER(SEARCH($A$3,L2179)),MAX($K$1:K2178)+1,0)","v":0},"Mahindra Composites Ltd","MAHINCOMP.BO",{"$nulls":12},{"$f":"IFERROR(VLOOKUP(ROWS($Z$2:Z2179),K2179:$L$6000,2,0),\"\")","v":""},{"$f":"IFERROR(VLOOKUP(ROWS($AA$2:AA2179),K2179:$M$6000,3,0),\"\")","v":""}]
[{"$nulls":10},{"$f":"IF(ISNUMBER(SEARCH($A$3,L2180)),MAX($K$1:K2179)+1,0)","v":0},"Mahindra Holidays & Resor","MHRIL.BO",{"$nulls":12},{"$f":"IFERROR(VLOOKUP(ROWS($Z$2:Z2180),K2180:$L$6000,2,0),\"\")","v":""},{"$f":"IFERROR(VLOOKUP(ROWS($AA$2:AA2180),K2180:$M$6000,3,0),\"\")","v":""}]
[{"$nulls":10},{"$f":"IF(ISNUMBER(SEARCH($A$3,L2181)),MAX($K$1:K2180)+1,0)","v":0},"Mahindra Holidays & Resor","MHRIL.NS",{"$nulls":12},{"$f":"IFERROR(VLOOKUP(ROWS($Z$2:Z2181),K2181:$L$6000,2,0),\"\")","v":""},{"$f":"IFERROR(VLOOKUP(ROWS($AA$2:AA2181),K2181:$M$6000,3,0),\"\")","v":""}]
[{"$nulls":10},{"$f":"IF(ISNUMBER(SEARCH($A$3,L2182)),MAX($K$1:K2181)+1,0)","v":0},"Mahindra Lifespace","MAHINLIFE.BO",{"$nulls":12},{"$f":"IFERROR(VLOOKUP(ROWS($Z$2:Z2182),K2182:$L$6000,2,0),\"\")","v":""},{"$f":"IFERROR(VLOOKUP(ROWS($AA$2:AA2182),K2182:$M$6000,3,0),\"\")","v":""}]
[{"$nulls":10},{"$f":"IF(ISNUMBER(SEARCH($A$3,L2183)),MAX($K$1:K2182)+1,0)","v":0},"Mahindra Lifespace","MAHLIFE.NS",{"$nulls":12},{"$f":"IFERROR(VLOOKUP(ROWS($Z$2:Z2183),K2183:$L$6000,2,0),\"\")","v":""},{"$f":"IFERROR(VLOOKUP(ROWS($AA$2:AA2183),K2183:$M$6000,3,0),\"\")","v":""}]
[{"$nulls":10},{"$f":"IF(ISNUMBER(SEARCH($A$3,L2184)),MAX($K$1:K2183)+1,0)","v":0},"Mahindra Ugine Steel Co Ltd","MAHIUGIN.BO",{"$nulls":12},{"$f":"IFERROR(VLOOKUP(ROWS($Z$2:Z2184),K2184:$L$6000,2,0),\"\")","v":""},{"$f":"IFERROR(VLOOKUP(ROWS($AA$2:AA2184),K2184:$M$6000,3,0),\"\")","v":""}]
[{"$nulls":10},{"$f":"IF(ISNUMBER(SEARCH($A$3,L2185)),MAX($K$1:K2184)+1,0)","v":0},"Mahindra Ugine Steel Co Ltd","MAHINDUGI.NS",{"$nulls":12},{"$f":"IFERROR(VLOOKUP(ROWS($Z$2:Z2185),K2185:$L$6000,2,0),\"\")","v":""},{"$f":"IFERROR(VLOOKUP(ROWS($AA$2:AA2185),K2185:$M$6000,3,0),\"\")","v":""}]
[{"$nulls":10},{"$f":"IF(ISNUMBER(SEARCH($A$3,L2186)),MAX($K$1:K2185)+1,0)","v":0},"Maithan Alloys Ltd","MAITHANAL.BO",{"$nulls":12},{"$f":"IFERROR(VLOOKUP(ROWS($Z$2:Z2186),K2186:$L$6000,2,0),\"\")","v":""},{"$f":"IFERROR(VLOOKUP(ROWS($AA$2:AA2186),K2186:$M$6000,3,0),\"\")","v":""}]
[{"$nulls":10},{"$f":"IF(ISNUMBER(SEARCH($A$3,L2187)),MAX($K$1:K2186)+1,0)","v":0},"Majestic Auto Ltd","MAJESAUT.BO",{"$nulls":12},{"$f":"IFERROR(VLOOKUP(ROWS($Z$2:Z2187),K2187:$L$6000,2,0),\"\")","v":""},{"$f":"IFERROR(VLOOKUP(ROWS($AA$2:AA2187),K2187:$M$6000,3,0),\"\")","v":""}]
[{"$nulls":10},{"$f":"IF(ISNUMBER(SEARCH($A$3,L2188)),MAX($K$1:K2187)+1,0)","v":0},"Makers Laboratories Ltd","MAKERSL.BO",{"$nulls":12},{"$f":"IFERROR(VLOOKUP(ROWS($Z$2:Z2188),K2188:$L$6000,2,0),\"\")","v":""},{"$f":"IFERROR(VLOOKUP(ROWS($AA$2:AA2188),K2188:$M$6000,3,0),\"\")","v":""}]
[{"$nulls":10},{"$f":"IF(ISNUMBER(SEARCH($A$3,L2189)),MAX($K$1:K2188)+1,0)","v":0},"Malabar Trading Co Ltd","MALTC.BO",{"$nulls":12},{"$f":"IFERROR(VLOOKUP(ROWS($Z$2:Z2189),K2189:$L$6000,2,0),\"\")","v":""},{"$f":"IFERROR(VLOOKUP(ROWS($AA$2:AA2189),K2189:$M$6000,3,0),\"\")","v":""}]
[{"$nulls":10},{"$f":"IF(ISNUMBER(SEARCH($A$3,L2190)),MAX($K$1:K2189)+1,0)","v":0},"Malu Paper Mills Ltd","MALUPAPER.BO",{"$nulls":12},{"$f":"IFERROR(VLOOKUP(ROWS($Z$2:Z2190),K2190:$L$6000,2,0),\"\")","v":""},{"$f":"IFERROR(VLOOKUP(ROWS($AA$2:AA2190),K2190:$M$6000,3,0),\"\")","v":""}]
[{"$nulls":10},{"$f":"IF(ISNUMBER(SEARCH($A$3,L2191)),MAX($K$1:K2190)+1,0)","v":0},"Malu Paper Mills Ltd","MALUPAPER.NS",{"$nulls":12},{"$f":"IFERROR(VLOOKUP(ROWS($Z$2:Z2191),K2191:$L$6000,2,0),\"\")","v":""},{"$f":"IFERROR(VLOOKUP(ROWS($AA$2:AA2191),K2191:$M$6000,3,0),\"\")","v":""}]
[{"$nulls":10},{"$f":"IF(ISNUMBER(SEARCH($A$3,L2192)),MAX($K$1:K2191)+1,0)","v":0},"Malwa Cotton Spinning Mil","MALWA.BO",{"$nulls":12},{"$f":"IFERROR(VLOOKUP(ROWS($Z$2:Z2192),K2192:$L$6000,2,0),\"\")","v":""},{"$f":"IFERROR(VLOOKUP(ROWS($AA$2:AA2192),K2192:$M$6000,3,0),\"\")","v":""}]
[{"$nulls":10},{"$f":"IF(ISNUMBER(SEARCH($A$3,L2193)),MAX($K$1:K2192)+1,0)","v":0},"Malwa Cotton Spinning Mil","MALWACOTT.NS",{"$nulls":12},{"$f":"IFERROR(VLOOKUP(ROWS($Z$2:Z2193),K2193:$L$6000,2,0),\"\")","v":""},{"$f":"IFERROR(VLOOKUP(ROWS($AA$2:AA2193),K2193:$M$6000,3,0),\"\")","v":""}]
[{"$nulls":10},{"$f":"IF(ISNUMBER(SEARCH($A$3,L2194)),MAX($K$1:K2193)+1,0)","v":0},"Man Industries (India) Ltd","MANIND.BO",{"$nulls":12},{"$f":"IFERROR(VLOOKUP(ROWS($Z$2:Z2194),K2194:$L$6000,2,0),\"\")","v":""},{"$f":"IFERROR(VLOOKUP(ROWS($AA$2:AA2194),K2194:$M$6000,3,0),\"\")","v":""}]
[{"$nulls":10},{"$f":"IF(ISNUMBER(SEARCH($A$3,L2195)),MAX($K$1:K2194)+1,0)","v":0},"Man Industries (India) Ltd","MANINDS.NS",{"$nulls":12},{"$f":"IFERROR(VLOOKUP(ROWS($Z$2:Z2195),K2195:$L$6000,2,0),\"\")","v":""},{"$f":"IFERROR(VLOOKUP(ROWS($AA$2:AA2195),K2195:$M$6000,3,0),\"\")","v":""}]
[{"$nulls":10},{"$f":"IF(ISNUMBER(SEARCH($A$3,L2196)),MAX($K$1:K2195)+1,0)","v":0},"Man Infraconstruction Ltd","MANINFRA.BO",{"$nulls":12},{"$f":"IFERROR(VLOOKUP(ROWS($Z$2:Z2196),K2196:$L$6000,2,0),\"\")","v":""},{"$f":"IFERROR(VLOOKUP(ROWS($AA$2:AA2196),K2196:$M$6000,3,0),\"\")","v":""}]
[{"$nulls":10},{"$f":"IF(ISNUMBER(SEARCH($A$3,L2197)),MAX($K$1:K2196)+1,0)","v":0},"Man Infraconstruction Ltd","MANINFRA.NS",{"$nulls":12},{"$f":"IFERROR(VLOOKUP(ROWS($Z$2:Z2197),K2197:$L$6000,2,0),\"\")","v":""},{"$f":"IFERROR(VLOOKUP(ROWS($AA$2:AA2197),K2197:$M$6000,3,0),\"\")","v":""}]
[{"$nulls":10},{"$f":"IF(ISNUMBER(SEARCH($A$3,L2198)),MAX($K$1:K2197)+1,0)","v":0},"Manaksia Ltd","MANAKSIA.BO",{"$nulls":12},{"$f":"IFERROR(VLOOKUP(ROWS($Z$2:Z2198),K2198:$L$6000,2,0),\"\")","v":""},{"$f":"IFERROR(VLOOKUP(ROWS($AA$2:AA2198),K2198:$M$6000,3,0),\"\")","v":""}]
[{"$nulls":10},{"$f":"IF(ISNUMBER(SEARCH($A$3,L2199)),MAX($K$1:K2198)+1,0)","v":0},"Manaksia Ltd","MANAKSIA.NS",{"$nulls":12},{"$f":"IFERROR(VLOOKUP(ROWS($Z$2:Z2199),K2199:$L$6000,2,0),\"\")","v":""},{"$f":"IFERROR(VLOOKUP(ROWS($AA$2:AA2199),K2199:$M$6000,3,0),\"\")","v":""}]
[{"$nulls":10},{"$f":"IF(ISNUMBER(SEARCH($A$3,L2200)),MAX($K$1:K2199)+1,0)","v":0},"Manali Petrochemicals Ltd","MANALIPE.BO",{"$nulls":12},{"$f":"IFERROR(VLOOKUP(ROWS($Z$2:Z2200),K2200:$L$6000,2,0),\"\")","v":""},{"$f":"IFERROR(VLOOKUP(ROWS($AA$2:AA2200),K2200:$M$6000,3,0),\"\")","v":""}]
[{"$nulls":10},{"$f":"IF(ISNUMBER(SEARCH($A$3,L2201)),MAX($K$1:K2200)+1,0)","v":0},"Manali Petrochemicals Ltd","MANALIPET.NS",{"$nulls":12},{"$f":"IFERROR(VLOOKUP(ROWS($Z$2:Z2201),K2201:$L$6000,2,0),\"\")","v":""},{"$f":"IFERROR(VLOOKUP(ROWS($AA$2:AA2201),K2201:$M$6000,3,0),\"\")","v":""}]
[{"$nulls":10},{"$f":"IF(ISNUMBER(SEARCH($A$3,L2202)),MAX($K$1:K2201)+1,0)","v":0},"Manappuram Finance Ltd","MANAPPG.BO",{"$nulls":12},{"$f":"IFERROR(VLOOKUP(ROWS($Z$2:Z2202),K2202:$L$6000,2,0),\"\")","v":""},{"$f":"IFERROR(VLOOKUP(ROWS($AA$2:AA2202),K2202:$M$6000,3,0),\"\")","v":""}]
[{"$nulls":10},{"$f":"IF(ISNUMBER(SEARCH($A$3,L2203)),MAX($K$1:K2202)+1,0)","v":0},"Mandhana Industries Ltd","MANDHANA.BO",{"$nulls":12},{"$f":"IFERROR(VLOOKUP(ROWS($Z$2:Z2203),K2203:$L$6000,2,0),\"\")","v":""},{"$f":"IFERROR(VLOOKUP(ROWS($AA$2:AA2203),K2203:$M$6000,3,0),\"\")","v":""}]
[{"$nulls":10},{"$f":"IF(ISNUMBER(SEARCH($A$3,L2204)),MAX($K$1:K2203)+1,0)","v":0},"Mandhana Industries Ltd","MANDHANA.NS",{"$nulls":12},{"$f":"IFERROR(VLOOKUP(ROWS($Z$2:Z2204),K2204:$L$6000,2,0),\"\")","v":""},{"$f":"IFERROR(VLOOKUP(ROWS($AA$2:AA2204),K2204:$M$6000,3,0),\"\")","v":""}]
[{"$nulls":10},{"$f":"IF(ISNUMBER(SEARCH($A$3,L2205)),MAX($K$1:K2204)+1,0)","v":0},"Mangal Credit & Fincorp Ltd","TAKMCHN.BO",{"$nulls":12},{"$f":"IFERROR(VLOOKUP(ROWS($Z$2:Z2205),K2205:$L$6000,2,0),\"\")","v":""},{"$f":"IFERROR(VLOOKUP(ROWS($AA$2:AA2205),K2205:$M$6000,3,0),\"\")","v":""}]
[{"$nulls":10},{"$f":"IF(ISNUMBER(SEARCH($A$3,L2206)),MAX($K$1:K2205)+1,0)","v":0},"Mangalam Cement Ltd","MANGALC.BO",{"$nulls":12},{"$f":"IFERROR(VLOOKUP(ROWS($Z$2:Z2206),K2206:$L$6000,2,0),\"\")","v":""},{"$f":"IFERROR(VLOOKUP(ROWS($AA$2:AA2206),K2206:$M$6000,3,0),\"\")","v":""}]
[{"$nulls":10},{"$f":"IF(ISNUMBER(SEARCH($A$3,L2207)),MAX($K$1:K2206)+1,0)","v":0},"Mangalam Cement Ltd","MANGLMCEM.NS",{"$nulls":12},{"$f":"IFERROR(VLOOKUP(ROWS($Z$2:Z2207),K2207:$L$6000,2,0),\"\")","v":""},{"$f":"IFERROR(VLOOKUP(ROWS($AA$2:AA2207),K2207:$M$6000,3,0),\"\")","v":""}]
[{"$nulls":10},{"$f":"IF(ISNUMBER(SEARCH($A$3,L2208)),MAX($K$1:K2207)+1,0)","v":0},"Mangalam Drugs & Organics Ltd","MANGALAM.BO",{"$nulls":12},{"$f":"IFERROR(VLOOKUP(ROWS($Z$2:Z2208),K2208:$L$6000,2,0),\"\")","v":""},{"$f":"IFERROR(VLOOKUP(ROWS($AA$2:AA2208),K2208:$M$6000,3,0),\"\")","v":""}]
[{"$nulls":10},{"$f":"IF(ISNUMBER(SEARCH($A$3,L2209)),MAX($K$1:K2208)+1,0)","v":0},"Mangalam Drugs & Organics Ltd","MANGALAM.NS",{"$nulls":12},{"$f":"IFERROR(VLOOKUP(ROWS($Z$2:Z2209),K2209:$L$6000,2,0),\"\")","v":""},{"$f":"IFERROR(VLOOKUP(ROWS($AA$2:AA2209),K2209:$M$6000,3,0),\"\")","v":""}]
[{"$nulls":10},{"$f":"IF(ISNUMBER(SEARCH($A$3,L2210)),MAX($K$1:K2209)+1,0)","v":0},"Mangalam Organics Ltd","DUJODPRO.BO",{"$nulls":12},{"$f":"IFERROR(VLOOKUP(ROWS($Z$2:Z2210),K2210:$L$6000,2,0),\"\")","v":""},{"$f":"IFERROR(VLOOKUP(ROWS($AA$2:AA2210),K2210:$M$6000,3,0),\"\")","v":""}]
[{"$nulls":10},{"$f":"IF(ISNUMBER(SEARCH($A$3,L2211)),MAX($K$1:K2210)+1,0)","v":0},"Mangalam Timber Products Ltd","MANGTIMB.BO",{"$nulls":12},{"$f":"IFERROR(VLOOKUP(ROWS($Z$2:Z2211),K2211:$L$6000,2,0),\"\")","v":""},{"$f":"IFERROR(VLOOKUP(ROWS($AA$2:AA2211),K2211:$M$6000,3,0),\"\")","v":""}]
[{"$nulls":10},{"$f":"IF(ISNUMBER(SEARCH($A$3,L2212)),MAX($K$1:K2211)+1,0)","v":0},"Mangalam Timber Products Ltd","MANGTIMBE.NS",{"$nulls":12},{"$f":"IFERROR(VLOOKUP(ROWS($Z$2:Z2212),K2212:$L$6000,2,0),\"\")","v":""},{"$f":"IFERROR(VLOOKUP(ROWS($AA$2:AA2212),K2212:$M$6000,3,0),\"\")","v":""}]
[{"$nulls":10},{"$f":"IF(ISNUMBER(SEARCH($A$3,L2213)),MAX($K$1:K2212)+1,0)","v":0},"Mangalore Chemicals & Fer","MANGCHEM.BO",{"$nulls":12},{"$f":"IFERROR(VLOOKUP(ROWS($Z$2:Z2213),K2213:$L$6000,2,0),\"\")","v":""},{"$f":"IFERROR(VLOOKUP(ROWS($AA$2:AA2213),K2213:$M$6000,3,0),\"\")","v":""}]
[{"$nulls":10},{"$f":"IF(ISNUMBER(SEARCH($A$3,L2214)),MAX($K$1:K2213)+1,0)","v":0},"Mangalore Chemicals & Fer","MANGCHEFE.NS",{"$nulls":12},{"$f":"IFERROR(VLOOKUP(ROWS($Z$2:Z2214),K2214:$L$6000,2,0),\"\")","v":""},{"$f":"IFERROR(VLOOKUP(ROWS($AA$2:AA2214),K2214:$M$6000,3,0),\"\")","v":""}]
[{"$nulls":10},{"$f":"IF(ISNUMBER(SEARCH($A$3,L2215)),MAX($K$1:K2214)+1,0)","v":0},"Mangalore Refinery and Pe","MRPL.BO",{"$nulls":12},{"$f":"IFERROR(VLOOKUP(ROWS($Z$2:Z2215),K2215:$L$6000,2,0),\"\")","v":""},{"$f":"IFERROR(VLOOKUP(ROWS($AA$2:AA2215),K2215:$M$6000,3,0),\"\")","v":""}]
[{"$nulls":10},{"$f":"IF(ISNUMBER(SEARCH($A$3,L2216)),MAX($K$1:K2215)+1,0)","v":0},"Mangalore Refinery and Pe","MRPL.NS",{"$nulls":12},{"$f":"IFERROR(VLOOKUP(ROWS($Z$2:Z2216),K2216:$L$6000,2,0),\"\")","v":""},{"$f":"IFERROR(VLOOKUP(ROWS($AA$2:AA2216),K2216:$M$6000,3,0),\"\")","v":""}]
[{"$nulls":10},{"$f":"IF(ISNUMBER(SEARCH($A$3,L2217)),MAX($K$1:K2216)+1,0)","v":0},"Mangalya Soft Tech Ltd","MANGASOF.BO",{"$nulls":12},{"$f":"IFERROR(VLOOKUP(ROWS($Z$2:Z2217),K2217:$L$6000,2,0),\"\")","v":""},{"$f":"IFERROR(VLOOKUP(ROWS($AA$2:AA2217),K2217:$M$6000,3,0),\"\")","v":""}]
[{"$nulls":10},{"$f":"IF(ISNUMBER(SEARCH($A$3,L2218)),MAX($K$1:K2217)+1,0)","v":0},"Manipal Finance Corp Ltd","MNPLFIN.BO",{"$nulls":12},{"$f":"IFERROR(VLOOKUP(ROWS($Z$2:Z2218),K2218:$L$6000,2,0),\"\")","v":""},{"$f":"IFERROR(VLOOKUP(ROWS($AA$2:AA2218),K2218:$M$6000,3,0),\"\")","v":""}]
[{"$nulls":10},{"$f":"IF(ISNUMBER(SEARCH($A$3,L2219)),MAX($K$1:K2218)+1,0)","v":0},"Manjeera Constructions Ltd","MANJEERA.BO",{"$nulls":12},{"$f":"IFERROR(VLOOKUP(ROWS($Z$2:Z2219),K2219:$L$6000,2,0),\"\")","v":""},{"$f":"IFERROR(VLOOKUP(ROWS($AA$2:AA2219),K2219:$M$6000,3,0),\"\")","v":""}]
[{"$nulls":10},{"$f":"IF(ISNUMBER(SEARCH($A$3,L2220)),MAX($K$1:K2219)+1,0)","v":0},"Manjushree Technopack Ltd","MANJUSHRE.BO",{"$nulls":12},{"$f":"IFERROR(VLOOKUP(ROWS($Z$2:Z2220),K2220:$L$6000,2,0),\"\")","v":""},{"$f":"IFERROR(VLOOKUP(ROWS($AA$2:AA2220),K2220:$M$6000,3,0),\"\")","v":""}]
[{"$nulls":10},{"$f":"IF(ISNUMBER(SEARCH($A$3,L2221)),MAX($K$1:K2220)+1,0)","v":0},"Manraj Housing Finance Ltd","MANRAJH.BO",{"$nulls":12},{"$f":"IFERROR(VLOOKUP(ROWS($Z$2:Z2221),K2221:$L$6000,2,0),\"\")","v":""},{"$f":"IFERROR(VLOOKUP(ROWS($AA$2:AA2221),K2221:$M$6000,3,0),\"\")","v":""}]
[{"$nulls":10},{"$f":"IF(ISNUMBER(SEARCH($A$3,L2222)),MAX($K$1:K2221)+1,0)","v":0},"Manugraph India Ltd","MANUGRAP.BO",{"$nulls":12},{"$f":"IFERROR(VLOOKUP(ROWS($Z$2:Z2222),K2222:$L$6000,2,0),\"\")","v":""},{"$f":"IFERROR(VLOOKUP(ROWS($AA$2:AA2222),K2222:$M$6000,3,0),\"\")","v":""}]
[{"$nulls":10},{"$f":"IF(ISNUMBER(SEARCH($A$3,L2223)),MAX($K$1:K2222)+1,0)","v":0},"Manugraph India Ltd","MANUGRAPH.NS",{"$nulls":12},{"$f":"IFERROR(VLOOKUP(ROWS($Z$2:Z2223),K2223:$L$6000,2,0),\"\")","v":""},{"$f":"IFERROR(VLOOKUP(ROWS($AA$2:AA2223),K2223:$M$6000,3,0),\"\")","v":""}]
[{"$nulls":10},{"$f":"IF(ISNUMBER(SEARCH($A$3,L2224)),MAX($K$1:K2223)+1,0)","v":0},"Maral Overseas Ltd","MARAL.BO",{"$nulls":12},{"$f":"IFERROR(VLOOKUP(ROWS($Z$2:Z2224),K2224:$L$6000,2,0),\"\")","v":""},{"$f":"IFERROR(VLOOKUP(ROWS($AA$2:AA2224),K2224:$M$6000,3,0),\"\")","v":""}]
[{"$nulls":10},{"$f":"IF(ISNUMBER(SEARCH($A$3,L2225)),MAX($K$1:K2224)+1,0)","v":0},"Maral Overseas Ltd","MARALOVER.NS",{"$nulls":12},{"$f":"IFERROR(VLOOKUP(ROWS($Z$2:Z2225),K2225:$L$6000,2,0),\"\")","v":""},{"$f":"IFERROR(VLOOKUP(ROWS($AA$2:AA2225),K2225:$M$6000,3,0),\"\")","v":""}]
[{"$nulls":10},{"$f":"IF(ISNUMBER(SEARCH($A$3,L2226)),MAX($K$1:K2225)+1,0)","v":0},"Marathon Nextgen Realty Ltd","MARATHON.BO",{"$nulls":12},{"$f":"IFERROR(VLOOKUP(ROWS($Z$2:Z2226),K2226:$L$6000,2,0),\"\")","v":""},{"$f":"IFERROR(VLOOKUP(ROWS($AA$2:AA2226),K2226:$M$6000,3,0),\"\")","v":""}]
[{"$nulls":10},{"$f":"IF(ISNUMBER(SEARCH($A$3,L2227)),MAX($K$1:K2226)+1,0)","v":0},"Marathwada Refractories Ltd","MARATHR.BO",{"$nulls":12},{"$f":"IFERROR(VLOOKUP(ROWS($Z$2:Z2227),K2227:$L$6000,2,0),\"\")","v":""},{"$f":"IFERROR(VLOOKUP(ROWS($AA$2:AA2227),K2227:$M$6000,3,0),\"\")","v":""}]
[{"$nulls":10},{"$f":"IF(ISNUMBER(SEARCH($A$3,L2228)),MAX($K$1:K2227)+1,0)","v":0},"Mardia Samyoung","MSCTC.BO",{"$nulls":12},{"$f":"IFERROR(VLOOKUP(ROWS($Z$2:Z2228),K2228:$L$6000,2,0),\"\")","v":""},{"$f":"IFERROR(VLOOKUP(ROWS($AA$2:AA2228),K2228:$M$6000,3,0),\"\")","v":""}]
[{"$nulls":10},{"$f":"IF(ISNUMBER(SEARCH($A$3,L2229)),MAX($K$1:K2228)+1,0)","v":0},"Marg Ltd","MARGLTD.BO",{"$nulls":12},{"$f":"IFERROR(VLOOKUP(ROWS($Z$2:Z2229),K2229:$L$6000,2,0),\"\")","v":""},{"$f":"IFERROR(VLOOKUP(ROWS($AA$2:AA2229),K2229:$M$6000,3,0),\"\")","v":""}]
[{"$nulls":10},{"$f":"IF(ISNUMBER(SEARCH($A$3,L2230)),MAX($K$1:K2229)+1,0)","v":0},"Marg Projects","MARGPROIN.BO",{"$nulls":12},{"$f":"IFERROR(VLOOKUP(ROWS($Z$2:Z2230),K2230:$L$6000,2,0),\"\")","v":""},{"$f":"IFERROR(VLOOKUP(ROWS($AA$2:AA2230),K2230:$M$6000,3,0),\"\")","v":""}]
[{"$nulls":10},{"$f":"IF(ISNUMBER(SEARCH($A$3,L2231)),MAX($K$1:K2230)+1,0)","v":0},"Margo Finance Ltd","INDOCOUNF.BO",{"$nulls":12},{"$f":"IFERROR(VLOOKUP(ROWS($Z$2:Z2231),K2231:$L$6000,2,0),\"\")","v":""},{"$f":"IFERROR(VLOOKUP(ROWS($AA$2:AA2231),K2231:$M$6000,3,0),\"\")","v":""}]
[{"$nulls":10},{"$f":"IF(ISNUMBER(SEARCH($A$3,L2232)),MAX($K$1:K2231)+1,0)","v":0},"Marico Ltd","MARICO.BO",{"$nulls":12},{"$f":"IFERROR(VLOOKUP(ROWS($Z$2:Z2232),K2232:$L$6000,2,0),\"\")","v":""},{"$f":"IFERROR(VLOOKUP(ROWS($AA$2:AA2232),K2232:$M$6000,3,0),\"\")","v":""}]
[{"$nulls":10},{"$f":"IF(ISNUMBER(SEARCH($A$3,L2233)),MAX($K$1:K2232)+1,0)","v":0},"Marico Ltd","MARICO.NS",{"$nulls":12},{"$f":"IFERROR(VLOOKUP(ROWS($Z$2:Z2233),K2233:$L$6000,2,0),\"\")","v":""},{"$f":"IFERROR(VLOOKUP(ROWS($AA$2:AA2233),K2233:$M$6000,3,0),\"\")","v":""}]
[{"$nulls":10},{"$f":"IF(ISNUMBER(SEARCH($A$3,L2234)),MAX($K$1:K2233)+1,0)","v":0},"Market Creators Ltd","MKTCREAT.BO",{"$nulls":12},{"$f":"IFERROR(VLOOKUP(ROWS($Z$2:Z2234),K2234:$L$6000,2,0),\"\")","v":""},{"$f":"IFERROR(VLOOKUP(ROWS($AA$2:AA2234),K2234:$M$6000,3,0),\"\")","v":""}]
[{"$nulls":10},{"$f":"IF(ISNUMBER(SEARCH($A$3,L2235)),MAX($K$1:K2234)+1,0)","v":0},"Marksans Pharma Ltd","MARKSANS.BO",{"$nulls":12},{"$f":"IFERROR(VLOOKUP(ROWS($Z$2:Z2235),K2235:$L$6000,2,0),\"\")","v":""},{"$f":"IFERROR(VLOOKUP(ROWS($AA$2:AA2235),K2235:$M$6000,3,0),\"\")","v":""}]
[{"$nulls":10},{"$f":"IF(ISNUMBER(SEARCH($A$3,L2236)),MAX($K$1:K2235)+1,0)","v":0},"Marksans Pharma Ltd","MARKSANS.NS",{"$nulls":12},{"$f":"IFERROR(VLOOKUP(ROWS($Z$2:Z2236),K2236:$L$6000,2,0),\"\")","v":""},{"$f":"IFERROR(VLOOKUP(ROWS($AA$2:AA2236),K2236:$M$6000,3,0),\"\")","v":""}]
[{"$nulls":10},{"$f":"IF(ISNUMBER(SEARCH($A$3,L2237)),MAX($K$1:K2236)+1,0)","v":0},"Marsons Ltd","MARSON.BO",{"$nulls":12},{"$f":"IFERROR(VLOOKUP(ROWS($Z$2:Z2237),K2237:$L$6000,2,0),\"\")","v":""},{"$f":"IFERROR(VLOOKUP(ROWS($AA$2:AA2237),K2237:$M$6000,3,0),\"\")","v":""}]
[{"$nulls":10},{"$f":"IF(ISNUMBER(SEARCH($A$3,L2238)),MAX($K$1:K2237)+1,0)","v":0},"Martin Burn Ltd","MARBU.BO",{"$nulls":12},{"$f":"IFERROR(VLOOKUP(ROWS($Z$2:Z2238),K2238:$L$6000,2,0),\"\")","v":""},{"$f":"IFERROR(VLOOKUP(ROWS($AA$2:AA2238),K2238:$M$6000,3,0),\"\")","v":""}]
[{"$nulls":10},{"$f":"IF(ISNUMBER(SEARCH($A$3,L2239)),MAX($K$1:K2238)+1,0)","v":0},"Maruti Infrastructure Ltd","MAINFRA.BO",{"$nulls":12},{"$f":"IFERROR(VLOOKUP(ROWS($Z$2:Z2239),K2239:$L$6000,2,0),\"\")","v":""},{"$f":"IFERROR(VLOOKUP(ROWS($AA$2:AA2239),K2239:$M$6000,3,0),\"\")","v":""}]
[{"$nulls":10},{"$f":"IF(ISNUMBER(SEARCH($A$3,L2240)),MAX($K$1:K2239)+1,0)","v":0},"Maruti Securities Ltd","MARUTISE.BO",{"$nulls":12},{"$f":"IFERROR(VLOOKUP(ROWS($Z$2:Z2240),K2240:$L$6000,2,0),\"\")","v":""},{"$f":"IFERROR(VLOOKUP(ROWS($AA$2:AA2240),K2240:$M$6000,3,0),\"\")","v":""}]
[{"$nulls":10},{"$f":"IF(ISNUMBER(SEARCH($A$3,L2241)),MAX($K$1:K2240)+1,0)","v":0},"Maruti Suzuki India Ltd","MARUTI.BO",{"$nulls":12},{"$f":"IFERROR(VLOOKUP(ROWS($Z$2:Z2241),K2241:$L$6000,2,0),\"\")","v":""},{"$f":"IFERROR(VLOOKUP(ROWS($AA$2:AA2241),K2241:$M$6000,3,0),\"\")","v":""}]
[{"$nulls":10},{"$f":"IF(ISNUMBER(SEARCH($A$3,L2242)),MAX($K$1:K2241)+1,0)","v":0},"Maruti Suzuki India Ltd","MARUTI.NS",{"$nulls":12},{"$f":"IFERROR(VLOOKUP(ROWS($Z$2:Z2242),K2242:$L$6000,2,0),\"\")","v":""},{"$f":"IFERROR(VLOOKUP(ROWS($AA$2:AA2242),K2242:$M$6000,3,0),\"\")","v":""}]
[{"$nulls":10},{"$f":"IF(ISNUMBER(SEARCH($A$3,L2243)),MAX($K$1:K2242)+1,0)","v":0},"Marvel Capital & Finance Ltd","MARVEL.BO",{"$nulls":12},{"$f":"IFERROR(VLOOKUP(ROWS($Z$2:Z2243),K2243:$L$6000,2,0),\"\")","v":""},{"$f":"IFERROR(VLOOKUP(ROWS($AA$2:AA2243),K2243:$M$6000,3,0),\"\")","v":""}]
[{"$nulls":10},{"$f":"IF(ISNUMBER(SEARCH($A$3,L2244)),MAX($K$1:K2243)+1,0)","v":0},"Mastek Ltd","MASTEK.BO",{"$nulls":12},{"$f":"IFERROR(VLOOKUP(ROWS($Z$2:Z2244),K2244:$L$6000,2,0),\"\")","v":""},{"$f":"IFERROR(VLOOKUP(ROWS($AA$2:AA2244),K2244:$M$6000,3,0),\"\")","v":""}]
[{"$nulls":10},{"$f":"IF(ISNUMBER(SEARCH($A$3,L2245)),MAX($K$1:K2244)+1,0)","v":0},"Mastek Ltd","MASTEK.NS",{"$nulls":12},{"$f":"IFERROR(VLOOKUP(ROWS($Z$2:Z2245),K2245:$L$6000,2,0),\"\")","v":""},{"$f":"IFERROR(VLOOKUP(ROWS($AA$2:AA2245),K2245:$M$6000,3,0),\"\")","v":""}]
[{"$nulls":10},{"$f":"IF(ISNUMBER(SEARCH($A$3,L2246)),MAX($K$1:K2245)+1,0)","v":0},"Master Trust Ltd","MASTERTR.BO",{"$nulls":12},{"$f":"IFERROR(VLOOKUP(ROWS($Z$2:Z2246),K2246:$L$6000,2,0),\"\")","v":""},{"$f":"IFERROR(VLOOKUP(ROWS($AA$2:AA2246),K2246:$M$6000,3,0),\"\")","v":""}]
[{"$nulls":10},{"$f":"IF(ISNUMBER(SEARCH($A$3,L2247)),MAX($K$1:K2246)+1,0)","v":0},"Mathew Easow Research Sec","MATHEWE.BO",{"$nulls":12},{"$f":"IFERROR(VLOOKUP(ROWS($Z$2:Z2247),K2247:$L$6000,2,0),\"\")","v":""},{"$f":"IFERROR(VLOOKUP(ROWS($AA$2:AA2247),K2247:$M$6000,3,0),\"\")","v":""}]
[{"$nulls":10},{"$f":"IF(ISNUMBER(SEARCH($A$3,L2248)),MAX($K$1:K2247)+1,0)","v":0},"Matra Realty Ltd","MATRAREAL.BO",{"$nulls":12},{"$f":"IFERROR(VLOOKUP(ROWS($Z$2:Z2248),K2248:$L$6000,2,0),\"\")","v":""},{"$f":"IFERROR(VLOOKUP(ROWS($AA$2:AA2248),K2248:$M$6000,3,0),\"\")","v":""}]
[{"$nulls":10},{"$f":"IF(ISNUMBER(SEARCH($A$3,L2249)),MAX($K$1:K2248)+1,0)","v":0},"Mavens Biotech Ltd","MAVENSBIO.BO",{"$nulls":12},{"$f":"IFERROR(VLOOKUP(ROWS($Z$2:Z2249),K2249:$L$6000,2,0),\"\")","v":""},{"$f":"IFERROR(VLOOKUP(ROWS($AA$2:AA2249),K2249:$M$6000,3,0),\"\")","v":""}]
[{"$nulls":10},{"$f":"IF(ISNUMBER(SEARCH($A$3,L2250)),MAX($K$1:K2249)+1,0)","v":0},"Mavi Industries Ltd","MAVIIND.BO",{"$nulls":12},{"$f":"IFERROR(VLOOKUP(ROWS($Z$2:Z2250),K2250:$L$6000,2,0),\"\")","v":""},{"$f":"IFERROR(VLOOKUP(ROWS($AA$2:AA2250),K2250:$M$6000,3,0),\"\")","v":""}]
[{"$nulls":10},{"$f":"IF(ISNUMBER(SEARCH($A$3,L2251)),MAX($K$1:K2250)+1,0)","v":0},"Mawana Sugars Ltd","MAWANASUG.BO",{"$nulls":12},{"$f":"IFERROR(VLOOKUP(ROWS($Z$2:Z2251),K2251:$L$6000,2,0),\"\")","v":""},{"$f":"IFERROR(VLOOKUP(ROWS($AA$2:AA2251),K2251:$M$6000,3,0),\"\")","v":""}]
[{"$nulls":10},{"$f":"IF(ISNUMBER(SEARCH($A$3,L2252)),MAX($K$1:K2251)+1,0)","v":0},"Max India Ltd","MAX.BO",{"$nulls":12},{"$f":"IFERROR(VLOOKUP(ROWS($Z$2:Z2252),K2252:$L$6000,2,0),\"\")","v":""},{"$f":"IFERROR(VLOOKUP(ROWS($AA$2:AA2252),K2252:$M$6000,3,0),\"\")","v":""}]
[{"$nulls":10},{"$f":"IF(ISNUMBER(SEARCH($A$3,L2253)),MAX($K$1:K2252)+1,0)","v":0},"Max India Ltd","MAX.NS",{"$nulls":12},{"$f":"IFERROR(VLOOKUP(ROWS($Z$2:Z2253),K2253:$L$6000,2,0),\"\")","v":""},{"$f":"IFERROR(VLOOKUP(ROWS($AA$2:AA2253),K2253:$M$6000,3,0),\"\")","v":""}]
[{"$nulls":10},{"$f":"IF(ISNUMBER(SEARCH($A$3,L2254)),MAX($K$1:K2253)+1,0)","v":0},"Maxwell Industries Ltd","MAXWEL.BO",{"$nulls":12},{"$f":"IFERROR(VLOOKUP(ROWS($Z$2:Z2254),K2254:$L$6000,2,0),\"\")","v":""},{"$f":"IFERROR(VLOOKUP(ROWS($AA$2:AA2254),K2254:$M$6000,3,0),\"\")","v":""}]
[{"$nulls":10},{"$f":"IF(ISNUMBER(SEARCH($A$3,L2255)),MAX($K$1:K2254)+1,0)","v":0},"Maxwell Industries Ltd","MAXWELL.NS",{"$nulls":12},{"$f":"IFERROR(VLOOKUP(ROWS($Z$2:Z2255),K2255:$L$6000,2,0),\"\")","v":""},{"$f":"IFERROR(VLOOKUP(ROWS($AA$2:AA2255),K2255:$M$6000,3,0),\"\")","v":""}]
[{"$nulls":10},{"$f":"IF(ISNUMBER(SEARCH($A$3,L2256)),MAX($K$1:K2255)+1,0)","v":0},"Mayur Leather Products Ltd","MAYUR.BO",{"$nulls":12},{"$f":"IFERROR(VLOOKUP(ROWS($Z$2:Z2256),K2256:$L$6000,2,0),\"\")","v":""},{"$f":"IFERROR(VLOOKUP(ROWS($AA$2:AA2256),K2256:$M$6000,3,0),\"\")","v":""}]
[{"$nulls":10},{"$f":"IF(ISNUMBER(SEARCH($A$3,L2257)),MAX($K$1:K2256)+1,0)","v":0},"Mayur Uniquoters Ltd","MAYURUN.BO",{"$nulls":12},{"$f":"IFERROR(VLOOKUP(ROWS($Z$2:Z2257),K2257:$L$6000,2,0),\"\")","v":""},{"$f":"IFERROR(VLOOKUP(ROWS($AA$2:AA2257),K2257:$M$6000,3,0),\"\")","v":""}]
[{"$nulls":10},{"$f":"IF(ISNUMBER(SEARCH($A$3,L2258)),MAX($K$1:K2257)+1,0)","v":0},"Mazda Ltd","MAZDALTD.BO",{"$nulls":12},{"$f":"IFERROR(VLOOKUP(ROWS($Z$2:Z2258),K2258:$L$6000,2,0),\"\")","v":""},{"$f":"IFERROR(VLOOKUP(ROWS($AA$2:AA2258),K2258:$M$6000,3,0),\"\")","v":""}]
[{"$nulls":10},{"$f":"IF(ISNUMBER(SEARCH($A$3,L2259)),MAX($K$1:K2258)+1,0)","v":0},"MBL Infrastructures Ltd","MBLINFRA.BO",{"$nulls":12},{"$f":"IFERROR(VLOOKUP(ROWS($Z$2:Z2259),K2259:$L$6000,2,0),\"\")","v":""},{"$f":"IFERROR(VLOOKUP(ROWS($AA$2:AA2259),K2259:$M$6000,3,0),\"\")","v":""}]
[{"$nulls":10},{"$f":"IF(ISNUMBER(SEARCH($A$3,L2260)),MAX($K$1:K2259)+1,0)","v":0},"McDowell Holdings Ltd","MCDHOLDIN.BO",{"$nulls":12},{"$f":"IFERROR(VLOOKUP(ROWS($Z$2:Z2260),K2260:$L$6000,2,0),\"\")","v":""},{"$f":"IFERROR(VLOOKUP(ROWS($AA$2:AA2260),K2260:$M$6000,3,0),\"\")","v":""}]
[{"$nulls":10},{"$f":"IF(ISNUMBER(SEARCH($A$3,L2261)),MAX($K$1:K2260)+1,0)","v":0},"McLeod Russel India Ltd","MCLEOD.BO",{"$nulls":12},{"$f":"IFERROR(VLOOKUP(ROWS($Z$2:Z2261),K2261:$L$6000,2,0),\"\")","v":""},{"$f":"IFERROR(VLOOKUP(ROWS($AA$2:AA2261),K2261:$M$6000,3,0),\"\")","v":""}]
[{"$nulls":10},{"$f":"IF(ISNUMBER(SEARCH($A$3,L2262)),MAX($K$1:K2261)+1,0)","v":0},"McLeod Russel India Ltd","MCLEODRUS.NS",{"$nulls":12},{"$f":"IFERROR(VLOOKUP(ROWS($Z$2:Z2262),K2262:$L$6000,2,0),\"\")","v":""},{"$f":"IFERROR(VLOOKUP(ROWS($AA$2:AA2262),K2262:$M$6000,3,0),\"\")","v":""}]
[{"$nulls":10},{"$f":"IF(ISNUMBER(SEARCH($A$3,L2263)),MAX($K$1:K2262)+1,0)","v":0},"McNally Bharat","MCNALLYB.BO",{"$nulls":12},{"$f":"IFERROR(VLOOKUP(ROWS($Z$2:Z2263),K2263:$L$6000,2,0),\"\")","v":""},{"$f":"IFERROR(VLOOKUP(ROWS($AA$2:AA2263),K2263:$M$6000,3,0),\"\")","v":""}]
[{"$nulls":10},{"$f":"IF(ISNUMBER(SEARCH($A$3,L2264)),MAX($K$1:K2263)+1,0)","v":0},"McNally Bharat","MBECL.NS",{"$nulls":12},{"$f":"IFERROR(VLOOKUP(ROWS($Z$2:Z2264),K2264:$L$6000,2,0),\"\")","v":""},{"$f":"IFERROR(VLOOKUP(ROWS($AA$2:AA2264),K2264:$M$6000,3,0),\"\")","v":""}]
[{"$nulls":10},{"$f":"IF(ISNUMBER(SEARCH($A$3,L2265)),MAX($K$1:K2264)+1,0)","v":0},"Media Matrix Worldwide Ltd","MEDIAMAT.BO",{"$nulls":12},{"$f":"IFERROR(VLOOKUP(ROWS($Z$2:Z2265),K2265:$L$6000,2,0),\"\")","v":""},{"$f":"IFERROR(VLOOKUP(ROWS($AA$2:AA2265),K2265:$M$6000,3,0),\"\")","v":""}]
[{"$nulls":10},{"$f":"IF(ISNUMBER(SEARCH($A$3,L2266)),MAX($K$1:K2265)+1,0)","v":0},"Mediaone Global Entertain","MEDIAONE.BO",{"$nulls":12},{"$f":"IFERROR(VLOOKUP(ROWS($Z$2:Z2266),K2266:$L$6000,2,0),\"\")","v":""},{"$f":"IFERROR(VLOOKUP(ROWS($AA$2:AA2266),K2266:$M$6000,3,0),\"\")","v":""}]
[{"$nulls":10},{"$f":"IF(ISNUMBER(SEARCH($A$3,L2267)),MAX($K$1:K2266)+1,0)","v":0},"Medicamen Biotech Ltd","MEDICAMEQ.BO",{"$nulls":12},{"$f":"IFERROR(VLOOKUP(ROWS($Z$2:Z2267),K2267:$L$6000,2,0),\"\")","v":""},{"$f":"IFERROR(VLOOKUP(ROWS($AA$2:AA2267),K2267:$M$6000,3,0),\"\")","v":""}]
[{"$nulls":10},{"$f":"IF(ISNUMBER(SEARCH($A$3,L2268)),MAX($K$1:K2267)+1,0)","v":0},"Medi-Caps Ltd","MEDICAPQ.BO",{"$nulls":12},{"$f":"IFERROR(VLOOKUP(ROWS($Z$2:Z2268),K2268:$L$6000,2,0),\"\")","v":""},{"$f":"IFERROR(VLOOKUP(ROWS($AA$2:AA2268),K2268:$M$6000,3,0),\"\")","v":""}]
[{"$nulls":10},{"$f":"IF(ISNUMBER(SEARCH($A$3,L2269)),MAX($K$1:K2268)+1,0)","v":0},"Medinova Diagnostic Servi","MEDINOV.BO",{"$nulls":12},{"$f":"IFERROR(VLOOKUP(ROWS($Z$2:Z2269),K2269:$L$6000,2,0),\"\")","v":""},{"$f":"IFERROR(VLOOKUP(ROWS($AA$2:AA2269),K2269:$M$6000,3,0),\"\")","v":""}]
[{"$nulls":10},{"$f":"IF(ISNUMBER(SEARCH($A$3,L2270)),MAX($K$1:K2269)+1,0)","v":0},"Mefcom Capital Markets Ltd","MEFCOMCAP.BO",{"$nulls":12},{"$f":"IFERROR(VLOOKUP(ROWS($Z$2:Z2270),K2270:$L$6000,2,0),\"\")","v":""},{"$f":"IFERROR(VLOOKUP(ROWS($AA$2:AA2270),K2270:$M$6000,3,0),\"\")","v":""}]
[{"$nulls":10},{"$f":"IF(ISNUMBER(SEARCH($A$3,L2271)),MAX($K$1:K2270)+1,0)","v":0},"Mega Corp Ltd","MEGACOR.BO",{"$nulls":12},{"$f":"IFERROR(VLOOKUP(ROWS($Z$2:Z2271),K2271:$L$6000,2,0),\"\")","v":""},{"$f":"IFERROR(VLOOKUP(ROWS($AA$2:AA2271),K2271:$M$6000,3,0),\"\")","v":""}]
[{"$nulls":10},{"$f":"IF(ISNUMBER(SEARCH($A$3,L2272)),MAX($K$1:K2271)+1,0)","v":0},"Megasoft Ltd","MEGASOFT.BO",{"$nulls":12},{"$f":"IFERROR(VLOOKUP(ROWS($Z$2:Z2272),K2272:$L$6000,2,0),\"\")","v":""},{"$f":"IFERROR(VLOOKUP(ROWS($AA$2:AA2272),K2272:$M$6000,3,0),\"\")","v":""}]
[{"$nulls":10},{"$f":"IF(ISNUMBER(SEARCH($A$3,L2273)),MAX($K$1:K2272)+1,0)","v":0},"Megasoft Ltd","MEGASOFT.NS",{"$nulls":12},{"$f":"IFERROR(VLOOKUP(ROWS($Z$2:Z2273),K2273:$L$6000,2,0),\"\")","v":""},{"$f":"IFERROR(VLOOKUP(ROWS($AA$2:AA2273),K2273:$M$6000,3,0),\"\")","v":""}]
[{"$nulls":10},{"$f":"IF(ISNUMBER(SEARCH($A$3,L2274)),MAX($K$1:K2273)+1,0)","v":0},"Meghmani Organics Ltd","MEGH.BO",{"$nulls":12},{"$f":"IFERROR(VLOOKUP(ROWS($Z$2:Z2274),K2274:$L$6000,2,0),\"\")","v":""},{"$f":"IFERROR(VLOOKUP(ROWS($AA$2:AA2274),K2274:$M$6000,3,0),\"\")","v":""}]
[{"$nulls":10},{"$f":"IF(ISNUMBER(SEARCH($A$3,L2275)),MAX($K$1:K2274)+1,0)","v":0},"Meghmani Organics Ltd","MEGH.NS",{"$nulls":12},{"$f":"IFERROR(VLOOKUP(ROWS($Z$2:Z2275),K2275:$L$6000,2,0),\"\")","v":""},{"$f":"IFERROR(VLOOKUP(ROWS($AA$2:AA2275),K2275:$M$6000,3,0),\"\")","v":""}]
[{"$nulls":10},{"$f":"IF(ISNUMBER(SEARCH($A$3,L2276)),MAX($K$1:K2275)+1,0)","v":0},"Meglon Infra-Real (India) Ltd","CANAAN.BO",{"$nulls":12},{"$f":"IFERROR(VLOOKUP(ROWS($Z$2:Z2276),K2276:$L$6000,2,0),\"\")","v":""},{"$f":"IFERROR(VLOOKUP(ROWS($AA$2:AA2276),K2276:$M$6000,3,0),\"\")","v":""}]
[{"$nulls":10},{"$f":"IF(ISNUMBER(SEARCH($A$3,L2277)),MAX($K$1:K2276)+1,0)","v":0},"Mehta Integrated Finance Ltd","MEHIF.BO",{"$nulls":12},{"$f":"IFERROR(VLOOKUP(ROWS($Z$2:Z2277),K2277:$L$6000,2,0),\"\")","v":""},{"$f":"IFERROR(VLOOKUP(ROWS($AA$2:AA2277),K2277:$M$6000,3,0),\"\")","v":""}]
[{"$nulls":10},{"$f":"IF(ISNUMBER(SEARCH($A$3,L2278)),MAX($K$1:K2277)+1,0)","v":0},"Melstar Information Techn","MELSTAR.BO",{"$nulls":12},{"$f":"IFERROR(VLOOKUP(ROWS($Z$2:Z2278),K2278:$L$6000,2,0),\"\")","v":""},{"$f":"IFERROR(VLOOKUP(ROWS($AA$2:AA2278),K2278:$M$6000,3,0),\"\")","v":""}]
[{"$nulls":10},{"$f":"IF(ISNUMBER(SEARCH($A$3,L2279)),MAX($K$1:K2278)+1,0)","v":0},"Melstar Information Techn","MELSTAR.NS",{"$nulls":12},{"$f":"IFERROR(VLOOKUP(ROWS($Z$2:Z2279),K2279:$L$6000,2,0),\"\")","v":""},{"$f":"IFERROR(VLOOKUP(ROWS($AA$2:AA2279),K2279:$M$6000,3,0),\"\")","v":""}]
[{"$nulls":10},{"$f":"IF(ISNUMBER(SEARCH($A$3,L2280)),MAX($K$1:K2279)+1,0)","v":0},"Menon Bearings Ltd","MENONBE.BO",{"$nulls":12},{"$f":"IFERROR(VLOOKUP(ROWS($Z$2:Z2280),K2280:$L$6000,2,0),\"\")","v":""},{"$f":"IFERROR(VLOOKUP(ROWS($AA$2:AA2280),K2280:$M$6000,3,0),\"\")","v":""}]
[{"$nulls":10},{"$f":"IF(ISNUMBER(SEARCH($A$3,L2281)),MAX($K$1:K2280)+1,0)","v":0},"Menon Pistons Ltd","MENNPIS.BO",{"$nulls":12},{"$f":"IFERROR(VLOOKUP(ROWS($Z$2:Z2281),K2281:$L$6000,2,0),\"\")","v":""},{"$f":"IFERROR(VLOOKUP(ROWS($AA$2:AA2281),K2281:$M$6000,3,0),\"\")","v":""}]
[{"$nulls":10},{"$f":"IF(ISNUMBER(SEARCH($A$3,L2282)),MAX($K$1:K2281)+1,0)","v":0},"Merck Ltd","MERCK.BO",{"$nulls":12},{"$f":"IFERROR(VLOOKUP(ROWS($Z$2:Z2282),K2282:$L$6000,2,0),\"\")","v":""},{"$f":"IFERROR(VLOOKUP(ROWS($AA$2:AA2282),K2282:$M$6000,3,0),\"\")","v":""}]
[{"$nulls":10},{"$f":"IF(ISNUMBER(SEARCH($A$3,L2283)),MAX($K$1:K2282)+1,0)","v":0},"Merck Ltd","MERCK.NS",{"$nulls":12},{"$f":"IFERROR(VLOOKUP(ROWS($Z$2:Z2283),K2283:$L$6000,2,0),\"\")","v":""},{"$f":"IFERROR(VLOOKUP(ROWS($AA$2:AA2283),K2283:$M$6000,3,0),\"\")","v":""}]
[{"$nulls":10},{"$f":"IF(ISNUMBER(SEARCH($A$3,L2284)),MAX($K$1:K2283)+1,0)","v":0},"Metal Coatings (India) Ltd","METALCO.BO",{"$nulls":12},{"$f":"IFERROR(VLOOKUP(ROWS($Z$2:Z2284),K2284:$L$6000,2,0),\"\")","v":""},{"$f":"IFERROR(VLOOKUP(ROWS($AA$2:AA2284),K2284:$M$6000,3,0),\"\")","v":""}]
[{"$nulls":10},{"$f":"IF(ISNUMBER(SEARCH($A$3,L2285)),MAX($K$1:K2284)+1,0)","v":0},"Meuse Kara & Sungrace","BIOGREEN.BO",{"$nulls":12},{"$f":"IFERROR(VLOOKUP(ROWS($Z$2:Z2285),K2285:$L$6000,2,0),\"\")","v":""},{"$f":"IFERROR(VLOOKUP(ROWS($AA$2:AA2285),K2285:$M$6000,3,0),\"\")","v":""}]
[{"$nulls":10},{"$f":"IF(ISNUMBER(SEARCH($A$3,L2286)),MAX($K$1:K2285)+1,0)","v":0},"Mewar Polytex Ltd","MEWARPOL.BO",{"$nulls":12},{"$f":"IFERROR(VLOOKUP(ROWS($Z$2:Z2286),K2286:$L$6000,2,0),\"\")","v":""},{"$f":"IFERROR(VLOOKUP(ROWS($AA$2:AA2286),K2286:$M$6000,3,0),\"\")","v":""}]
[{"$nulls":10},{"$f":"IF(ISNUMBER(SEARCH($A$3,L2287)),MAX($K$1:K2286)+1,0)","v":0},"MFL India Ltd","MYFAIR.BO",{"$nulls":12},{"$f":"IFERROR(VLOOKUP(ROWS($Z$2:Z2287),K2287:$L$6000,2,0),\"\")","v":""},{"$f":"IFERROR(VLOOKUP(ROWS($AA$2:AA2287),K2287:$M$6000,3,0),\"\")","v":""}]
[{"$nulls":10},{"$f":"IF(ISNUMBER(SEARCH($A$3,L2288)),MAX($K$1:K2287)+1,0)","v":0},"MFS Intercorp Ltd","MUSKFER.BO",{"$nulls":12},{"$f":"IFERROR(VLOOKUP(ROWS($Z$2:Z2288),K2288:$L$6000,2,0),\"\")","v":""},{"$f":"IFERROR(VLOOKUP(ROWS($AA$2:AA2288),K2288:$M$6000,3,0),\"\")","v":""}]
[{"$nulls":10},{"$f":"IF(ISNUMBER(SEARCH($A$3,L2289)),MAX($K$1:K2288)+1,0)","v":0},"MIC Electronics Ltd","MIC.BO",{"$nulls":12},{"$f":"IFERROR(VLOOKUP(ROWS($Z$2:Z2289),K2289:$L$6000,2,0),\"\")","v":""},{"$f":"IFERROR(VLOOKUP(ROWS($AA$2:AA2289),K2289:$M$6000,3,0),\"\")","v":""}]
[{"$nulls":10},{"$f":"IF(ISNUMBER(SEARCH($A$3,L2290)),MAX($K$1:K2289)+1,0)","v":0},"MIC Electronics Ltd","MIC.NS",{"$nulls":12},{"$f":"IFERROR(VLOOKUP(ROWS($Z$2:Z2290),K2290:$L$6000,2,0),\"\")","v":""},{"$f":"IFERROR(VLOOKUP(ROWS($AA$2:AA2290),K2290:$M$6000,3,0),\"\")","v":""}]
[{"$nulls":10},{"$f":"IF(ISNUMBER(SEARCH($A$3,L2291)),MAX($K$1:K2290)+1,0)","v":0},"Micro Technologies India Ltd","MICROTEC.BO",{"$nulls":12},{"$f":"IFERROR(VLOOKUP(ROWS($Z$2:Z2291),K2291:$L$6000,2,0),\"\")","v":""},{"$f":"IFERROR(VLOOKUP(ROWS($AA$2:AA2291),K2291:$M$6000,3,0),\"\")","v":""}]
[{"$nulls":10},{"$f":"IF(ISNUMBER(SEARCH($A$3,L2292)),MAX($K$1:K2291)+1,0)","v":0},"Micro Technologies India Ltd","MICROTECH.NS",{"$nulls":12},{"$f":"IFERROR(VLOOKUP(ROWS($Z$2:Z2292),K2292:$L$6000,2,0),\"\")","v":""},{"$f":"IFERROR(VLOOKUP(ROWS($AA$2:AA2292),K2292:$M$6000,3,0),\"\")","v":""}]
[{"$nulls":10},{"$f":"IF(ISNUMBER(SEARCH($A$3,L2293)),MAX($K$1:K2292)+1,0)","v":0},"Mideast Portfolio Managem","MIDEASTP.BO",{"$nulls":12},{"$f":"IFERROR(VLOOKUP(ROWS($Z$2:Z2293),K2293:$L$6000,2,0),\"\")","v":""},{"$f":"IFERROR(VLOOKUP(ROWS($AA$2:AA2293),K2293:$M$6000,3,0),\"\")","v":""}]
[{"$nulls":10},{"$f":"IF(ISNUMBER(SEARCH($A$3,L2294)),MAX($K$1:K2293)+1,0)","v":0},"Milestone Global Ltd","MILESTONE.BO",{"$nulls":12},{"$f":"IFERROR(VLOOKUP(ROWS($Z$2:Z2294),K2294:$L$6000,2,0),\"\")","v":""},{"$f":"IFERROR(VLOOKUP(ROWS($AA$2:AA2294),K2294:$M$6000,3,0),\"\")","v":""}]
[{"$nulls":10},{"$f":"IF(ISNUMBER(SEARCH($A$3,L2295)),MAX($K$1:K2294)+1,0)","v":0},"Milkfood Ltd","MLKFOOD.BO",{"$nulls":12},{"$f":"IFERROR(VLOOKUP(ROWS($Z$2:Z2295),K2295:$L$6000,2,0),\"\")","v":""},{"$f":"IFERROR(VLOOKUP(ROWS($AA$2:AA2295),K2295:$M$6000,3,0),\"\")","v":""}]
[{"$nulls":10},{"$f":"IF(ISNUMBER(SEARCH($A$3,L2296)),MAX($K$1:K2295)+1,0)","v":0},"Milton Plastics Ltd","MILTON.BO",{"$nulls":12},{"$f":"IFERROR(VLOOKUP(ROWS($Z$2:Z2296),K2296:$L$6000,2,0),\"\")","v":""},{"$f":"IFERROR(VLOOKUP(ROWS($AA$2:AA2296),K2296:$M$6000,3,0),\"\")","v":""}]
[{"$nulls":10},{"$f":"IF(ISNUMBER(SEARCH($A$3,L2297)),MAX($K$1:K2296)+1,0)","v":0},"Minal Industries Ltd","MINAL.BO",{"$nulls":12},{"$f":"IFERROR(VLOOKUP(ROWS($Z$2:Z2297),K2297:$L$6000,2,0),\"\")","v":""},{"$f":"IFERROR(VLOOKUP(ROWS($AA$2:AA2297),K2297:$M$6000,3,0),\"\")","v":""}]
[{"$nulls":10},{"$f":"IF(ISNUMBER(SEARCH($A$3,L2298)),MAX($K$1:K2297)+1,0)","v":0},"Minaxi Textiles Ltd","MINAXI.BO",{"$nulls":12},{"$f":"IFERROR(VLOOKUP(ROWS($Z$2:Z2298),K2298:$L$6000,2,0),\"\")","v":""},{"$f":"IFERROR(VLOOKUP(ROWS($AA$2:AA2298),K2298:$M$6000,3,0),\"\")","v":""}]
[{"$nulls":10},{"$f":"IF(ISNUMBER(SEARCH($A$3,L2299)),MAX($K$1:K2298)+1,0)","v":0},"Minda Corp Ltd","MINDACORP.NS",{"$nulls":12},{"$f":"IFERROR(VLOOKUP(ROWS($Z$2:Z2299),K2299:$L$6000,2,0),\"\")","v":""},{"$f":"IFERROR(VLOOKUP(ROWS($AA$2:AA2299),K2299:$M$6000,3,0),\"\")","v":""}]
[{"$nulls":10},{"$f":"IF(ISNUMBER(SEARCH($A$3,L2300)),MAX($K$1:K2299)+1,0)","v":0},"Minda Industries Ltd","MINDA.BO",{"$nulls":12},{"$f":"IFERROR(VLOOKUP(ROWS($Z$2:Z2300),K2300:$L$6000,2,0),\"\")","v":""},{"$f":"IFERROR(VLOOKUP(ROWS($AA$2:AA2300),K2300:$M$6000,3,0),\"\")","v":""}]
[{"$nulls":10},{"$f":"IF(ISNUMBER(SEARCH($A$3,L2301)),MAX($K$1:K2300)+1,0)","v":0},"Minda Industries Ltd","MINDAIND.NS",{"$nulls":12},{"$f":"IFERROR(VLOOKUP(ROWS($Z$2:Z2301),K2301:$L$6000,2,0),\"\")","v":""},{"$f":"IFERROR(VLOOKUP(ROWS($AA$2:AA2301),K2301:$M$6000,3,0),\"\")","v":""}]
[{"$nulls":10},{"$f":"IF(ISNUMBER(SEARCH($A$3,L2302)),MAX($K$1:K2301)+1,0)","v":0},"Mindteck (India) Ltd","MINDTECK.BO",{"$nulls":12},{"$f":"IFERROR(VLOOKUP(ROWS($Z$2:Z2302),K2302:$L$6000,2,0),\"\")","v":""},{"$f":"IFERROR(VLOOKUP(ROWS($AA$2:AA2302),K2302:$M$6000,3,0),\"\")","v":""}]
[{"$nulls":10},{"$f":"IF(ISNUMBER(SEARCH($A$3,L2303)),MAX($K$1:K2302)+1,0)","v":0},"MindTree Ltd","MINDTREE.BO",{"$nulls":12},{"$f":"IFERROR(VLOOKUP(ROWS($Z$2:Z2303),K2303:$L$6000,2,0),\"\")","v":""},{"$f":"IFERROR(VLOOKUP(ROWS($AA$2:AA2303),K2303:$M$6000,3,0),\"\")","v":""}]
[{"$nulls":10},{"$f":"IF(ISNUMBER(SEARCH($A$3,L2304)),MAX($K$1:K2303)+1,0)","v":0},"MindTree Ltd","MINDTREE.NS",{"$nulls":12},{"$f":"IFERROR(VLOOKUP(ROWS($Z$2:Z2304),K2304:$L$6000,2,0),\"\")","v":""},{"$f":"IFERROR(VLOOKUP(ROWS($AA$2:AA2304),K2304:$M$6000,3,0),\"\")","v":""}]
[{"$nulls":10},{"$f":"IF(ISNUMBER(SEARCH($A$3,L2305)),MAX($K$1:K2304)+1,0)","v":0},"Mindvision Capital Ltd","KAILASHF.BO",{"$nulls":12},{"$f":"IFERROR(VLOOKUP(ROWS($Z$2:Z2305),K2305:$L$6000,2,0),\"\")","v":""},{"$f":"IFERROR(VLOOKUP(ROWS($AA$2:AA2305),K2305:$M$6000,3,0),\"\")","v":""}]
[{"$nulls":10},{"$f":"IF(ISNUMBER(SEARCH($A$3,L2306)),MAX($K$1:K2305)+1,0)","v":0},"Mini Diamonds (India) Ltd","MINID.BO",{"$nulls":12},{"$f":"IFERROR(VLOOKUP(ROWS($Z$2:Z2306),K2306:$L$6000,2,0),\"\")","v":""},{"$f":"IFERROR(VLOOKUP(ROWS($AA$2:AA2306),K2306:$M$6000,3,0),\"\")","v":""}]
[{"$nulls":10},{"$f":"IF(ISNUMBER(SEARCH($A$3,L2307)),MAX($K$1:K2306)+1,0)","v":0},"MIRC Electronics Ltd","MIRC.BO",{"$nulls":12},{"$f":"IFERROR(VLOOKUP(ROWS($Z$2:Z2307),K2307:$L$6000,2,0),\"\")","v":""},{"$f":"IFERROR(VLOOKUP(ROWS($AA$2:AA2307),K2307:$M$6000,3,0),\"\")","v":""}]
[{"$nulls":10},{"$f":"IF(ISNUMBER(SEARCH($A$3,L2308)),MAX($K$1:K2307)+1,0)","v":0},"MIRC Electronics Ltd","MIRCELECT.NS",{"$nulls":12},{"$f":"IFERROR(VLOOKUP(ROWS($Z$2:Z2308),K2308:$L$6000,2,0),\"\")","v":""},{"$f":"IFERROR(VLOOKUP(ROWS($AA$2:AA2308),K2308:$M$6000,3,0),\"\")","v":""}]
[{"$nulls":10},{"$f":"IF(ISNUMBER(SEARCH($A$3,L2309)),MAX($K$1:K2308)+1,0)","v":0},"Mirch Technologies Ltd","MIRCH.BO",{"$nulls":12},{"$f":"IFERROR(VLOOKUP(ROWS($Z$2:Z2309),K2309:$L$6000,2,0),\"\")","v":""},{"$f":"IFERROR(VLOOKUP(ROWS($AA$2:AA2309),K2309:$M$6000,3,0),\"\")","v":""}]
[{"$nulls":10},{"$f":"IF(ISNUMBER(SEARCH($A$3,L2310)),MAX($K$1:K2309)+1,0)","v":0},"Mirza International Ltd","MIRZA.BO",{"$nulls":12},{"$f":"IFERROR(VLOOKUP(ROWS($Z$2:Z2310),K2310:$L$6000,2,0),\"\")","v":""},{"$f":"IFERROR(VLOOKUP(ROWS($AA$2:AA2310),K2310:$M$6000,3,0),\"\")","v":""}]
[{"$nulls":10},{"$f":"IF(ISNUMBER(SEARCH($A$3,L2311)),MAX($K$1:K2310)+1,0)","v":0},"Mirza International Ltd","MIRZAINT.NS",{"$nulls":12},{"$f":"IFERROR(VLOOKUP(ROWS($Z$2:Z2311),K2311:$L$6000,2,0),\"\")","v":""},{"$f":"IFERROR(VLOOKUP(ROWS($AA$2:AA2311),K2311:$M$6000,3,0),\"\")","v":""}]
[{"$nulls":10},{"$f":"IF(ISNUMBER(SEARCH($A$3,L2312)),MAX($K$1:K2311)+1,0)","v":0},"MM Forgings Ltd","MMFORG.BO",{"$nulls":12},{"$f":"IFERROR(VLOOKUP(ROWS($Z$2:Z2312),K2312:$L$6000,2,0),\"\")","v":""},{"$f":"IFERROR(VLOOKUP(ROWS($AA$2:AA2312),K2312:$M$6000,3,0),\"\")","v":""}]
[{"$nulls":10},{"$f":"IF(ISNUMBER(SEARCH($A$3,L2313)),MAX($K$1:K2312)+1,0)","v":0},"MM Forgings Ltd","MMFL.NS",{"$nulls":12},{"$f":"IFERROR(VLOOKUP(ROWS($Z$2:Z2313),K2313:$L$6000,2,0),\"\")","v":""},{"$f":"IFERROR(VLOOKUP(ROWS($AA$2:AA2313),K2313:$M$6000,3,0),\"\")","v":""}]
[{"$nulls":10},{"$f":"IF(ISNUMBER(SEARCH($A$3,L2314)),MAX($K$1:K2313)+1,0)","v":0},"Mobile Telecommunications Ltd","MOBILTEL.BO",{"$nulls":12},{"$f":"IFERROR(VLOOKUP(ROWS($Z$2:Z2314),K2314:$L$6000,2,0),\"\")","v":""},{"$f":"IFERROR(VLOOKUP(ROWS($AA$2:AA2314),K2314:$M$6000,3,0),\"\")","v":""}]
[{"$nulls":10},{"$f":"IF(ISNUMBER(SEARCH($A$3,L2315)),MAX($K$1:K2314)+1,0)","v":0},"Modella Woollens Ltd","MODWOOL.BO",{"$nulls":12},{"$f":"IFERROR(VLOOKUP(ROWS($Z$2:Z2315),K2315:$L$6000,2,0),\"\")","v":""},{"$f":"IFERROR(VLOOKUP(ROWS($AA$2:AA2315),K2315:$M$6000,3,0),\"\")","v":""}]
[{"$nulls":10},{"$f":"IF(ISNUMBER(SEARCH($A$3,L2316)),MAX($K$1:K2315)+1,0)","v":0},"Modern Dairies Ltd","MODAIRY.BO",{"$nulls":12},{"$f":"IFERROR(VLOOKUP(ROWS($Z$2:Z2316),K2316:$L$6000,2,0),\"\")","v":""},{"$f":"IFERROR(VLOOKUP(ROWS($AA$2:AA2316),K2316:$M$6000,3,0),\"\")","v":""}]
[{"$nulls":10},{"$f":"IF(ISNUMBER(SEARCH($A$3,L2317)),MAX($K$1:K2316)+1,0)","v":0},"Modern India Ltd","MODERN.BO",{"$nulls":12},{"$f":"IFERROR(VLOOKUP(ROWS($Z$2:Z2317),K2317:$L$6000,2,0),\"\")","v":""},{"$f":"IFERROR(VLOOKUP(ROWS($AA$2:AA2317),K2317:$M$6000,3,0),\"\")","v":""}]
[{"$nulls":10},{"$f":"IF(ISNUMBER(SEARCH($A$3,L2318)),MAX($K$1:K2317)+1,0)","v":0},"Modern Shares & Stockbrok","MODRNSH.BO",{"$nulls":12},{"$f":"IFERROR(VLOOKUP(ROWS($Z$2:Z2318),K2318:$L$6000,2,0),\"\")","v":""},{"$f":"IFERROR(VLOOKUP(ROWS($AA$2:AA2318),K2318:$M$6000,3,0),\"\")","v":""}]
[{"$nulls":10},{"$f":"IF(ISNUMBER(SEARCH($A$3,L2319)),MAX($K$1:K2318)+1,0)","v":0},"Modern Steels Ltd","MDRNSTL.BO",{"$nulls":12},{"$f":"IFERROR(VLOOKUP(ROWS($Z$2:Z2319),K2319:$L$6000,2,0),\"\")","v":""},{"$f":"IFERROR(VLOOKUP(ROWS($AA$2:AA2319),K2319:$M$6000,3,0),\"\")","v":""}]
[{"$nulls":10},{"$f":"IF(ISNUMBER(SEARCH($A$3,L2320)),MAX($K$1:K2319)+1,0)","v":0},"Modi Rubber Ltd","MODIRUBB.BO",{"$nulls":12},{"$f":"IFERROR(VLOOKUP(ROWS($Z$2:Z2320),K2320:$L$6000,2,0),\"\")","v":""},{"$f":"IFERROR(VLOOKUP(ROWS($AA$2:AA2320),K2320:$M$6000,3,0),\"\")","v":""}]
[{"$nulls":10},{"$f":"IF(ISNUMBER(SEARCH($A$3,L2321)),MAX($K$1:K2320)+1,0)","v":0},"Modipon Ltd","MODIPON.BO",{"$nulls":12},{"$f":"IFERROR(VLOOKUP(ROWS($Z$2:Z2321),K2321:$L$6000,2,0),\"\")","v":""},{"$f":"IFERROR(VLOOKUP(ROWS($AA$2:AA2321),K2321:$M$6000,3,0),\"\")","v":""}]
[{"$nulls":10},{"$f":"IF(ISNUMBER(SEARCH($A$3,L2322)),MAX($K$1:K2321)+1,0)","v":0},"Modison Metals Ltd","MODISNME.BO",{"$nulls":12},{"$f":"IFERROR(VLOOKUP(ROWS($Z$2:Z2322),K2322:$L$6000,2,0),\"\")","v":""},{"$f":"IFERROR(VLOOKUP(ROWS($AA$2:AA2322),K2322:$M$6000,3,0),\"\")","v":""}]
[{"$nulls":10},{"$f":"IF(ISNUMBER(SEARCH($A$3,L2323)),MAX($K$1:K2322)+1,0)","v":0},"Mohit Industries Ltd","MOHITIND.BO",{"$nulls":12},{"$f":"IFERROR(VLOOKUP(ROWS($Z$2:Z2323),K2323:$L$6000,2,0),\"\")","v":""},{"$f":"IFERROR(VLOOKUP(ROWS($AA$2:AA2323),K2323:$M$6000,3,0),\"\")","v":""}]
[{"$nulls":10},{"$f":"IF(ISNUMBER(SEARCH($A$3,L2324)),MAX($K$1:K2323)+1,0)","v":0},"Mohit Paper Mills Ltd","MOHITPPR.BO",{"$nulls":12},{"$f":"IFERROR(VLOOKUP(ROWS($Z$2:Z2324),K2324:$L$6000,2,0),\"\")","v":""},{"$f":"IFERROR(VLOOKUP(ROWS($AA$2:AA2324),K2324:$M$6000,3,0),\"\")","v":""}]
[{"$nulls":10},{"$f":"IF(ISNUMBER(SEARCH($A$3,L2325)),MAX($K$1:K2324)+1,0)","v":0},"Mold-tek Packaging Ltd","MOLDTKPLA.BO",{"$nulls":12},{"$f":"IFERROR(VLOOKUP(ROWS($Z$2:Z2325),K2325:$L$6000,2,0),\"\")","v":""},{"$f":"IFERROR(VLOOKUP(ROWS($AA$2:AA2325),K2325:$M$6000,3,0),\"\")","v":""}]
[{"$nulls":10},{"$f":"IF(ISNUMBER(SEARCH($A$3,L2326)),MAX($K$1:K2325)+1,0)","v":0},"Mold-Tek Technologies Ltd","MOLDTEK.BO",{"$nulls":12},{"$f":"IFERROR(VLOOKUP(ROWS($Z$2:Z2326),K2326:$L$6000,2,0),\"\")","v":""},{"$f":"IFERROR(VLOOKUP(ROWS($AA$2:AA2326),K2326:$M$6000,3,0),\"\")","v":""}]
[{"$nulls":10},{"$f":"IF(ISNUMBER(SEARCH($A$3,L2327)),MAX($K$1:K2326)+1,0)","v":0},"Monnet Industries Ltd","MONNETIN.BO",{"$nulls":12},{"$f":"IFERROR(VLOOKUP(ROWS($Z$2:Z2327),K2327:$L$6000,2,0),\"\")","v":""},{"$f":"IFERROR(VLOOKUP(ROWS($AA$2:AA2327),K2327:$M$6000,3,0),\"\")","v":""}]
[{"$nulls":10},{"$f":"IF(ISNUMBER(SEARCH($A$3,L2328)),MAX($K$1:K2327)+1,0)","v":0},"Monnet Ispat & Energy Ltd","MONNET.BO",{"$nulls":12},{"$f":"IFERROR(VLOOKUP(ROWS($Z$2:Z2328),K2328:$L$6000,2,0),\"\")","v":""},{"$f":"IFERROR(VLOOKUP(ROWS($AA$2:AA2328),K2328:$M$6000,3,0),\"\")","v":""}]
[{"$nulls":10},{"$f":"IF(ISNUMBER(SEARCH($A$3,L2329)),MAX($K$1:K2328)+1,0)","v":0},"Monnet Ispat & Energy Ltd","MONNETISP.NS",{"$nulls":12},{"$f":"IFERROR(VLOOKUP(ROWS($Z$2:Z2329),K2329:$L$6000,2,0),\"\")","v":""},{"$f":"IFERROR(VLOOKUP(ROWS($AA$2:AA2329),K2329:$M$6000,3,0),\"\")","v":""}]
[{"$nulls":10},{"$f":"IF(ISNUMBER(SEARCH($A$3,L2330)),MAX($K$1:K2329)+1,0)","v":0},"Monnet Project Developers Ltd","MONETSUG.BO",{"$nulls":12},{"$f":"IFERROR(VLOOKUP(ROWS($Z$2:Z2330),K2330:$L$6000,2,0),\"\")","v":""},{"$f":"IFERROR(VLOOKUP(ROWS($AA$2:AA2330),K2330:$M$6000,3,0),\"\")","v":""}]
[{"$nulls":10},{"$f":"IF(ISNUMBER(SEARCH($A$3,L2331)),MAX($K$1:K2330)+1,0)","v":0},"Monotype India Ltd","MONOT.BO",{"$nulls":12},{"$f":"IFERROR(VLOOKUP(ROWS($Z$2:Z2331),K2331:$L$6000,2,0),\"\")","v":""},{"$f":"IFERROR(VLOOKUP(ROWS($AA$2:AA2331),K2331:$M$6000,3,0),\"\")","v":""}]
[{"$nulls":10},{"$f":"IF(ISNUMBER(SEARCH($A$3,L2332)),MAX($K$1:K2331)+1,0)","v":0},"Monsanto India Ltd","MONSANTO.BO",{"$nulls":12},{"$f":"IFERROR(VLOOKUP(ROWS($Z$2:Z2332),K2332:$L$6000,2,0),\"\")","v":""},{"$f":"IFERROR(VLOOKUP(ROWS($AA$2:AA2332),K2332:$M$6000,3,0),\"\")","v":""}]
[{"$nulls":10},{"$f":"IF(ISNUMBER(SEARCH($A$3,L2333)),MAX($K$1:K2332)+1,0)","v":0},"Monsanto India Ltd","MONSANTO.NS",{"$nulls":12},{"$f":"IFERROR(VLOOKUP(ROWS($Z$2:Z2333),K2333:$L$6000,2,0),\"\")","v":""},{"$f":"IFERROR(VLOOKUP(ROWS($AA$2:AA2333),K2333:$M$6000,3,0),\"\")","v":""}]
[{"$nulls":10},{"$f":"IF(ISNUMBER(SEARCH($A$3,L2334)),MAX($K$1:K2333)+1,0)","v":0},"Morarka Finance Ltd","MORARKFI.BO",{"$nulls":12},{"$f":"IFERROR(VLOOKUP(ROWS($Z$2:Z2334),K2334:$L$6000,2,0),\"\")","v":""},{"$f":"IFERROR(VLOOKUP(ROWS($AA$2:AA2334),K2334:$M$6000,3,0),\"\")","v":""}]
[{"$nulls":10},{"$f":"IF(ISNUMBER(SEARCH($A$3,L2335)),MAX($K$1:K2334)+1,0)","v":0},"Morepen Laboratories Ltd","MOREPENLAB.BO",{"$nulls":12},{"$f":"IFERROR(VLOOKUP(ROWS($Z$2:Z2335),K2335:$L$6000,2,0),\"\")","v":""},{"$f":"IFERROR(VLOOKUP(ROWS($AA$2:AA2335),K2335:$M$6000,3,0),\"\")","v":""}]
[{"$nulls":10},{"$f":"IF(ISNUMBER(SEARCH($A$3,L2336)),MAX($K$1:K2335)+1,0)","v":0},"Morepen Laboratories Ltd","MOREPENLA.NS",{"$nulls":12},{"$f":"IFERROR(VLOOKUP(ROWS($Z$2:Z2336),K2336:$L$6000,2,0),\"\")","v":""},{"$f":"IFERROR(VLOOKUP(ROWS($AA$2:AA2336),K2336:$M$6000,3,0),\"\")","v":""}]
[{"$nulls":10},{"$f":"IF(ISNUMBER(SEARCH($A$3,L2337)),MAX($K$1:K2336)+1,0)","v":0},"Morgan Ventures Ltd","MORGAN.BO",{"$nulls":12},{"$f":"IFERROR(VLOOKUP(ROWS($Z$2:Z2337),K2337:$L$6000,2,0),\"\")","v":""},{"$f":"IFERROR(VLOOKUP(ROWS($AA$2:AA2337),K2337:$M$6000,3,0),\"\")","v":""}]
[{"$nulls":10},{"$f":"IF(ISNUMBER(SEARCH($A$3,L2338)),MAX($K$1:K2337)+1,0)","v":0},"Morganite Crucible (India) Ltd","MORGANITE.BO",{"$nulls":12},{"$f":"IFERROR(VLOOKUP(ROWS($Z$2:Z2338),K2338:$L$6000,2,0),\"\")","v":""},{"$f":"IFERROR(VLOOKUP(ROWS($AA$2:AA2338),K2338:$M$6000,3,0),\"\")","v":""}]
[{"$nulls":10},{"$f":"IF(ISNUMBER(SEARCH($A$3,L2339)),MAX($K$1:K2338)+1,0)","v":0},"Moschip Semiconductor Tec","MOSCHIP.BO",{"$nulls":12},{"$f":"IFERROR(VLOOKUP(ROWS($Z$2:Z2339),K2339:$L$6000,2,0),\"\")","v":""},{"$f":"IFERROR(VLOOKUP(ROWS($AA$2:AA2339),K2339:$M$6000,3,0),\"\")","v":""}]
[{"$nulls":10},{"$f":"IF(ISNUMBER(SEARCH($A$3,L2340)),MAX($K$1:K2339)+1,0)","v":0},"Moser Baer India Ltd","MOSERBAER.BO",{"$nulls":12},{"$f":"IFERROR(VLOOKUP(ROWS($Z$2:Z2340),K2340:$L$6000,2,0),\"\")","v":""},{"$f":"IFERROR(VLOOKUP(ROWS($AA$2:AA2340),K2340:$M$6000,3,0),\"\")","v":""}]
[{"$nulls":10},{"$f":"IF(ISNUMBER(SEARCH($A$3,L2341)),MAX($K$1:K2340)+1,0)","v":0},"Moser Baer India Ltd","MOSERBAER.NS",{"$nulls":12},{"$f":"IFERROR(VLOOKUP(ROWS($Z$2:Z2341),K2341:$L$6000,2,0),\"\")","v":""},{"$f":"IFERROR(VLOOKUP(ROWS($AA$2:AA2341),K2341:$M$6000,3,0),\"\")","v":""}]
[{"$nulls":10},{"$f":"IF(ISNUMBER(SEARCH($A$3,L2342)),MAX($K$1:K2341)+1,0)","v":0},"Motherson Sumi Systems Ltd","MOTHERSUMI.BO",{"$nulls":12},{"$f":"IFERROR(VLOOKUP(ROWS($Z$2:Z2342),K2342:$L$6000,2,0),\"\")","v":""},{"$f":"IFERROR(VLOOKUP(ROWS($AA$2:AA2342),K2342:$M$6000,3,0),\"\")","v":""}]
[{"$nulls":10},{"$f":"IF(ISNUMBER(SEARCH($A$3,L2343)),MAX($K$1:K2342)+1,0)","v":0},"Motherson Sumi Systems Ltd","MOTHERSUM.NS",{"$nulls":12},{"$f":"IFERROR(VLOOKUP(ROWS($Z$2:Z2343),K2343:$L$6000,2,0),\"\")","v":""},{"$f":"IFERROR(VLOOKUP(ROWS($AA$2:AA2343),K2343:$M$6000,3,0),\"\")","v":""}]
[{"$nulls":10},{"$f":"IF(ISNUMBER(SEARCH($A$3,L2344)),MAX($K$1:K2343)+1,0)","v":0},"Motilal Oswal Financial S","MOTILALFS.BO",{"$nulls":12},{"$f":"IFERROR(VLOOKUP(ROWS($Z$2:Z2344),K2344:$L$6000,2,0),\"\")","v":""},{"$f":"IFERROR(VLOOKUP(ROWS($AA$2:AA2344),K2344:$M$6000,3,0),\"\")","v":""}]
[{"$nulls":10},{"$f":"IF(ISNUMBER(SEARCH($A$3,L2345)),MAX($K$1:K2344)+1,0)","v":0},"Motilal Oswal Financial S","MOTILALOF.NS",{"$nulls":12},{"$f":"IFERROR(VLOOKUP(ROWS($Z$2:Z2345),K2345:$L$6000,2,0),\"\")","v":""},{"$f":"IFERROR(VLOOKUP(ROWS($AA$2:AA2345),K2345:$M$6000,3,0),\"\")","v":""}]
[{"$nulls":10},{"$f":"IF(ISNUMBER(SEARCH($A$3,L2346)),MAX($K$1:K2345)+1,0)","v":0},"Motor & General Finance Ltd","MNGF.BO",{"$nulls":12},{"$f":"IFERROR(VLOOKUP(ROWS($Z$2:Z2346),K2346:$L$6000,2,0),\"\")","v":""},{"$f":"IFERROR(VLOOKUP(ROWS($AA$2:AA2346),K2346:$M$6000,3,0),\"\")","v":""}]
[{"$nulls":10},{"$f":"IF(ISNUMBER(SEARCH($A$3,L2347)),MAX($K$1:K2346)+1,0)","v":0},"Motor & General Finance Ltd","MOTOGENFI.NS",{"$nulls":12},{"$f":"IFERROR(VLOOKUP(ROWS($Z$2:Z2347),K2347:$L$6000,2,0),\"\")","v":""},{"$f":"IFERROR(VLOOKUP(ROWS($AA$2:AA2347),K2347:$M$6000,3,0),\"\")","v":""}]
[{"$nulls":10},{"$f":"IF(ISNUMBER(SEARCH($A$3,L2348)),MAX($K$1:K2347)+1,0)","v":0},"Mount Everest Mineral","MOUNTEVE.BO",{"$nulls":12},{"$f":"IFERROR(VLOOKUP(ROWS($Z$2:Z2348),K2348:$L$6000,2,0),\"\")","v":""},{"$f":"IFERROR(VLOOKUP(ROWS($AA$2:AA2348),K2348:$M$6000,3,0),\"\")","v":""}]
[{"$nulls":10},{"$f":"IF(ISNUMBER(SEARCH($A$3,L2349)),MAX($K$1:K2348)+1,0)","v":0},"Mount Shivalik Industries Ltd","MOUNTSHIQ.BO",{"$nulls":12},{"$f":"IFERROR(VLOOKUP(ROWS($Z$2:Z2349),K2349:$L$6000,2,0),\"\")","v":""},{"$f":"IFERROR(VLOOKUP(ROWS($AA$2:AA2349),K2349:$M$6000,3,0),\"\")","v":""}]
[{"$nulls":10},{"$f":"IF(ISNUMBER(SEARCH($A$3,L2350)),MAX($K$1:K2349)+1,0)","v":0},"Moving Picture Co (India) Ltd","MOVINGPI.BO",{"$nulls":12},{"$f":"IFERROR(VLOOKUP(ROWS($Z$2:Z2350),K2350:$L$6000,2,0),\"\")","v":""},{"$f":"IFERROR(VLOOKUP(ROWS($AA$2:AA2350),K2350:$M$6000,3,0),\"\")","v":""}]
[{"$nulls":10},{"$f":"IF(ISNUMBER(SEARCH($A$3,L2351)),MAX($K$1:K2350)+1,0)","v":0},"MPF Systems Ltd","MPFSL.BO",{"$nulls":12},{"$f":"IFERROR(VLOOKUP(ROWS($Z$2:Z2351),K2351:$L$6000,2,0),\"\")","v":""},{"$f":"IFERROR(VLOOKUP(ROWS($AA$2:AA2351),K2351:$M$6000,3,0),\"\")","v":""}]
[{"$nulls":10},{"$f":"IF(ISNUMBER(SEARCH($A$3,L2352)),MAX($K$1:K2351)+1,0)","v":0},"Mphasis Ltd","MPHASIS.BO",{"$nulls":12},{"$f":"IFERROR(VLOOKUP(ROWS($Z$2:Z2352),K2352:$L$6000,2,0),\"\")","v":""},{"$f":"IFERROR(VLOOKUP(ROWS($AA$2:AA2352),K2352:$M$6000,3,0),\"\")","v":""}]
[{"$nulls":10},{"$f":"IF(ISNUMBER(SEARCH($A$3,L2353)),MAX($K$1:K2352)+1,0)","v":0},"Mphasis Ltd","MPHASIS.NS",{"$nulls":12},{"$f":"IFERROR(VLOOKUP(ROWS($Z$2:Z2353),K2353:$L$6000,2,0),\"\")","v":""},{"$f":"IFERROR(VLOOKUP(ROWS($AA$2:AA2353),K2353:$M$6000,3,0),\"\")","v":""}]
[{"$nulls":10},{"$f":"IF(ISNUMBER(SEARCH($A$3,L2354)),MAX($K$1:K2353)+1,0)","v":0},"MPIL Corp Ltd","MPILCORPL.BO",{"$nulls":12},{"$f":"IFERROR(VLOOKUP(ROWS($Z$2:Z2354),K2354:$L$6000,2,0),\"\")","v":""},{"$f":"IFERROR(VLOOKUP(ROWS($AA$2:AA2354),K2354:$M$6000,3,0),\"\")","v":""}]
[{"$nulls":10},{"$f":"IF(ISNUMBER(SEARCH($A$3,L2355)),MAX($K$1:K2354)+1,0)","v":0},"MPS Ltd","MPSLTD.BO",{"$nulls":12},{"$f":"IFERROR(VLOOKUP(ROWS($Z$2:Z2355),K2355:$L$6000,2,0),\"\")","v":""},{"$f":"IFERROR(VLOOKUP(ROWS($AA$2:AA2355),K2355:$M$6000,3,0),\"\")","v":""}]
[{"$nulls":10},{"$f":"IF(ISNUMBER(SEARCH($A$3,L2356)),MAX($K$1:K2355)+1,0)","v":0},"MPS Ltd","MPSLTD.NS",{"$nulls":12},{"$f":"IFERROR(VLOOKUP(ROWS($Z$2:Z2356),K2356:$L$6000,2,0),\"\")","v":""},{"$f":"IFERROR(VLOOKUP(ROWS($AA$2:AA2356),K2356:$M$6000,3,0),\"\")","v":""}]
[{"$nulls":10},{"$f":"IF(ISNUMBER(SEARCH($A$3,L2357)),MAX($K$1:K2356)+1,0)","v":0},"MRF Ltd","MRF.BO",{"$nulls":12},{"$f":"IFERROR(VLOOKUP(ROWS($Z$2:Z2357),K2357:$L$6000,2,0),\"\")","v":""},{"$f":"IFERROR(VLOOKUP(ROWS($AA$2:AA2357),K2357:$M$6000,3,0),\"\")","v":""}]
[{"$nulls":10},{"$f":"IF(ISNUMBER(SEARCH($A$3,L2358)),MAX($K$1:K2357)+1,0)","v":0},"MRF Ltd","MRF.NS",{"$nulls":12},{"$f":"IFERROR(VLOOKUP(ROWS($Z$2:Z2358),K2358:$L$6000,2,0),\"\")","v":""},{"$f":"IFERROR(VLOOKUP(ROWS($AA$2:AA2358),K2358:$M$6000,3,0),\"\")","v":""}]
[{"$nulls":10},{"$f":"IF(ISNUMBER(SEARCH($A$3,L2359)),MAX($K$1:K2358)+1,0)","v":0},"MRO TEK Ltd","MROTEK.BO",{"$nulls":12},{"$f":"IFERROR(VLOOKUP(ROWS($Z$2:Z2359),K2359:$L$6000,2,0),\"\")","v":""},{"$f":"IFERROR(VLOOKUP(ROWS($AA$2:AA2359),K2359:$M$6000,3,0),\"\")","v":""}]
[{"$nulls":10},{"$f":"IF(ISNUMBER(SEARCH($A$3,L2360)),MAX($K$1:K2359)+1,0)","v":0},"MRO TEK Ltd","MRO-TEK.NS",{"$nulls":12},{"$f":"IFERROR(VLOOKUP(ROWS($Z$2:Z2360),K2360:$L$6000,2,0),\"\")","v":""},{"$f":"IFERROR(VLOOKUP(ROWS($AA$2:AA2360),K2360:$M$6000,3,0),\"\")","v":""}]
[{"$nulls":10},{"$f":"IF(ISNUMBER(SEARCH($A$3,L2361)),MAX($K$1:K2360)+1,0)","v":0},"MSP Steel & Power Ltd","MSPSTEEL.BO",{"$nulls":12},{"$f":"IFERROR(VLOOKUP(ROWS($Z$2:Z2361),K2361:$L$6000,2,0),\"\")","v":""},{"$f":"IFERROR(VLOOKUP(ROWS($AA$2:AA2361),K2361:$M$6000,3,0),\"\")","v":""}]
[{"$nulls":10},{"$f":"IF(ISNUMBER(SEARCH($A$3,L2362)),MAX($K$1:K2361)+1,0)","v":0},"MSP Steel & Power Ltd","MSPL.NS",{"$nulls":12},{"$f":"IFERROR(VLOOKUP(ROWS($Z$2:Z2362),K2362:$L$6000,2,0),\"\")","v":""},{"$f":"IFERROR(VLOOKUP(ROWS($AA$2:AA2362),K2362:$M$6000,3,0),\"\")","v":""}]
[{"$nulls":10},{"$f":"IF(ISNUMBER(SEARCH($A$3,L2363)),MAX($K$1:K2362)+1,0)","v":0},"Mudit Finlease Ltd","MUDITFN.BO",{"$nulls":12},{"$f":"IFERROR(VLOOKUP(ROWS($Z$2:Z2363),K2363:$L$6000,2,0),\"\")","v":""},{"$f":"IFERROR(VLOOKUP(ROWS($AA$2:AA2363),K2363:$M$6000,3,0),\"\")","v":""}]
[{"$nulls":10},{"$f":"IF(ISNUMBER(SEARCH($A$3,L2364)),MAX($K$1:K2363)+1,0)","v":0},"Mudra Lifestyle Ltd","MUDRA.BO",{"$nulls":12},{"$f":"IFERROR(VLOOKUP(ROWS($Z$2:Z2364),K2364:$L$6000,2,0),\"\")","v":""},{"$f":"IFERROR(VLOOKUP(ROWS($AA$2:AA2364),K2364:$M$6000,3,0),\"\")","v":""}]
[{"$nulls":10},{"$f":"IF(ISNUMBER(SEARCH($A$3,L2365)),MAX($K$1:K2364)+1,0)","v":0},"Mudra Lifestyle Ltd","MUDRA.NS",{"$nulls":12},{"$f":"IFERROR(VLOOKUP(ROWS($Z$2:Z2365),K2365:$L$6000,2,0),\"\")","v":""},{"$f":"IFERROR(VLOOKUP(ROWS($AA$2:AA2365),K2365:$M$6000,3,0),\"\")","v":""}]
[{"$nulls":10},{"$f":"IF(ISNUMBER(SEARCH($A$3,L2366)),MAX($K$1:K2365)+1,0)","v":0},"Mukand Engineers Ltd","MUKANDEN.BO",{"$nulls":12},{"$f":"IFERROR(VLOOKUP(ROWS($Z$2:Z2366),K2366:$L$6000,2,0),\"\")","v":""},{"$f":"IFERROR(VLOOKUP(ROWS($AA$2:AA2366),K2366:$M$6000,3,0),\"\")","v":""}]
[{"$nulls":10},{"$f":"IF(ISNUMBER(SEARCH($A$3,L2367)),MAX($K$1:K2366)+1,0)","v":0},"Mukand Engineers Ltd","MUKANDENG.NS",{"$nulls":12},{"$f":"IFERROR(VLOOKUP(ROWS($Z$2:Z2367),K2367:$L$6000,2,0),\"\")","v":""},{"$f":"IFERROR(VLOOKUP(ROWS($AA$2:AA2367),K2367:$M$6000,3,0),\"\")","v":""}]
[{"$nulls":10},{"$f":"IF(ISNUMBER(SEARCH($A$3,L2368)),MAX($K$1:K2367)+1,0)","v":0},"Mukand Ltd","MUKANDLTD.BO",{"$nulls":12},{"$f":"IFERROR(VLOOKUP(ROWS($Z$2:Z2368),K2368:$L$6000,2,0),\"\")","v":""},{"$f":"IFERROR(VLOOKUP(ROWS($AA$2:AA2368),K2368:$M$6000,3,0),\"\")","v":""}]
[{"$nulls":10},{"$f":"IF(ISNUMBER(SEARCH($A$3,L2369)),MAX($K$1:K2368)+1,0)","v":0},"Mukand Ltd","MUKANDLTD.NS",{"$nulls":12},{"$f":"IFERROR(VLOOKUP(ROWS($Z$2:Z2369),K2369:$L$6000,2,0),\"\")","v":""},{"$f":"IFERROR(VLOOKUP(ROWS($AA$2:AA2369),K2369:$M$6000,3,0),\"\")","v":""}]
[{"$nulls":10},{"$f":"IF(ISNUMBER(SEARCH($A$3,L2370)),MAX($K$1:K2369)+1,0)","v":0},"Mukat Pipes Ltd","MUKATPIP.BO",{"$nulls":12},{"$f":"IFERROR(VLOOKUP(ROWS($Z$2:Z2370),K2370:$L$6000,2,0),\"\")","v":""},{"$f":"IFERROR(VLOOKUP(ROWS($AA$2:AA2370),K2370:$M$6000,3,0),\"\")","v":""}]
[{"$nulls":10},{"$f":"IF(ISNUMBER(SEARCH($A$3,L2371)),MAX($K$1:K2370)+1,0)","v":0},"Mukesh Babu Financial Ser","MUKESHB.BO",{"$nulls":12},{"$f":"IFERROR(VLOOKUP(ROWS($Z$2:Z2371),K2371:$L$6000,2,0),\"\")","v":""},{"$f":"IFERROR(VLOOKUP(ROWS($AA$2:AA2371),K2371:$M$6000,3,0),\"\")","v":""}]
[{"$nulls":10},{"$f":"IF(ISNUMBER(SEARCH($A$3,L2372)),MAX($K$1:K2371)+1,0)","v":0},"Mukesh Steels Ltd","MUKESTL.BO",{"$nulls":12},{"$f":"IFERROR(VLOOKUP(ROWS($Z$2:Z2372),K2372:$L$6000,2,0),\"\")","v":""},{"$f":"IFERROR(VLOOKUP(ROWS($AA$2:AA2372),K2372:$M$6000,3,0),\"\")","v":""}]
[{"$nulls":10},{"$f":"IF(ISNUMBER(SEARCH($A$3,L2373)),MAX($K$1:K2372)+1,0)","v":0},"Mukesh Strips Ltd","MUKSTRI.BO",{"$nulls":12},{"$f":"IFERROR(VLOOKUP(ROWS($Z$2:Z2373),K2373:$L$6000,2,0),\"\")","v":""},{"$f":"IFERROR(VLOOKUP(ROWS($AA$2:AA2373),K2373:$M$6000,3,0),\"\")","v":""}]
[{"$nulls":10},{"$f":"IF(ISNUMBER(SEARCH($A$3,L2374)),MAX($K$1:K2373)+1,0)","v":0},"Mukta Arts Ltd","MUKTAARTS.BO",{"$nulls":12},{"$f":"IFERROR(VLOOKUP(ROWS($Z$2:Z2374),K2374:$L$6000,2,0),\"\")","v":""},{"$f":"IFERROR(VLOOKUP(ROWS($AA$2:AA2374),K2374:$M$6000,3,0),\"\")","v":""}]
[{"$nulls":10},{"$f":"IF(ISNUMBER(SEARCH($A$3,L2375)),MAX($K$1:K2374)+1,0)","v":0},"Mukta Arts Ltd","MUKTAARTS.NS",{"$nulls":12},{"$f":"IFERROR(VLOOKUP(ROWS($Z$2:Z2375),K2375:$L$6000,2,0),\"\")","v":""},{"$f":"IFERROR(VLOOKUP(ROWS($AA$2:AA2375),K2375:$M$6000,3,0),\"\")","v":""}]
[{"$nulls":10},{"$f":"IF(ISNUMBER(SEARCH($A$3,L2376)),MAX($K$1:K2375)+1,0)","v":0},"Muller And Phipps (India) Ltd","MULLER.BO",{"$nulls":12},{"$f":"IFERROR(VLOOKUP(ROWS($Z$2:Z2376),K2376:$L$6000,2,0),\"\")","v":""},{"$f":"IFERROR(VLOOKUP(ROWS($AA$2:AA2376),K2376:$M$6000,3,0),\"\")","v":""}]
[{"$nulls":10},{"$f":"IF(ISNUMBER(SEARCH($A$3,L2377)),MAX($K$1:K2376)+1,0)","v":0},"Multi Commodity Exchange","MCX.NS",{"$nulls":12},{"$f":"IFERROR(VLOOKUP(ROWS($Z$2:Z2377),K2377:$L$6000,2,0),\"\")","v":""},{"$f":"IFERROR(VLOOKUP(ROWS($AA$2:AA2377),K2377:$M$6000,3,0),\"\")","v":""}]
[{"$nulls":10},{"$f":"IF(ISNUMBER(SEARCH($A$3,L2378)),MAX($K$1:K2377)+1,0)","v":0},"Multibase India Ltd","MULTIBASE.BO",{"$nulls":12},{"$f":"IFERROR(VLOOKUP(ROWS($Z$2:Z2378),K2378:$L$6000,2,0),\"\")","v":""},{"$f":"IFERROR(VLOOKUP(ROWS($AA$2:AA2378),K2378:$M$6000,3,0),\"\")","v":""}]
[{"$nulls":10},{"$f":"IF(ISNUMBER(SEARCH($A$3,L2379)),MAX($K$1:K2378)+1,0)","v":0},"Munjal Showa Ltd","MUNJALSHOWA.BO",{"$nulls":12},{"$f":"IFERROR(VLOOKUP(ROWS($Z$2:Z2379),K2379:$L$6000,2,0),\"\")","v":""},{"$f":"IFERROR(VLOOKUP(ROWS($AA$2:AA2379),K2379:$M$6000,3,0),\"\")","v":""}]
[{"$nulls":10},{"$f":"IF(ISNUMBER(SEARCH($A$3,L2380)),MAX($K$1:K2379)+1,0)","v":0},"Munjal Showa Ltd","MUNJALSHO.NS",{"$nulls":12},{"$f":"IFERROR(VLOOKUP(ROWS($Z$2:Z2380),K2380:$L$6000,2,0),\"\")","v":""},{"$f":"IFERROR(VLOOKUP(ROWS($AA$2:AA2380),K2380:$M$6000,3,0),\"\")","v":""}]
[{"$nulls":10},{"$f":"IF(ISNUMBER(SEARCH($A$3,L2381)),MAX($K$1:K2380)+1,0)","v":0},"Munoth Capital Market Ltd","MUNCAPM.BO",{"$nulls":12},{"$f":"IFERROR(VLOOKUP(ROWS($Z$2:Z2381),K2381:$L$6000,2,0),\"\")","v":""},{"$f":"IFERROR(VLOOKUP(ROWS($AA$2:AA2381),K2381:$M$6000,3,0),\"\")","v":""}]
[{"$nulls":10},{"$f":"IF(ISNUMBER(SEARCH($A$3,L2382)),MAX($K$1:K2381)+1,0)","v":0},"Munoth Communication Ltd","MUNOTHI.BO",{"$nulls":12},{"$f":"IFERROR(VLOOKUP(ROWS($Z$2:Z2382),K2382:$L$6000,2,0),\"\")","v":""},{"$f":"IFERROR(VLOOKUP(ROWS($AA$2:AA2382),K2382:$M$6000,3,0),\"\")","v":""}]
[{"$nulls":10},{"$f":"IF(ISNUMBER(SEARCH($A$3,L2383)),MAX($K$1:K2382)+1,0)","v":0},"Munoth Financial Services Ltd","MUNOTHFI.BO",{"$nulls":12},{"$f":"IFERROR(VLOOKUP(ROWS($Z$2:Z2383),K2383:$L$6000,2,0),\"\")","v":""},{"$f":"IFERROR(VLOOKUP(ROWS($AA$2:AA2383),K2383:$M$6000,3,0),\"\")","v":""}]
[{"$nulls":10},{"$f":"IF(ISNUMBER(SEARCH($A$3,L2384)),MAX($K$1:K2383)+1,0)","v":0},"Murli Industries Ltd","MURLIINDU.BO",{"$nulls":12},{"$f":"IFERROR(VLOOKUP(ROWS($Z$2:Z2384),K2384:$L$6000,2,0),\"\")","v":""},{"$f":"IFERROR(VLOOKUP(ROWS($AA$2:AA2384),K2384:$M$6000,3,0),\"\")","v":""}]
[{"$nulls":10},{"$f":"IF(ISNUMBER(SEARCH($A$3,L2385)),MAX($K$1:K2384)+1,0)","v":0},"Murli Industries Ltd","MURLIIND.NS",{"$nulls":12},{"$f":"IFERROR(VLOOKUP(ROWS($Z$2:Z2385),K2385:$L$6000,2,0),\"\")","v":""},{"$f":"IFERROR(VLOOKUP(ROWS($AA$2:AA2385),K2385:$M$6000,3,0),\"\")","v":""}]
[{"$nulls":10},{"$f":"IF(ISNUMBER(SEARCH($A$3,L2386)),MAX($K$1:K2385)+1,0)","v":0},"Murudeshwar Ceramics Ltd","MURUDCER.BO",{"$nulls":12},{"$f":"IFERROR(VLOOKUP(ROWS($Z$2:Z2386),K2386:$L$6000,2,0),\"\")","v":""},{"$f":"IFERROR(VLOOKUP(ROWS($AA$2:AA2386),K2386:$M$6000,3,0),\"\")","v":""}]
[{"$nulls":10},{"$f":"IF(ISNUMBER(SEARCH($A$3,L2387)),MAX($K$1:K2386)+1,0)","v":0},"Murudeshwar Ceramics Ltd","MURUDCERA.NS",{"$nulls":12},{"$f":"IFERROR(VLOOKUP(ROWS($Z$2:Z2387),K2387:$L$6000,2,0),\"\")","v":""},{"$f":"IFERROR(VLOOKUP(ROWS($AA$2:AA2387),K2387:$M$6000,3,0),\"\")","v":""}]
[{"$nulls":10},{"$f":"IF(ISNUMBER(SEARCH($A$3,L2388)),MAX($K$1:K2387)+1,0)","v":0},"Muthoot Capital Services Ltd","MUTHTFN.BO",{"$nulls":12},{"$f":"IFERROR(VLOOKUP(ROWS($Z$2:Z2388),K2388:$L$6000,2,0),\"\")","v":""},{"$f":"IFERROR(VLOOKUP(ROWS($AA$2:AA2388),K2388:$M$6000,3,0),\"\")","v":""}]
[{"$nulls":10},{"$f":"IF(ISNUMBER(SEARCH($A$3,L2389)),MAX($K$1:K2388)+1,0)","v":0},"MVL Ltd","MVL.BO",{"$nulls":12},{"$f":"IFERROR(VLOOKUP(ROWS($Z$2:Z2389),K2389:$L$6000,2,0),\"\")","v":""},{"$f":"IFERROR(VLOOKUP(ROWS($AA$2:AA2389),K2389:$M$6000,3,0),\"\")","v":""}]
[{"$nulls":10},{"$f":"IF(ISNUMBER(SEARCH($A$3,L2390)),MAX($K$1:K2389)+1,0)","v":0},"MW Unitexx Ltd","UNITEX.BO",{"$nulls":12},{"$f":"IFERROR(VLOOKUP(ROWS($Z$2:Z2390),K2390:$L$6000,2,0),\"\")","v":""},{"$f":"IFERROR(VLOOKUP(ROWS($AA$2:AA2390),K2390:$M$6000,3,0),\"\")","v":""}]
[{"$nulls":10},{"$f":"IF(ISNUMBER(SEARCH($A$3,L2391)),MAX($K$1:K2390)+1,0)","v":0},"Mysore Paper Mills Ltd","MYSPAPE.BO",{"$nulls":12},{"$f":"IFERROR(VLOOKUP(ROWS($Z$2:Z2391),K2391:$L$6000,2,0),\"\")","v":""},{"$f":"IFERROR(VLOOKUP(ROWS($AA$2:AA2391),K2391:$M$6000,3,0),\"\")","v":""}]
[{"$nulls":10},{"$f":"IF(ISNUMBER(SEARCH($A$3,L2392)),MAX($K$1:K2391)+1,0)","v":0},"Mysore Petro Chemicals Ltd","MYSORPET.BO",{"$nulls":12},{"$f":"IFERROR(VLOOKUP(ROWS($Z$2:Z2392),K2392:$L$6000,2,0),\"\")","v":""},{"$f":"IFERROR(VLOOKUP(ROWS($AA$2:AA2392),K2392:$M$6000,3,0),\"\")","v":""}]
[{"$nulls":10},{"$f":"IF(ISNUMBER(SEARCH($A$3,L2393)),MAX($K$1:K2392)+1,0)","v":0},"N G Industries Ltd","NGIND.BO",{"$nulls":12},{"$f":"IFERROR(VLOOKUP(ROWS($Z$2:Z2393),K2393:$L$6000,2,0),\"\")","v":""},{"$f":"IFERROR(VLOOKUP(ROWS($AA$2:AA2393),K2393:$M$6000,3,0),\"\")","v":""}]
[{"$nulls":10},{"$f":"IF(ISNUMBER(SEARCH($A$3,L2394)),MAX($K$1:K2393)+1,0)","v":0},"N R International Ltd","NRINTER.BO",{"$nulls":12},{"$f":"IFERROR(VLOOKUP(ROWS($Z$2:Z2394),K2394:$L$6000,2,0),\"\")","v":""},{"$f":"IFERROR(VLOOKUP(ROWS($AA$2:AA2394),K2394:$M$6000,3,0),\"\")","v":""}]
[{"$nulls":10},{"$f":"IF(ISNUMBER(SEARCH($A$3,L2395)),MAX($K$1:K2394)+1,0)","v":0},"N2N Technologies Ltd","VISISME.BO",{"$nulls":12},{"$f":"IFERROR(VLOOKUP(ROWS($Z$2:Z2395),K2395:$L$6000,2,0),\"\")","v":""},{"$f":"IFERROR(VLOOKUP(ROWS($AA$2:AA2395),K2395:$M$6000,3,0),\"\")","v":""}]
[{"$nulls":10},{"$f":"IF(ISNUMBER(SEARCH($A$3,L2396)),MAX($K$1:K2395)+1,0)","v":0},"Nagarjuna Agritech Ltd","NAGTECH.BO",{"$nulls":12},{"$f":"IFERROR(VLOOKUP(ROWS($Z$2:Z2396),K2396:$L$6000,2,0),\"\")","v":""},{"$f":"IFERROR(VLOOKUP(ROWS($AA$2:AA2396),K2396:$M$6000,3,0),\"\")","v":""}]
[{"$nulls":10},{"$f":"IF(ISNUMBER(SEARCH($A$3,L2397)),MAX($K$1:K2396)+1,0)","v":0},"Nagreeka Capital","NAGREECAP.BO",{"$nulls":12},{"$f":"IFERROR(VLOOKUP(ROWS($Z$2:Z2397),K2397:$L$6000,2,0),\"\")","v":""},{"$f":"IFERROR(VLOOKUP(ROWS($AA$2:AA2397),K2397:$M$6000,3,0),\"\")","v":""}]
[{"$nulls":10},{"$f":"IF(ISNUMBER(SEARCH($A$3,L2398)),MAX($K$1:K2397)+1,0)","v":0},"Nagreeka Exports Ltd","NAGREEKA.BO",{"$nulls":12},{"$f":"IFERROR(VLOOKUP(ROWS($Z$2:Z2398),K2398:$L$6000,2,0),\"\")","v":""},{"$f":"IFERROR(VLOOKUP(ROWS($AA$2:AA2398),K2398:$M$6000,3,0),\"\")","v":""}]
[{"$nulls":10},{"$f":"IF(ISNUMBER(SEARCH($A$3,L2399)),MAX($K$1:K2398)+1,0)","v":0},"Nagreeka Exports Ltd","NAGREEKEX.NS",{"$nulls":12},{"$f":"IFERROR(VLOOKUP(ROWS($Z$2:Z2399),K2399:$L$6000,2,0),\"\")","v":""},{"$f":"IFERROR(VLOOKUP(ROWS($AA$2:AA2399),K2399:$M$6000,3,0),\"\")","v":""}]
[{"$nulls":10},{"$f":"IF(ISNUMBER(SEARCH($A$3,L2400)),MAX($K$1:K2399)+1,0)","v":0},"Nahar Capital & Financial","NAHARCAP.BO",{"$nulls":12},{"$f":"IFERROR(VLOOKUP(ROWS($Z$2:Z2400),K2400:$L$6000,2,0),\"\")","v":""},{"$f":"IFERROR(VLOOKUP(ROWS($AA$2:AA2400),K2400:$M$6000,3,0),\"\")","v":""}]
[{"$nulls":10},{"$f":"IF(ISNUMBER(SEARCH($A$3,L2401)),MAX($K$1:K2400)+1,0)","v":0},"Nahar Capital & Financial","NAHARCAP.NS",{"$nulls":12},{"$f":"IFERROR(VLOOKUP(ROWS($Z$2:Z2401),K2401:$L$6000,2,0),\"\")","v":""},{"$f":"IFERROR(VLOOKUP(ROWS($AA$2:AA2401),K2401:$M$6000,3,0),\"\")","v":""}]
[{"$nulls":10},{"$f":"IF(ISNUMBER(SEARCH($A$3,L2402)),MAX($K$1:K2401)+1,0)","v":0},"Nahar Industrial Enterpri","NAHARIND.BO",{"$nulls":12},{"$f":"IFERROR(VLOOKUP(ROWS($Z$2:Z2402),K2402:$L$6000,2,0),\"\")","v":""},{"$f":"IFERROR(VLOOKUP(ROWS($AA$2:AA2402),K2402:$M$6000,3,0),\"\")","v":""}]
[{"$nulls":10},{"$f":"IF(ISNUMBER(SEARCH($A$3,L2403)),MAX($K$1:K2402)+1,0)","v":0},"Nahar Industrial Enterpri","NAHARINDU.NS",{"$nulls":12},{"$f":"IFERROR(VLOOKUP(ROWS($Z$2:Z2403),K2403:$L$6000,2,0),\"\")","v":""},{"$f":"IFERROR(VLOOKUP(ROWS($AA$2:AA2403),K2403:$M$6000,3,0),\"\")","v":""}]
[{"$nulls":10},{"$f":"IF(ISNUMBER(SEARCH($A$3,L2404)),MAX($K$1:K2403)+1,0)","v":0},"Nahar Polyfilms Ltd","NAHARINVE.BO",{"$nulls":12},{"$f":"IFERROR(VLOOKUP(ROWS($Z$2:Z2404),K2404:$L$6000,2,0),\"\")","v":""},{"$f":"IFERROR(VLOOKUP(ROWS($AA$2:AA2404),K2404:$M$6000,3,0),\"\")","v":""}]
[{"$nulls":10},{"$f":"IF(ISNUMBER(SEARCH($A$3,L2405)),MAX($K$1:K2404)+1,0)","v":0},"Nahar Polyfilms Ltd","NAHARINVS.NS",{"$nulls":12},{"$f":"IFERROR(VLOOKUP(ROWS($Z$2:Z2405),K2405:$L$6000,2,0),\"\")","v":""},{"$f":"IFERROR(VLOOKUP(ROWS($AA$2:AA2405),K2405:$M$6000,3,0),\"\")","v":""}]
[{"$nulls":10},{"$f":"IF(ISNUMBER(SEARCH($A$3,L2406)),MAX($K$1:K2405)+1,0)","v":0},"Nahar Spinning Mills Ltd","NAHARSPG.BO",{"$nulls":12},{"$f":"IFERROR(VLOOKUP(ROWS($Z$2:Z2406),K2406:$L$6000,2,0),\"\")","v":""},{"$f":"IFERROR(VLOOKUP(ROWS($AA$2:AA2406),K2406:$M$6000,3,0),\"\")","v":""}]
[{"$nulls":10},{"$f":"IF(ISNUMBER(SEARCH($A$3,L2407)),MAX($K$1:K2406)+1,0)","v":0},"Nahar Spinning Mills Ltd","NAHARSPIN.NS",{"$nulls":12},{"$f":"IFERROR(VLOOKUP(ROWS($Z$2:Z2407),K2407:$L$6000,2,0),\"\")","v":""},{"$f":"IFERROR(VLOOKUP(ROWS($AA$2:AA2407),K2407:$M$6000,3,0),\"\")","v":""}]
[{"$nulls":10},{"$f":"IF(ISNUMBER(SEARCH($A$3,L2408)),MAX($K$1:K2407)+1,0)","v":0},"Nalin Lease Finance Ltd","NALINLEA.BO",{"$nulls":12},{"$f":"IFERROR(VLOOKUP(ROWS($Z$2:Z2408),K2408:$L$6000,2,0),\"\")","v":""},{"$f":"IFERROR(VLOOKUP(ROWS($AA$2:AA2408),K2408:$M$6000,3,0),\"\")","v":""}]
[{"$nulls":10},{"$f":"IF(ISNUMBER(SEARCH($A$3,L2409)),MAX($K$1:K2408)+1,0)","v":0},"Nalwa Sons Investments Ltd","NALWA.BO",{"$nulls":12},{"$f":"IFERROR(VLOOKUP(ROWS($Z$2:Z2409),K2409:$L$6000,2,0),\"\")","v":""},{"$f":"IFERROR(VLOOKUP(ROWS($AA$2:AA2409),K2409:$M$6000,3,0),\"\")","v":""}]
[{"$nulls":10},{"$f":"IF(ISNUMBER(SEARCH($A$3,L2410)),MAX($K$1:K2409)+1,0)","v":0},"Nalwa Sons Investments Ltd","NSIL.NS",{"$nulls":12},{"$f":"IFERROR(VLOOKUP(ROWS($Z$2:Z2410),K2410:$L$6000,2,0),\"\")","v":""},{"$f":"IFERROR(VLOOKUP(ROWS($AA$2:AA2410),K2410:$M$6000,3,0),\"\")","v":""}]
[{"$nulls":10},{"$f":"IF(ISNUMBER(SEARCH($A$3,L2411)),MAX($K$1:K2410)+1,0)","v":0},"Naolin Enterprises Ltd","ARUNJYOTI.BO",{"$nulls":12},{"$f":"IFERROR(VLOOKUP(ROWS($Z$2:Z2411),K2411:$L$6000,2,0),\"\")","v":""},{"$f":"IFERROR(VLOOKUP(ROWS($AA$2:AA2411),K2411:$M$6000,3,0),\"\")","v":""}]
[{"$nulls":10},{"$f":"IF(ISNUMBER(SEARCH($A$3,L2412)),MAX($K$1:K2411)+1,0)","v":0},"Narbada Gems & Jewellery Ltd","NARBADA.BO",{"$nulls":12},{"$f":"IFERROR(VLOOKUP(ROWS($Z$2:Z2412),K2412:$L$6000,2,0),\"\")","v":""},{"$f":"IFERROR(VLOOKUP(ROWS($AA$2:AA2412),K2412:$M$6000,3,0),\"\")","v":""}]
[{"$nulls":10},{"$f":"IF(ISNUMBER(SEARCH($A$3,L2413)),MAX($K$1:K2412)+1,0)","v":0},"Nardhana Infrastructure Ltd","PITHMST.BO",{"$nulls":12},{"$f":"IFERROR(VLOOKUP(ROWS($Z$2:Z2413),K2413:$L$6000,2,0),\"\")","v":""},{"$f":"IFERROR(VLOOKUP(ROWS($AA$2:AA2413),K2413:$M$6000,3,0),\"\")","v":""}]
[{"$nulls":10},{"$f":"IF(ISNUMBER(SEARCH($A$3,L2414)),MAX($K$1:K2413)+1,0)","v":0},"Narendra Properties Ltd","NARPROP.BO",{"$nulls":12},{"$f":"IFERROR(VLOOKUP(ROWS($Z$2:Z2414),K2414:$L$6000,2,0),\"\")","v":""},{"$f":"IFERROR(VLOOKUP(ROWS($AA$2:AA2414),K2414:$M$6000,3,0),\"\")","v":""}]
[{"$nulls":10},{"$f":"IF(ISNUMBER(SEARCH($A$3,L2415)),MAX($K$1:K2414)+1,0)","v":0},"Narmada Gelatines Ltd","SHAWGELQ.BO",{"$nulls":12},{"$f":"IFERROR(VLOOKUP(ROWS($Z$2:Z2415),K2415:$L$6000,2,0),\"\")","v":""},{"$f":"IFERROR(VLOOKUP(ROWS($AA$2:AA2415),K2415:$M$6000,3,0),\"\")","v":""}]
[{"$nulls":10},{"$f":"IF(ISNUMBER(SEARCH($A$3,L2416)),MAX($K$1:K2415)+1,0)","v":0},"Natco Pharma Ltd","NATCO.BO",{"$nulls":12},{"$f":"IFERROR(VLOOKUP(ROWS($Z$2:Z2416),K2416:$L$6000,2,0),\"\")","v":""},{"$f":"IFERROR(VLOOKUP(ROWS($AA$2:AA2416),K2416:$M$6000,3,0),\"\")","v":""}]
[{"$nulls":10},{"$f":"IF(ISNUMBER(SEARCH($A$3,L2417)),MAX($K$1:K2416)+1,0)","v":0},"Natco Pharma Ltd","NATCOPHAR.NS",{"$nulls":12},{"$f":"IFERROR(VLOOKUP(ROWS($Z$2:Z2417),K2417:$L$6000,2,0),\"\")","v":""},{"$f":"IFERROR(VLOOKUP(ROWS($AA$2:AA2417),K2417:$M$6000,3,0),\"\")","v":""}]
[{"$nulls":10},{"$f":"IF(ISNUMBER(SEARCH($A$3,L2418)),MAX($K$1:K2417)+1,0)","v":0},"Nath Pulp & Paper Mills Ltd","NATHPUL.BO",{"$nulls":12},{"$f":"IFERROR(VLOOKUP(ROWS($Z$2:Z2418),K2418:$L$6000,2,0),\"\")","v":""},{"$f":"IFERROR(VLOOKUP(ROWS($AA$2:AA2418),K2418:$M$6000,3,0),\"\")","v":""}]
[{"$nulls":10},{"$f":"IF(ISNUMBER(SEARCH($A$3,L2419)),MAX($K$1:K2418)+1,0)","v":0},"National Aluminium","NATIONALU.NS",{"$nulls":12},{"$f":"IFERROR(VLOOKUP(ROWS($Z$2:Z2419),K2419:$L$6000,2,0),\"\")","v":""},{"$f":"IFERROR(VLOOKUP(ROWS($AA$2:AA2419),K2419:$M$6000,3,0),\"\")","v":""}]
[{"$nulls":10},{"$f":"IF(ISNUMBER(SEARCH($A$3,L2420)),MAX($K$1:K2419)+1,0)","v":0},"National Aluminium Co Ltd","NALCO.BO",{"$nulls":12},{"$f":"IFERROR(VLOOKUP(ROWS($Z$2:Z2420),K2420:$L$6000,2,0),\"\")","v":""},{"$f":"IFERROR(VLOOKUP(ROWS($AA$2:AA2420),K2420:$M$6000,3,0),\"\")","v":""}]
[{"$nulls":10},{"$f":"IF(ISNUMBER(SEARCH($A$3,L2421)),MAX($K$1:K2420)+1,0)","v":0},"National Fertilizers Ltd","NFL.BO",{"$nulls":12},{"$f":"IFERROR(VLOOKUP(ROWS($Z$2:Z2421),K2421:$L$6000,2,0),\"\")","v":""},{"$f":"IFERROR(VLOOKUP(ROWS($AA$2:AA2421),K2421:$M$6000,3,0),\"\")","v":""}]
[{"$nulls":10},{"$f":"IF(ISNUMBER(SEARCH($A$3,L2422)),MAX($K$1:K2421)+1,0)","v":0},"National Fertilizers Ltd","NFL.NS",{"$nulls":12},{"$f":"IFERROR(VLOOKUP(ROWS($Z$2:Z2422),K2422:$L$6000,2,0),\"\")","v":""},{"$f":"IFERROR(VLOOKUP(ROWS($AA$2:AA2422),K2422:$M$6000,3,0),\"\")","v":""}]
[{"$nulls":10},{"$f":"IF(ISNUMBER(SEARCH($A$3,L2423)),MAX($K$1:K2422)+1,0)","v":0},"National Fittings Ltd","INTERFIT.BO",{"$nulls":12},{"$f":"IFERROR(VLOOKUP(ROWS($Z$2:Z2423),K2423:$L$6000,2,0),\"\")","v":""},{"$f":"IFERROR(VLOOKUP(ROWS($AA$2:AA2423),K2423:$M$6000,3,0),\"\")","v":""}]
[{"$nulls":10},{"$f":"IF(ISNUMBER(SEARCH($A$3,L2424)),MAX($K$1:K2423)+1,0)","v":0},"National General Ind","NATGENI.BO",{"$nulls":12},{"$f":"IFERROR(VLOOKUP(ROWS($Z$2:Z2424),K2424:$L$6000,2,0),\"\")","v":""},{"$f":"IFERROR(VLOOKUP(ROWS($AA$2:AA2424),K2424:$M$6000,3,0),\"\")","v":""}]
[{"$nulls":10},{"$f":"IF(ISNUMBER(SEARCH($A$3,L2425)),MAX($K$1:K2424)+1,0)","v":0},"National Oxygen Ltd India","NATNOXY.BO",{"$nulls":12},{"$f":"IFERROR(VLOOKUP(ROWS($Z$2:Z2425),K2425:$L$6000,2,0),\"\")","v":""},{"$f":"IFERROR(VLOOKUP(ROWS($AA$2:AA2425),K2425:$M$6000,3,0),\"\")","v":""}]
[{"$nulls":10},{"$f":"IF(ISNUMBER(SEARCH($A$3,L2426)),MAX($K$1:K2425)+1,0)","v":0},"National Peroxide Ltd","NATPEROX.BO",{"$nulls":12},{"$f":"IFERROR(VLOOKUP(ROWS($Z$2:Z2426),K2426:$L$6000,2,0),\"\")","v":""},{"$f":"IFERROR(VLOOKUP(ROWS($AA$2:AA2426),K2426:$M$6000,3,0),\"\")","v":""}]
[{"$nulls":10},{"$f":"IF(ISNUMBER(SEARCH($A$3,L2427)),MAX($K$1:K2426)+1,0)","v":0},"National Plastic Industri","NATPLAS.BO",{"$nulls":12},{"$f":"IFERROR(VLOOKUP(ROWS($Z$2:Z2427),K2427:$L$6000,2,0),\"\")","v":""},{"$f":"IFERROR(VLOOKUP(ROWS($AA$2:AA2427),K2427:$M$6000,3,0),\"\")","v":""}]
[{"$nulls":10},{"$f":"IF(ISNUMBER(SEARCH($A$3,L2428)),MAX($K$1:K2427)+1,0)","v":0},"National Plastic Technolo","NATPLASTI.BO",{"$nulls":12},{"$f":"IFERROR(VLOOKUP(ROWS($Z$2:Z2428),K2428:$L$6000,2,0),\"\")","v":""},{"$f":"IFERROR(VLOOKUP(ROWS($AA$2:AA2428),K2428:$M$6000,3,0),\"\")","v":""}]
[{"$nulls":10},{"$f":"IF(ISNUMBER(SEARCH($A$3,L2429)),MAX($K$1:K2428)+1,0)","v":0},"National Steel & Agro Ind","NATSTEEL.BO",{"$nulls":12},{"$f":"IFERROR(VLOOKUP(ROWS($Z$2:Z2429),K2429:$L$6000,2,0),\"\")","v":""},{"$f":"IFERROR(VLOOKUP(ROWS($AA$2:AA2429),K2429:$M$6000,3,0),\"\")","v":""}]
[{"$nulls":10},{"$f":"IF(ISNUMBER(SEARCH($A$3,L2430)),MAX($K$1:K2429)+1,0)","v":0},"National Steel & Agro Ind","NATNLSTEE.NS",{"$nulls":12},{"$f":"IFERROR(VLOOKUP(ROWS($Z$2:Z2430),K2430:$L$6000,2,0),\"\")","v":""},{"$f":"IFERROR(VLOOKUP(ROWS($AA$2:AA2430),K2430:$M$6000,3,0),\"\")","v":""}]
[{"$nulls":10},{"$f":"IF(ISNUMBER(SEARCH($A$3,L2431)),MAX($K$1:K2430)+1,0)","v":0},"Natraj Proteins Ltd","NATRAJPR.BO",{"$nulls":12},{"$f":"IFERROR(VLOOKUP(ROWS($Z$2:Z2431),K2431:$L$6000,2,0),\"\")","v":""},{"$f":"IFERROR(VLOOKUP(ROWS($AA$2:AA2431),K2431:$M$6000,3,0),\"\")","v":""}]
[{"$nulls":10},{"$f":"IF(ISNUMBER(SEARCH($A$3,L2432)),MAX($K$1:K2431)+1,0)","v":0},"Natura Hue Chem Ltd","NATHUEC.BO",{"$nulls":12},{"$f":"IFERROR(VLOOKUP(ROWS($Z$2:Z2432),K2432:$L$6000,2,0),\"\")","v":""},{"$f":"IFERROR(VLOOKUP(ROWS($AA$2:AA2432),K2432:$M$6000,3,0),\"\")","v":""}]
[{"$nulls":10},{"$f":"IF(ISNUMBER(SEARCH($A$3,L2433)),MAX($K$1:K2432)+1,0)","v":0},"Natural Capsules Ltd","NATCAPSUQ.BO",{"$nulls":12},{"$f":"IFERROR(VLOOKUP(ROWS($Z$2:Z2433),K2433:$L$6000,2,0),\"\")","v":""},{"$f":"IFERROR(VLOOKUP(ROWS($AA$2:AA2433),K2433:$M$6000,3,0),\"\")","v":""}]
[{"$nulls":10},{"$f":"IF(ISNUMBER(SEARCH($A$3,L2434)),MAX($K$1:K2433)+1,0)","v":0},"Nava Bharat Ventures Ltd","NBVENTURE.BO",{"$nulls":12},{"$f":"IFERROR(VLOOKUP(ROWS($Z$2:Z2434),K2434:$L$6000,2,0),\"\")","v":""},{"$f":"IFERROR(VLOOKUP(ROWS($AA$2:AA2434),K2434:$M$6000,3,0),\"\")","v":""}]
[{"$nulls":10},{"$f":"IF(ISNUMBER(SEARCH($A$3,L2435)),MAX($K$1:K2434)+1,0)","v":0},"Nava Bharat Ventures Ltd","NBVENTURE.NS",{"$nulls":12},{"$f":"IFERROR(VLOOKUP(ROWS($Z$2:Z2435),K2435:$L$6000,2,0),\"\")","v":""},{"$f":"IFERROR(VLOOKUP(ROWS($AA$2:AA2435),K2435:$M$6000,3,0),\"\")","v":""}]
[{"$nulls":10},{"$f":"IF(ISNUMBER(SEARCH($A$3,L2436)),MAX($K$1:K2435)+1,0)","v":0},"Navin Fluorine Internatio","NAVIN.BO",{"$nulls":12},{"$f":"IFERROR(VLOOKUP(ROWS($Z$2:Z2436),K2436:$L$6000,2,0),\"\")","v":""},{"$f":"IFERROR(VLOOKUP(ROWS($AA$2:AA2436),K2436:$M$6000,3,0),\"\")","v":""}]
[{"$nulls":10},{"$f":"IF(ISNUMBER(SEARCH($A$3,L2437)),MAX($K$1:K2436)+1,0)","v":0},"Navin Fluorine Internatio","NAVINFLUO.NS",{"$nulls":12},{"$f":"IFERROR(VLOOKUP(ROWS($Z$2:Z2437),K2437:$L$6000,2,0),\"\")","v":""},{"$f":"IFERROR(VLOOKUP(ROWS($AA$2:AA2437),K2437:$M$6000,3,0),\"\")","v":""}]
[{"$nulls":10},{"$f":"IF(ISNUMBER(SEARCH($A$3,L2438)),MAX($K$1:K2437)+1,0)","v":0},"Navkar Builders Ltd","NAVBLDR.BO",{"$nulls":12},{"$f":"IFERROR(VLOOKUP(ROWS($Z$2:Z2438),K2438:$L$6000,2,0),\"\")","v":""},{"$f":"IFERROR(VLOOKUP(ROWS($AA$2:AA2438),K2438:$M$6000,3,0),\"\")","v":""}]
[{"$nulls":10},{"$f":"IF(ISNUMBER(SEARCH($A$3,L2439)),MAX($K$1:K2438)+1,0)","v":0},"Navneet Education Ltd","NAVNETPUB.BO",{"$nulls":12},{"$f":"IFERROR(VLOOKUP(ROWS($Z$2:Z2439),K2439:$L$6000,2,0),\"\")","v":""},{"$f":"IFERROR(VLOOKUP(ROWS($AA$2:AA2439),K2439:$M$6000,3,0),\"\")","v":""}]
[{"$nulls":10},{"$f":"IF(ISNUMBER(SEARCH($A$3,L2440)),MAX($K$1:K2439)+1,0)","v":0},"Navneet Education Ltd","NAVNETPUB.NS",{"$nulls":12},{"$f":"IFERROR(VLOOKUP(ROWS($Z$2:Z2440),K2440:$L$6000,2,0),\"\")","v":""},{"$f":"IFERROR(VLOOKUP(ROWS($AA$2:AA2440),K2440:$M$6000,3,0),\"\")","v":""}]
[{"$nulls":10},{"$f":"IF(ISNUMBER(SEARCH($A$3,L2441)),MAX($K$1:K2440)+1,0)","v":0},"NB Footwear Ltd","NBFOOT.BO",{"$nulls":12},{"$f":"IFERROR(VLOOKUP(ROWS($Z$2:Z2441),K2441:$L$6000,2,0),\"\")","v":""},{"$f":"IFERROR(VLOOKUP(ROWS($AA$2:AA2441),K2441:$M$6000,3,0),\"\")","v":""}]
[{"$nulls":10},{"$f":"IF(ISNUMBER(SEARCH($A$3,L2442)),MAX($K$1:K2441)+1,0)","v":0},"NCC Finance Ltd","NCCFIN.BO",{"$nulls":12},{"$f":"IFERROR(VLOOKUP(ROWS($Z$2:Z2442),K2442:$L$6000,2,0),\"\")","v":""},{"$f":"IFERROR(VLOOKUP(ROWS($AA$2:AA2442),K2442:$M$6000,3,0),\"\")","v":""}]
[{"$nulls":10},{"$f":"IF(ISNUMBER(SEARCH($A$3,L2443)),MAX($K$1:K2442)+1,0)","v":0},"NCC Ltd","NAGARCON.BO",{"$nulls":12},{"$f":"IFERROR(VLOOKUP(ROWS($Z$2:Z2443),K2443:$L$6000,2,0),\"\")","v":""},{"$f":"IFERROR(VLOOKUP(ROWS($AA$2:AA2443),K2443:$M$6000,3,0),\"\")","v":""}]
[{"$nulls":10},{"$f":"IF(ISNUMBER(SEARCH($A$3,L2444)),MAX($K$1:K2443)+1,0)","v":0},"NCC Ltd","NAGARCONS.NS",{"$nulls":12},{"$f":"IFERROR(VLOOKUP(ROWS($Z$2:Z2444),K2444:$L$6000,2,0),\"\")","v":""},{"$f":"IFERROR(VLOOKUP(ROWS($AA$2:AA2444),K2444:$M$6000,3,0),\"\")","v":""}]
[{"$nulls":10},{"$f":"IF(ISNUMBER(SEARCH($A$3,L2445)),MAX($K$1:K2444)+1,0)","v":0},"NCL Industries Ltd","NCLIND.BO",{"$nulls":12},{"$f":"IFERROR(VLOOKUP(ROWS($Z$2:Z2445),K2445:$L$6000,2,0),\"\")","v":""},{"$f":"IFERROR(VLOOKUP(ROWS($AA$2:AA2445),K2445:$M$6000,3,0),\"\")","v":""}]
[{"$nulls":10},{"$f":"IF(ISNUMBER(SEARCH($A$3,L2446)),MAX($K$1:K2445)+1,0)","v":0},"NCL Industries Ltd","NCLIND.NS",{"$nulls":12},{"$f":"IFERROR(VLOOKUP(ROWS($Z$2:Z2446),K2446:$L$6000,2,0),\"\")","v":""},{"$f":"IFERROR(VLOOKUP(ROWS($AA$2:AA2446),K2446:$M$6000,3,0),\"\")","v":""}]
[{"$nulls":10},{"$f":"IF(ISNUMBER(SEARCH($A$3,L2447)),MAX($K$1:K2446)+1,0)","v":0},"NCL Research","NCLRESE.BO",{"$nulls":12},{"$f":"IFERROR(VLOOKUP(ROWS($Z$2:Z2447),K2447:$L$6000,2,0),\"\")","v":""},{"$f":"IFERROR(VLOOKUP(ROWS($AA$2:AA2447),K2447:$M$6000,3,0),\"\")","v":""}]
[{"$nulls":10},{"$f":"IF(ISNUMBER(SEARCH($A$3,L2448)),MAX($K$1:K2447)+1,0)","v":0},"NDA Securities Ltd","NDASEC.BO",{"$nulls":12},{"$f":"IFERROR(VLOOKUP(ROWS($Z$2:Z2448),K2448:$L$6000,2,0),\"\")","v":""},{"$f":"IFERROR(VLOOKUP(ROWS($AA$2:AA2448),K2448:$M$6000,3,0),\"\")","v":""}]
[{"$nulls":10},{"$f":"IF(ISNUMBER(SEARCH($A$3,L2449)),MAX($K$1:K2448)+1,0)","v":0},"Nectar Lifesciences Ltd","NECLIFE.BO",{"$nulls":12},{"$f":"IFERROR(VLOOKUP(ROWS($Z$2:Z2449),K2449:$L$6000,2,0),\"\")","v":""},{"$f":"IFERROR(VLOOKUP(ROWS($AA$2:AA2449),K2449:$M$6000,3,0),\"\")","v":""}]
[{"$nulls":10},{"$f":"IF(ISNUMBER(SEARCH($A$3,L2450)),MAX($K$1:K2449)+1,0)","v":0},"Nectar Lifesciences Ltd","NECLIFE.NS",{"$nulls":12},{"$f":"IFERROR(VLOOKUP(ROWS($Z$2:Z2450),K2450:$L$6000,2,0),\"\")","v":""},{"$f":"IFERROR(VLOOKUP(ROWS($AA$2:AA2450),K2450:$M$6000,3,0),\"\")","v":""}]
[{"$nulls":10},{"$f":"IF(ISNUMBER(SEARCH($A$3,L2451)),MAX($K$1:K2450)+1,0)","v":0},"Neelamalai Agro Industries Ltd","NEAGI.BO",{"$nulls":12},{"$f":"IFERROR(VLOOKUP(ROWS($Z$2:Z2451),K2451:$L$6000,2,0),\"\")","v":""},{"$f":"IFERROR(VLOOKUP(ROWS($AA$2:AA2451),K2451:$M$6000,3,0),\"\")","v":""}]
[{"$nulls":10},{"$f":"IF(ISNUMBER(SEARCH($A$3,L2452)),MAX($K$1:K2451)+1,0)","v":0},"Neelkanth Rock Minerals Ltd","NEELKAN.BO",{"$nulls":12},{"$f":"IFERROR(VLOOKUP(ROWS($Z$2:Z2452),K2452:$L$6000,2,0),\"\")","v":""},{"$f":"IFERROR(VLOOKUP(ROWS($AA$2:AA2452),K2452:$M$6000,3,0),\"\")","v":""}]
[{"$nulls":10},{"$f":"IF(ISNUMBER(SEARCH($A$3,L2453)),MAX($K$1:K2452)+1,0)","v":0},"Neelkanth Technologies Ltd","NEELKATEC.BO",{"$nulls":12},{"$f":"IFERROR(VLOOKUP(ROWS($Z$2:Z2453),K2453:$L$6000,2,0),\"\")","v":""},{"$f":"IFERROR(VLOOKUP(ROWS($AA$2:AA2453),K2453:$M$6000,3,0),\"\")","v":""}]
[{"$nulls":10},{"$f":"IF(ISNUMBER(SEARCH($A$3,L2454)),MAX($K$1:K2453)+1,0)","v":0},"Neha International Ltd","NEHIN.BO",{"$nulls":12},{"$f":"IFERROR(VLOOKUP(ROWS($Z$2:Z2454),K2454:$L$6000,2,0),\"\")","v":""},{"$f":"IFERROR(VLOOKUP(ROWS($AA$2:AA2454),K2454:$M$6000,3,0),\"\")","v":""}]
[{"$nulls":10},{"$f":"IF(ISNUMBER(SEARCH($A$3,L2455)),MAX($K$1:K2454)+1,0)","v":0},"Nelco Ltd","NELCO.BO",{"$nulls":12},{"$f":"IFERROR(VLOOKUP(ROWS($Z$2:Z2455),K2455:$L$6000,2,0),\"\")","v":""},{"$f":"IFERROR(VLOOKUP(ROWS($AA$2:AA2455),K2455:$M$6000,3,0),\"\")","v":""}]
[{"$nulls":10},{"$f":"IF(ISNUMBER(SEARCH($A$3,L2456)),MAX($K$1:K2455)+1,0)","v":0},"Nelco Ltd","NELCO.NS",{"$nulls":12},{"$f":"IFERROR(VLOOKUP(ROWS($Z$2:Z2456),K2456:$L$6000,2,0),\"\")","v":""},{"$f":"IFERROR(VLOOKUP(ROWS($AA$2:AA2456),K2456:$M$6000,3,0),\"\")","v":""}]
[{"$nulls":10},{"$f":"IF(ISNUMBER(SEARCH($A$3,L2457)),MAX($K$1:K2456)+1,0)","v":0},"Neo Corp International Ltd","NEOCORP.BO",{"$nulls":12},{"$f":"IFERROR(VLOOKUP(ROWS($Z$2:Z2457),K2457:$L$6000,2,0),\"\")","v":""},{"$f":"IFERROR(VLOOKUP(ROWS($AA$2:AA2457),K2457:$M$6000,3,0),\"\")","v":""}]
[{"$nulls":10},{"$f":"IF(ISNUMBER(SEARCH($A$3,L2458)),MAX($K$1:K2457)+1,0)","v":0},"Neogem India Ltd","NOGMIND.BO",{"$nulls":12},{"$f":"IFERROR(VLOOKUP(ROWS($Z$2:Z2458),K2458:$L$6000,2,0),\"\")","v":""},{"$f":"IFERROR(VLOOKUP(ROWS($AA$2:AA2458),K2458:$M$6000,3,0),\"\")","v":""}]
[{"$nulls":10},{"$f":"IF(ISNUMBER(SEARCH($A$3,L2459)),MAX($K$1:K2458)+1,0)","v":0},"NEPC India Ltd","NEPIN.BO",{"$nulls":12},{"$f":"IFERROR(VLOOKUP(ROWS($Z$2:Z2459),K2459:$L$6000,2,0),\"\")","v":""},{"$f":"IFERROR(VLOOKUP(ROWS($AA$2:AA2459),K2459:$M$6000,3,0),\"\")","v":""}]
[{"$nulls":10},{"$f":"IF(ISNUMBER(SEARCH($A$3,L2460)),MAX($K$1:K2459)+1,0)","v":0},"NEPC India Ltd","NEPCMICON.NS",{"$nulls":12},{"$f":"IFERROR(VLOOKUP(ROWS($Z$2:Z2460),K2460:$L$6000,2,0),\"\")","v":""},{"$f":"IFERROR(VLOOKUP(ROWS($AA$2:AA2460),K2460:$M$6000,3,0),\"\")","v":""}]
[{"$nulls":10},{"$f":"IF(ISNUMBER(SEARCH($A$3,L2461)),MAX($K$1:K2460)+1,0)","v":0},"Nesco Ltd","NEWSTDB1.BO",{"$nulls":12},{"$f":"IFERROR(VLOOKUP(ROWS($Z$2:Z2461),K2461:$L$6000,2,0),\"\")","v":""},{"$f":"IFERROR(VLOOKUP(ROWS($AA$2:AA2461),K2461:$M$6000,3,0),\"\")","v":""}]
[{"$nulls":10},{"$f":"IF(ISNUMBER(SEARCH($A$3,L2462)),MAX($K$1:K2461)+1,0)","v":0},"Nesco Ltd","NESCO.NS",{"$nulls":12},{"$f":"IFERROR(VLOOKUP(ROWS($Z$2:Z2462),K2462:$L$6000,2,0),\"\")","v":""},{"$f":"IFERROR(VLOOKUP(ROWS($AA$2:AA2462),K2462:$M$6000,3,0),\"\")","v":""}]
[{"$nulls":10},{"$f":"IF(ISNUMBER(SEARCH($A$3,L2463)),MAX($K$1:K2462)+1,0)","v":0},"Nestle India Ltd","NESTLE.BO",{"$nulls":12},{"$f":"IFERROR(VLOOKUP(ROWS($Z$2:Z2463),K2463:$L$6000,2,0),\"\")","v":""},{"$f":"IFERROR(VLOOKUP(ROWS($AA$2:AA2463),K2463:$M$6000,3,0),\"\")","v":""}]
[{"$nulls":10},{"$f":"IF(ISNUMBER(SEARCH($A$3,L2464)),MAX($K$1:K2463)+1,0)","v":0},"Nestle India Ltd","NESTLEIND.NS",{"$nulls":12},{"$f":"IFERROR(VLOOKUP(ROWS($Z$2:Z2464),K2464:$L$6000,2,0),\"\")","v":""},{"$f":"IFERROR(VLOOKUP(ROWS($AA$2:AA2464),K2464:$M$6000,3,0),\"\")","v":""}]
[{"$nulls":10},{"$f":"IF(ISNUMBER(SEARCH($A$3,L2465)),MAX($K$1:K2464)+1,0)","v":0},"Net 4 India Ltd","NET4INDIA.BO",{"$nulls":12},{"$f":"IFERROR(VLOOKUP(ROWS($Z$2:Z2465),K2465:$L$6000,2,0),\"\")","v":""},{"$f":"IFERROR(VLOOKUP(ROWS($AA$2:AA2465),K2465:$M$6000,3,0),\"\")","v":""}]
[{"$nulls":10},{"$f":"IF(ISNUMBER(SEARCH($A$3,L2466)),MAX($K$1:K2465)+1,0)","v":0},"Netlink Solutions (India) Ltd","NETLINK.BO",{"$nulls":12},{"$f":"IFERROR(VLOOKUP(ROWS($Z$2:Z2466),K2466:$L$6000,2,0),\"\")","v":""},{"$f":"IFERROR(VLOOKUP(ROWS($AA$2:AA2466),K2466:$M$6000,3,0),\"\")","v":""}]
[{"$nulls":10},{"$f":"IF(ISNUMBER(SEARCH($A$3,L2467)),MAX($K$1:K2466)+1,0)","v":0},"Nettlinx Ltd","NETTLINX.BO",{"$nulls":12},{"$f":"IFERROR(VLOOKUP(ROWS($Z$2:Z2467),K2467:$L$6000,2,0),\"\")","v":""},{"$f":"IFERROR(VLOOKUP(ROWS($AA$2:AA2467),K2467:$M$6000,3,0),\"\")","v":""}]
[{"$nulls":10},{"$f":"IF(ISNUMBER(SEARCH($A$3,L2468)),MAX($K$1:K2467)+1,0)","v":0},"Netvista Ventures Ltd","NETVISTA.BO",{"$nulls":12},{"$f":"IFERROR(VLOOKUP(ROWS($Z$2:Z2468),K2468:$L$6000,2,0),\"\")","v":""},{"$f":"IFERROR(VLOOKUP(ROWS($AA$2:AA2468),K2468:$M$6000,3,0),\"\")","v":""}]
[{"$nulls":10},{"$f":"IF(ISNUMBER(SEARCH($A$3,L2469)),MAX($K$1:K2468)+1,0)","v":0},"Network 18 Media & Invest","NETWORK18.BO",{"$nulls":12},{"$f":"IFERROR(VLOOKUP(ROWS($Z$2:Z2469),K2469:$L$6000,2,0),\"\")","v":""},{"$f":"IFERROR(VLOOKUP(ROWS($AA$2:AA2469),K2469:$M$6000,3,0),\"\")","v":""}]
[{"$nulls":10},{"$f":"IF(ISNUMBER(SEARCH($A$3,L2470)),MAX($K$1:K2469)+1,0)","v":0},"Network 18 Media & Invest","NETWORK18.NS",{"$nulls":12},{"$f":"IFERROR(VLOOKUP(ROWS($Z$2:Z2470),K2470:$L$6000,2,0),\"\")","v":""},{"$f":"IFERROR(VLOOKUP(ROWS($AA$2:AA2470),K2470:$M$6000,3,0),\"\")","v":""}]
[{"$nulls":10},{"$f":"IF(ISNUMBER(SEARCH($A$3,L2471)),MAX($K$1:K2470)+1,0)","v":0},"Network Ltd","NETWORK.BO",{"$nulls":12},{"$f":"IFERROR(VLOOKUP(ROWS($Z$2:Z2471),K2471:$L$6000,2,0),\"\")","v":""},{"$f":"IFERROR(VLOOKUP(ROWS($AA$2:AA2471),K2471:$M$6000,3,0),\"\")","v":""}]
[{"$nulls":10},{"$f":"IF(ISNUMBER(SEARCH($A$3,L2472)),MAX($K$1:K2471)+1,0)","v":0},"Networth Stockbroking Ltd","NETWORTH.BO",{"$nulls":12},{"$f":"IFERROR(VLOOKUP(ROWS($Z$2:Z2472),K2472:$L$6000,2,0),\"\")","v":""},{"$f":"IFERROR(VLOOKUP(ROWS($AA$2:AA2472),K2472:$M$6000,3,0),\"\")","v":""}]
[{"$nulls":10},{"$f":"IF(ISNUMBER(SEARCH($A$3,L2473)),MAX($K$1:K2472)+1,0)","v":0},"Neuland Laboratories Ltd","NEULAND.BO",{"$nulls":12},{"$f":"IFERROR(VLOOKUP(ROWS($Z$2:Z2473),K2473:$L$6000,2,0),\"\")","v":""},{"$f":"IFERROR(VLOOKUP(ROWS($AA$2:AA2473),K2473:$M$6000,3,0),\"\")","v":""}]
[{"$nulls":10},{"$f":"IF(ISNUMBER(SEARCH($A$3,L2474)),MAX($K$1:K2473)+1,0)","v":0},"New Delhi Television Ltd","NDTV.BO",{"$nulls":12},{"$f":"IFERROR(VLOOKUP(ROWS($Z$2:Z2474),K2474:$L$6000,2,0),\"\")","v":""},{"$f":"IFERROR(VLOOKUP(ROWS($AA$2:AA2474),K2474:$M$6000,3,0),\"\")","v":""}]
[{"$nulls":10},{"$f":"IF(ISNUMBER(SEARCH($A$3,L2475)),MAX($K$1:K2474)+1,0)","v":0},"New Delhi Television Ltd","NDTV.NS",{"$nulls":12},{"$f":"IFERROR(VLOOKUP(ROWS($Z$2:Z2475),K2475:$L$6000,2,0),\"\")","v":""},{"$f":"IFERROR(VLOOKUP(ROWS($AA$2:AA2475),K2475:$M$6000,3,0),\"\")","v":""}]
[{"$nulls":10},{"$f":"IF(ISNUMBER(SEARCH($A$3,L2476)),MAX($K$1:K2475)+1,0)","v":0},"Newtime Infrastructure Ltd","INTRAINF.BO",{"$nulls":12},{"$f":"IFERROR(VLOOKUP(ROWS($Z$2:Z2476),K2476:$L$6000,2,0),\"\")","v":""},{"$f":"IFERROR(VLOOKUP(ROWS($AA$2:AA2476),K2476:$M$6000,3,0),\"\")","v":""}]
[{"$nulls":10},{"$f":"IF(ISNUMBER(SEARCH($A$3,L2477)),MAX($K$1:K2476)+1,0)","v":0},"Next Mediaworks Ltd","MIDDAY.BO",{"$nulls":12},{"$f":"IFERROR(VLOOKUP(ROWS($Z$2:Z2477),K2477:$L$6000,2,0),\"\")","v":""},{"$f":"IFERROR(VLOOKUP(ROWS($AA$2:AA2477),K2477:$M$6000,3,0),\"\")","v":""}]
[{"$nulls":10},{"$f":"IF(ISNUMBER(SEARCH($A$3,L2478)),MAX($K$1:K2477)+1,0)","v":0},"Next Mediaworks Ltd","MID-DAY.NS",{"$nulls":12},{"$f":"IFERROR(VLOOKUP(ROWS($Z$2:Z2478),K2478:$L$6000,2,0),\"\")","v":""},{"$f":"IFERROR(VLOOKUP(ROWS($AA$2:AA2478),K2478:$M$6000,3,0),\"\")","v":""}]
[{"$nulls":10},{"$f":"IF(ISNUMBER(SEARCH($A$3,L2479)),MAX($K$1:K2478)+1,0)","v":0},"Nexxoft Infotel Ltd","NEXXOFT.BO",{"$nulls":12},{"$f":"IFERROR(VLOOKUP(ROWS($Z$2:Z2479),K2479:$L$6000,2,0),\"\")","v":""},{"$f":"IFERROR(VLOOKUP(ROWS($AA$2:AA2479),K2479:$M$6000,3,0),\"\")","v":""}]
[{"$nulls":10},{"$f":"IF(ISNUMBER(SEARCH($A$3,L2480)),MAX($K$1:K2479)+1,0)","v":0},"Neyveli Lignite Corp Ltd","NEYVELILIG.BO",{"$nulls":12},{"$f":"IFERROR(VLOOKUP(ROWS($Z$2:Z2480),K2480:$L$6000,2,0),\"\")","v":""},{"$f":"IFERROR(VLOOKUP(ROWS($AA$2:AA2480),K2480:$M$6000,3,0),\"\")","v":""}]
[{"$nulls":10},{"$f":"IF(ISNUMBER(SEARCH($A$3,L2481)),MAX($K$1:K2480)+1,0)","v":0},"Neyveli Lignite Corp Ltd","NEYVELILI.NS",{"$nulls":12},{"$f":"IFERROR(VLOOKUP(ROWS($Z$2:Z2481),K2481:$L$6000,2,0),\"\")","v":""},{"$f":"IFERROR(VLOOKUP(ROWS($AA$2:AA2481),K2481:$M$6000,3,0),\"\")","v":""}]
[{"$nulls":10},{"$f":"IF(ISNUMBER(SEARCH($A$3,L2482)),MAX($K$1:K2481)+1,0)","v":0},"NGL Fine-Chem Ltd","NGLFINE.BO",{"$nulls":12},{"$f":"IFERROR(VLOOKUP(ROWS($Z$2:Z2482),K2482:$L$6000,2,0),\"\")","v":""},{"$f":"IFERROR(VLOOKUP(ROWS($AA$2:AA2482),K2482:$M$6000,3,0),\"\")","v":""}]
[{"$nulls":10},{"$f":"IF(ISNUMBER(SEARCH($A$3,L2483)),MAX($K$1:K2482)+1,0)","v":0},"NHC Foods Ltd","MIDPOINT.BO",{"$nulls":12},{"$f":"IFERROR(VLOOKUP(ROWS($Z$2:Z2483),K2483:$L$6000,2,0),\"\")","v":""},{"$f":"IFERROR(VLOOKUP(ROWS($AA$2:AA2483),K2483:$M$6000,3,0),\"\")","v":""}]
[{"$nulls":10},{"$f":"IF(ISNUMBER(SEARCH($A$3,L2484)),MAX($K$1:K2483)+1,0)","v":0},"NHPC Ltd","NHPC.BO",{"$nulls":12},{"$f":"IFERROR(VLOOKUP(ROWS($Z$2:Z2484),K2484:$L$6000,2,0),\"\")","v":""},{"$f":"IFERROR(VLOOKUP(ROWS($AA$2:AA2484),K2484:$M$6000,3,0),\"\")","v":""}]
[{"$nulls":10},{"$f":"IF(ISNUMBER(SEARCH($A$3,L2485)),MAX($K$1:K2484)+1,0)","v":0},"Nicco Corp Ltd","NICCOC.BO",{"$nulls":12},{"$f":"IFERROR(VLOOKUP(ROWS($Z$2:Z2485),K2485:$L$6000,2,0),\"\")","v":""},{"$f":"IFERROR(VLOOKUP(ROWS($AA$2:AA2485),K2485:$M$6000,3,0),\"\")","v":""}]
[{"$nulls":10},{"$f":"IF(ISNUMBER(SEARCH($A$3,L2486)),MAX($K$1:K2485)+1,0)","v":0},"Nicco Corp Ltd","NICCO.NS",{"$nulls":12},{"$f":"IFERROR(VLOOKUP(ROWS($Z$2:Z2486),K2486:$L$6000,2,0),\"\")","v":""},{"$f":"IFERROR(VLOOKUP(ROWS($AA$2:AA2486),K2486:$M$6000,3,0),\"\")","v":""}]
[{"$nulls":10},{"$f":"IF(ISNUMBER(SEARCH($A$3,L2487)),MAX($K$1:K2486)+1,0)","v":0},"Nicco Parks & Resorts Ltd","NICCOPAR.BO",{"$nulls":12},{"$f":"IFERROR(VLOOKUP(ROWS($Z$2:Z2487),K2487:$L$6000,2,0),\"\")","v":""},{"$f":"IFERROR(VLOOKUP(ROWS($AA$2:AA2487),K2487:$M$6000,3,0),\"\")","v":""}]
[{"$nulls":10},{"$f":"IF(ISNUMBER(SEARCH($A$3,L2488)),MAX($K$1:K2487)+1,0)","v":0},"Nicco Uco Alliance Credit Ltd","NICCOUCO.BO",{"$nulls":12},{"$f":"IFERROR(VLOOKUP(ROWS($Z$2:Z2488),K2488:$L$6000,2,0),\"\")","v":""},{"$f":"IFERROR(VLOOKUP(ROWS($AA$2:AA2488),K2488:$M$6000,3,0),\"\")","v":""}]
[{"$nulls":10},{"$f":"IF(ISNUMBER(SEARCH($A$3,L2489)),MAX($K$1:K2488)+1,0)","v":0},"Nidhi Granites Ltd","NIDHGRN.BO",{"$nulls":12},{"$f":"IFERROR(VLOOKUP(ROWS($Z$2:Z2489),K2489:$L$6000,2,0),\"\")","v":""},{"$f":"IFERROR(VLOOKUP(ROWS($AA$2:AA2489),K2489:$M$6000,3,0),\"\")","v":""}]
[{"$nulls":10},{"$f":"IF(ISNUMBER(SEARCH($A$3,L2490)),MAX($K$1:K2489)+1,0)","v":0},"Nihar Info Global Ltd","NIHARINF.BO",{"$nulls":12},{"$f":"IFERROR(VLOOKUP(ROWS($Z$2:Z2490),K2490:$L$6000,2,0),\"\")","v":""},{"$f":"IFERROR(VLOOKUP(ROWS($AA$2:AA2490),K2490:$M$6000,3,0),\"\")","v":""}]
[{"$nulls":10},{"$f":"IF(ISNUMBER(SEARCH($A$3,L2491)),MAX($K$1:K2490)+1,0)","v":0},"NIIT Ltd","NIIT.BO",{"$nulls":12},{"$f":"IFERROR(VLOOKUP(ROWS($Z$2:Z2491),K2491:$L$6000,2,0),\"\")","v":""},{"$f":"IFERROR(VLOOKUP(ROWS($AA$2:AA2491),K2491:$M$6000,3,0),\"\")","v":""}]
[{"$nulls":10},{"$f":"IF(ISNUMBER(SEARCH($A$3,L2492)),MAX($K$1:K2491)+1,0)","v":0},"NIIT Ltd","NIITLTD.NS",{"$nulls":12},{"$f":"IFERROR(VLOOKUP(ROWS($Z$2:Z2492),K2492:$L$6000,2,0),\"\")","v":""},{"$f":"IFERROR(VLOOKUP(ROWS($AA$2:AA2492),K2492:$M$6000,3,0),\"\")","v":""}]
[{"$nulls":10},{"$f":"IF(ISNUMBER(SEARCH($A$3,L2493)),MAX($K$1:K2492)+1,0)","v":0},"NIIT Technologies Ltd","NIITTECH.BO",{"$nulls":12},{"$f":"IFERROR(VLOOKUP(ROWS($Z$2:Z2493),K2493:$L$6000,2,0),\"\")","v":""},{"$f":"IFERROR(VLOOKUP(ROWS($AA$2:AA2493),K2493:$M$6000,3,0),\"\")","v":""}]
[{"$nulls":10},{"$f":"IF(ISNUMBER(SEARCH($A$3,L2494)),MAX($K$1:K2493)+1,0)","v":0},"NIIT Technologies Ltd","NIITTECH.NS",{"$nulls":12},{"$f":"IFERROR(VLOOKUP(ROWS($Z$2:Z2494),K2494:$L$6000,2,0),\"\")","v":""},{"$f":"IFERROR(VLOOKUP(ROWS($AA$2:AA2494),K2494:$M$6000,3,0),\"\")","v":""}]
[{"$nulls":10},{"$f":"IF(ISNUMBER(SEARCH($A$3,L2495)),MAX($K$1:K2494)+1,0)","v":0},"Nikhil Adhesives Ltd","NIKHILAD.BO",{"$nulls":12},{"$f":"IFERROR(VLOOKUP(ROWS($Z$2:Z2495),K2495:$L$6000,2,0),\"\")","v":""},{"$f":"IFERROR(VLOOKUP(ROWS($AA$2:AA2495),K2495:$M$6000,3,0),\"\")","v":""}]
[{"$nulls":10},{"$f":"IF(ISNUMBER(SEARCH($A$3,L2496)),MAX($K$1:K2495)+1,0)","v":0},"Nikki Global Finance Ltd","NIKKIGL.BO",{"$nulls":12},{"$f":"IFERROR(VLOOKUP(ROWS($Z$2:Z2496),K2496:$L$6000,2,0),\"\")","v":""},{"$f":"IFERROR(VLOOKUP(ROWS($AA$2:AA2496),K2496:$M$6000,3,0),\"\")","v":""}]
[{"$nulls":10},{"$f":"IF(ISNUMBER(SEARCH($A$3,L2497)),MAX($K$1:K2496)+1,0)","v":0},"Nila Infrastructures Ltd","NILA.BO",{"$nulls":12},{"$f":"IFERROR(VLOOKUP(ROWS($Z$2:Z2497),K2497:$L$6000,2,0),\"\")","v":""},{"$f":"IFERROR(VLOOKUP(ROWS($AA$2:AA2497),K2497:$M$6000,3,0),\"\")","v":""}]
[{"$nulls":10},{"$f":"IF(ISNUMBER(SEARCH($A$3,L2498)),MAX($K$1:K2497)+1,0)","v":0},"Nilchem Industries Ltd","NILCHEM.BO",{"$nulls":12},{"$f":"IFERROR(VLOOKUP(ROWS($Z$2:Z2498),K2498:$L$6000,2,0),\"\")","v":""},{"$f":"IFERROR(VLOOKUP(ROWS($AA$2:AA2498),K2498:$M$6000,3,0),\"\")","v":""}]
[{"$nulls":10},{"$f":"IF(ISNUMBER(SEARCH($A$3,L2499)),MAX($K$1:K2498)+1,0)","v":0},"Nile Ltd","NILE.BO",{"$nulls":12},{"$f":"IFERROR(VLOOKUP(ROWS($Z$2:Z2499),K2499:$L$6000,2,0),\"\")","v":""},{"$f":"IFERROR(VLOOKUP(ROWS($AA$2:AA2499),K2499:$M$6000,3,0),\"\")","v":""}]
[{"$nulls":10},{"$f":"IF(ISNUMBER(SEARCH($A$3,L2500)),MAX($K$1:K2499)+1,0)","v":0},"Nilkamal Ltd","NILKAMAL.BO",{"$nulls":12},{"$f":"IFERROR(VLOOKUP(ROWS($Z$2:Z2500),K2500:$L$6000,2,0),\"\")","v":""},{"$f":"IFERROR(VLOOKUP(ROWS($AA$2:AA2500),K2500:$M$6000,3,0),\"\")","v":""}]
[{"$nulls":10},{"$f":"IF(ISNUMBER(SEARCH($A$3,L2501)),MAX($K$1:K2500)+1,0)","v":0},"Nilkamal Ltd","NILKAMAL.NS",{"$nulls":12},{"$f":"IFERROR(VLOOKUP(ROWS($Z$2:Z2501),K2501:$L$6000,2,0),\"\")","v":""},{"$f":"IFERROR(VLOOKUP(ROWS($AA$2:AA2501),K2501:$M$6000,3,0),\"\")","v":""}]
[{"$nulls":10},{"$f":"IF(ISNUMBER(SEARCH($A$3,L2502)),MAX($K$1:K2501)+1,0)","v":0},"Nimbus Foods Industries Ltd","NIMBUSFOO.BO",{"$nulls":12},{"$f":"IFERROR(VLOOKUP(ROWS($Z$2:Z2502),K2502:$L$6000,2,0),\"\")","v":""},{"$f":"IFERROR(VLOOKUP(ROWS($AA$2:AA2502),K2502:$M$6000,3,0),\"\")","v":""}]
[{"$nulls":10},{"$f":"IF(ISNUMBER(SEARCH($A$3,L2503)),MAX($K$1:K2502)+1,0)","v":0},"Nimbus Projects Ltd","NCJINT.BO",{"$nulls":12},{"$f":"IFERROR(VLOOKUP(ROWS($Z$2:Z2503),K2503:$L$6000,2,0),\"\")","v":""},{"$f":"IFERROR(VLOOKUP(ROWS($AA$2:AA2503),K2503:$M$6000,3,0),\"\")","v":""}]
[{"$nulls":10},{"$f":"IF(ISNUMBER(SEARCH($A$3,L2504)),MAX($K$1:K2503)+1,0)","v":0},"Niraj Cement Structurals Ltd","NIRAJ.BO",{"$nulls":12},{"$f":"IFERROR(VLOOKUP(ROWS($Z$2:Z2504),K2504:$L$6000,2,0),\"\")","v":""},{"$f":"IFERROR(VLOOKUP(ROWS($AA$2:AA2504),K2504:$M$6000,3,0),\"\")","v":""}]
[{"$nulls":10},{"$f":"IF(ISNUMBER(SEARCH($A$3,L2505)),MAX($K$1:K2504)+1,0)","v":0},"Nirav Commercials Ltd","NIRAVCOM.BO",{"$nulls":12},{"$f":"IFERROR(VLOOKUP(ROWS($Z$2:Z2505),K2505:$L$6000,2,0),\"\")","v":""},{"$f":"IFERROR(VLOOKUP(ROWS($AA$2:AA2505),K2505:$M$6000,3,0),\"\")","v":""}]
[{"$nulls":10},{"$f":"IF(ISNUMBER(SEARCH($A$3,L2506)),MAX($K$1:K2505)+1,0)","v":0},"Nirlon Ltd","NIRLON.BO",{"$nulls":12},{"$f":"IFERROR(VLOOKUP(ROWS($Z$2:Z2506),K2506:$L$6000,2,0),\"\")","v":""},{"$f":"IFERROR(VLOOKUP(ROWS($AA$2:AA2506),K2506:$M$6000,3,0),\"\")","v":""}]
[{"$nulls":10},{"$f":"IF(ISNUMBER(SEARCH($A$3,L2507)),MAX($K$1:K2506)+1,0)","v":0},"Nitco Tiles Ltd","NITCO.BO",{"$nulls":12},{"$f":"IFERROR(VLOOKUP(ROWS($Z$2:Z2507),K2507:$L$6000,2,0),\"\")","v":""},{"$f":"IFERROR(VLOOKUP(ROWS($AA$2:AA2507),K2507:$M$6000,3,0),\"\")","v":""}]
[{"$nulls":10},{"$f":"IF(ISNUMBER(SEARCH($A$3,L2508)),MAX($K$1:K2507)+1,0)","v":0},"Nitco Tiles Ltd","NITCO.NS",{"$nulls":12},{"$f":"IFERROR(VLOOKUP(ROWS($Z$2:Z2508),K2508:$L$6000,2,0),\"\")","v":""},{"$f":"IFERROR(VLOOKUP(ROWS($AA$2:AA2508),K2508:$M$6000,3,0),\"\")","v":""}]
[{"$nulls":10},{"$f":"IF(ISNUMBER(SEARCH($A$3,L2509)),MAX($K$1:K2508)+1,0)","v":0},"Nitin Alloys Global Ltd","NITINALOY.BO",{"$nulls":12},{"$f":"IFERROR(VLOOKUP(ROWS($Z$2:Z2509),K2509:$L$6000,2,0),\"\")","v":""},{"$f":"IFERROR(VLOOKUP(ROWS($AA$2:AA2509),K2509:$M$6000,3,0),\"\")","v":""}]
[{"$nulls":10},{"$f":"IF(ISNUMBER(SEARCH($A$3,L2510)),MAX($K$1:K2509)+1,0)","v":0},"Nitin Fire Protection Ind","NITINFIRE.BO",{"$nulls":12},{"$f":"IFERROR(VLOOKUP(ROWS($Z$2:Z2510),K2510:$L$6000,2,0),\"\")","v":""},{"$f":"IFERROR(VLOOKUP(ROWS($AA$2:AA2510),K2510:$M$6000,3,0),\"\")","v":""}]
[{"$nulls":10},{"$f":"IF(ISNUMBER(SEARCH($A$3,L2511)),MAX($K$1:K2510)+1,0)","v":0},"Nitin Spinners Ltd","NITINSPIN.BO",{"$nulls":12},{"$f":"IFERROR(VLOOKUP(ROWS($Z$2:Z2511),K2511:$L$6000,2,0),\"\")","v":""},{"$f":"IFERROR(VLOOKUP(ROWS($AA$2:AA2511),K2511:$M$6000,3,0),\"\")","v":""}]
[{"$nulls":10},{"$f":"IF(ISNUMBER(SEARCH($A$3,L2512)),MAX($K$1:K2511)+1,0)","v":0},"Nitin Spinners Ltd","NITINSPIN.NS",{"$nulls":12},{"$f":"IFERROR(VLOOKUP(ROWS($Z$2:Z2512),K2512:$L$6000,2,0),\"\")","v":""},{"$f":"IFERROR(VLOOKUP(ROWS($AA$2:AA2512),K2512:$M$6000,3,0),\"\")","v":""}]
[{"$nulls":10},{"$f":"IF(ISNUMBER(SEARCH($A$3,L2513)),MAX($K$1:K2512)+1,0)","v":0},"Nitta Gelatin India Ltd","NITTAGELA.BO",{"$nulls":12},{"$f":"IFERROR(VLOOKUP(ROWS($Z$2:Z2513),K2513:$L$6000,2,0),\"\")","v":""},{"$f":"IFERROR(VLOOKUP(ROWS($AA$2:AA2513),K2513:$M$6000,3,0),\"\")","v":""}]
[{"$nulls":10},{"$f":"IF(ISNUMBER(SEARCH($A$3,L2514)),MAX($K$1:K2513)+1,0)","v":0},"Nivedita Mercantile","ZNIVEMER.BO",{"$nulls":12},{"$f":"IFERROR(VLOOKUP(ROWS($Z$2:Z2514),K2514:$L$6000,2,0),\"\")","v":""},{"$f":"IFERROR(VLOOKUP(ROWS($AA$2:AA2514),K2514:$M$6000,3,0),\"\")","v":""}]
[{"$nulls":10},{"$f":"IF(ISNUMBER(SEARCH($A$3,L2515)),MAX($K$1:K2514)+1,0)","v":0},"NMDC Ltd","NMDCLTD.BO",{"$nulls":12},{"$f":"IFERROR(VLOOKUP(ROWS($Z$2:Z2515),K2515:$L$6000,2,0),\"\")","v":""},{"$f":"IFERROR(VLOOKUP(ROWS($AA$2:AA2515),K2515:$M$6000,3,0),\"\")","v":""}]
[{"$nulls":10},{"$f":"IF(ISNUMBER(SEARCH($A$3,L2516)),MAX($K$1:K2515)+1,0)","v":0},"NMDC Ltd","NMDC.NS",{"$nulls":12},{"$f":"IFERROR(VLOOKUP(ROWS($Z$2:Z2516),K2516:$L$6000,2,0),\"\")","v":""},{"$f":"IFERROR(VLOOKUP(ROWS($AA$2:AA2516),K2516:$M$6000,3,0),\"\")","v":""}]
[{"$nulls":10},{"$f":"IF(ISNUMBER(SEARCH($A$3,L2517)),MAX($K$1:K2516)+1,0)","v":0},"Noble Explochem Ltd","NOBLEXP.BO",{"$nulls":12},{"$f":"IFERROR(VLOOKUP(ROWS($Z$2:Z2517),K2517:$L$6000,2,0),\"\")","v":""},{"$f":"IFERROR(VLOOKUP(ROWS($AA$2:AA2517),K2517:$M$6000,3,0),\"\")","v":""}]
[{"$nulls":10},{"$f":"IF(ISNUMBER(SEARCH($A$3,L2518)),MAX($K$1:K2517)+1,0)","v":0},"NOCIL Ltd","NOCIL.BO",{"$nulls":12},{"$f":"IFERROR(VLOOKUP(ROWS($Z$2:Z2518),K2518:$L$6000,2,0),\"\")","v":""},{"$f":"IFERROR(VLOOKUP(ROWS($AA$2:AA2518),K2518:$M$6000,3,0),\"\")","v":""}]
[{"$nulls":10},{"$f":"IF(ISNUMBER(SEARCH($A$3,L2519)),MAX($K$1:K2518)+1,0)","v":0},"NOCIL Ltd","NOCIL.NS",{"$nulls":12},{"$f":"IFERROR(VLOOKUP(ROWS($Z$2:Z2519),K2519:$L$6000,2,0),\"\")","v":""},{"$f":"IFERROR(VLOOKUP(ROWS($AA$2:AA2519),K2519:$M$6000,3,0),\"\")","v":""}]
[{"$nulls":10},{"$f":"IF(ISNUMBER(SEARCH($A$3,L2520)),MAX($K$1:K2519)+1,0)","v":0},"Noesis Industries Ltd","MVLIND.BO",{"$nulls":12},{"$f":"IFERROR(VLOOKUP(ROWS($Z$2:Z2520),K2520:$L$6000,2,0),\"\")","v":""},{"$f":"IFERROR(VLOOKUP(ROWS($AA$2:AA2520),K2520:$M$6000,3,0),\"\")","v":""}]
[{"$nulls":10},{"$f":"IF(ISNUMBER(SEARCH($A$3,L2521)),MAX($K$1:K2520)+1,0)","v":0},"Noesis Industries Ltd","MVLIND.NS",{"$nulls":12},{"$f":"IFERROR(VLOOKUP(ROWS($Z$2:Z2521),K2521:$L$6000,2,0),\"\")","v":""},{"$f":"IFERROR(VLOOKUP(ROWS($AA$2:AA2521),K2521:$M$6000,3,0),\"\")","v":""}]
[{"$nulls":10},{"$f":"IF(ISNUMBER(SEARCH($A$3,L2522)),MAX($K$1:K2521)+1,0)","v":0},"Noida Medicare Centre Ltd","NOIMC.BO",{"$nulls":12},{"$f":"IFERROR(VLOOKUP(ROWS($Z$2:Z2522),K2522:$L$6000,2,0),\"\")","v":""},{"$f":"IFERROR(VLOOKUP(ROWS($AA$2:AA2522),K2522:$M$6000,3,0),\"\")","v":""}]
[{"$nulls":10},{"$f":"IF(ISNUMBER(SEARCH($A$3,L2523)),MAX($K$1:K2522)+1,0)","v":0},"Noida Toll Bridge Co Ltd","NOIDATOL.BO",{"$nulls":12},{"$f":"IFERROR(VLOOKUP(ROWS($Z$2:Z2523),K2523:$L$6000,2,0),\"\")","v":""},{"$f":"IFERROR(VLOOKUP(ROWS($AA$2:AA2523),K2523:$M$6000,3,0),\"\")","v":""}]
[{"$nulls":10},{"$f":"IF(ISNUMBER(SEARCH($A$3,L2524)),MAX($K$1:K2523)+1,0)","v":0},"Noida Toll Bridge Co Ltd","NOIDATOLL.NS",{"$nulls":12},{"$f":"IFERROR(VLOOKUP(ROWS($Z$2:Z2524),K2524:$L$6000,2,0),\"\")","v":""},{"$f":"IFERROR(VLOOKUP(ROWS($AA$2:AA2524),K2524:$M$6000,3,0),\"\")","v":""}]
[{"$nulls":10},{"$f":"IF(ISNUMBER(SEARCH($A$3,L2525)),MAX($K$1:K2524)+1,0)","v":0},"Norben Tea & Exports Ltd","NORBTEAEX.NS",{"$nulls":12},{"$f":"IFERROR(VLOOKUP(ROWS($Z$2:Z2525),K2525:$L$6000,2,0),\"\")","v":""},{"$f":"IFERROR(VLOOKUP(ROWS($AA$2:AA2525),K2525:$M$6000,3,0),\"\")","v":""}]
[{"$nulls":10},{"$f":"IF(ISNUMBER(SEARCH($A$3,L2526)),MAX($K$1:K2525)+1,0)","v":0},"Northward Technologies Ltd","532403.BO",{"$nulls":12},{"$f":"IFERROR(VLOOKUP(ROWS($Z$2:Z2526),K2526:$L$6000,2,0),\"\")","v":""},{"$f":"IFERROR(VLOOKUP(ROWS($AA$2:AA2526),K2526:$M$6000,3,0),\"\")","v":""}]
[{"$nulls":10},{"$f":"IF(ISNUMBER(SEARCH($A$3,L2527)),MAX($K$1:K2526)+1,0)","v":0},"Nouveau Global Ventures Ltd","NOUVEAU.BO",{"$nulls":12},{"$f":"IFERROR(VLOOKUP(ROWS($Z$2:Z2527),K2527:$L$6000,2,0),\"\")","v":""},{"$f":"IFERROR(VLOOKUP(ROWS($AA$2:AA2527),K2527:$M$6000,3,0),\"\")","v":""}]
[{"$nulls":10},{"$f":"IF(ISNUMBER(SEARCH($A$3,L2528)),MAX($K$1:K2527)+1,0)","v":0},"NovaGold Petro-Resources Ltd","NOVAGOLD.BO",{"$nulls":12},{"$f":"IFERROR(VLOOKUP(ROWS($Z$2:Z2528),K2528:$L$6000,2,0),\"\")","v":""},{"$f":"IFERROR(VLOOKUP(ROWS($AA$2:AA2528),K2528:$M$6000,3,0),\"\")","v":""}]
[{"$nulls":10},{"$f":"IF(ISNUMBER(SEARCH($A$3,L2529)),MAX($K$1:K2528)+1,0)","v":0},"Novartis India Ltd","NOVARTIS.BO",{"$nulls":12},{"$f":"IFERROR(VLOOKUP(ROWS($Z$2:Z2529),K2529:$L$6000,2,0),\"\")","v":""},{"$f":"IFERROR(VLOOKUP(ROWS($AA$2:AA2529),K2529:$M$6000,3,0),\"\")","v":""}]
[{"$nulls":10},{"$f":"IF(ISNUMBER(SEARCH($A$3,L2530)),MAX($K$1:K2529)+1,0)","v":0},"Novopan Industries Ltd","NOVOPAN.BO",{"$nulls":12},{"$f":"IFERROR(VLOOKUP(ROWS($Z$2:Z2530),K2530:$L$6000,2,0),\"\")","v":""},{"$f":"IFERROR(VLOOKUP(ROWS($AA$2:AA2530),K2530:$M$6000,3,0),\"\")","v":""}]
[{"$nulls":10},{"$f":"IF(ISNUMBER(SEARCH($A$3,L2531)),MAX($K$1:K2530)+1,0)","v":0},"Novopan Industries Ltd","NOVOPANIN.NS",{"$nulls":12},{"$f":"IFERROR(VLOOKUP(ROWS($Z$2:Z2531),K2531:$L$6000,2,0),\"\")","v":""},{"$f":"IFERROR(VLOOKUP(ROWS($AA$2:AA2531),K2531:$M$6000,3,0),\"\")","v":""}]
[{"$nulls":10},{"$f":"IF(ISNUMBER(SEARCH($A$3,L2532)),MAX($K$1:K2531)+1,0)","v":0},"NPR Finance Ltd","NPRFIN.BO",{"$nulls":12},{"$f":"IFERROR(VLOOKUP(ROWS($Z$2:Z2532),K2532:$L$6000,2,0),\"\")","v":""},{"$f":"IFERROR(VLOOKUP(ROWS($AA$2:AA2532),K2532:$M$6000,3,0),\"\")","v":""}]
[{"$nulls":10},{"$f":"IF(ISNUMBER(SEARCH($A$3,L2533)),MAX($K$1:K2532)+1,0)","v":0},"NR Agarwal Industries Ltd","NRAGRINDQ.BO",{"$nulls":12},{"$f":"IFERROR(VLOOKUP(ROWS($Z$2:Z2533),K2533:$L$6000,2,0),\"\")","v":""},{"$f":"IFERROR(VLOOKUP(ROWS($AA$2:AA2533),K2533:$M$6000,3,0),\"\")","v":""}]
[{"$nulls":10},{"$f":"IF(ISNUMBER(SEARCH($A$3,L2534)),MAX($K$1:K2533)+1,0)","v":0},"NRB Bearings Ltd","NRB.BO",{"$nulls":12},{"$f":"IFERROR(VLOOKUP(ROWS($Z$2:Z2534),K2534:$L$6000,2,0),\"\")","v":""},{"$f":"IFERROR(VLOOKUP(ROWS($AA$2:AA2534),K2534:$M$6000,3,0),\"\")","v":""}]
[{"$nulls":10},{"$f":"IF(ISNUMBER(SEARCH($A$3,L2535)),MAX($K$1:K2534)+1,0)","v":0},"NRB Bearings Ltd","NRBBEARIN.NS",{"$nulls":12},{"$f":"IFERROR(VLOOKUP(ROWS($Z$2:Z2535),K2535:$L$6000,2,0),\"\")","v":""},{"$f":"IFERROR(VLOOKUP(ROWS($AA$2:AA2535),K2535:$M$6000,3,0),\"\")","v":""}]
[{"$nulls":10},{"$f":"IF(ISNUMBER(SEARCH($A$3,L2536)),MAX($K$1:K2535)+1,0)","v":0},"NRC Ltd","NRC.BO",{"$nulls":12},{"$f":"IFERROR(VLOOKUP(ROWS($Z$2:Z2536),K2536:$L$6000,2,0),\"\")","v":""},{"$f":"IFERROR(VLOOKUP(ROWS($AA$2:AA2536),K2536:$M$6000,3,0),\"\")","v":""}]
[{"$nulls":10},{"$f":"IF(ISNUMBER(SEARCH($A$3,L2537)),MAX($K$1:K2536)+1,0)","v":0},"NRC Ltd","NRC.NS",{"$nulls":12},{"$f":"IFERROR(VLOOKUP(ROWS($Z$2:Z2537),K2537:$L$6000,2,0),\"\")","v":""},{"$f":"IFERROR(VLOOKUP(ROWS($AA$2:AA2537),K2537:$M$6000,3,0),\"\")","v":""}]
[{"$nulls":10},{"$f":"IF(ISNUMBER(SEARCH($A$3,L2538)),MAX($K$1:K2537)+1,0)","v":0},"NTC Industries Ltd","RDBIND.BO",{"$nulls":12},{"$f":"IFERROR(VLOOKUP(ROWS($Z$2:Z2538),K2538:$L$6000,2,0),\"\")","v":""},{"$f":"IFERROR(VLOOKUP(ROWS($AA$2:AA2538),K2538:$M$6000,3,0),\"\")","v":""}]
[{"$nulls":10},{"$f":"IF(ISNUMBER(SEARCH($A$3,L2539)),MAX($K$1:K2538)+1,0)","v":0},"NTPC Ltd","NTPC.BO",{"$nulls":12},{"$f":"IFERROR(VLOOKUP(ROWS($Z$2:Z2539),K2539:$L$6000,2,0),\"\")","v":""},{"$f":"IFERROR(VLOOKUP(ROWS($AA$2:AA2539),K2539:$M$6000,3,0),\"\")","v":""}]
[{"$nulls":10},{"$f":"IF(ISNUMBER(SEARCH($A$3,L2540)),MAX($K$1:K2539)+1,0)","v":0},"NTPC Ltd","NTPC.NS",{"$nulls":12},{"$f":"IFERROR(VLOOKUP(ROWS($Z$2:Z2540),K2540:$L$6000,2,0),\"\")","v":""},{"$f":"IFERROR(VLOOKUP(ROWS($AA$2:AA2540),K2540:$M$6000,3,0),\"\")","v":""}]
[{"$nulls":10},{"$f":"IF(ISNUMBER(SEARCH($A$3,L2541)),MAX($K$1:K2540)+1,0)","v":0},"Nu Tek India Ltd","NUTEK.BO",{"$nulls":12},{"$f":"IFERROR(VLOOKUP(ROWS($Z$2:Z2541),K2541:$L$6000,2,0),\"\")","v":""},{"$f":"IFERROR(VLOOKUP(ROWS($AA$2:AA2541),K2541:$M$6000,3,0),\"\")","v":""}]
[{"$nulls":10},{"$f":"IF(ISNUMBER(SEARCH($A$3,L2542)),MAX($K$1:K2541)+1,0)","v":0},"Nucleus Software Exports Ltd","NUCLEUSSOFT.BO",{"$nulls":12},{"$f":"IFERROR(VLOOKUP(ROWS($Z$2:Z2542),K2542:$L$6000,2,0),\"\")","v":""},{"$f":"IFERROR(VLOOKUP(ROWS($AA$2:AA2542),K2542:$M$6000,3,0),\"\")","v":""}]
[{"$nulls":10},{"$f":"IF(ISNUMBER(SEARCH($A$3,L2543)),MAX($K$1:K2542)+1,0)","v":0},"Nucleus Software Exports Ltd","NUCLEUS.NS",{"$nulls":12},{"$f":"IFERROR(VLOOKUP(ROWS($Z$2:Z2543),K2543:$L$6000,2,0),\"\")","v":""},{"$f":"IFERROR(VLOOKUP(ROWS($AA$2:AA2543),K2543:$M$6000,3,0),\"\")","v":""}]
[{"$nulls":10},{"$f":"IF(ISNUMBER(SEARCH($A$3,L2544)),MAX($K$1:K2543)+1,0)","v":0},"Nu-Tech Corporate Services Ltd","NUTECH.BO",{"$nulls":12},{"$f":"IFERROR(VLOOKUP(ROWS($Z$2:Z2544),K2544:$L$6000,2,0),\"\")","v":""},{"$f":"IFERROR(VLOOKUP(ROWS($AA$2:AA2544),K2544:$M$6000,3,0),\"\")","v":""}]
[{"$nulls":10},{"$f":"IF(ISNUMBER(SEARCH($A$3,L2545)),MAX($K$1:K2544)+1,0)","v":0},"Nutech Global Ltd","NUTECGLOB.BO",{"$nulls":12},{"$f":"IFERROR(VLOOKUP(ROWS($Z$2:Z2545),K2545:$L$6000,2,0),\"\")","v":""},{"$f":"IFERROR(VLOOKUP(ROWS($AA$2:AA2545),K2545:$M$6000,3,0),\"\")","v":""}]
[{"$nulls":10},{"$f":"IF(ISNUMBER(SEARCH($A$3,L2546)),MAX($K$1:K2545)+1,0)","v":0},"Nutraplus India Ltd","NUTRAPR.BO",{"$nulls":12},{"$f":"IFERROR(VLOOKUP(ROWS($Z$2:Z2546),K2546:$L$6000,2,0),\"\")","v":""},{"$f":"IFERROR(VLOOKUP(ROWS($AA$2:AA2546),K2546:$M$6000,3,0),\"\")","v":""}]
[{"$nulls":10},{"$f":"IF(ISNUMBER(SEARCH($A$3,L2547)),MAX($K$1:K2546)+1,0)","v":0},"Oasis Finvest Ltd","IKAB.BO",{"$nulls":12},{"$f":"IFERROR(VLOOKUP(ROWS($Z$2:Z2547),K2547:$L$6000,2,0),\"\")","v":""},{"$f":"IFERROR(VLOOKUP(ROWS($AA$2:AA2547),K2547:$M$6000,3,0),\"\")","v":""}]
[{"$nulls":10},{"$f":"IF(ISNUMBER(SEARCH($A$3,L2548)),MAX($K$1:K2547)+1,0)","v":0},"Oasis Securities Ltd","OASISEC.BO",{"$nulls":12},{"$f":"IFERROR(VLOOKUP(ROWS($Z$2:Z2548),K2548:$L$6000,2,0),\"\")","v":""},{"$f":"IFERROR(VLOOKUP(ROWS($AA$2:AA2548),K2548:$M$6000,3,0),\"\")","v":""}]
[{"$nulls":10},{"$f":"IF(ISNUMBER(SEARCH($A$3,L2549)),MAX($K$1:K2548)+1,0)","v":0},"Ocean Agro (India) Ltd","OCEAGRO.BO",{"$nulls":12},{"$f":"IFERROR(VLOOKUP(ROWS($Z$2:Z2549),K2549:$L$6000,2,0),\"\")","v":""},{"$f":"IFERROR(VLOOKUP(ROWS($AA$2:AA2549),K2549:$M$6000,3,0),\"\")","v":""}]
[{"$nulls":10},{"$f":"IF(ISNUMBER(SEARCH($A$3,L2550)),MAX($K$1:K2549)+1,0)","v":0},"OCL India Ltd","OCL.BO",{"$nulls":12},{"$f":"IFERROR(VLOOKUP(ROWS($Z$2:Z2550),K2550:$L$6000,2,0),\"\")","v":""},{"$f":"IFERROR(VLOOKUP(ROWS($AA$2:AA2550),K2550:$M$6000,3,0),\"\")","v":""}]
[{"$nulls":10},{"$f":"IF(ISNUMBER(SEARCH($A$3,L2551)),MAX($K$1:K2550)+1,0)","v":0},"OCL India Ltd","OCL.NS",{"$nulls":12},{"$f":"IFERROR(VLOOKUP(ROWS($Z$2:Z2551),K2551:$L$6000,2,0),\"\")","v":""},{"$f":"IFERROR(VLOOKUP(ROWS($AA$2:AA2551),K2551:$M$6000,3,0),\"\")","v":""}]
[{"$nulls":10},{"$f":"IF(ISNUMBER(SEARCH($A$3,L2552)),MAX($K$1:K2551)+1,0)","v":0},"OCL Iron and Steel Ltd","OCLISL.BO",{"$nulls":12},{"$f":"IFERROR(VLOOKUP(ROWS($Z$2:Z2552),K2552:$L$6000,2,0),\"\")","v":""},{"$f":"IFERROR(VLOOKUP(ROWS($AA$2:AA2552),K2552:$M$6000,3,0),\"\")","v":""}]
[{"$nulls":10},{"$f":"IF(ISNUMBER(SEARCH($A$3,L2553)),MAX($K$1:K2552)+1,0)","v":0},"OCL Iron and Steel Ltd","OISL.NS",{"$nulls":12},{"$f":"IFERROR(VLOOKUP(ROWS($Z$2:Z2553),K2553:$L$6000,2,0),\"\")","v":""},{"$f":"IFERROR(VLOOKUP(ROWS($AA$2:AA2553),K2553:$M$6000,3,0),\"\")","v":""}]
[{"$nulls":10},{"$f":"IF(ISNUMBER(SEARCH($A$3,L2554)),MAX($K$1:K2553)+1,0)","v":0},"Odyssey Technologies Ltd","ODYSSEY.BO",{"$nulls":12},{"$f":"IFERROR(VLOOKUP(ROWS($Z$2:Z2554),K2554:$L$6000,2,0),\"\")","v":""},{"$f":"IFERROR(VLOOKUP(ROWS($AA$2:AA2554),K2554:$M$6000,3,0),\"\")","v":""}]
[{"$nulls":10},{"$f":"IF(ISNUMBER(SEARCH($A$3,L2555)),MAX($K$1:K2554)+1,0)","v":0},"Oil & Natural Gas Corp Ltd","ONGC.BO",{"$nulls":12},{"$f":"IFERROR(VLOOKUP(ROWS($Z$2:Z2555),K2555:$L$6000,2,0),\"\")","v":""},{"$f":"IFERROR(VLOOKUP(ROWS($AA$2:AA2555),K2555:$M$6000,3,0),\"\")","v":""}]
[{"$nulls":10},{"$f":"IF(ISNUMBER(SEARCH($A$3,L2556)),MAX($K$1:K2555)+1,0)","v":0},"Oil Country Tubular Ltd","OILCOUNT.BO",{"$nulls":12},{"$f":"IFERROR(VLOOKUP(ROWS($Z$2:Z2556),K2556:$L$6000,2,0),\"\")","v":""},{"$f":"IFERROR(VLOOKUP(ROWS($AA$2:AA2556),K2556:$M$6000,3,0),\"\")","v":""}]
[{"$nulls":10},{"$f":"IF(ISNUMBER(SEARCH($A$3,L2557)),MAX($K$1:K2556)+1,0)","v":0},"Oil Country Tubular Ltd","OILCOUNTU.NS",{"$nulls":12},{"$f":"IFERROR(VLOOKUP(ROWS($Z$2:Z2557),K2557:$L$6000,2,0),\"\")","v":""},{"$f":"IFERROR(VLOOKUP(ROWS($AA$2:AA2557),K2557:$M$6000,3,0),\"\")","v":""}]
[{"$nulls":10},{"$f":"IF(ISNUMBER(SEARCH($A$3,L2558)),MAX($K$1:K2557)+1,0)","v":0},"Oil India Ltd","OIL.BO",{"$nulls":12},{"$f":"IFERROR(VLOOKUP(ROWS($Z$2:Z2558),K2558:$L$6000,2,0),\"\")","v":""},{"$f":"IFERROR(VLOOKUP(ROWS($AA$2:AA2558),K2558:$M$6000,3,0),\"\")","v":""}]
[{"$nulls":10},{"$f":"IF(ISNUMBER(SEARCH($A$3,L2559)),MAX($K$1:K2558)+1,0)","v":0},"OK Play India Ltd","OKPLA.BO",{"$nulls":12},{"$f":"IFERROR(VLOOKUP(ROWS($Z$2:Z2559),K2559:$L$6000,2,0),\"\")","v":""},{"$f":"IFERROR(VLOOKUP(ROWS($AA$2:AA2559),K2559:$M$6000,3,0),\"\")","v":""}]
[{"$nulls":10},{"$f":"IF(ISNUMBER(SEARCH($A$3,L2560)),MAX($K$1:K2559)+1,0)","v":0},"Olympic Oil Industries Ltd","OLYOI.BO",{"$nulls":12},{"$f":"IFERROR(VLOOKUP(ROWS($Z$2:Z2560),K2560:$L$6000,2,0),\"\")","v":""},{"$f":"IFERROR(VLOOKUP(ROWS($AA$2:AA2560),K2560:$M$6000,3,0),\"\")","v":""}]
[{"$nulls":10},{"$f":"IF(ISNUMBER(SEARCH($A$3,L2561)),MAX($K$1:K2560)+1,0)","v":0},"OM Metals Infraprojects Ltd","OMMEINFRA.BO",{"$nulls":12},{"$f":"IFERROR(VLOOKUP(ROWS($Z$2:Z2561),K2561:$L$6000,2,0),\"\")","v":""},{"$f":"IFERROR(VLOOKUP(ROWS($AA$2:AA2561),K2561:$M$6000,3,0),\"\")","v":""}]
[{"$nulls":10},{"$f":"IF(ISNUMBER(SEARCH($A$3,L2562)),MAX($K$1:K2561)+1,0)","v":0},"Omax Autos Ltd","OMAX.BO",{"$nulls":12},{"$f":"IFERROR(VLOOKUP(ROWS($Z$2:Z2562),K2562:$L$6000,2,0),\"\")","v":""},{"$f":"IFERROR(VLOOKUP(ROWS($AA$2:AA2562),K2562:$M$6000,3,0),\"\")","v":""}]
[{"$nulls":10},{"$f":"IF(ISNUMBER(SEARCH($A$3,L2563)),MAX($K$1:K2562)+1,0)","v":0},"Omax Autos Ltd","OMAXAUTO.NS",{"$nulls":12},{"$f":"IFERROR(VLOOKUP(ROWS($Z$2:Z2563),K2563:$L$6000,2,0),\"\")","v":""},{"$f":"IFERROR(VLOOKUP(ROWS($AA$2:AA2563),K2563:$M$6000,3,0),\"\")","v":""}]
[{"$nulls":10},{"$f":"IF(ISNUMBER(SEARCH($A$3,L2564)),MAX($K$1:K2563)+1,0)","v":0},"Omaxe Ltd","OMAXE.BO",{"$nulls":12},{"$f":"IFERROR(VLOOKUP(ROWS($Z$2:Z2564),K2564:$L$6000,2,0),\"\")","v":""},{"$f":"IFERROR(VLOOKUP(ROWS($AA$2:AA2564),K2564:$M$6000,3,0),\"\")","v":""}]
[{"$nulls":10},{"$f":"IF(ISNUMBER(SEARCH($A$3,L2565)),MAX($K$1:K2564)+1,0)","v":0},"Omaxe Ltd","OMAXE.NS",{"$nulls":12},{"$f":"IFERROR(VLOOKUP(ROWS($Z$2:Z2565),K2565:$L$6000,2,0),\"\")","v":""},{"$f":"IFERROR(VLOOKUP(ROWS($AA$2:AA2565),K2565:$M$6000,3,0),\"\")","v":""}]
[{"$nulls":10},{"$f":"IF(ISNUMBER(SEARCH($A$3,L2566)),MAX($K$1:K2565)+1,0)","v":0},"Omega Ag-Seeds (Punjab) Ltd","OMEAG.BO",{"$nulls":12},{"$f":"IFERROR(VLOOKUP(ROWS($Z$2:Z2566),K2566:$L$6000,2,0),\"\")","v":""},{"$f":"IFERROR(VLOOKUP(ROWS($AA$2:AA2566),K2566:$M$6000,3,0),\"\")","v":""}]
[{"$nulls":10},{"$f":"IF(ISNUMBER(SEARCH($A$3,L2567)),MAX($K$1:K2566)+1,0)","v":0},"Omega Interactive Tech","OMEGAIN.BO",{"$nulls":12},{"$f":"IFERROR(VLOOKUP(ROWS($Z$2:Z2567),K2567:$L$6000,2,0),\"\")","v":""},{"$f":"IFERROR(VLOOKUP(ROWS($AA$2:AA2567),K2567:$M$6000,3,0),\"\")","v":""}]
[{"$nulls":10},{"$f":"IF(ISNUMBER(SEARCH($A$3,L2568)),MAX($K$1:K2567)+1,0)","v":0},"Omkar Overseas Ltd","OMKAR.BO",{"$nulls":12},{"$f":"IFERROR(VLOOKUP(ROWS($Z$2:Z2568),K2568:$L$6000,2,0),\"\")","v":""},{"$f":"IFERROR(VLOOKUP(ROWS($AA$2:AA2568),K2568:$M$6000,3,0),\"\")","v":""}]
[{"$nulls":10},{"$f":"IF(ISNUMBER(SEARCH($A$3,L2569)),MAX($K$1:K2568)+1,0)","v":0},"Omkar Pharmachem Ltd","OMKARPH.BO",{"$nulls":12},{"$f":"IFERROR(VLOOKUP(ROWS($Z$2:Z2569),K2569:$L$6000,2,0),\"\")","v":""},{"$f":"IFERROR(VLOOKUP(ROWS($AA$2:AA2569),K2569:$M$6000,3,0),\"\")","v":""}]
[{"$nulls":10},{"$f":"IF(ISNUMBER(SEARCH($A$3,L2570)),MAX($K$1:K2569)+1,0)","v":0},"Omni AX's Software Ltd","OMNIAX.BO",{"$nulls":12},{"$f":"IFERROR(VLOOKUP(ROWS($Z$2:Z2570),K2570:$L$6000,2,0),\"\")","v":""},{"$f":"IFERROR(VLOOKUP(ROWS($AA$2:AA2570),K2570:$M$6000,3,0),\"\")","v":""}]
[{"$nulls":10},{"$f":"IF(ISNUMBER(SEARCH($A$3,L2571)),MAX($K$1:K2570)+1,0)","v":0},"Omnitech Infosolutions Ltd","OMNITECH.BO",{"$nulls":12},{"$f":"IFERROR(VLOOKUP(ROWS($Z$2:Z2571),K2571:$L$6000,2,0),\"\")","v":""},{"$f":"IFERROR(VLOOKUP(ROWS($AA$2:AA2571),K2571:$M$6000,3,0),\"\")","v":""}]
[{"$nulls":10},{"$f":"IF(ISNUMBER(SEARCH($A$3,L2572)),MAX($K$1:K2571)+1,0)","v":0},"Omnitech Infosolutions Ltd","OMNITECH.NS",{"$nulls":12},{"$f":"IFERROR(VLOOKUP(ROWS($Z$2:Z2572),K2572:$L$6000,2,0),\"\")","v":""},{"$f":"IFERROR(VLOOKUP(ROWS($AA$2:AA2572),K2572:$M$6000,3,0),\"\")","v":""}]
[{"$nulls":10},{"$f":"IF(ISNUMBER(SEARCH($A$3,L2573)),MAX($K$1:K2572)+1,0)","v":0},"Omnitex Industries (India) Ltd","OMNITEX.BO",{"$nulls":12},{"$f":"IFERROR(VLOOKUP(ROWS($Z$2:Z2573),K2573:$L$6000,2,0),\"\")","v":""},{"$f":"IFERROR(VLOOKUP(ROWS($AA$2:AA2573),K2573:$M$6000,3,0),\"\")","v":""}]
[{"$nulls":10},{"$f":"IF(ISNUMBER(SEARCH($A$3,L2574)),MAX($K$1:K2573)+1,0)","v":0},"ONGC","ONGC.NS",{"$nulls":12},{"$f":"IFERROR(VLOOKUP(ROWS($Z$2:Z2574),K2574:$L$6000,2,0),\"\")","v":""},{"$f":"IFERROR(VLOOKUP(ROWS($AA$2:AA2574),K2574:$M$6000,3,0),\"\")","v":""}]
[{"$nulls":10},{"$f":"IF(ISNUMBER(SEARCH($A$3,L2575)),MAX($K$1:K2574)+1,0)","v":0},"OnMobile Global Ltd","ONMOBILE.BO",{"$nulls":12},{"$f":"IFERROR(VLOOKUP(ROWS($Z$2:Z2575),K2575:$L$6000,2,0),\"\")","v":""},{"$f":"IFERROR(VLOOKUP(ROWS($AA$2:AA2575),K2575:$M$6000,3,0),\"\")","v":""}]
[{"$nulls":10},{"$f":"IF(ISNUMBER(SEARCH($A$3,L2576)),MAX($K$1:K2575)+1,0)","v":0},"OnMobile Global Ltd","ONMOBILE.NS",{"$nulls":12},{"$f":"IFERROR(VLOOKUP(ROWS($Z$2:Z2576),K2576:$L$6000,2,0),\"\")","v":""},{"$f":"IFERROR(VLOOKUP(ROWS($AA$2:AA2576),K2576:$M$6000,3,0),\"\")","v":""}]
[{"$nulls":10},{"$f":"IF(ISNUMBER(SEARCH($A$3,L2577)),MAX($K$1:K2576)+1,0)","v":0},"Ontrack Systems Limited","ONTRACK.BO",{"$nulls":12},{"$f":"IFERROR(VLOOKUP(ROWS($Z$2:Z2577),K2577:$L$6000,2,0),\"\")","v":""},{"$f":"IFERROR(VLOOKUP(ROWS($AA$2:AA2577),K2577:$M$6000,3,0),\"\")","v":""}]
[{"$nulls":10},{"$f":"IF(ISNUMBER(SEARCH($A$3,L2578)),MAX($K$1:K2577)+1,0)","v":0},"Onward Technologies Ltd","ONWARD.BO",{"$nulls":12},{"$f":"IFERROR(VLOOKUP(ROWS($Z$2:Z2578),K2578:$L$6000,2,0),\"\")","v":""},{"$f":"IFERROR(VLOOKUP(ROWS($AA$2:AA2578),K2578:$M$6000,3,0),\"\")","v":""}]
[{"$nulls":10},{"$f":"IF(ISNUMBER(SEARCH($A$3,L2579)),MAX($K$1:K2578)+1,0)","v":0},"Onward Technologies Ltd","ONWARDTEC.NS",{"$nulls":12},{"$f":"IFERROR(VLOOKUP(ROWS($Z$2:Z2579),K2579:$L$6000,2,0),\"\")","v":""},{"$f":"IFERROR(VLOOKUP(ROWS($AA$2:AA2579),K2579:$M$6000,3,0),\"\")","v":""}]
[{"$nulls":10},{"$f":"IF(ISNUMBER(SEARCH($A$3,L2580)),MAX($K$1:K2579)+1,0)","v":0},"Optiemus Infracom Ltd","AKANKSHA.BO",{"$nulls":12},{"$f":"IFERROR(VLOOKUP(ROWS($Z$2:Z2580),K2580:$L$6000,2,0),\"\")","v":""},{"$f":"IFERROR(VLOOKUP(ROWS($AA$2:AA2580),K2580:$M$6000,3,0),\"\")","v":""}]
[{"$nulls":10},{"$f":"IF(ISNUMBER(SEARCH($A$3,L2581)),MAX($K$1:K2580)+1,0)","v":0},"Opto Circuits (India) Ltd","OPTOCIRCUIT.BO",{"$nulls":12},{"$f":"IFERROR(VLOOKUP(ROWS($Z$2:Z2581),K2581:$L$6000,2,0),\"\")","v":""},{"$f":"IFERROR(VLOOKUP(ROWS($AA$2:AA2581),K2581:$M$6000,3,0),\"\")","v":""}]
[{"$nulls":10},{"$f":"IF(ISNUMBER(SEARCH($A$3,L2582)),MAX($K$1:K2581)+1,0)","v":0},"Opto Circuits (India) Ltd","OPTOCIRCU.NS",{"$nulls":12},{"$f":"IFERROR(VLOOKUP(ROWS($Z$2:Z2582),K2582:$L$6000,2,0),\"\")","v":""},{"$f":"IFERROR(VLOOKUP(ROWS($AA$2:AA2582),K2582:$M$6000,3,0),\"\")","v":""}]
[{"$nulls":10},{"$f":"IF(ISNUMBER(SEARCH($A$3,L2583)),MAX($K$1:K2582)+1,0)","v":0},"Oracle Financial Services","ORACLEFIN.BO",{"$nulls":12},{"$f":"IFERROR(VLOOKUP(ROWS($Z$2:Z2583),K2583:$L$6000,2,0),\"\")","v":""},{"$f":"IFERROR(VLOOKUP(ROWS($AA$2:AA2583),K2583:$M$6000,3,0),\"\")","v":""}]
[{"$nulls":10},{"$f":"IF(ISNUMBER(SEARCH($A$3,L2584)),MAX($K$1:K2583)+1,0)","v":0},"Oracle Financial Services","OFSS.NS",{"$nulls":12},{"$f":"IFERROR(VLOOKUP(ROWS($Z$2:Z2584),K2584:$L$6000,2,0),\"\")","v":""},{"$f":"IFERROR(VLOOKUP(ROWS($AA$2:AA2584),K2584:$M$6000,3,0),\"\")","v":""}]
[{"$nulls":10},{"$f":"IF(ISNUMBER(SEARCH($A$3,L2585)),MAX($K$1:K2584)+1,0)","v":0},"Orbit Corp Ltd","ORBITCO.BO",{"$nulls":12},{"$f":"IFERROR(VLOOKUP(ROWS($Z$2:Z2585),K2585:$L$6000,2,0),\"\")","v":""},{"$f":"IFERROR(VLOOKUP(ROWS($AA$2:AA2585),K2585:$M$6000,3,0),\"\")","v":""}]
[{"$nulls":10},{"$f":"IF(ISNUMBER(SEARCH($A$3,L2586)),MAX($K$1:K2585)+1,0)","v":0},"Orbit Corp Ltd","ORBITCORP.NS",{"$nulls":12},{"$f":"IFERROR(VLOOKUP(ROWS($Z$2:Z2586),K2586:$L$6000,2,0),\"\")","v":""},{"$f":"IFERROR(VLOOKUP(ROWS($AA$2:AA2586),K2586:$M$6000,3,0),\"\")","v":""}]
[{"$nulls":10},{"$f":"IF(ISNUMBER(SEARCH($A$3,L2587)),MAX($K$1:K2586)+1,0)","v":0},"Orbit Exports Ltd","ORBTEXP.BO",{"$nulls":12},{"$f":"IFERROR(VLOOKUP(ROWS($Z$2:Z2587),K2587:$L$6000,2,0),\"\")","v":""},{"$f":"IFERROR(VLOOKUP(ROWS($AA$2:AA2587),K2587:$M$6000,3,0),\"\")","v":""}]
[{"$nulls":10},{"$f":"IF(ISNUMBER(SEARCH($A$3,L2588)),MAX($K$1:K2587)+1,0)","v":0},"Orchid Chemicals & Pharma","ORCHIDCHEM.BO",{"$nulls":12},{"$f":"IFERROR(VLOOKUP(ROWS($Z$2:Z2588),K2588:$L$6000,2,0),\"\")","v":""},{"$f":"IFERROR(VLOOKUP(ROWS($AA$2:AA2588),K2588:$M$6000,3,0),\"\")","v":""}]
[{"$nulls":10},{"$f":"IF(ISNUMBER(SEARCH($A$3,L2589)),MAX($K$1:K2588)+1,0)","v":0},"Orchid Chemicals & Pharma","ORCHIDCHE.NS",{"$nulls":12},{"$f":"IFERROR(VLOOKUP(ROWS($Z$2:Z2589),K2589:$L$6000,2,0),\"\")","v":""},{"$f":"IFERROR(VLOOKUP(ROWS($AA$2:AA2589),K2589:$M$6000,3,0),\"\")","v":""}]
[{"$nulls":10},{"$f":"IF(ISNUMBER(SEARCH($A$3,L2590)),MAX($K$1:K2589)+1,0)","v":0},"Oregon Commercials Ltd","ZORGNCOM.BO",{"$nulls":12},{"$f":"IFERROR(VLOOKUP(ROWS($Z$2:Z2590),K2590:$L$6000,2,0),\"\")","v":""},{"$f":"IFERROR(VLOOKUP(ROWS($AA$2:AA2590),K2590:$M$6000,3,0),\"\")","v":""}]
[{"$nulls":10},{"$f":"IF(ISNUMBER(SEARCH($A$3,L2591)),MAX($K$1:K2590)+1,0)","v":0},"Organic Coatings Ltd","ORGCOAT.BO",{"$nulls":12},{"$f":"IFERROR(VLOOKUP(ROWS($Z$2:Z2591),K2591:$L$6000,2,0),\"\")","v":""},{"$f":"IFERROR(VLOOKUP(ROWS($AA$2:AA2591),K2591:$M$6000,3,0),\"\")","v":""}]
[{"$nulls":10},{"$f":"IF(ISNUMBER(SEARCH($A$3,L2592)),MAX($K$1:K2591)+1,0)","v":0},"Orient Abrasives Ltd","ORIABRAS.BO",{"$nulls":12},{"$f":"IFERROR(VLOOKUP(ROWS($Z$2:Z2592),K2592:$L$6000,2,0),\"\")","v":""},{"$f":"IFERROR(VLOOKUP(ROWS($AA$2:AA2592),K2592:$M$6000,3,0),\"\")","v":""}]
[{"$nulls":10},{"$f":"IF(ISNUMBER(SEARCH($A$3,L2593)),MAX($K$1:K2592)+1,0)","v":0},"Orient Abrasives Ltd","ORIENTABR.NS",{"$nulls":12},{"$f":"IFERROR(VLOOKUP(ROWS($Z$2:Z2593),K2593:$L$6000,2,0),\"\")","v":""},{"$f":"IFERROR(VLOOKUP(ROWS($AA$2:AA2593),K2593:$M$6000,3,0),\"\")","v":""}]
[{"$nulls":10},{"$f":"IF(ISNUMBER(SEARCH($A$3,L2594)),MAX($K$1:K2593)+1,0)","v":0},"Orient Bell Ltd","ORIENTCE.BO",{"$nulls":12},{"$f":"IFERROR(VLOOKUP(ROWS($Z$2:Z2594),K2594:$L$6000,2,0),\"\")","v":""},{"$f":"IFERROR(VLOOKUP(ROWS($AA$2:AA2594),K2594:$M$6000,3,0),\"\")","v":""}]
[{"$nulls":10},{"$f":"IF(ISNUMBER(SEARCH($A$3,L2595)),MAX($K$1:K2594)+1,0)","v":0},"Orient Bell Ltd","ORIENTCER.NS",{"$nulls":12},{"$f":"IFERROR(VLOOKUP(ROWS($Z$2:Z2595),K2595:$L$6000,2,0),\"\")","v":""},{"$f":"IFERROR(VLOOKUP(ROWS($AA$2:AA2595),K2595:$M$6000,3,0),\"\")","v":""}]
[{"$nulls":10},{"$f":"IF(ISNUMBER(SEARCH($A$3,L2596)),MAX($K$1:K2595)+1,0)","v":0},"Orient Beverages Ltd","ORIBEVER.BO",{"$nulls":12},{"$f":"IFERROR(VLOOKUP(ROWS($Z$2:Z2596),K2596:$L$6000,2,0),\"\")","v":""},{"$f":"IFERROR(VLOOKUP(ROWS($AA$2:AA2596),K2596:$M$6000,3,0),\"\")","v":""}]
[{"$nulls":10},{"$f":"IF(ISNUMBER(SEARCH($A$3,L2597)),MAX($K$1:K2596)+1,0)","v":0},"Orient Paper & Industries Ltd","ORIENTP.BO",{"$nulls":12},{"$f":"IFERROR(VLOOKUP(ROWS($Z$2:Z2597),K2597:$L$6000,2,0),\"\")","v":""},{"$f":"IFERROR(VLOOKUP(ROWS($AA$2:AA2597),K2597:$M$6000,3,0),\"\")","v":""}]
[{"$nulls":10},{"$f":"IF(ISNUMBER(SEARCH($A$3,L2598)),MAX($K$1:K2597)+1,0)","v":0},"Orient Paper & Industries Ltd","ORIENTPPR.NS",{"$nulls":12},{"$f":"IFERROR(VLOOKUP(ROWS($Z$2:Z2598),K2598:$L$6000,2,0),\"\")","v":""},{"$f":"IFERROR(VLOOKUP(ROWS($AA$2:AA2598),K2598:$M$6000,3,0),\"\")","v":""}]
[{"$nulls":10},{"$f":"IF(ISNUMBER(SEARCH($A$3,L2599)),MAX($K$1:K2598)+1,0)","v":0},"Orient Press Ltd","ORIENTPR.BO",{"$nulls":12},{"$f":"IFERROR(VLOOKUP(ROWS($Z$2:Z2599),K2599:$L$6000,2,0),\"\")","v":""},{"$f":"IFERROR(VLOOKUP(ROWS($AA$2:AA2599),K2599:$M$6000,3,0),\"\")","v":""}]
[{"$nulls":10},{"$f":"IF(ISNUMBER(SEARCH($A$3,L2600)),MAX($K$1:K2599)+1,0)","v":0},"Orient Press Ltd","ORIENTLTD.NS",{"$nulls":12},{"$f":"IFERROR(VLOOKUP(ROWS($Z$2:Z2600),K2600:$L$6000,2,0),\"\")","v":""},{"$f":"IFERROR(VLOOKUP(ROWS($AA$2:AA2600),K2600:$M$6000,3,0),\"\")","v":""}]
[{"$nulls":10},{"$f":"IF(ISNUMBER(SEARCH($A$3,L2601)),MAX($K$1:K2600)+1,0)","v":0},"Oriental Bank of Commerce","OBC.BO",{"$nulls":12},{"$f":"IFERROR(VLOOKUP(ROWS($Z$2:Z2601),K2601:$L$6000,2,0),\"\")","v":""},{"$f":"IFERROR(VLOOKUP(ROWS($AA$2:AA2601),K2601:$M$6000,3,0),\"\")","v":""}]
[{"$nulls":10},{"$f":"IF(ISNUMBER(SEARCH($A$3,L2602)),MAX($K$1:K2601)+1,0)","v":0},"Oriental Bank of Commerce","ORIENTBAN.NS",{"$nulls":12},{"$f":"IFERROR(VLOOKUP(ROWS($Z$2:Z2602),K2602:$L$6000,2,0),\"\")","v":""},{"$f":"IFERROR(VLOOKUP(ROWS($AA$2:AA2602),K2602:$M$6000,3,0),\"\")","v":""}]
[{"$nulls":10},{"$f":"IF(ISNUMBER(SEARCH($A$3,L2603)),MAX($K$1:K2602)+1,0)","v":0},"Oriental Carbon","ORIENTCQ.BO",{"$nulls":12},{"$f":"IFERROR(VLOOKUP(ROWS($Z$2:Z2603),K2603:$L$6000,2,0),\"\")","v":""},{"$f":"IFERROR(VLOOKUP(ROWS($AA$2:AA2603),K2603:$M$6000,3,0),\"\")","v":""}]
[{"$nulls":10},{"$f":"IF(ISNUMBER(SEARCH($A$3,L2604)),MAX($K$1:K2603)+1,0)","v":0},"Oriental Hotels Ltd","ORIENTHOT.BO",{"$nulls":12},{"$f":"IFERROR(VLOOKUP(ROWS($Z$2:Z2604),K2604:$L$6000,2,0),\"\")","v":""},{"$f":"IFERROR(VLOOKUP(ROWS($AA$2:AA2604),K2604:$M$6000,3,0),\"\")","v":""}]
[{"$nulls":10},{"$f":"IF(ISNUMBER(SEARCH($A$3,L2605)),MAX($K$1:K2604)+1,0)","v":0},"Oriental Trimex Ltd","ORIENTAL.BO",{"$nulls":12},{"$f":"IFERROR(VLOOKUP(ROWS($Z$2:Z2605),K2605:$L$6000,2,0),\"\")","v":""},{"$f":"IFERROR(VLOOKUP(ROWS($AA$2:AA2605),K2605:$M$6000,3,0),\"\")","v":""}]
[{"$nulls":10},{"$f":"IF(ISNUMBER(SEARCH($A$3,L2606)),MAX($K$1:K2605)+1,0)","v":0},"Oriental Trimex Ltd","ORIENTALT.NS",{"$nulls":12},{"$f":"IFERROR(VLOOKUP(ROWS($Z$2:Z2606),K2606:$L$6000,2,0),\"\")","v":""},{"$f":"IFERROR(VLOOKUP(ROWS($AA$2:AA2606),K2606:$M$6000,3,0),\"\")","v":""}]
[{"$nulls":10},{"$f":"IF(ISNUMBER(SEARCH($A$3,L2607)),MAX($K$1:K2606)+1,0)","v":0},"Oriental Veneer Products Ltd","ORVENPR.BO",{"$nulls":12},{"$f":"IFERROR(VLOOKUP(ROWS($Z$2:Z2607),K2607:$L$6000,2,0),\"\")","v":""},{"$f":"IFERROR(VLOOKUP(ROWS($AA$2:AA2607),K2607:$M$6000,3,0),\"\")","v":""}]
[{"$nulls":10},{"$f":"IF(ISNUMBER(SEARCH($A$3,L2608)),MAX($K$1:K2607)+1,0)","v":0},"Orissa Sponge Iron & Steel Ltd","ORISSASP.BO",{"$nulls":12},{"$f":"IFERROR(VLOOKUP(ROWS($Z$2:Z2608),K2608:$L$6000,2,0),\"\")","v":""},{"$f":"IFERROR(VLOOKUP(ROWS($AA$2:AA2608),K2608:$M$6000,3,0),\"\")","v":""}]
[{"$nulls":10},{"$f":"IF(ISNUMBER(SEARCH($A$3,L2609)),MAX($K$1:K2608)+1,0)","v":0},"Orosil Smiths India Ltd","SLVERSM.BO",{"$nulls":12},{"$f":"IFERROR(VLOOKUP(ROWS($Z$2:Z2609),K2609:$L$6000,2,0),\"\")","v":""},{"$f":"IFERROR(VLOOKUP(ROWS($AA$2:AA2609),K2609:$M$6000,3,0),\"\")","v":""}]
[{"$nulls":10},{"$f":"IF(ISNUMBER(SEARCH($A$3,L2610)),MAX($K$1:K2609)+1,0)","v":0},"Ortin Laboratories Ltd","ORTIN.BO",{"$nulls":12},{"$f":"IFERROR(VLOOKUP(ROWS($Z$2:Z2610),K2610:$L$6000,2,0),\"\")","v":""},{"$f":"IFERROR(VLOOKUP(ROWS($AA$2:AA2610),K2610:$M$6000,3,0),\"\")","v":""}]
[{"$nulls":10},{"$f":"IF(ISNUMBER(SEARCH($A$3,L2611)),MAX($K$1:K2610)+1,0)","v":0},"Oscar Global Ltd","OSCARGLO.BO",{"$nulls":12},{"$f":"IFERROR(VLOOKUP(ROWS($Z$2:Z2611),K2611:$L$6000,2,0),\"\")","v":""},{"$f":"IFERROR(VLOOKUP(ROWS($AA$2:AA2611),K2611:$M$6000,3,0),\"\")","v":""}]
[{"$nulls":10},{"$f":"IF(ISNUMBER(SEARCH($A$3,L2612)),MAX($K$1:K2611)+1,0)","v":0},"Oscar Investments Ltd","OSCAR.BO",{"$nulls":12},{"$f":"IFERROR(VLOOKUP(ROWS($Z$2:Z2612),K2612:$L$6000,2,0),\"\")","v":""},{"$f":"IFERROR(VLOOKUP(ROWS($AA$2:AA2612),K2612:$M$6000,3,0),\"\")","v":""}]
[{"$nulls":10},{"$f":"IF(ISNUMBER(SEARCH($A$3,L2613)),MAX($K$1:K2612)+1,0)","v":0},"Oswal Agro Mills Ltd","OSWALAG.BO",{"$nulls":12},{"$f":"IFERROR(VLOOKUP(ROWS($Z$2:Z2613),K2613:$L$6000,2,0),\"\")","v":""},{"$f":"IFERROR(VLOOKUP(ROWS($AA$2:AA2613),K2613:$M$6000,3,0),\"\")","v":""}]
[{"$nulls":10},{"$f":"IF(ISNUMBER(SEARCH($A$3,L2614)),MAX($K$1:K2613)+1,0)","v":0},"Oswal Green Tech Ltd","BINDALAGR.NS",{"$nulls":12},{"$f":"IFERROR(VLOOKUP(ROWS($Z$2:Z2614),K2614:$L$6000,2,0),\"\")","v":""},{"$f":"IFERROR(VLOOKUP(ROWS($AA$2:AA2614),K2614:$M$6000,3,0),\"\")","v":""}]
[{"$nulls":10},{"$f":"IF(ISNUMBER(SEARCH($A$3,L2615)),MAX($K$1:K2614)+1,0)","v":0},"Oswal Spinning & Weaving","OSSWM.BO",{"$nulls":12},{"$f":"IFERROR(VLOOKUP(ROWS($Z$2:Z2615),K2615:$L$6000,2,0),\"\")","v":""},{"$f":"IFERROR(VLOOKUP(ROWS($AA$2:AA2615),K2615:$M$6000,3,0),\"\")","v":""}]
[{"$nulls":10},{"$f":"IF(ISNUMBER(SEARCH($A$3,L2616)),MAX($K$1:K2615)+1,0)","v":0},"Oswal Yarns Ltd","OSWAYRN.BO",{"$nulls":12},{"$f":"IFERROR(VLOOKUP(ROWS($Z$2:Z2616),K2616:$L$6000,2,0),\"\")","v":""},{"$f":"IFERROR(VLOOKUP(ROWS($AA$2:AA2616),K2616:$M$6000,3,0),\"\")","v":""}]
[{"$nulls":10},{"$f":"IF(ISNUMBER(SEARCH($A$3,L2617)),MAX($K$1:K2616)+1,0)","v":0},"Oxford Industries Ltd","OXFORDIN.BO",{"$nulls":12},{"$f":"IFERROR(VLOOKUP(ROWS($Z$2:Z2617),K2617:$L$6000,2,0),\"\")","v":""},{"$f":"IFERROR(VLOOKUP(ROWS($AA$2:AA2617),K2617:$M$6000,3,0),\"\")","v":""}]
[{"$nulls":10},{"$f":"IF(ISNUMBER(SEARCH($A$3,L2618)),MAX($K$1:K2617)+1,0)","v":0},"P H Capital Ltd","PHCAP.BO",{"$nulls":12},{"$f":"IFERROR(VLOOKUP(ROWS($Z$2:Z2618),K2618:$L$6000,2,0),\"\")","v":""},{"$f":"IFERROR(VLOOKUP(ROWS($AA$2:AA2618),K2618:$M$6000,3,0),\"\")","v":""}]
[{"$nulls":10},{"$f":"IF(ISNUMBER(SEARCH($A$3,L2619)),MAX($K$1:K2618)+1,0)","v":0},"P M Telelinnks Ltd","PMTELELIN.BO",{"$nulls":12},{"$f":"IFERROR(VLOOKUP(ROWS($Z$2:Z2619),K2619:$L$6000,2,0),\"\")","v":""},{"$f":"IFERROR(VLOOKUP(ROWS($AA$2:AA2619),K2619:$M$6000,3,0),\"\")","v":""}]
[{"$nulls":10},{"$f":"IF(ISNUMBER(SEARCH($A$3,L2620)),MAX($K$1:K2619)+1,0)","v":0},"Pacific Cotspin Ltd","PACIF.BO",{"$nulls":12},{"$f":"IFERROR(VLOOKUP(ROWS($Z$2:Z2620),K2620:$L$6000,2,0),\"\")","v":""},{"$f":"IFERROR(VLOOKUP(ROWS($AA$2:AA2620),K2620:$M$6000,3,0),\"\")","v":""}]
[{"$nulls":10},{"$f":"IF(ISNUMBER(SEARCH($A$3,L2621)),MAX($K$1:K2620)+1,0)","v":0},"Pacific Industries Ltd","PACIFICI.BO",{"$nulls":12},{"$f":"IFERROR(VLOOKUP(ROWS($Z$2:Z2621),K2621:$L$6000,2,0),\"\")","v":""},{"$f":"IFERROR(VLOOKUP(ROWS($AA$2:AA2621),K2621:$M$6000,3,0),\"\")","v":""}]
[{"$nulls":10},{"$f":"IF(ISNUMBER(SEARCH($A$3,L2622)),MAX($K$1:K2621)+1,0)","v":0},"Padam Cotton Yarns Ltd","PADAMCO.BO",{"$nulls":12},{"$f":"IFERROR(VLOOKUP(ROWS($Z$2:Z2622),K2622:$L$6000,2,0),\"\")","v":""},{"$f":"IFERROR(VLOOKUP(ROWS($AA$2:AA2622),K2622:$M$6000,3,0),\"\")","v":""}]
[{"$nulls":10},{"$f":"IF(ISNUMBER(SEARCH($A$3,L2623)),MAX($K$1:K2622)+1,0)","v":0},"Padmalaya Telefilms Ltd","PADMATELE.BO",{"$nulls":12},{"$f":"IFERROR(VLOOKUP(ROWS($Z$2:Z2623),K2623:$L$6000,2,0),\"\")","v":""},{"$f":"IFERROR(VLOOKUP(ROWS($AA$2:AA2623),K2623:$M$6000,3,0),\"\")","v":""}]
[{"$nulls":10},{"$f":"IF(ISNUMBER(SEARCH($A$3,L2624)),MAX($K$1:K2623)+1,0)","v":0},"PAE Ltd","PAEL.BO",{"$nulls":12},{"$f":"IFERROR(VLOOKUP(ROWS($Z$2:Z2624),K2624:$L$6000,2,0),\"\")","v":""},{"$f":"IFERROR(VLOOKUP(ROWS($AA$2:AA2624),K2624:$M$6000,3,0),\"\")","v":""}]
[{"$nulls":10},{"$f":"IF(ISNUMBER(SEARCH($A$3,L2625)),MAX($K$1:K2624)+1,0)","v":0},"PAE Ltd","PAEL.NS",{"$nulls":12},{"$f":"IFERROR(VLOOKUP(ROWS($Z$2:Z2625),K2625:$L$6000,2,0),\"\")","v":""},{"$f":"IFERROR(VLOOKUP(ROWS($AA$2:AA2625),K2625:$M$6000,3,0),\"\")","v":""}]
[{"$nulls":10},{"$f":"IF(ISNUMBER(SEARCH($A$3,L2626)),MAX($K$1:K2625)+1,0)","v":0},"Page Industries Ltd","PAGEIND.BO",{"$nulls":12},{"$f":"IFERROR(VLOOKUP(ROWS($Z$2:Z2626),K2626:$L$6000,2,0),\"\")","v":""},{"$f":"IFERROR(VLOOKUP(ROWS($AA$2:AA2626),K2626:$M$6000,3,0),\"\")","v":""}]
[{"$nulls":10},{"$f":"IF(ISNUMBER(SEARCH($A$3,L2627)),MAX($K$1:K2626)+1,0)","v":0},"Page Industries Ltd","PAGEIND.NS",{"$nulls":12},{"$f":"IFERROR(VLOOKUP(ROWS($Z$2:Z2627),K2627:$L$6000,2,0),\"\")","v":""},{"$f":"IFERROR(VLOOKUP(ROWS($AA$2:AA2627),K2627:$M$6000,3,0),\"\")","v":""}]
[{"$nulls":10},{"$f":"IF(ISNUMBER(SEARCH($A$3,L2628)),MAX($K$1:K2627)+1,0)","v":0},"Pal Credit And Capital Ltd","PALCRED.BO",{"$nulls":12},{"$f":"IFERROR(VLOOKUP(ROWS($Z$2:Z2628),K2628:$L$6000,2,0),\"\")","v":""},{"$f":"IFERROR(VLOOKUP(ROWS($AA$2:AA2628),K2628:$M$6000,3,0),\"\")","v":""}]
[{"$nulls":10},{"$f":"IF(ISNUMBER(SEARCH($A$3,L2629)),MAX($K$1:K2628)+1,0)","v":0},"PALCO Ltd","PENNARAL.BO",{"$nulls":12},{"$f":"IFERROR(VLOOKUP(ROWS($Z$2:Z2629),K2629:$L$6000,2,0),\"\")","v":""},{"$f":"IFERROR(VLOOKUP(ROWS($AA$2:AA2629),K2629:$M$6000,3,0),\"\")","v":""}]
[{"$nulls":10},{"$f":"IF(ISNUMBER(SEARCH($A$3,L2630)),MAX($K$1:K2629)+1,0)","v":0},"Palred Technologies Ltd","FOURSOFT.BO",{"$nulls":12},{"$f":"IFERROR(VLOOKUP(ROWS($Z$2:Z2630),K2630:$L$6000,2,0),\"\")","v":""},{"$f":"IFERROR(VLOOKUP(ROWS($AA$2:AA2630),K2630:$M$6000,3,0),\"\")","v":""}]
[{"$nulls":10},{"$f":"IF(ISNUMBER(SEARCH($A$3,L2631)),MAX($K$1:K2630)+1,0)","v":0},"Palred Technologies Ltd","FOURSOFT.NS",{"$nulls":12},{"$f":"IFERROR(VLOOKUP(ROWS($Z$2:Z2631),K2631:$L$6000,2,0),\"\")","v":""},{"$f":"IFERROR(VLOOKUP(ROWS($AA$2:AA2631),K2631:$M$6000,3,0),\"\")","v":""}]
[{"$nulls":10},{"$f":"IF(ISNUMBER(SEARCH($A$3,L2632)),MAX($K$1:K2631)+1,0)","v":0},"Palsoft Infosystems Ltd","PALSOFT.BO",{"$nulls":12},{"$f":"IFERROR(VLOOKUP(ROWS($Z$2:Z2632),K2632:$L$6000,2,0),\"\")","v":""},{"$f":"IFERROR(VLOOKUP(ROWS($AA$2:AA2632),K2632:$M$6000,3,0),\"\")","v":""}]
[{"$nulls":10},{"$f":"IF(ISNUMBER(SEARCH($A$3,L2633)),MAX($K$1:K2632)+1,0)","v":0},"Pan Electroncis (India) Ltd","PANELEC.BO",{"$nulls":12},{"$f":"IFERROR(VLOOKUP(ROWS($Z$2:Z2633),K2633:$L$6000,2,0),\"\")","v":""},{"$f":"IFERROR(VLOOKUP(ROWS($AA$2:AA2633),K2633:$M$6000,3,0),\"\")","v":""}]
[{"$nulls":10},{"$f":"IF(ISNUMBER(SEARCH($A$3,L2634)),MAX($K$1:K2633)+1,0)","v":0},"PAN India Corp Ltd","PANINDIAC.BO",{"$nulls":12},{"$f":"IFERROR(VLOOKUP(ROWS($Z$2:Z2634),K2634:$L$6000,2,0),\"\")","v":""},{"$f":"IFERROR(VLOOKUP(ROWS($AA$2:AA2634),K2634:$M$6000,3,0),\"\")","v":""}]
[{"$nulls":10},{"$f":"IF(ISNUMBER(SEARCH($A$3,L2635)),MAX($K$1:K2634)+1,0)","v":0},"PAN India Corp Ltd","SRGINFOTE.NS",{"$nulls":12},{"$f":"IFERROR(VLOOKUP(ROWS($Z$2:Z2635),K2635:$L$6000,2,0),\"\")","v":""},{"$f":"IFERROR(VLOOKUP(ROWS($AA$2:AA2635),K2635:$M$6000,3,0),\"\")","v":""}]
[{"$nulls":10},{"$f":"IF(ISNUMBER(SEARCH($A$3,L2636)),MAX($K$1:K2635)+1,0)","v":0},"Panacea Biotec Ltd","PANACEABIO.BO",{"$nulls":12},{"$f":"IFERROR(VLOOKUP(ROWS($Z$2:Z2636),K2636:$L$6000,2,0),\"\")","v":""},{"$f":"IFERROR(VLOOKUP(ROWS($AA$2:AA2636),K2636:$M$6000,3,0),\"\")","v":""}]
[{"$nulls":10},{"$f":"IF(ISNUMBER(SEARCH($A$3,L2637)),MAX($K$1:K2636)+1,0)","v":0},"Panacea Biotec Ltd","PANACEABI.NS",{"$nulls":12},{"$f":"IFERROR(VLOOKUP(ROWS($Z$2:Z2637),K2637:$L$6000,2,0),\"\")","v":""},{"$f":"IFERROR(VLOOKUP(ROWS($AA$2:AA2637),K2637:$M$6000,3,0),\"\")","v":""}]
[{"$nulls":10},{"$f":"IF(ISNUMBER(SEARCH($A$3,L2638)),MAX($K$1:K2637)+1,0)","v":0},"Panama Petrochem Ltd","PANAMA.BO",{"$nulls":12},{"$f":"IFERROR(VLOOKUP(ROWS($Z$2:Z2638),K2638:$L$6000,2,0),\"\")","v":""},{"$f":"IFERROR(VLOOKUP(ROWS($AA$2:AA2638),K2638:$M$6000,3,0),\"\")","v":""}]
[{"$nulls":10},{"$f":"IF(ISNUMBER(SEARCH($A$3,L2639)),MAX($K$1:K2638)+1,0)","v":0},"Panasonic Appliances Indi","PANASONIC.BO",{"$nulls":12},{"$f":"IFERROR(VLOOKUP(ROWS($Z$2:Z2639),K2639:$L$6000,2,0),\"\")","v":""},{"$f":"IFERROR(VLOOKUP(ROWS($AA$2:AA2639),K2639:$M$6000,3,0),\"\")","v":""}]
[{"$nulls":10},{"$f":"IF(ISNUMBER(SEARCH($A$3,L2640)),MAX($K$1:K2639)+1,0)","v":0},"Panasonic Carbon India Co Ltd","PANACARBN.BO",{"$nulls":12},{"$f":"IFERROR(VLOOKUP(ROWS($Z$2:Z2640),K2640:$L$6000,2,0),\"\")","v":""},{"$f":"IFERROR(VLOOKUP(ROWS($AA$2:AA2640),K2640:$M$6000,3,0),\"\")","v":""}]
[{"$nulls":10},{"$f":"IF(ISNUMBER(SEARCH($A$3,L2641)),MAX($K$1:K2640)+1,0)","v":0},"Panasonic Energy India Co Ltd","PANAENERG.BO",{"$nulls":12},{"$f":"IFERROR(VLOOKUP(ROWS($Z$2:Z2641),K2641:$L$6000,2,0),\"\")","v":""},{"$f":"IFERROR(VLOOKUP(ROWS($AA$2:AA2641),K2641:$M$6000,3,0),\"\")","v":""}]
[{"$nulls":10},{"$f":"IF(ISNUMBER(SEARCH($A$3,L2642)),MAX($K$1:K2641)+1,0)","v":0},"Panchmahal Steel Ltd","PANCHMAHQ.BO",{"$nulls":12},{"$f":"IFERROR(VLOOKUP(ROWS($Z$2:Z2642),K2642:$L$6000,2,0),\"\")","v":""},{"$f":"IFERROR(VLOOKUP(ROWS($AA$2:AA2642),K2642:$M$6000,3,0),\"\")","v":""}]
[{"$nulls":10},{"$f":"IF(ISNUMBER(SEARCH($A$3,L2643)),MAX($K$1:K2642)+1,0)","v":0},"Panchsheel Organics Ltd","PANCHOR.BO",{"$nulls":12},{"$f":"IFERROR(VLOOKUP(ROWS($Z$2:Z2643),K2643:$L$6000,2,0),\"\")","v":""},{"$f":"IFERROR(VLOOKUP(ROWS($AA$2:AA2643),K2643:$M$6000,3,0),\"\")","v":""}]
[{"$nulls":10},{"$f":"IF(ISNUMBER(SEARCH($A$3,L2644)),MAX($K$1:K2643)+1,0)","v":0},"Pankaj Polymers Ltd","PANKAJPO.BO",{"$nulls":12},{"$f":"IFERROR(VLOOKUP(ROWS($Z$2:Z2644),K2644:$L$6000,2,0),\"\")","v":""},{"$f":"IFERROR(VLOOKUP(ROWS($AA$2:AA2644),K2644:$M$6000,3,0),\"\")","v":""}]
[{"$nulls":10},{"$f":"IF(ISNUMBER(SEARCH($A$3,L2645)),MAX($K$1:K2644)+1,0)","v":0},"Panoramic Universal Ltd","PANORAM.BO",{"$nulls":12},{"$f":"IFERROR(VLOOKUP(ROWS($Z$2:Z2645),K2645:$L$6000,2,0),\"\")","v":""},{"$f":"IFERROR(VLOOKUP(ROWS($AA$2:AA2645),K2645:$M$6000,3,0),\"\")","v":""}]
[{"$nulls":10},{"$f":"IF(ISNUMBER(SEARCH($A$3,L2646)),MAX($K$1:K2645)+1,0)","v":0},"Panoramic Universal Ltd","PANORAMUN.NS",{"$nulls":12},{"$f":"IFERROR(VLOOKUP(ROWS($Z$2:Z2646),K2646:$L$6000,2,0),\"\")","v":""},{"$f":"IFERROR(VLOOKUP(ROWS($AA$2:AA2646),K2646:$M$6000,3,0),\"\")","v":""}]
[{"$nulls":10},{"$f":"IF(ISNUMBER(SEARCH($A$3,L2647)),MAX($K$1:K2646)+1,0)","v":0},"Panther Industrial","PANIDPR.BO",{"$nulls":12},{"$f":"IFERROR(VLOOKUP(ROWS($Z$2:Z2647),K2647:$L$6000,2,0),\"\")","v":""},{"$f":"IFERROR(VLOOKUP(ROWS($AA$2:AA2647),K2647:$M$6000,3,0),\"\")","v":""}]
[{"$nulls":10},{"$f":"IF(ISNUMBER(SEARCH($A$3,L2648)),MAX($K$1:K2647)+1,0)","v":0},"Panyam Cements & Mineral","PANCM.BO",{"$nulls":12},{"$f":"IFERROR(VLOOKUP(ROWS($Z$2:Z2648),K2648:$L$6000,2,0),\"\")","v":""},{"$f":"IFERROR(VLOOKUP(ROWS($AA$2:AA2648),K2648:$M$6000,3,0),\"\")","v":""}]
[{"$nulls":10},{"$f":"IF(ISNUMBER(SEARCH($A$3,L2649)),MAX($K$1:K2648)+1,0)","v":0},"Paper Products Ltd","PAPERPROD.BO",{"$nulls":12},{"$f":"IFERROR(VLOOKUP(ROWS($Z$2:Z2649),K2649:$L$6000,2,0),\"\")","v":""},{"$f":"IFERROR(VLOOKUP(ROWS($AA$2:AA2649),K2649:$M$6000,3,0),\"\")","v":""}]
[{"$nulls":10},{"$f":"IF(ISNUMBER(SEARCH($A$3,L2650)),MAX($K$1:K2649)+1,0)","v":0},"Paper Products Ltd","PAPERPROD.NS",{"$nulls":12},{"$f":"IFERROR(VLOOKUP(ROWS($Z$2:Z2650),K2650:$L$6000,2,0),\"\")","v":""},{"$f":"IFERROR(VLOOKUP(ROWS($AA$2:AA2650),K2650:$M$6000,3,0),\"\")","v":""}]
[{"$nulls":10},{"$f":"IF(ISNUMBER(SEARCH($A$3,L2651)),MAX($K$1:K2650)+1,0)","v":0},"Parabolic Drugs Ltd","PARABOLIC.BO",{"$nulls":12},{"$f":"IFERROR(VLOOKUP(ROWS($Z$2:Z2651),K2651:$L$6000,2,0),\"\")","v":""},{"$f":"IFERROR(VLOOKUP(ROWS($AA$2:AA2651),K2651:$M$6000,3,0),\"\")","v":""}]
[{"$nulls":10},{"$f":"IF(ISNUMBER(SEARCH($A$3,L2652)),MAX($K$1:K2651)+1,0)","v":0},"Paragon Finance Ltd","PARAGONF.BO",{"$nulls":12},{"$f":"IFERROR(VLOOKUP(ROWS($Z$2:Z2652),K2652:$L$6000,2,0),\"\")","v":""},{"$f":"IFERROR(VLOOKUP(ROWS($AA$2:AA2652),K2652:$M$6000,3,0),\"\")","v":""}]
[{"$nulls":10},{"$f":"IF(ISNUMBER(SEARCH($A$3,L2653)),MAX($K$1:K2652)+1,0)","v":0},"Paramount Communications Ltd","PARACOM.BO",{"$nulls":12},{"$f":"IFERROR(VLOOKUP(ROWS($Z$2:Z2653),K2653:$L$6000,2,0),\"\")","v":""},{"$f":"IFERROR(VLOOKUP(ROWS($AA$2:AA2653),K2653:$M$6000,3,0),\"\")","v":""}]
[{"$nulls":10},{"$f":"IF(ISNUMBER(SEARCH($A$3,L2654)),MAX($K$1:K2653)+1,0)","v":0},"Paramount Communications Ltd","PARACABLE.NS",{"$nulls":12},{"$f":"IFERROR(VLOOKUP(ROWS($Z$2:Z2654),K2654:$L$6000,2,0),\"\")","v":""},{"$f":"IFERROR(VLOOKUP(ROWS($AA$2:AA2654),K2654:$M$6000,3,0),\"\")","v":""}]
[{"$nulls":10},{"$f":"IF(ISNUMBER(SEARCH($A$3,L2655)),MAX($K$1:K2654)+1,0)","v":0},"Paramount Cosmetics (I) Ltd","PARMCOS-B.BO",{"$nulls":12},{"$f":"IFERROR(VLOOKUP(ROWS($Z$2:Z2655),K2655:$L$6000,2,0),\"\")","v":""},{"$f":"IFERROR(VLOOKUP(ROWS($AA$2:AA2655),K2655:$M$6000,3,0),\"\")","v":""}]
[{"$nulls":10},{"$f":"IF(ISNUMBER(SEARCH($A$3,L2656)),MAX($K$1:K2655)+1,0)","v":0},"Paras Petrofils Ltd","PARASPET.BO",{"$nulls":12},{"$f":"IFERROR(VLOOKUP(ROWS($Z$2:Z2656),K2656:$L$6000,2,0),\"\")","v":""},{"$f":"IFERROR(VLOOKUP(ROWS($AA$2:AA2656),K2656:$M$6000,3,0),\"\")","v":""}]
[{"$nulls":10},{"$f":"IF(ISNUMBER(SEARCH($A$3,L2657)),MAX($K$1:K2656)+1,0)","v":0},"Parekh Aluminex Ltd","PARAL.BO",{"$nulls":12},{"$f":"IFERROR(VLOOKUP(ROWS($Z$2:Z2657),K2657:$L$6000,2,0),\"\")","v":""},{"$f":"IFERROR(VLOOKUP(ROWS($AA$2:AA2657),K2657:$M$6000,3,0),\"\")","v":""}]
[{"$nulls":10},{"$f":"IF(ISNUMBER(SEARCH($A$3,L2658)),MAX($K$1:K2657)+1,0)","v":0},"Parekh Aluminex Ltd","PARAL.NS",{"$nulls":12},{"$f":"IFERROR(VLOOKUP(ROWS($Z$2:Z2658),K2658:$L$6000,2,0),\"\")","v":""},{"$f":"IFERROR(VLOOKUP(ROWS($AA$2:AA2658),K2658:$M$6000,3,0),\"\")","v":""}]
[{"$nulls":10},{"$f":"IF(ISNUMBER(SEARCH($A$3,L2659)),MAX($K$1:K2658)+1,0)","v":0},"Parenteral Drugs (India) Ltd","PARENTLD.BO",{"$nulls":12},{"$f":"IFERROR(VLOOKUP(ROWS($Z$2:Z2659),K2659:$L$6000,2,0),\"\")","v":""},{"$f":"IFERROR(VLOOKUP(ROWS($AA$2:AA2659),K2659:$M$6000,3,0),\"\")","v":""}]
[{"$nulls":10},{"$f":"IF(ISNUMBER(SEARCH($A$3,L2660)),MAX($K$1:K2659)+1,0)","v":0},"Parichay Investments Ltd","ZPARICIN.BO",{"$nulls":12},{"$f":"IFERROR(VLOOKUP(ROWS($Z$2:Z2660),K2660:$L$6000,2,0),\"\")","v":""},{"$f":"IFERROR(VLOOKUP(ROWS($AA$2:AA2660),K2660:$M$6000,3,0),\"\")","v":""}]
[{"$nulls":10},{"$f":"IF(ISNUMBER(SEARCH($A$3,L2661)),MAX($K$1:K2660)+1,0)","v":0},"Parker Agro Chem Exports Ltd","PARKERAC.BO",{"$nulls":12},{"$f":"IFERROR(VLOOKUP(ROWS($Z$2:Z2661),K2661:$L$6000,2,0),\"\")","v":""},{"$f":"IFERROR(VLOOKUP(ROWS($AA$2:AA2661),K2661:$M$6000,3,0),\"\")","v":""}]
[{"$nulls":10},{"$f":"IF(ISNUMBER(SEARCH($A$3,L2662)),MAX($K$1:K2661)+1,0)","v":0},"Parle Software Ltd","PARLESOFT.BO",{"$nulls":12},{"$f":"IFERROR(VLOOKUP(ROWS($Z$2:Z2662),K2662:$L$6000,2,0),\"\")","v":""},{"$f":"IFERROR(VLOOKUP(ROWS($AA$2:AA2662),K2662:$M$6000,3,0),\"\")","v":""}]
[{"$nulls":10},{"$f":"IF(ISNUMBER(SEARCH($A$3,L2663)),MAX($K$1:K2662)+1,0)","v":0},"Parrys Sugar Industries Ltd","GMRINDS.BO",{"$nulls":12},{"$f":"IFERROR(VLOOKUP(ROWS($Z$2:Z2663),K2663:$L$6000,2,0),\"\")","v":""},{"$f":"IFERROR(VLOOKUP(ROWS($AA$2:AA2663),K2663:$M$6000,3,0),\"\")","v":""}]
[{"$nulls":10},{"$f":"IF(ISNUMBER(SEARCH($A$3,L2664)),MAX($K$1:K2663)+1,0)","v":0},"Parrys Sugar Industries Ltd","GMRINDS.NS",{"$nulls":12},{"$f":"IFERROR(VLOOKUP(ROWS($Z$2:Z2664),K2664:$L$6000,2,0),\"\")","v":""},{"$f":"IFERROR(VLOOKUP(ROWS($AA$2:AA2664),K2664:$M$6000,3,0),\"\")","v":""}]
[{"$nulls":10},{"$f":"IF(ISNUMBER(SEARCH($A$3,L2665)),MAX($K$1:K2664)+1,0)","v":0},"Parsharti Investment Ltd","PARSHINV.BO",{"$nulls":12},{"$f":"IFERROR(VLOOKUP(ROWS($Z$2:Z2665),K2665:$L$6000,2,0),\"\")","v":""},{"$f":"IFERROR(VLOOKUP(ROWS($AA$2:AA2665),K2665:$M$6000,3,0),\"\")","v":""}]
[{"$nulls":10},{"$f":"IF(ISNUMBER(SEARCH($A$3,L2666)),MAX($K$1:K2665)+1,0)","v":0},"Parshwanath Corp Ltd","PARHOUS.BO",{"$nulls":12},{"$f":"IFERROR(VLOOKUP(ROWS($Z$2:Z2666),K2666:$L$6000,2,0),\"\")","v":""},{"$f":"IFERROR(VLOOKUP(ROWS($AA$2:AA2666),K2666:$M$6000,3,0),\"\")","v":""}]
[{"$nulls":10},{"$f":"IF(ISNUMBER(SEARCH($A$3,L2667)),MAX($K$1:K2666)+1,0)","v":0},"Parsvnath Developers Ltd","PARSVNATH.BO",{"$nulls":12},{"$f":"IFERROR(VLOOKUP(ROWS($Z$2:Z2667),K2667:$L$6000,2,0),\"\")","v":""},{"$f":"IFERROR(VLOOKUP(ROWS($AA$2:AA2667),K2667:$M$6000,3,0),\"\")","v":""}]
[{"$nulls":10},{"$f":"IF(ISNUMBER(SEARCH($A$3,L2668)),MAX($K$1:K2667)+1,0)","v":0},"Pasari Spinning Mills Ltd","PASARI.BO",{"$nulls":12},{"$f":"IFERROR(VLOOKUP(ROWS($Z$2:Z2668),K2668:$L$6000,2,0),\"\")","v":""},{"$f":"IFERROR(VLOOKUP(ROWS($AA$2:AA2668),K2668:$M$6000,3,0),\"\")","v":""}]
[{"$nulls":10},{"$f":"IF(ISNUMBER(SEARCH($A$3,L2669)),MAX($K$1:K2668)+1,0)","v":0},"Pasupati Acrylon Ltd","PASUPTAC.BO",{"$nulls":12},{"$f":"IFERROR(VLOOKUP(ROWS($Z$2:Z2669),K2669:$L$6000,2,0),\"\")","v":""},{"$f":"IFERROR(VLOOKUP(ROWS($AA$2:AA2669),K2669:$M$6000,3,0),\"\")","v":""}]
[{"$nulls":10},{"$f":"IF(ISNUMBER(SEARCH($A$3,L2670)),MAX($K$1:K2669)+1,0)","v":0},"Pasupati Fincap Ltd","PASUFIN.BO",{"$nulls":12},{"$f":"IFERROR(VLOOKUP(ROWS($Z$2:Z2670),K2670:$L$6000,2,0),\"\")","v":""},{"$f":"IFERROR(VLOOKUP(ROWS($AA$2:AA2670),K2670:$M$6000,3,0),\"\")","v":""}]
[{"$nulls":10},{"$f":"IF(ISNUMBER(SEARCH($A$3,L2671)),MAX($K$1:K2670)+1,0)","v":0},"Patel Engineering Ltd","PATELEN.BO",{"$nulls":12},{"$f":"IFERROR(VLOOKUP(ROWS($Z$2:Z2671),K2671:$L$6000,2,0),\"\")","v":""},{"$f":"IFERROR(VLOOKUP(ROWS($AA$2:AA2671),K2671:$M$6000,3,0),\"\")","v":""}]
[{"$nulls":10},{"$f":"IF(ISNUMBER(SEARCH($A$3,L2672)),MAX($K$1:K2671)+1,0)","v":0},"Patel Engineering Ltd","PATELENG.NS",{"$nulls":12},{"$f":"IFERROR(VLOOKUP(ROWS($Z$2:Z2672),K2672:$L$6000,2,0),\"\")","v":""},{"$f":"IFERROR(VLOOKUP(ROWS($AA$2:AA2672),K2672:$M$6000,3,0),\"\")","v":""}]
[{"$nulls":10},{"$f":"IF(ISNUMBER(SEARCH($A$3,L2673)),MAX($K$1:K2672)+1,0)","v":0},"Patel Integrated Logistics Ltd","PATINTLOG.BO",{"$nulls":12},{"$f":"IFERROR(VLOOKUP(ROWS($Z$2:Z2673),K2673:$L$6000,2,0),\"\")","v":""},{"$f":"IFERROR(VLOOKUP(ROWS($AA$2:AA2673),K2673:$M$6000,3,0),\"\")","v":""}]
[{"$nulls":10},{"$f":"IF(ISNUMBER(SEARCH($A$3,L2674)),MAX($K$1:K2673)+1,0)","v":0},"Patel Integrated Logistics Ltd","PATINTLOG.NS",{"$nulls":12},{"$f":"IFERROR(VLOOKUP(ROWS($Z$2:Z2674),K2674:$L$6000,2,0),\"\")","v":""},{"$f":"IFERROR(VLOOKUP(ROWS($AA$2:AA2674),K2674:$M$6000,3,0),\"\")","v":""}]
[{"$nulls":10},{"$f":"IF(ISNUMBER(SEARCH($A$3,L2675)),MAX($K$1:K2674)+1,0)","v":0},"Patels Airtemp (India) Ltd","PATELSAI.BO",{"$nulls":12},{"$f":"IFERROR(VLOOKUP(ROWS($Z$2:Z2675),K2675:$L$6000,2,0),\"\")","v":""},{"$f":"IFERROR(VLOOKUP(ROWS($AA$2:AA2675),K2675:$M$6000,3,0),\"\")","v":""}]
[{"$nulls":10},{"$f":"IF(ISNUMBER(SEARCH($A$3,L2676)),MAX($K$1:K2675)+1,0)","v":0},"Patspin India Ltd","PATSPIN.BO",{"$nulls":12},{"$f":"IFERROR(VLOOKUP(ROWS($Z$2:Z2676),K2676:$L$6000,2,0),\"\")","v":""},{"$f":"IFERROR(VLOOKUP(ROWS($AA$2:AA2676),K2676:$M$6000,3,0),\"\")","v":""}]
[{"$nulls":10},{"$f":"IF(ISNUMBER(SEARCH($A$3,L2677)),MAX($K$1:K2676)+1,0)","v":0},"Patspin India Ltd","PATSPINLT.NS",{"$nulls":12},{"$f":"IFERROR(VLOOKUP(ROWS($Z$2:Z2677),K2677:$L$6000,2,0),\"\")","v":""},{"$f":"IFERROR(VLOOKUP(ROWS($AA$2:AA2677),K2677:$M$6000,3,0),\"\")","v":""}]
[{"$nulls":10},{"$f":"IF(ISNUMBER(SEARCH($A$3,L2678)),MAX($K$1:K2677)+1,0)","v":0},"Paushak Ltd","PAUSHAKLTD.BO",{"$nulls":12},{"$f":"IFERROR(VLOOKUP(ROWS($Z$2:Z2678),K2678:$L$6000,2,0),\"\")","v":""},{"$f":"IFERROR(VLOOKUP(ROWS($AA$2:AA2678),K2678:$M$6000,3,0),\"\")","v":""}]
[{"$nulls":10},{"$f":"IF(ISNUMBER(SEARCH($A$3,L2679)),MAX($K$1:K2678)+1,0)","v":0},"PBA Infrastructure Ltd","PBAINFRA.BO",{"$nulls":12},{"$f":"IFERROR(VLOOKUP(ROWS($Z$2:Z2679),K2679:$L$6000,2,0),\"\")","v":""},{"$f":"IFERROR(VLOOKUP(ROWS($AA$2:AA2679),K2679:$M$6000,3,0),\"\")","v":""}]
[{"$nulls":10},{"$f":"IF(ISNUMBER(SEARCH($A$3,L2680)),MAX($K$1:K2679)+1,0)","v":0},"PBA Infrastructure Ltd","PBAINFRA.NS",{"$nulls":12},{"$f":"IFERROR(VLOOKUP(ROWS($Z$2:Z2680),K2680:$L$6000,2,0),\"\")","v":""},{"$f":"IFERROR(VLOOKUP(ROWS($AA$2:AA2680),K2680:$M$6000,3,0),\"\")","v":""}]
[{"$nulls":10},{"$f":"IF(ISNUMBER(SEARCH($A$3,L2681)),MAX($K$1:K2680)+1,0)","v":0},"PBM Polytex Ltd","PBMPOLY.BO",{"$nulls":12},{"$f":"IFERROR(VLOOKUP(ROWS($Z$2:Z2681),K2681:$L$6000,2,0),\"\")","v":""},{"$f":"IFERROR(VLOOKUP(ROWS($AA$2:AA2681),K2681:$M$6000,3,0),\"\")","v":""}]
[{"$nulls":10},{"$f":"IF(ISNUMBER(SEARCH($A$3,L2682)),MAX($K$1:K2681)+1,0)","v":0},"PCS Technology Ltd","PCS.BO",{"$nulls":12},{"$f":"IFERROR(VLOOKUP(ROWS($Z$2:Z2682),K2682:$L$6000,2,0),\"\")","v":""},{"$f":"IFERROR(VLOOKUP(ROWS($AA$2:AA2682),K2682:$M$6000,3,0),\"\")","v":""}]
[{"$nulls":10},{"$f":"IF(ISNUMBER(SEARCH($A$3,L2683)),MAX($K$1:K2682)+1,0)","v":0},"Pearl Global Industries Ltd","HOPFL.BO",{"$nulls":12},{"$f":"IFERROR(VLOOKUP(ROWS($Z$2:Z2683),K2683:$L$6000,2,0),\"\")","v":""},{"$f":"IFERROR(VLOOKUP(ROWS($AA$2:AA2683),K2683:$M$6000,3,0),\"\")","v":""}]
[{"$nulls":10},{"$f":"IF(ISNUMBER(SEARCH($A$3,L2684)),MAX($K$1:K2683)+1,0)","v":0},"Pearl Global Industries Ltd","HOPFL.NS",{"$nulls":12},{"$f":"IFERROR(VLOOKUP(ROWS($Z$2:Z2684),K2684:$L$6000,2,0),\"\")","v":""},{"$f":"IFERROR(VLOOKUP(ROWS($AA$2:AA2684),K2684:$M$6000,3,0),\"\")","v":""}]
[{"$nulls":10},{"$f":"IF(ISNUMBER(SEARCH($A$3,L2685)),MAX($K$1:K2684)+1,0)","v":0},"Pearl Polymers Ltd","PEARLPOL.BO",{"$nulls":12},{"$f":"IFERROR(VLOOKUP(ROWS($Z$2:Z2685),K2685:$L$6000,2,0),\"\")","v":""},{"$f":"IFERROR(VLOOKUP(ROWS($AA$2:AA2685),K2685:$M$6000,3,0),\"\")","v":""}]
[{"$nulls":10},{"$f":"IF(ISNUMBER(SEARCH($A$3,L2686)),MAX($K$1:K2685)+1,0)","v":0},"Pearl Polymers Ltd","PEARLPOLY.NS",{"$nulls":12},{"$f":"IFERROR(VLOOKUP(ROWS($Z$2:Z2686),K2686:$L$6000,2,0),\"\")","v":""},{"$f":"IFERROR(VLOOKUP(ROWS($AA$2:AA2686),K2686:$M$6000,3,0),\"\")","v":""}]
[{"$nulls":10},{"$f":"IF(ISNUMBER(SEARCH($A$3,L2687)),MAX($K$1:K2686)+1,0)","v":0},"Pee Cee Cosma Sope Ltd","PCCOSMA.BO",{"$nulls":12},{"$f":"IFERROR(VLOOKUP(ROWS($Z$2:Z2687),K2687:$L$6000,2,0),\"\")","v":""},{"$f":"IFERROR(VLOOKUP(ROWS($AA$2:AA2687),K2687:$M$6000,3,0),\"\")","v":""}]
[{"$nulls":10},{"$f":"IF(ISNUMBER(SEARCH($A$3,L2688)),MAX($K$1:K2687)+1,0)","v":0},"Peeti Securities Ltd","PEETISEC.BO",{"$nulls":12},{"$f":"IFERROR(VLOOKUP(ROWS($Z$2:Z2688),K2688:$L$6000,2,0),\"\")","v":""},{"$f":"IFERROR(VLOOKUP(ROWS($AA$2:AA2688),K2688:$M$6000,3,0),\"\")","v":""}]
[{"$nulls":10},{"$f":"IF(ISNUMBER(SEARCH($A$3,L2689)),MAX($K$1:K2688)+1,0)","v":0},"Peninsula Land Ltd","PENINSULA.BO",{"$nulls":12},{"$f":"IFERROR(VLOOKUP(ROWS($Z$2:Z2689),K2689:$L$6000,2,0),\"\")","v":""},{"$f":"IFERROR(VLOOKUP(ROWS($AA$2:AA2689),K2689:$M$6000,3,0),\"\")","v":""}]
[{"$nulls":10},{"$f":"IF(ISNUMBER(SEARCH($A$3,L2690)),MAX($K$1:K2689)+1,0)","v":0},"Peninsula Land Ltd","PENINLAND.NS",{"$nulls":12},{"$f":"IFERROR(VLOOKUP(ROWS($Z$2:Z2690),K2690:$L$6000,2,0),\"\")","v":""},{"$f":"IFERROR(VLOOKUP(ROWS($AA$2:AA2690),K2690:$M$6000,3,0),\"\")","v":""}]
[{"$nulls":10},{"$f":"IF(ISNUMBER(SEARCH($A$3,L2691)),MAX($K$1:K2690)+1,0)","v":0},"Pennar Industries Ltd","PENARIND.BO",{"$nulls":12},{"$f":"IFERROR(VLOOKUP(ROWS($Z$2:Z2691),K2691:$L$6000,2,0),\"\")","v":""},{"$f":"IFERROR(VLOOKUP(ROWS($AA$2:AA2691),K2691:$M$6000,3,0),\"\")","v":""}]
[{"$nulls":10},{"$f":"IF(ISNUMBER(SEARCH($A$3,L2692)),MAX($K$1:K2691)+1,0)","v":0},"Pentamedia Graphics Ltd","PENTAGRAPH.BO",{"$nulls":12},{"$f":"IFERROR(VLOOKUP(ROWS($Z$2:Z2692),K2692:$L$6000,2,0),\"\")","v":""},{"$f":"IFERROR(VLOOKUP(ROWS($AA$2:AA2692),K2692:$M$6000,3,0),\"\")","v":""}]
[{"$nulls":10},{"$f":"IF(ISNUMBER(SEARCH($A$3,L2693)),MAX($K$1:K2692)+1,0)","v":0},"Perfect-Octave Media Proj","NEWBOMP.BO",{"$nulls":12},{"$f":"IFERROR(VLOOKUP(ROWS($Z$2:Z2693),K2693:$L$6000,2,0),\"\")","v":""},{"$f":"IFERROR(VLOOKUP(ROWS($AA$2:AA2693),K2693:$M$6000,3,0),\"\")","v":""}]
[{"$nulls":10},{"$f":"IF(ISNUMBER(SEARCH($A$3,L2694)),MAX($K$1:K2693)+1,0)","v":0},"Perfectpac Ltd","PERFEPA.BO",{"$nulls":12},{"$f":"IFERROR(VLOOKUP(ROWS($Z$2:Z2694),K2694:$L$6000,2,0),\"\")","v":""},{"$f":"IFERROR(VLOOKUP(ROWS($AA$2:AA2694),K2694:$M$6000,3,0),\"\")","v":""}]
[{"$nulls":10},{"$f":"IF(ISNUMBER(SEARCH($A$3,L2695)),MAX($K$1:K2694)+1,0)","v":0},"Peria Karamalai Tea","PERIATEA.NS",{"$nulls":12},{"$f":"IFERROR(VLOOKUP(ROWS($Z$2:Z2695),K2695:$L$6000,2,0),\"\")","v":""},{"$f":"IFERROR(VLOOKUP(ROWS($AA$2:AA2695),K2695:$M$6000,3,0),\"\")","v":""}]
[{"$nulls":10},{"$f":"IF(ISNUMBER(SEARCH($A$3,L2696)),MAX($K$1:K2695)+1,0)","v":0},"Persistent Systems Ltd","PERSISTENT.BO",{"$nulls":12},{"$f":"IFERROR(VLOOKUP(ROWS($Z$2:Z2696),K2696:$L$6000,2,0),\"\")","v":""},{"$f":"IFERROR(VLOOKUP(ROWS($AA$2:AA2696),K2696:$M$6000,3,0),\"\")","v":""}]
[{"$nulls":10},{"$f":"IF(ISNUMBER(SEARCH($A$3,L2697)),MAX($K$1:K2696)+1,0)","v":0},"Petron Engineering Constr","PETRON.BO",{"$nulls":12},{"$f":"IFERROR(VLOOKUP(ROWS($Z$2:Z2697),K2697:$L$6000,2,0),\"\")","v":""},{"$f":"IFERROR(VLOOKUP(ROWS($AA$2:AA2697),K2697:$M$6000,3,0),\"\")","v":""}]
[{"$nulls":10},{"$f":"IF(ISNUMBER(SEARCH($A$3,L2698)),MAX($K$1:K2697)+1,0)","v":0},"Petron Engineering Constr","PETRONENG.NS",{"$nulls":12},{"$f":"IFERROR(VLOOKUP(ROWS($Z$2:Z2698),K2698:$L$6000,2,0),\"\")","v":""},{"$f":"IFERROR(VLOOKUP(ROWS($AA$2:AA2698),K2698:$M$6000,3,0),\"\")","v":""}]
[{"$nulls":10},{"$f":"IF(ISNUMBER(SEARCH($A$3,L2699)),MAX($K$1:K2698)+1,0)","v":0},"Petronet LNG Ltd","PETRONET.BO",{"$nulls":12},{"$f":"IFERROR(VLOOKUP(ROWS($Z$2:Z2699),K2699:$L$6000,2,0),\"\")","v":""},{"$f":"IFERROR(VLOOKUP(ROWS($AA$2:AA2699),K2699:$M$6000,3,0),\"\")","v":""}]
[{"$nulls":10},{"$f":"IF(ISNUMBER(SEARCH($A$3,L2700)),MAX($K$1:K2699)+1,0)","v":0},"Petronet LNG Ltd","PETRONET.NS",{"$nulls":12},{"$f":"IFERROR(VLOOKUP(ROWS($Z$2:Z2700),K2700:$L$6000,2,0),\"\")","v":""},{"$f":"IFERROR(VLOOKUP(ROWS($AA$2:AA2700),K2700:$M$6000,3,0),\"\")","v":""}]
[{"$nulls":10},{"$f":"IF(ISNUMBER(SEARCH($A$3,L2701)),MAX($K$1:K2700)+1,0)","v":0},"Pfizer Ltd","PFIZER.BO",{"$nulls":12},{"$f":"IFERROR(VLOOKUP(ROWS($Z$2:Z2701),K2701:$L$6000,2,0),\"\")","v":""},{"$f":"IFERROR(VLOOKUP(ROWS($AA$2:AA2701),K2701:$M$6000,3,0),\"\")","v":""}]
[{"$nulls":10},{"$f":"IF(ISNUMBER(SEARCH($A$3,L2702)),MAX($K$1:K2701)+1,0)","v":0},"Pfizer Ltd","PFIZER.NS",{"$nulls":12},{"$f":"IFERROR(VLOOKUP(ROWS($Z$2:Z2702),K2702:$L$6000,2,0),\"\")","v":""},{"$f":"IFERROR(VLOOKUP(ROWS($AA$2:AA2702),K2702:$M$6000,3,0),\"\")","v":""}]
[{"$nulls":10},{"$f":"IF(ISNUMBER(SEARCH($A$3,L2703)),MAX($K$1:K2702)+1,0)","v":0},"PFL Infotech Ltd","PFLINFOTC.BO",{"$nulls":12},{"$f":"IFERROR(VLOOKUP(ROWS($Z$2:Z2703),K2703:$L$6000,2,0),\"\")","v":""},{"$f":"IFERROR(VLOOKUP(ROWS($AA$2:AA2703),K2703:$M$6000,3,0),\"\")","v":""}]
[{"$nulls":10},{"$f":"IF(ISNUMBER(SEARCH($A$3,L2704)),MAX($K$1:K2703)+1,0)","v":0},"PG Foils Ltd","PGFOILQ.BO",{"$nulls":12},{"$f":"IFERROR(VLOOKUP(ROWS($Z$2:Z2704),K2704:$L$6000,2,0),\"\")","v":""},{"$f":"IFERROR(VLOOKUP(ROWS($AA$2:AA2704),K2704:$M$6000,3,0),\"\")","v":""}]
[{"$nulls":10},{"$f":"IF(ISNUMBER(SEARCH($A$3,L2705)),MAX($K$1:K2704)+1,0)","v":0},"Phaarmasia Ltd","PHRMASI.BO",{"$nulls":12},{"$f":"IFERROR(VLOOKUP(ROWS($Z$2:Z2705),K2705:$L$6000,2,0),\"\")","v":""},{"$f":"IFERROR(VLOOKUP(ROWS($AA$2:AA2705),K2705:$M$6000,3,0),\"\")","v":""}]
[{"$nulls":10},{"$f":"IF(ISNUMBER(SEARCH($A$3,L2706)),MAX($K$1:K2705)+1,0)","v":0},"Pharmaids Pharmaceuticals Ltd","PHARMAID.BO",{"$nulls":12},{"$f":"IFERROR(VLOOKUP(ROWS($Z$2:Z2706),K2706:$L$6000,2,0),\"\")","v":""},{"$f":"IFERROR(VLOOKUP(ROWS($AA$2:AA2706),K2706:$M$6000,3,0),\"\")","v":""}]
[{"$nulls":10},{"$f":"IF(ISNUMBER(SEARCH($A$3,L2707)),MAX($K$1:K2706)+1,0)","v":0},"PHIL Corp Ltd","PHILCORP.BO",{"$nulls":12},{"$f":"IFERROR(VLOOKUP(ROWS($Z$2:Z2707),K2707:$L$6000,2,0),\"\")","v":""},{"$f":"IFERROR(VLOOKUP(ROWS($AA$2:AA2707),K2707:$M$6000,3,0),\"\")","v":""}]
[{"$nulls":10},{"$f":"IF(ISNUMBER(SEARCH($A$3,L2708)),MAX($K$1:K2707)+1,0)","v":0},"Phillips Carbon Black Ltd","PHILIPCA.BO",{"$nulls":12},{"$f":"IFERROR(VLOOKUP(ROWS($Z$2:Z2708),K2708:$L$6000,2,0),\"\")","v":""},{"$f":"IFERROR(VLOOKUP(ROWS($AA$2:AA2708),K2708:$M$6000,3,0),\"\")","v":""}]
[{"$nulls":10},{"$f":"IF(ISNUMBER(SEARCH($A$3,L2709)),MAX($K$1:K2708)+1,0)","v":0},"Phillips Carbon Black Ltd","PHILIPCAR.NS",{"$nulls":12},{"$f":"IFERROR(VLOOKUP(ROWS($Z$2:Z2709),K2709:$L$6000,2,0),\"\")","v":""},{"$f":"IFERROR(VLOOKUP(ROWS($AA$2:AA2709),K2709:$M$6000,3,0),\"\")","v":""}]
[{"$nulls":10},{"$f":"IF(ISNUMBER(SEARCH($A$3,L2710)),MAX($K$1:K2709)+1,0)","v":0},"Phoenix International Ltd","PHOENXIN.BO",{"$nulls":12},{"$f":"IFERROR(VLOOKUP(ROWS($Z$2:Z2710),K2710:$L$6000,2,0),\"\")","v":""},{"$f":"IFERROR(VLOOKUP(ROWS($AA$2:AA2710),K2710:$M$6000,3,0),\"\")","v":""}]
[{"$nulls":10},{"$f":"IF(ISNUMBER(SEARCH($A$3,L2711)),MAX($K$1:K2710)+1,0)","v":0},"Phoenix Lamps Ltd","HALONIX.BO",{"$nulls":12},{"$f":"IFERROR(VLOOKUP(ROWS($Z$2:Z2711),K2711:$L$6000,2,0),\"\")","v":""},{"$f":"IFERROR(VLOOKUP(ROWS($AA$2:AA2711),K2711:$M$6000,3,0),\"\")","v":""}]
[{"$nulls":10},{"$f":"IF(ISNUMBER(SEARCH($A$3,L2712)),MAX($K$1:K2711)+1,0)","v":0},"Phoenix Lamps Ltd","HALONIX.NS",{"$nulls":12},{"$f":"IFERROR(VLOOKUP(ROWS($Z$2:Z2712),K2712:$L$6000,2,0),\"\")","v":""},{"$f":"IFERROR(VLOOKUP(ROWS($AA$2:AA2712),K2712:$M$6000,3,0),\"\")","v":""}]
[{"$nulls":10},{"$f":"IF(ISNUMBER(SEARCH($A$3,L2713)),MAX($K$1:K2712)+1,0)","v":0},"Phoenix Mills Ltd","PHOENIX.BO",{"$nulls":12},{"$f":"IFERROR(VLOOKUP(ROWS($Z$2:Z2713),K2713:$L$6000,2,0),\"\")","v":""},{"$f":"IFERROR(VLOOKUP(ROWS($AA$2:AA2713),K2713:$M$6000,3,0),\"\")","v":""}]
[{"$nulls":10},{"$f":"IF(ISNUMBER(SEARCH($A$3,L2714)),MAX($K$1:K2713)+1,0)","v":0},"Phoenix Mills Ltd","PHOENIXLT.NS",{"$nulls":12},{"$f":"IFERROR(VLOOKUP(ROWS($Z$2:Z2714),K2714:$L$6000,2,0),\"\")","v":""},{"$f":"IFERROR(VLOOKUP(ROWS($AA$2:AA2714),K2714:$M$6000,3,0),\"\")","v":""}]
[{"$nulls":10},{"$f":"IF(ISNUMBER(SEARCH($A$3,L2715)),MAX($K$1:K2714)+1,0)","v":0},"Photoquip India Ltd","PHOTOQUP.BO",{"$nulls":12},{"$f":"IFERROR(VLOOKUP(ROWS($Z$2:Z2715),K2715:$L$6000,2,0),\"\")","v":""},{"$f":"IFERROR(VLOOKUP(ROWS($AA$2:AA2715),K2715:$M$6000,3,0),\"\")","v":""}]
[{"$nulls":10},{"$f":"IF(ISNUMBER(SEARCH($A$3,L2716)),MAX($K$1:K2715)+1,0)","v":0},"Phyto Chem (India) Ltd","PHYTO.BO",{"$nulls":12},{"$f":"IFERROR(VLOOKUP(ROWS($Z$2:Z2716),K2716:$L$6000,2,0),\"\")","v":""},{"$f":"IFERROR(VLOOKUP(ROWS($AA$2:AA2716),K2716:$M$6000,3,0),\"\")","v":""}]
[{"$nulls":10},{"$f":"IF(ISNUMBER(SEARCH($A$3,L2717)),MAX($K$1:K2716)+1,0)","v":0},"Piccadily Agro Industries Ltd","PICCADIL.BO",{"$nulls":12},{"$f":"IFERROR(VLOOKUP(ROWS($Z$2:Z2717),K2717:$L$6000,2,0),\"\")","v":""},{"$f":"IFERROR(VLOOKUP(ROWS($AA$2:AA2717),K2717:$M$6000,3,0),\"\")","v":""}]
[{"$nulls":10},{"$f":"IF(ISNUMBER(SEARCH($A$3,L2718)),MAX($K$1:K2717)+1,0)","v":0},"Piccadily Sugar & Allied","PICCASUG.BO",{"$nulls":12},{"$f":"IFERROR(VLOOKUP(ROWS($Z$2:Z2718),K2718:$L$6000,2,0),\"\")","v":""},{"$f":"IFERROR(VLOOKUP(ROWS($AA$2:AA2718),K2718:$M$6000,3,0),\"\")","v":""}]
[{"$nulls":10},{"$f":"IF(ISNUMBER(SEARCH($A$3,L2719)),MAX($K$1:K2718)+1,0)","v":0},"Picturehouse Media Ltd","TEEN.BO",{"$nulls":12},{"$f":"IFERROR(VLOOKUP(ROWS($Z$2:Z2719),K2719:$L$6000,2,0),\"\")","v":""},{"$f":"IFERROR(VLOOKUP(ROWS($AA$2:AA2719),K2719:$M$6000,3,0),\"\")","v":""}]
[{"$nulls":10},{"$f":"IF(ISNUMBER(SEARCH($A$3,L2720)),MAX($K$1:K2719)+1,0)","v":0},"Pidilite Industries Ltd","PIDILITIND.BO",{"$nulls":12},{"$f":"IFERROR(VLOOKUP(ROWS($Z$2:Z2720),K2720:$L$6000,2,0),\"\")","v":""},{"$f":"IFERROR(VLOOKUP(ROWS($AA$2:AA2720),K2720:$M$6000,3,0),\"\")","v":""}]
[{"$nulls":10},{"$f":"IF(ISNUMBER(SEARCH($A$3,L2721)),MAX($K$1:K2720)+1,0)","v":0},"Pidilite Industries Ltd","PIDILITIN.NS",{"$nulls":12},{"$f":"IFERROR(VLOOKUP(ROWS($Z$2:Z2721),K2721:$L$6000,2,0),\"\")","v":""},{"$f":"IFERROR(VLOOKUP(ROWS($AA$2:AA2721),K2721:$M$6000,3,0),\"\")","v":""}]
[{"$nulls":10},{"$f":"IF(ISNUMBER(SEARCH($A$3,L2722)),MAX($K$1:K2721)+1,0)","v":0},"Pine Animation Ltd","FOURKANIM.BO",{"$nulls":12},{"$f":"IFERROR(VLOOKUP(ROWS($Z$2:Z2722),K2722:$L$6000,2,0),\"\")","v":""},{"$f":"IFERROR(VLOOKUP(ROWS($AA$2:AA2722),K2722:$M$6000,3,0),\"\")","v":""}]
[{"$nulls":10},{"$f":"IF(ISNUMBER(SEARCH($A$3,L2723)),MAX($K$1:K2722)+1,0)","v":0},"Pioneer Agro Extracts Ltd","PIONAGR.BO",{"$nulls":12},{"$f":"IFERROR(VLOOKUP(ROWS($Z$2:Z2723),K2723:$L$6000,2,0),\"\")","v":""},{"$f":"IFERROR(VLOOKUP(ROWS($AA$2:AA2723),K2723:$M$6000,3,0),\"\")","v":""}]
[{"$nulls":10},{"$f":"IF(ISNUMBER(SEARCH($A$3,L2724)),MAX($K$1:K2723)+1,0)","v":0},"Pioneer Distilleries Ltd","PIONRDIS.BO",{"$nulls":12},{"$f":"IFERROR(VLOOKUP(ROWS($Z$2:Z2724),K2724:$L$6000,2,0),\"\")","v":""},{"$f":"IFERROR(VLOOKUP(ROWS($AA$2:AA2724),K2724:$M$6000,3,0),\"\")","v":""}]
[{"$nulls":10},{"$f":"IF(ISNUMBER(SEARCH($A$3,L2725)),MAX($K$1:K2724)+1,0)","v":0},"Pioneer Embroideries Ltd","PIONEERE.BO",{"$nulls":12},{"$f":"IFERROR(VLOOKUP(ROWS($Z$2:Z2725),K2725:$L$6000,2,0),\"\")","v":""},{"$f":"IFERROR(VLOOKUP(ROWS($AA$2:AA2725),K2725:$M$6000,3,0),\"\")","v":""}]
[{"$nulls":10},{"$f":"IF(ISNUMBER(SEARCH($A$3,L2726)),MAX($K$1:K2725)+1,0)","v":0},"Pioneer Investcorp Ltd","PIONRINV.BO",{"$nulls":12},{"$f":"IFERROR(VLOOKUP(ROWS($Z$2:Z2726),K2726:$L$6000,2,0),\"\")","v":""},{"$f":"IFERROR(VLOOKUP(ROWS($AA$2:AA2726),K2726:$M$6000,3,0),\"\")","v":""}]
[{"$nulls":10},{"$f":"IF(ISNUMBER(SEARCH($A$3,L2727)),MAX($K$1:K2726)+1,0)","v":0},"Pipavav Defence","PIPAVAVYD.BO",{"$nulls":12},{"$f":"IFERROR(VLOOKUP(ROWS($Z$2:Z2727),K2727:$L$6000,2,0),\"\")","v":""},{"$f":"IFERROR(VLOOKUP(ROWS($AA$2:AA2727),K2727:$M$6000,3,0),\"\")","v":""}]
[{"$nulls":10},{"$f":"IF(ISNUMBER(SEARCH($A$3,L2728)),MAX($K$1:K2727)+1,0)","v":0},"Pipavav Defence","PIPAVAVYD.NS",{"$nulls":12},{"$f":"IFERROR(VLOOKUP(ROWS($Z$2:Z2728),K2728:$L$6000,2,0),\"\")","v":""},{"$f":"IFERROR(VLOOKUP(ROWS($AA$2:AA2728),K2728:$M$6000,3,0),\"\")","v":""}]
[{"$nulls":10},{"$f":"IF(ISNUMBER(SEARCH($A$3,L2729)),MAX($K$1:K2728)+1,0)","v":0},"Piramal Enterprises Ltd","PIRAMALHE.BO",{"$nulls":12},{"$f":"IFERROR(VLOOKUP(ROWS($Z$2:Z2729),K2729:$L$6000,2,0),\"\")","v":""},{"$f":"IFERROR(VLOOKUP(ROWS($AA$2:AA2729),K2729:$M$6000,3,0),\"\")","v":""}]
[{"$nulls":10},{"$f":"IF(ISNUMBER(SEARCH($A$3,L2730)),MAX($K$1:K2729)+1,0)","v":0},"Piramal Enterprises Ltd","PIRHEALTH.NS",{"$nulls":12},{"$f":"IFERROR(VLOOKUP(ROWS($Z$2:Z2730),K2730:$L$6000,2,0),\"\")","v":""},{"$f":"IFERROR(VLOOKUP(ROWS($AA$2:AA2730),K2730:$M$6000,3,0),\"\")","v":""}]
[{"$nulls":10},{"$f":"IF(ISNUMBER(SEARCH($A$3,L2731)),MAX($K$1:K2730)+1,0)","v":0},"Piramal Phytocare Ltd","PIRAMLIFE.BO",{"$nulls":12},{"$f":"IFERROR(VLOOKUP(ROWS($Z$2:Z2731),K2731:$L$6000,2,0),\"\")","v":""},{"$f":"IFERROR(VLOOKUP(ROWS($AA$2:AA2731),K2731:$M$6000,3,0),\"\")","v":""}]
[{"$nulls":10},{"$f":"IF(ISNUMBER(SEARCH($A$3,L2732)),MAX($K$1:K2731)+1,0)","v":0},"Piramal Phytocare Ltd","PIRLIFE.NS",{"$nulls":12},{"$f":"IFERROR(VLOOKUP(ROWS($Z$2:Z2732),K2732:$L$6000,2,0),\"\")","v":""},{"$f":"IFERROR(VLOOKUP(ROWS($AA$2:AA2732),K2732:$M$6000,3,0),\"\")","v":""}]
[{"$nulls":10},{"$f":"IF(ISNUMBER(SEARCH($A$3,L2733)),MAX($K$1:K2732)+1,0)","v":0},"Pithampur Poly Products Ltd","PITHP.BO",{"$nulls":12},{"$f":"IFERROR(VLOOKUP(ROWS($Z$2:Z2733),K2733:$L$6000,2,0),\"\")","v":""},{"$f":"IFERROR(VLOOKUP(ROWS($AA$2:AA2733),K2733:$M$6000,3,0),\"\")","v":""}]
[{"$nulls":10},{"$f":"IF(ISNUMBER(SEARCH($A$3,L2734)),MAX($K$1:K2733)+1,0)","v":0},"Pitti Laminations Ltd","PITLA.BO",{"$nulls":12},{"$f":"IFERROR(VLOOKUP(ROWS($Z$2:Z2734),K2734:$L$6000,2,0),\"\")","v":""},{"$f":"IFERROR(VLOOKUP(ROWS($AA$2:AA2734),K2734:$M$6000,3,0),\"\")","v":""}]
[{"$nulls":10},{"$f":"IF(ISNUMBER(SEARCH($A$3,L2735)),MAX($K$1:K2734)+1,0)","v":0},"Pitti Laminations Ltd","PITTILAM.NS",{"$nulls":12},{"$f":"IFERROR(VLOOKUP(ROWS($Z$2:Z2735),K2735:$L$6000,2,0),\"\")","v":""},{"$f":"IFERROR(VLOOKUP(ROWS($AA$2:AA2735),K2735:$M$6000,3,0),\"\")","v":""}]
[{"$nulls":10},{"$f":"IF(ISNUMBER(SEARCH($A$3,L2736)),MAX($K$1:K2735)+1,0)","v":0},"Pix Transmissions Ltd","PIXTRANS.BO",{"$nulls":12},{"$f":"IFERROR(VLOOKUP(ROWS($Z$2:Z2736),K2736:$L$6000,2,0),\"\")","v":""},{"$f":"IFERROR(VLOOKUP(ROWS($AA$2:AA2736),K2736:$M$6000,3,0),\"\")","v":""}]
[{"$nulls":10},{"$f":"IF(ISNUMBER(SEARCH($A$3,L2737)),MAX($K$1:K2736)+1,0)","v":0},"Planter'S Polysacks Ltd","ZPPOLYSA.BO",{"$nulls":12},{"$f":"IFERROR(VLOOKUP(ROWS($Z$2:Z2737),K2737:$L$6000,2,0),\"\")","v":""},{"$f":"IFERROR(VLOOKUP(ROWS($AA$2:AA2737),K2737:$M$6000,3,0),\"\")","v":""}]
[{"$nulls":10},{"$f":"IF(ISNUMBER(SEARCH($A$3,L2738)),MAX($K$1:K2737)+1,0)","v":0},"Plethico Pharmaceuticals Ltd","PLETHICO.BO",{"$nulls":12},{"$f":"IFERROR(VLOOKUP(ROWS($Z$2:Z2738),K2738:$L$6000,2,0),\"\")","v":""},{"$f":"IFERROR(VLOOKUP(ROWS($AA$2:AA2738),K2738:$M$6000,3,0),\"\")","v":""}]
[{"$nulls":10},{"$f":"IF(ISNUMBER(SEARCH($A$3,L2739)),MAX($K$1:K2738)+1,0)","v":0},"Plethico Pharmaceuticals Ltd","PLETHICO.NS",{"$nulls":12},{"$f":"IFERROR(VLOOKUP(ROWS($Z$2:Z2739),K2739:$L$6000,2,0),\"\")","v":""},{"$f":"IFERROR(VLOOKUP(ROWS($AA$2:AA2739),K2739:$M$6000,3,0),\"\")","v":""}]
[{"$nulls":10},{"$f":"IF(ISNUMBER(SEARCH($A$3,L2740)),MAX($K$1:K2739)+1,0)","v":0},"PNB Gilts Ltd","PNBGILTS.BO",{"$nulls":12},{"$f":"IFERROR(VLOOKUP(ROWS($Z$2:Z2740),K2740:$L$6000,2,0),\"\")","v":""},{"$f":"IFERROR(VLOOKUP(ROWS($AA$2:AA2740),K2740:$M$6000,3,0),\"\")","v":""}]
[{"$nulls":10},{"$f":"IF(ISNUMBER(SEARCH($A$3,L2741)),MAX($K$1:K2740)+1,0)","v":0},"PNB Gilts Ltd","PNBGILTS.NS",{"$nulls":12},{"$f":"IFERROR(VLOOKUP(ROWS($Z$2:Z2741),K2741:$L$6000,2,0),\"\")","v":""},{"$f":"IFERROR(VLOOKUP(ROWS($AA$2:AA2741),K2741:$M$6000,3,0),\"\")","v":""}]
[{"$nulls":10},{"$f":"IF(ISNUMBER(SEARCH($A$3,L2742)),MAX($K$1:K2741)+1,0)","v":0},"Pochiraju Industries Ltd","POCHIRAJU.BO",{"$nulls":12},{"$f":"IFERROR(VLOOKUP(ROWS($Z$2:Z2742),K2742:$L$6000,2,0),\"\")","v":""},{"$f":"IFERROR(VLOOKUP(ROWS($AA$2:AA2742),K2742:$M$6000,3,0),\"\")","v":""}]
[{"$nulls":10},{"$f":"IF(ISNUMBER(SEARCH($A$3,L2743)),MAX($K$1:K2742)+1,0)","v":0},"Pochiraju Industries Ltd","POCHIRAJU.NS",{"$nulls":12},{"$f":"IFERROR(VLOOKUP(ROWS($Z$2:Z2743),K2743:$L$6000,2,0),\"\")","v":""},{"$f":"IFERROR(VLOOKUP(ROWS($AA$2:AA2743),K2743:$M$6000,3,0),\"\")","v":""}]
[{"$nulls":10},{"$f":"IF(ISNUMBER(SEARCH($A$3,L2744)),MAX($K$1:K2743)+1,0)","v":0},"Poddar Developers Ltd","WEAROLOGY.BO",{"$nulls":12},{"$f":"IFERROR(VLOOKUP(ROWS($Z$2:Z2744),K2744:$L$6000,2,0),\"\")","v":""},{"$f":"IFERROR(VLOOKUP(ROWS($AA$2:AA2744),K2744:$M$6000,3,0),\"\")","v":""}]
[{"$nulls":10},{"$f":"IF(ISNUMBER(SEARCH($A$3,L2745)),MAX($K$1:K2744)+1,0)","v":0},"Poddar Pigments Ltd","PODARPIGQ.BO",{"$nulls":12},{"$f":"IFERROR(VLOOKUP(ROWS($Z$2:Z2745),K2745:$L$6000,2,0),\"\")","v":""},{"$f":"IFERROR(VLOOKUP(ROWS($AA$2:AA2745),K2745:$M$6000,3,0),\"\")","v":""}]
[{"$nulls":10},{"$f":"IF(ISNUMBER(SEARCH($A$3,L2746)),MAX($K$1:K2745)+1,0)","v":0},"Pokarna Ltd","POKARNA.BO",{"$nulls":12},{"$f":"IFERROR(VLOOKUP(ROWS($Z$2:Z2746),K2746:$L$6000,2,0),\"\")","v":""},{"$f":"IFERROR(VLOOKUP(ROWS($AA$2:AA2746),K2746:$M$6000,3,0),\"\")","v":""}]
[{"$nulls":10},{"$f":"IF(ISNUMBER(SEARCH($A$3,L2747)),MAX($K$1:K2746)+1,0)","v":0},"Polaris","POLARIS.BO",{"$nulls":12},{"$f":"IFERROR(VLOOKUP(ROWS($Z$2:Z2747),K2747:$L$6000,2,0),\"\")","v":""},{"$f":"IFERROR(VLOOKUP(ROWS($AA$2:AA2747),K2747:$M$6000,3,0),\"\")","v":""}]
[{"$nulls":10},{"$f":"IF(ISNUMBER(SEARCH($A$3,L2748)),MAX($K$1:K2747)+1,0)","v":0},"Polaris","POLARIS.NS",{"$nulls":12},{"$f":"IFERROR(VLOOKUP(ROWS($Z$2:Z2748),K2748:$L$6000,2,0),\"\")","v":""},{"$f":"IFERROR(VLOOKUP(ROWS($AA$2:AA2748),K2748:$M$6000,3,0),\"\")","v":""}]
[{"$nulls":10},{"$f":"IF(ISNUMBER(SEARCH($A$3,L2749)),MAX($K$1:K2748)+1,0)","v":0},"Polo Hotels Ltd","POLOHOT.BO",{"$nulls":12},{"$f":"IFERROR(VLOOKUP(ROWS($Z$2:Z2749),K2749:$L$6000,2,0),\"\")","v":""},{"$f":"IFERROR(VLOOKUP(ROWS($AA$2:AA2749),K2749:$M$6000,3,0),\"\")","v":""}]
[{"$nulls":10},{"$f":"IF(ISNUMBER(SEARCH($A$3,L2750)),MAX($K$1:K2749)+1,0)","v":0},"Poly Medicure Ltd","POLME.BO",{"$nulls":12},{"$f":"IFERROR(VLOOKUP(ROWS($Z$2:Z2750),K2750:$L$6000,2,0),\"\")","v":""},{"$f":"IFERROR(VLOOKUP(ROWS($AA$2:AA2750),K2750:$M$6000,3,0),\"\")","v":""}]
[{"$nulls":10},{"$f":"IF(ISNUMBER(SEARCH($A$3,L2751)),MAX($K$1:K2750)+1,0)","v":0},"Polychem Ltd","POLYCHEM.BO",{"$nulls":12},{"$f":"IFERROR(VLOOKUP(ROWS($Z$2:Z2751),K2751:$L$6000,2,0),\"\")","v":""},{"$f":"IFERROR(VLOOKUP(ROWS($AA$2:AA2751),K2751:$M$6000,3,0),\"\")","v":""}]
[{"$nulls":10},{"$f":"IF(ISNUMBER(SEARCH($A$3,L2752)),MAX($K$1:K2751)+1,0)","v":0},"Polycon International Ltd","POLYCON.BO",{"$nulls":12},{"$f":"IFERROR(VLOOKUP(ROWS($Z$2:Z2752),K2752:$L$6000,2,0),\"\")","v":""},{"$f":"IFERROR(VLOOKUP(ROWS($AA$2:AA2752),K2752:$M$6000,3,0),\"\")","v":""}]
[{"$nulls":10},{"$f":"IF(ISNUMBER(SEARCH($A$3,L2753)),MAX($K$1:K2752)+1,0)","v":0},"Polygenta Technologies Ltd","POLTC.BO",{"$nulls":12},{"$f":"IFERROR(VLOOKUP(ROWS($Z$2:Z2753),K2753:$L$6000,2,0),\"\")","v":""},{"$f":"IFERROR(VLOOKUP(ROWS($AA$2:AA2753),K2753:$M$6000,3,0),\"\")","v":""}]
[{"$nulls":10},{"$f":"IF(ISNUMBER(SEARCH($A$3,L2754)),MAX($K$1:K2753)+1,0)","v":0},"Polymechplast Machines Ltd","POLYCHMP.BO",{"$nulls":12},{"$f":"IFERROR(VLOOKUP(ROWS($Z$2:Z2754),K2754:$L$6000,2,0),\"\")","v":""},{"$f":"IFERROR(VLOOKUP(ROWS($AA$2:AA2754),K2754:$M$6000,3,0),\"\")","v":""}]
[{"$nulls":10},{"$f":"IF(ISNUMBER(SEARCH($A$3,L2755)),MAX($K$1:K2754)+1,0)","v":0},"Polyplex Corp Ltd","POLYPLEX.BO",{"$nulls":12},{"$f":"IFERROR(VLOOKUP(ROWS($Z$2:Z2755),K2755:$L$6000,2,0),\"\")","v":""},{"$f":"IFERROR(VLOOKUP(ROWS($AA$2:AA2755),K2755:$M$6000,3,0),\"\")","v":""}]
[{"$nulls":10},{"$f":"IF(ISNUMBER(SEARCH($A$3,L2756)),MAX($K$1:K2755)+1,0)","v":0},"Polyplex Corp Ltd","POLYPLEX.NS",{"$nulls":12},{"$f":"IFERROR(VLOOKUP(ROWS($Z$2:Z2756),K2756:$L$6000,2,0),\"\")","v":""},{"$f":"IFERROR(VLOOKUP(ROWS($AA$2:AA2756),K2756:$M$6000,3,0),\"\")","v":""}]
[{"$nulls":10},{"$f":"IF(ISNUMBER(SEARCH($A$3,L2757)),MAX($K$1:K2756)+1,0)","v":0},"Polyspin Exports Ltd","POLYSPIN.BO",{"$nulls":12},{"$f":"IFERROR(VLOOKUP(ROWS($Z$2:Z2757),K2757:$L$6000,2,0),\"\")","v":""},{"$f":"IFERROR(VLOOKUP(ROWS($AA$2:AA2757),K2757:$M$6000,3,0),\"\")","v":""}]
[{"$nulls":10},{"$f":"IF(ISNUMBER(SEARCH($A$3,L2758)),MAX($K$1:K2757)+1,0)","v":0},"Polytex India Ltd","ZPLYTEXP.BO",{"$nulls":12},{"$f":"IFERROR(VLOOKUP(ROWS($Z$2:Z2758),K2758:$L$6000,2,0),\"\")","v":""},{"$f":"IFERROR(VLOOKUP(ROWS($AA$2:AA2758),K2758:$M$6000,3,0),\"\")","v":""}]
[{"$nulls":10},{"$f":"IF(ISNUMBER(SEARCH($A$3,L2759)),MAX($K$1:K2758)+1,0)","v":0},"Pondy Oxides And Chemicals Ltd","PONDYOXC.BO",{"$nulls":12},{"$f":"IFERROR(VLOOKUP(ROWS($Z$2:Z2759),K2759:$L$6000,2,0),\"\")","v":""},{"$f":"IFERROR(VLOOKUP(ROWS($AA$2:AA2759),K2759:$M$6000,3,0),\"\")","v":""}]
[{"$nulls":10},{"$f":"IF(ISNUMBER(SEARCH($A$3,L2760)),MAX($K$1:K2759)+1,0)","v":0},"Ponni Sugars (Erode) Ltd","PONNISUG.BO",{"$nulls":12},{"$f":"IFERROR(VLOOKUP(ROWS($Z$2:Z2760),K2760:$L$6000,2,0),\"\")","v":""},{"$f":"IFERROR(VLOOKUP(ROWS($AA$2:AA2760),K2760:$M$6000,3,0),\"\")","v":""}]
[{"$nulls":10},{"$f":"IF(ISNUMBER(SEARCH($A$3,L2761)),MAX($K$1:K2760)+1,0)","v":0},"Poona Dal & Oil Industries Ltd","POONADAL.BO",{"$nulls":12},{"$f":"IFERROR(VLOOKUP(ROWS($Z$2:Z2761),K2761:$L$6000,2,0),\"\")","v":""},{"$f":"IFERROR(VLOOKUP(ROWS($AA$2:AA2761),K2761:$M$6000,3,0),\"\")","v":""}]
[{"$nulls":10},{"$f":"IF(ISNUMBER(SEARCH($A$3,L2762)),MAX($K$1:K2761)+1,0)","v":0},"Popular Estate Management Ltd","POPULARES.BO",{"$nulls":12},{"$f":"IFERROR(VLOOKUP(ROWS($Z$2:Z2762),K2762:$L$6000,2,0),\"\")","v":""},{"$f":"IFERROR(VLOOKUP(ROWS($AA$2:AA2762),K2762:$M$6000,3,0),\"\")","v":""}]
[{"$nulls":10},{"$f":"IF(ISNUMBER(SEARCH($A$3,L2763)),MAX($K$1:K2762)+1,0)","v":0},"Porwal Auto Components Ltd","PORWAL.BO",{"$nulls":12},{"$f":"IFERROR(VLOOKUP(ROWS($Z$2:Z2763),K2763:$L$6000,2,0),\"\")","v":""},{"$f":"IFERROR(VLOOKUP(ROWS($AA$2:AA2763),K2763:$M$6000,3,0),\"\")","v":""}]
[{"$nulls":10},{"$f":"IF(ISNUMBER(SEARCH($A$3,L2764)),MAX($K$1:K2763)+1,0)","v":0},"Power Finance Corp Ltd","PFC.BO",{"$nulls":12},{"$f":"IFERROR(VLOOKUP(ROWS($Z$2:Z2764),K2764:$L$6000,2,0),\"\")","v":""},{"$f":"IFERROR(VLOOKUP(ROWS($AA$2:AA2764),K2764:$M$6000,3,0),\"\")","v":""}]
[{"$nulls":10},{"$f":"IF(ISNUMBER(SEARCH($A$3,L2765)),MAX($K$1:K2764)+1,0)","v":0},"Power Finance Corp Ltd","PFC.NS",{"$nulls":12},{"$f":"IFERROR(VLOOKUP(ROWS($Z$2:Z2765),K2765:$L$6000,2,0),\"\")","v":""},{"$f":"IFERROR(VLOOKUP(ROWS($AA$2:AA2765),K2765:$M$6000,3,0),\"\")","v":""}]
[{"$nulls":10},{"$f":"IF(ISNUMBER(SEARCH($A$3,L2766)),MAX($K$1:K2765)+1,0)","v":0},"Power Grid Corp Of India Ltd","POWERGRID.BO",{"$nulls":12},{"$f":"IFERROR(VLOOKUP(ROWS($Z$2:Z2766),K2766:$L$6000,2,0),\"\")","v":""},{"$f":"IFERROR(VLOOKUP(ROWS($AA$2:AA2766),K2766:$M$6000,3,0),\"\")","v":""}]
[{"$nulls":10},{"$f":"IF(ISNUMBER(SEARCH($A$3,L2767)),MAX($K$1:K2766)+1,0)","v":0},"Power Grid Corp Of India Ltd","POWERGRID.NS",{"$nulls":12},{"$f":"IFERROR(VLOOKUP(ROWS($Z$2:Z2767),K2767:$L$6000,2,0),\"\")","v":""},{"$f":"IFERROR(VLOOKUP(ROWS($AA$2:AA2767),K2767:$M$6000,3,0),\"\")","v":""}]
[{"$nulls":10},{"$f":"IF(ISNUMBER(SEARCH($A$3,L2768)),MAX($K$1:K2767)+1,0)","v":0},"PPAP Automotive Ltd","PPAP.BO",{"$nulls":12},{"$f":"IFERROR(VLOOKUP(ROWS($Z$2:Z2768),K2768:$L$6000,2,0),\"\")","v":""},{"$f":"IFERROR(VLOOKUP(ROWS($AA$2:AA2768),K2768:$M$6000,3,0),\"\")","v":""}]
[{"$nulls":10},{"$f":"IF(ISNUMBER(SEARCH($A$3,L2769)),MAX($K$1:K2768)+1,0)","v":0},"PPAP Automotive Ltd","PPAP.NS",{"$nulls":12},{"$f":"IFERROR(VLOOKUP(ROWS($Z$2:Z2769),K2769:$L$6000,2,0),\"\")","v":""},{"$f":"IFERROR(VLOOKUP(ROWS($AA$2:AA2769),K2769:$M$6000,3,0),\"\")","v":""}]
[{"$nulls":10},{"$f":"IF(ISNUMBER(SEARCH($A$3,L2770)),MAX($K$1:K2769)+1,0)","v":0},"Prabhav Industries Ltd","PRABHAVIN.BO",{"$nulls":12},{"$f":"IFERROR(VLOOKUP(ROWS($Z$2:Z2770),K2770:$L$6000,2,0),\"\")","v":""},{"$f":"IFERROR(VLOOKUP(ROWS($AA$2:AA2770),K2770:$M$6000,3,0),\"\")","v":""}]
[{"$nulls":10},{"$f":"IF(ISNUMBER(SEARCH($A$3,L2771)),MAX($K$1:K2770)+1,0)","v":0},"Pradeep Metals Ltd","PRADPME.BO",{"$nulls":12},{"$f":"IFERROR(VLOOKUP(ROWS($Z$2:Z2771),K2771:$L$6000,2,0),\"\")","v":""},{"$f":"IFERROR(VLOOKUP(ROWS($AA$2:AA2771),K2771:$M$6000,3,0),\"\")","v":""}]
[{"$nulls":10},{"$f":"IF(ISNUMBER(SEARCH($A$3,L2772)),MAX($K$1:K2771)+1,0)","v":0},"Pradip Overseas Ltd","PRADIP.BO",{"$nulls":12},{"$f":"IFERROR(VLOOKUP(ROWS($Z$2:Z2772),K2772:$L$6000,2,0),\"\")","v":""},{"$f":"IFERROR(VLOOKUP(ROWS($AA$2:AA2772),K2772:$M$6000,3,0),\"\")","v":""}]
[{"$nulls":10},{"$f":"IF(ISNUMBER(SEARCH($A$3,L2773)),MAX($K$1:K2772)+1,0)","v":0},"Prag Bosimi Synthetics Ltd","PRAGBOS.BO",{"$nulls":12},{"$f":"IFERROR(VLOOKUP(ROWS($Z$2:Z2773),K2773:$L$6000,2,0),\"\")","v":""},{"$f":"IFERROR(VLOOKUP(ROWS($AA$2:AA2773),K2773:$M$6000,3,0),\"\")","v":""}]
[{"$nulls":10},{"$f":"IF(ISNUMBER(SEARCH($A$3,L2774)),MAX($K$1:K2773)+1,0)","v":0},"Praj Industries Ltd","PRAJIND.BO",{"$nulls":12},{"$f":"IFERROR(VLOOKUP(ROWS($Z$2:Z2774),K2774:$L$6000,2,0),\"\")","v":""},{"$f":"IFERROR(VLOOKUP(ROWS($AA$2:AA2774),K2774:$M$6000,3,0),\"\")","v":""}]
[{"$nulls":10},{"$f":"IF(ISNUMBER(SEARCH($A$3,L2775)),MAX($K$1:K2774)+1,0)","v":0},"Praj Industries Ltd","PRAJIND.NS",{"$nulls":12},{"$f":"IFERROR(VLOOKUP(ROWS($Z$2:Z2775),K2775:$L$6000,2,0),\"\")","v":""},{"$f":"IFERROR(VLOOKUP(ROWS($AA$2:AA2775),K2775:$M$6000,3,0),\"\")","v":""}]
[{"$nulls":10},{"$f":"IF(ISNUMBER(SEARCH($A$3,L2776)),MAX($K$1:K2775)+1,0)","v":0},"Prajay Engineers Syndicate Ltd","PRAJAYEN.BO",{"$nulls":12},{"$f":"IFERROR(VLOOKUP(ROWS($Z$2:Z2776),K2776:$L$6000,2,0),\"\")","v":""},{"$f":"IFERROR(VLOOKUP(ROWS($AA$2:AA2776),K2776:$M$6000,3,0),\"\")","v":""}]
[{"$nulls":10},{"$f":"IF(ISNUMBER(SEARCH($A$3,L2777)),MAX($K$1:K2776)+1,0)","v":0},"Prajay Engineers Syndicate Ltd","PRAENG.NS",{"$nulls":12},{"$f":"IFERROR(VLOOKUP(ROWS($Z$2:Z2777),K2777:$L$6000,2,0),\"\")","v":""},{"$f":"IFERROR(VLOOKUP(ROWS($AA$2:AA2777),K2777:$M$6000,3,0),\"\")","v":""}]
[{"$nulls":10},{"$f":"IF(ISNUMBER(SEARCH($A$3,L2778)),MAX($K$1:K2777)+1,0)","v":0},"Prakash Industries Ltd","PRKSH.BO",{"$nulls":12},{"$f":"IFERROR(VLOOKUP(ROWS($Z$2:Z2778),K2778:$L$6000,2,0),\"\")","v":""},{"$f":"IFERROR(VLOOKUP(ROWS($AA$2:AA2778),K2778:$M$6000,3,0),\"\")","v":""}]
[{"$nulls":10},{"$f":"IF(ISNUMBER(SEARCH($A$3,L2779)),MAX($K$1:K2778)+1,0)","v":0},"Prakash Industries Ltd","PRAKASH.NS",{"$nulls":12},{"$f":"IFERROR(VLOOKUP(ROWS($Z$2:Z2779),K2779:$L$6000,2,0),\"\")","v":""},{"$f":"IFERROR(VLOOKUP(ROWS($AA$2:AA2779),K2779:$M$6000,3,0),\"\")","v":""}]
[{"$nulls":10},{"$f":"IF(ISNUMBER(SEARCH($A$3,L2780)),MAX($K$1:K2779)+1,0)","v":0},"Prakash Steelage Ltd","PRAKASHST.NS",{"$nulls":12},{"$f":"IFERROR(VLOOKUP(ROWS($Z$2:Z2780),K2780:$L$6000,2,0),\"\")","v":""},{"$f":"IFERROR(VLOOKUP(ROWS($AA$2:AA2780),K2780:$M$6000,3,0),\"\")","v":""}]
[{"$nulls":10},{"$f":"IF(ISNUMBER(SEARCH($A$3,L2781)),MAX($K$1:K2780)+1,0)","v":0},"Prakash Woollen Mills Ltd","PRWOLEN.BO",{"$nulls":12},{"$f":"IFERROR(VLOOKUP(ROWS($Z$2:Z2781),K2781:$L$6000,2,0),\"\")","v":""},{"$f":"IFERROR(VLOOKUP(ROWS($AA$2:AA2781),K2781:$M$6000,3,0),\"\")","v":""}]
[{"$nulls":10},{"$f":"IF(ISNUMBER(SEARCH($A$3,L2782)),MAX($K$1:K2781)+1,0)","v":0},"Pranavaditya Spinning Mil","PRANAVSP.BO",{"$nulls":12},{"$f":"IFERROR(VLOOKUP(ROWS($Z$2:Z2782),K2782:$L$6000,2,0),\"\")","v":""},{"$f":"IFERROR(VLOOKUP(ROWS($AA$2:AA2782),K2782:$M$6000,3,0),\"\")","v":""}]
[{"$nulls":10},{"$f":"IF(ISNUMBER(SEARCH($A$3,L2783)),MAX($K$1:K2782)+1,0)","v":0},"Pratibha Industries Ltd","PRATIBHA.BO",{"$nulls":12},{"$f":"IFERROR(VLOOKUP(ROWS($Z$2:Z2783),K2783:$L$6000,2,0),\"\")","v":""},{"$f":"IFERROR(VLOOKUP(ROWS($AA$2:AA2783),K2783:$M$6000,3,0),\"\")","v":""}]
[{"$nulls":10},{"$f":"IF(ISNUMBER(SEARCH($A$3,L2784)),MAX($K$1:K2783)+1,0)","v":0},"Pratibha Industries Ltd","PRATIBHA.NS",{"$nulls":12},{"$f":"IFERROR(VLOOKUP(ROWS($Z$2:Z2784),K2784:$L$6000,2,0),\"\")","v":""},{"$f":"IFERROR(VLOOKUP(ROWS($AA$2:AA2784),K2784:$M$6000,3,0),\"\")","v":""}]
[{"$nulls":10},{"$f":"IF(ISNUMBER(SEARCH($A$3,L2785)),MAX($K$1:K2784)+1,0)","v":0},"Pratik Panels Ltd","PRATIK.BO",{"$nulls":12},{"$f":"IFERROR(VLOOKUP(ROWS($Z$2:Z2785),K2785:$L$6000,2,0),\"\")","v":""},{"$f":"IFERROR(VLOOKUP(ROWS($AA$2:AA2785),K2785:$M$6000,3,0),\"\")","v":""}]
[{"$nulls":10},{"$f":"IF(ISNUMBER(SEARCH($A$3,L2786)),MAX($K$1:K2785)+1,0)","v":0},"Pratiksha Chemicals Ltd","PRATIKSH.BO",{"$nulls":12},{"$f":"IFERROR(VLOOKUP(ROWS($Z$2:Z2786),K2786:$L$6000,2,0),\"\")","v":""},{"$f":"IFERROR(VLOOKUP(ROWS($AA$2:AA2786),K2786:$M$6000,3,0),\"\")","v":""}]
[{"$nulls":10},{"$f":"IF(ISNUMBER(SEARCH($A$3,L2787)),MAX($K$1:K2786)+1,0)","v":0},"Precision Containeurs Ltd","PRECISION.BO",{"$nulls":12},{"$f":"IFERROR(VLOOKUP(ROWS($Z$2:Z2787),K2787:$L$6000,2,0),\"\")","v":""},{"$f":"IFERROR(VLOOKUP(ROWS($AA$2:AA2787),K2787:$M$6000,3,0),\"\")","v":""}]
[{"$nulls":10},{"$f":"IF(ISNUMBER(SEARCH($A$3,L2788)),MAX($K$1:K2787)+1,0)","v":0},"Precision Electronics Ltd","PRECISIO.BO",{"$nulls":12},{"$f":"IFERROR(VLOOKUP(ROWS($Z$2:Z2788),K2788:$L$6000,2,0),\"\")","v":""},{"$f":"IFERROR(VLOOKUP(ROWS($AA$2:AA2788),K2788:$M$6000,3,0),\"\")","v":""}]
[{"$nulls":10},{"$f":"IF(ISNUMBER(SEARCH($A$3,L2789)),MAX($K$1:K2788)+1,0)","v":0},"Precision Wires India Ltd","PRECWIRE.BO",{"$nulls":12},{"$f":"IFERROR(VLOOKUP(ROWS($Z$2:Z2789),K2789:$L$6000,2,0),\"\")","v":""},{"$f":"IFERROR(VLOOKUP(ROWS($AA$2:AA2789),K2789:$M$6000,3,0),\"\")","v":""}]
[{"$nulls":10},{"$f":"IF(ISNUMBER(SEARCH($A$3,L2790)),MAX($K$1:K2789)+1,0)","v":0},"Precision Wires India Ltd","PRECWIRE.NS",{"$nulls":12},{"$f":"IFERROR(VLOOKUP(ROWS($Z$2:Z2790),K2790:$L$6000,2,0),\"\")","v":""},{"$f":"IFERROR(VLOOKUP(ROWS($AA$2:AA2790),K2790:$M$6000,3,0),\"\")","v":""}]
[{"$nulls":10},{"$f":"IF(ISNUMBER(SEARCH($A$3,L2791)),MAX($K$1:K2790)+1,0)","v":0},"Precot Meridian Ltd","PRECOT.NS",{"$nulls":12},{"$f":"IFERROR(VLOOKUP(ROWS($Z$2:Z2791),K2791:$L$6000,2,0),\"\")","v":""},{"$f":"IFERROR(VLOOKUP(ROWS($AA$2:AA2791),K2791:$M$6000,3,0),\"\")","v":""}]
[{"$nulls":10},{"$f":"IF(ISNUMBER(SEARCH($A$3,L2792)),MAX($K$1:K2791)+1,0)","v":0},"Premco Global Ltd","PREMCO.BO",{"$nulls":12},{"$f":"IFERROR(VLOOKUP(ROWS($Z$2:Z2792),K2792:$L$6000,2,0),\"\")","v":""},{"$f":"IFERROR(VLOOKUP(ROWS($AA$2:AA2792),K2792:$M$6000,3,0),\"\")","v":""}]
[{"$nulls":10},{"$f":"IF(ISNUMBER(SEARCH($A$3,L2793)),MAX($K$1:K2792)+1,0)","v":0},"Premier Energy & Infra","PEIL.BO",{"$nulls":12},{"$f":"IFERROR(VLOOKUP(ROWS($Z$2:Z2793),K2793:$L$6000,2,0),\"\")","v":""},{"$f":"IFERROR(VLOOKUP(ROWS($AA$2:AA2793),K2793:$M$6000,3,0),\"\")","v":""}]
[{"$nulls":10},{"$f":"IF(ISNUMBER(SEARCH($A$3,L2794)),MAX($K$1:K2793)+1,0)","v":0},"Premier Explosives Ltd","PREMEXPLQ.BO",{"$nulls":12},{"$f":"IFERROR(VLOOKUP(ROWS($Z$2:Z2794),K2794:$L$6000,2,0),\"\")","v":""},{"$f":"IFERROR(VLOOKUP(ROWS($AA$2:AA2794),K2794:$M$6000,3,0),\"\")","v":""}]
[{"$nulls":10},{"$f":"IF(ISNUMBER(SEARCH($A$3,L2795)),MAX($K$1:K2794)+1,0)","v":0},"Premier Ltd","PREMIER.BO",{"$nulls":12},{"$f":"IFERROR(VLOOKUP(ROWS($Z$2:Z2795),K2795:$L$6000,2,0),\"\")","v":""},{"$f":"IFERROR(VLOOKUP(ROWS($AA$2:AA2795),K2795:$M$6000,3,0),\"\")","v":""}]
[{"$nulls":10},{"$f":"IF(ISNUMBER(SEARCH($A$3,L2796)),MAX($K$1:K2795)+1,0)","v":0},"Premier Ltd","PREMIER.NS",{"$nulls":12},{"$f":"IFERROR(VLOOKUP(ROWS($Z$2:Z2796),K2796:$L$6000,2,0),\"\")","v":""},{"$f":"IFERROR(VLOOKUP(ROWS($AA$2:AA2796),K2796:$M$6000,3,0),\"\")","v":""}]
[{"$nulls":10},{"$f":"IF(ISNUMBER(SEARCH($A$3,L2797)),MAX($K$1:K2796)+1,0)","v":0},"Premium Capital Markets &","PREMCAPM.BO",{"$nulls":12},{"$f":"IFERROR(VLOOKUP(ROWS($Z$2:Z2797),K2797:$L$6000,2,0),\"\")","v":""},{"$f":"IFERROR(VLOOKUP(ROWS($AA$2:AA2797),K2797:$M$6000,3,0),\"\")","v":""}]
[{"$nulls":10},{"$f":"IF(ISNUMBER(SEARCH($A$3,L2798)),MAX($K$1:K2797)+1,0)","v":0},"Prerna Infrabuild Ltd","PRERINFRA.BO",{"$nulls":12},{"$f":"IFERROR(VLOOKUP(ROWS($Z$2:Z2798),K2798:$L$6000,2,0),\"\")","v":""},{"$f":"IFERROR(VLOOKUP(ROWS($AA$2:AA2798),K2798:$M$6000,3,0),\"\")","v":""}]
[{"$nulls":10},{"$f":"IF(ISNUMBER(SEARCH($A$3,L2799)),MAX($K$1:K2798)+1,0)","v":0},"Pressman Advertising Ltd","NUCENTFI.BO",{"$nulls":12},{"$f":"IFERROR(VLOOKUP(ROWS($Z$2:Z2799),K2799:$L$6000,2,0),\"\")","v":""},{"$f":"IFERROR(VLOOKUP(ROWS($AA$2:AA2799),K2799:$M$6000,3,0),\"\")","v":""}]
[{"$nulls":10},{"$f":"IF(ISNUMBER(SEARCH($A$3,L2800)),MAX($K$1:K2799)+1,0)","v":0},"Pressure Sensitive System","PRESSURS.BO",{"$nulls":12},{"$f":"IFERROR(VLOOKUP(ROWS($Z$2:Z2800),K2800:$L$6000,2,0),\"\")","v":""},{"$f":"IFERROR(VLOOKUP(ROWS($AA$2:AA2800),K2800:$M$6000,3,0),\"\")","v":""}]
[{"$nulls":10},{"$f":"IF(ISNUMBER(SEARCH($A$3,L2801)),MAX($K$1:K2800)+1,0)","v":0},"Prestige Estates Projects Ltd","PRESTIGE.NS",{"$nulls":12},{"$f":"IFERROR(VLOOKUP(ROWS($Z$2:Z2801),K2801:$L$6000,2,0),\"\")","v":""},{"$f":"IFERROR(VLOOKUP(ROWS($AA$2:AA2801),K2801:$M$6000,3,0),\"\")","v":""}]
[{"$nulls":10},{"$f":"IF(ISNUMBER(SEARCH($A$3,L2802)),MAX($K$1:K2801)+1,0)","v":0},"Pricol Ltd","PRICOL.BO",{"$nulls":12},{"$f":"IFERROR(VLOOKUP(ROWS($Z$2:Z2802),K2802:$L$6000,2,0),\"\")","v":""},{"$f":"IFERROR(VLOOKUP(ROWS($AA$2:AA2802),K2802:$M$6000,3,0),\"\")","v":""}]
[{"$nulls":10},{"$f":"IF(ISNUMBER(SEARCH($A$3,L2803)),MAX($K$1:K2802)+1,0)","v":0},"Pricol Ltd","PRICOL.NS",{"$nulls":12},{"$f":"IFERROR(VLOOKUP(ROWS($Z$2:Z2803),K2803:$L$6000,2,0),\"\")","v":""},{"$f":"IFERROR(VLOOKUP(ROWS($AA$2:AA2803),K2803:$M$6000,3,0),\"\")","v":""}]
[{"$nulls":10},{"$f":"IF(ISNUMBER(SEARCH($A$3,L2804)),MAX($K$1:K2803)+1,0)","v":0},"Prima Plastics Ltd","PRIMAPLA.BO",{"$nulls":12},{"$f":"IFERROR(VLOOKUP(ROWS($Z$2:Z2804),K2804:$L$6000,2,0),\"\")","v":""},{"$f":"IFERROR(VLOOKUP(ROWS($AA$2:AA2804),K2804:$M$6000,3,0),\"\")","v":""}]
[{"$nulls":10},{"$f":"IF(ISNUMBER(SEARCH($A$3,L2805)),MAX($K$1:K2804)+1,0)","v":0},"Prime Focus Ltd","PFOCUS.BO",{"$nulls":12},{"$f":"IFERROR(VLOOKUP(ROWS($Z$2:Z2805),K2805:$L$6000,2,0),\"\")","v":""},{"$f":"IFERROR(VLOOKUP(ROWS($AA$2:AA2805),K2805:$M$6000,3,0),\"\")","v":""}]
[{"$nulls":10},{"$f":"IF(ISNUMBER(SEARCH($A$3,L2806)),MAX($K$1:K2805)+1,0)","v":0},"Prime Industries Ltd","PRIMIND.BO",{"$nulls":12},{"$f":"IFERROR(VLOOKUP(ROWS($Z$2:Z2806),K2806:$L$6000,2,0),\"\")","v":""},{"$f":"IFERROR(VLOOKUP(ROWS($AA$2:AA2806),K2806:$M$6000,3,0),\"\")","v":""}]
[{"$nulls":10},{"$f":"IF(ISNUMBER(SEARCH($A$3,L2807)),MAX($K$1:K2806)+1,0)","v":0},"Prime Property Developmen","PRIMEPRO.BO",{"$nulls":12},{"$f":"IFERROR(VLOOKUP(ROWS($Z$2:Z2807),K2807:$L$6000,2,0),\"\")","v":""},{"$f":"IFERROR(VLOOKUP(ROWS($AA$2:AA2807),K2807:$M$6000,3,0),\"\")","v":""}]
[{"$nulls":10},{"$f":"IF(ISNUMBER(SEARCH($A$3,L2808)),MAX($K$1:K2807)+1,0)","v":0},"Prime Securities Ltd","PRIMESEC.BO",{"$nulls":12},{"$f":"IFERROR(VLOOKUP(ROWS($Z$2:Z2808),K2808:$L$6000,2,0),\"\")","v":""},{"$f":"IFERROR(VLOOKUP(ROWS($AA$2:AA2808),K2808:$M$6000,3,0),\"\")","v":""}]
[{"$nulls":10},{"$f":"IF(ISNUMBER(SEARCH($A$3,L2809)),MAX($K$1:K2808)+1,0)","v":0},"Prime Securities Ltd","PRIMESECU.NS",{"$nulls":12},{"$f":"IFERROR(VLOOKUP(ROWS($Z$2:Z2809),K2809:$L$6000,2,0),\"\")","v":""},{"$f":"IFERROR(VLOOKUP(ROWS($AA$2:AA2809),K2809:$M$6000,3,0),\"\")","v":""}]
[{"$nulls":10},{"$f":"IF(ISNUMBER(SEARCH($A$3,L2810)),MAX($K$1:K2809)+1,0)","v":0},"Prime Urban Development I","PRIMTEX.BO",{"$nulls":12},{"$f":"IFERROR(VLOOKUP(ROWS($Z$2:Z2810),K2810:$L$6000,2,0),\"\")","v":""},{"$f":"IFERROR(VLOOKUP(ROWS($AA$2:AA2810),K2810:$M$6000,3,0),\"\")","v":""}]
[{"$nulls":10},{"$f":"IF(ISNUMBER(SEARCH($A$3,L2811)),MAX($K$1:K2810)+1,0)","v":0},"Prism Cement Ltd","PRISMCEM.BO",{"$nulls":12},{"$f":"IFERROR(VLOOKUP(ROWS($Z$2:Z2811),K2811:$L$6000,2,0),\"\")","v":""},{"$f":"IFERROR(VLOOKUP(ROWS($AA$2:AA2811),K2811:$M$6000,3,0),\"\")","v":""}]
[{"$nulls":10},{"$f":"IF(ISNUMBER(SEARCH($A$3,L2812)),MAX($K$1:K2811)+1,0)","v":0},"Prism Cement Ltd","PRISMCEM.NS",{"$nulls":12},{"$f":"IFERROR(VLOOKUP(ROWS($Z$2:Z2812),K2812:$L$6000,2,0),\"\")","v":""},{"$f":"IFERROR(VLOOKUP(ROWS($AA$2:AA2812),K2812:$M$6000,3,0),\"\")","v":""}]
[{"$nulls":10},{"$f":"IF(ISNUMBER(SEARCH($A$3,L2813)),MAX($K$1:K2812)+1,0)","v":0},"Prism Informatics Ltd","PRISMINFO.BO",{"$nulls":12},{"$f":"IFERROR(VLOOKUP(ROWS($Z$2:Z2813),K2813:$L$6000,2,0),\"\")","v":""},{"$f":"IFERROR(VLOOKUP(ROWS($AA$2:AA2813),K2813:$M$6000,3,0),\"\")","v":""}]
[{"$nulls":10},{"$f":"IF(ISNUMBER(SEARCH($A$3,L2814)),MAX($K$1:K2813)+1,0)","v":0},"Prism Medico & Pharmacy Ltd","WOOLMER.BO",{"$nulls":12},{"$f":"IFERROR(VLOOKUP(ROWS($Z$2:Z2814),K2814:$L$6000,2,0),\"\")","v":""},{"$f":"IFERROR(VLOOKUP(ROWS($AA$2:AA2814),K2814:$M$6000,3,0),\"\")","v":""}]
[{"$nulls":10},{"$f":"IF(ISNUMBER(SEARCH($A$3,L2815)),MAX($K$1:K2814)+1,0)","v":0},"Prithvi Information Solut","PRITHVI.BO",{"$nulls":12},{"$f":"IFERROR(VLOOKUP(ROWS($Z$2:Z2815),K2815:$L$6000,2,0),\"\")","v":""},{"$f":"IFERROR(VLOOKUP(ROWS($AA$2:AA2815),K2815:$M$6000,3,0),\"\")","v":""}]
[{"$nulls":10},{"$f":"IF(ISNUMBER(SEARCH($A$3,L2816)),MAX($K$1:K2815)+1,0)","v":0},"Prithvi Information Solut","PRITHVI.NS",{"$nulls":12},{"$f":"IFERROR(VLOOKUP(ROWS($Z$2:Z2816),K2816:$L$6000,2,0),\"\")","v":""},{"$f":"IFERROR(VLOOKUP(ROWS($AA$2:AA2816),K2816:$M$6000,3,0),\"\")","v":""}]
[{"$nulls":10},{"$f":"IF(ISNUMBER(SEARCH($A$3,L2817)),MAX($K$1:K2816)+1,0)","v":0},"Prithvi Softech Ltd","PRITHVISO.BO",{"$nulls":12},{"$f":"IFERROR(VLOOKUP(ROWS($Z$2:Z2817),K2817:$L$6000,2,0),\"\")","v":""},{"$f":"IFERROR(VLOOKUP(ROWS($AA$2:AA2817),K2817:$M$6000,3,0),\"\")","v":""}]
[{"$nulls":10},{"$f":"IF(ISNUMBER(SEARCH($A$3,L2818)),MAX($K$1:K2817)+1,0)","v":0},"Pritish Nandy Communicati","PNC.BO",{"$nulls":12},{"$f":"IFERROR(VLOOKUP(ROWS($Z$2:Z2818),K2818:$L$6000,2,0),\"\")","v":""},{"$f":"IFERROR(VLOOKUP(ROWS($AA$2:AA2818),K2818:$M$6000,3,0),\"\")","v":""}]
[{"$nulls":10},{"$f":"IF(ISNUMBER(SEARCH($A$3,L2819)),MAX($K$1:K2818)+1,0)","v":0},"Pritish Nandy Communicati","PNC.NS",{"$nulls":12},{"$f":"IFERROR(VLOOKUP(ROWS($Z$2:Z2819),K2819:$L$6000,2,0),\"\")","v":""},{"$f":"IFERROR(VLOOKUP(ROWS($AA$2:AA2819),K2819:$M$6000,3,0),\"\")","v":""}]
[{"$nulls":10},{"$f":"IF(ISNUMBER(SEARCH($A$3,L2820)),MAX($K$1:K2819)+1,0)","v":0},"Priya Ltd","PRIYALT.BO",{"$nulls":12},{"$f":"IFERROR(VLOOKUP(ROWS($Z$2:Z2820),K2820:$L$6000,2,0),\"\")","v":""},{"$f":"IFERROR(VLOOKUP(ROWS($AA$2:AA2820),K2820:$M$6000,3,0),\"\")","v":""}]
[{"$nulls":10},{"$f":"IF(ISNUMBER(SEARCH($A$3,L2821)),MAX($K$1:K2820)+1,0)","v":0},"Priyadarsini Ltd","PRIYADSP.BO",{"$nulls":12},{"$f":"IFERROR(VLOOKUP(ROWS($Z$2:Z2821),K2821:$L$6000,2,0),\"\")","v":""},{"$f":"IFERROR(VLOOKUP(ROWS($AA$2:AA2821),K2821:$M$6000,3,0),\"\")","v":""}]
[{"$nulls":10},{"$f":"IF(ISNUMBER(SEARCH($A$3,L2822)),MAX($K$1:K2821)+1,0)","v":0},"Pro Fin Capital Services Ltd","PROFINC.BO",{"$nulls":12},{"$f":"IFERROR(VLOOKUP(ROWS($Z$2:Z2822),K2822:$L$6000,2,0),\"\")","v":""},{"$f":"IFERROR(VLOOKUP(ROWS($AA$2:AA2822),K2822:$M$6000,3,0),\"\")","v":""}]
[{"$nulls":10},{"$f":"IF(ISNUMBER(SEARCH($A$3,L2823)),MAX($K$1:K2822)+1,0)","v":0},"Procal Electronics India Ltd","PROCAL.BO",{"$nulls":12},{"$f":"IFERROR(VLOOKUP(ROWS($Z$2:Z2823),K2823:$L$6000,2,0),\"\")","v":""},{"$f":"IFERROR(VLOOKUP(ROWS($AA$2:AA2823),K2823:$M$6000,3,0),\"\")","v":""}]
[{"$nulls":10},{"$f":"IF(ISNUMBER(SEARCH($A$3,L2824)),MAX($K$1:K2823)+1,0)","v":0},"Procter & Gamble Hygiene","PNG.BO",{"$nulls":12},{"$f":"IFERROR(VLOOKUP(ROWS($Z$2:Z2824),K2824:$L$6000,2,0),\"\")","v":""},{"$f":"IFERROR(VLOOKUP(ROWS($AA$2:AA2824),K2824:$M$6000,3,0),\"\")","v":""}]
[{"$nulls":10},{"$f":"IF(ISNUMBER(SEARCH($A$3,L2825)),MAX($K$1:K2824)+1,0)","v":0},"Procter & Gamble Hygiene","PGHH.NS",{"$nulls":12},{"$f":"IFERROR(VLOOKUP(ROWS($Z$2:Z2825),K2825:$L$6000,2,0),\"\")","v":""},{"$f":"IFERROR(VLOOKUP(ROWS($AA$2:AA2825),K2825:$M$6000,3,0),\"\")","v":""}]
[{"$nulls":10},{"$f":"IF(ISNUMBER(SEARCH($A$3,L2826)),MAX($K$1:K2825)+1,0)","v":0},"Progressive Extractions &","PROGRESV.BO",{"$nulls":12},{"$f":"IFERROR(VLOOKUP(ROWS($Z$2:Z2826),K2826:$L$6000,2,0),\"\")","v":""},{"$f":"IFERROR(VLOOKUP(ROWS($AA$2:AA2826),K2826:$M$6000,3,0),\"\")","v":""}]
[{"$nulls":10},{"$f":"IF(ISNUMBER(SEARCH($A$3,L2827)),MAX($K$1:K2826)+1,0)","v":0},"Promact Plastics Ltd","PROMACT.BO",{"$nulls":12},{"$f":"IFERROR(VLOOKUP(ROWS($Z$2:Z2827),K2827:$L$6000,2,0),\"\")","v":""},{"$f":"IFERROR(VLOOKUP(ROWS($AA$2:AA2827),K2827:$M$6000,3,0),\"\")","v":""}]
[{"$nulls":10},{"$f":"IF(ISNUMBER(SEARCH($A$3,L2828)),MAX($K$1:K2827)+1,0)","v":0},"Proto Developers & Techno","PROTODEV.BO",{"$nulls":12},{"$f":"IFERROR(VLOOKUP(ROWS($Z$2:Z2828),K2828:$L$6000,2,0),\"\")","v":""},{"$f":"IFERROR(VLOOKUP(ROWS($AA$2:AA2828),K2828:$M$6000,3,0),\"\")","v":""}]
[{"$nulls":10},{"$f":"IF(ISNUMBER(SEARCH($A$3,L2829)),MAX($K$1:K2828)+1,0)","v":0},"PSL Ltd","PSLLTD.BO",{"$nulls":12},{"$f":"IFERROR(VLOOKUP(ROWS($Z$2:Z2829),K2829:$L$6000,2,0),\"\")","v":""},{"$f":"IFERROR(VLOOKUP(ROWS($AA$2:AA2829),K2829:$M$6000,3,0),\"\")","v":""}]
[{"$nulls":10},{"$f":"IF(ISNUMBER(SEARCH($A$3,L2830)),MAX($K$1:K2829)+1,0)","v":0},"PSL Ltd","PSL.NS",{"$nulls":12},{"$f":"IFERROR(VLOOKUP(ROWS($Z$2:Z2830),K2830:$L$6000,2,0),\"\")","v":""},{"$f":"IFERROR(VLOOKUP(ROWS($AA$2:AA2830),K2830:$M$6000,3,0),\"\")","v":""}]
[{"$nulls":10},{"$f":"IF(ISNUMBER(SEARCH($A$3,L2831)),MAX($K$1:K2830)+1,0)","v":0},"PTC India Ltd","PTC.BO",{"$nulls":12},{"$f":"IFERROR(VLOOKUP(ROWS($Z$2:Z2831),K2831:$L$6000,2,0),\"\")","v":""},{"$f":"IFERROR(VLOOKUP(ROWS($AA$2:AA2831),K2831:$M$6000,3,0),\"\")","v":""}]
[{"$nulls":10},{"$f":"IF(ISNUMBER(SEARCH($A$3,L2832)),MAX($K$1:K2831)+1,0)","v":0},"PTC India Ltd","PTC.NS",{"$nulls":12},{"$f":"IFERROR(VLOOKUP(ROWS($Z$2:Z2832),K2832:$L$6000,2,0),\"\")","v":""},{"$f":"IFERROR(VLOOKUP(ROWS($AA$2:AA2832),K2832:$M$6000,3,0),\"\")","v":""}]
[{"$nulls":10},{"$f":"IF(ISNUMBER(SEARCH($A$3,L2833)),MAX($K$1:K2832)+1,0)","v":0},"PTL Enterprises Ltd","PTL.BO",{"$nulls":12},{"$f":"IFERROR(VLOOKUP(ROWS($Z$2:Z2833),K2833:$L$6000,2,0),\"\")","v":""},{"$f":"IFERROR(VLOOKUP(ROWS($AA$2:AA2833),K2833:$M$6000,3,0),\"\")","v":""}]
[{"$nulls":10},{"$f":"IF(ISNUMBER(SEARCH($A$3,L2834)),MAX($K$1:K2833)+1,0)","v":0},"Pudumjee Industries Ltd","PUDMJEIND.BO",{"$nulls":12},{"$f":"IFERROR(VLOOKUP(ROWS($Z$2:Z2834),K2834:$L$6000,2,0),\"\")","v":""},{"$f":"IFERROR(VLOOKUP(ROWS($AA$2:AA2834),K2834:$M$6000,3,0),\"\")","v":""}]
[{"$nulls":10},{"$f":"IF(ISNUMBER(SEARCH($A$3,L2835)),MAX($K$1:K2834)+1,0)","v":0},"Pudumjee Industries Ltd","PDUMJEIND.NS",{"$nulls":12},{"$f":"IFERROR(VLOOKUP(ROWS($Z$2:Z2835),K2835:$L$6000,2,0),\"\")","v":""},{"$f":"IFERROR(VLOOKUP(ROWS($AA$2:AA2835),K2835:$M$6000,3,0),\"\")","v":""}]
[{"$nulls":10},{"$f":"IF(ISNUMBER(SEARCH($A$3,L2836)),MAX($K$1:K2835)+1,0)","v":0},"Pudumjee Pulp & Paper Mil","PDUMJEPU.BO",{"$nulls":12},{"$f":"IFERROR(VLOOKUP(ROWS($Z$2:Z2836),K2836:$L$6000,2,0),\"\")","v":""},{"$f":"IFERROR(VLOOKUP(ROWS($AA$2:AA2836),K2836:$M$6000,3,0),\"\")","v":""}]
[{"$nulls":10},{"$f":"IF(ISNUMBER(SEARCH($A$3,L2837)),MAX($K$1:K2836)+1,0)","v":0},"Pudumjee Pulp & Paper Mil","PDUMJEPUL.NS",{"$nulls":12},{"$f":"IFERROR(VLOOKUP(ROWS($Z$2:Z2837),K2837:$L$6000,2,0),\"\")","v":""},{"$f":"IFERROR(VLOOKUP(ROWS($AA$2:AA2837),K2837:$M$6000,3,0),\"\")","v":""}]
[{"$nulls":10},{"$f":"IF(ISNUMBER(SEARCH($A$3,L2838)),MAX($K$1:K2837)+1,0)","v":0},"Puneet Resins Ltd","PUNEETRE.BO",{"$nulls":12},{"$f":"IFERROR(VLOOKUP(ROWS($Z$2:Z2838),K2838:$L$6000,2,0),\"\")","v":""},{"$f":"IFERROR(VLOOKUP(ROWS($AA$2:AA2838),K2838:$M$6000,3,0),\"\")","v":""}]
[{"$nulls":10},{"$f":"IF(ISNUMBER(SEARCH($A$3,L2839)),MAX($K$1:K2838)+1,0)","v":0},"Punj Lloyd Ltd","PUNJLLOYD.BO",{"$nulls":12},{"$f":"IFERROR(VLOOKUP(ROWS($Z$2:Z2839),K2839:$L$6000,2,0),\"\")","v":""},{"$f":"IFERROR(VLOOKUP(ROWS($AA$2:AA2839),K2839:$M$6000,3,0),\"\")","v":""}]
[{"$nulls":10},{"$f":"IF(ISNUMBER(SEARCH($A$3,L2840)),MAX($K$1:K2839)+1,0)","v":0},"Punj Lloyd Ltd","PUNJLLOYD.NS",{"$nulls":12},{"$f":"IFERROR(VLOOKUP(ROWS($Z$2:Z2840),K2840:$L$6000,2,0),\"\")","v":""},{"$f":"IFERROR(VLOOKUP(ROWS($AA$2:AA2840),K2840:$M$6000,3,0),\"\")","v":""}]
[{"$nulls":10},{"$f":"IF(ISNUMBER(SEARCH($A$3,L2841)),MAX($K$1:K2840)+1,0)","v":0},"Punjab Alkalies & Chem","PACL.BO",{"$nulls":12},{"$f":"IFERROR(VLOOKUP(ROWS($Z$2:Z2841),K2841:$L$6000,2,0),\"\")","v":""},{"$f":"IFERROR(VLOOKUP(ROWS($AA$2:AA2841),K2841:$M$6000,3,0),\"\")","v":""}]
[{"$nulls":10},{"$f":"IF(ISNUMBER(SEARCH($A$3,L2842)),MAX($K$1:K2841)+1,0)","v":0},"Punjab Chemicals & Crop P","PUNJCHEM.BO",{"$nulls":12},{"$f":"IFERROR(VLOOKUP(ROWS($Z$2:Z2842),K2842:$L$6000,2,0),\"\")","v":""},{"$f":"IFERROR(VLOOKUP(ROWS($AA$2:AA2842),K2842:$M$6000,3,0),\"\")","v":""}]
[{"$nulls":10},{"$f":"IF(ISNUMBER(SEARCH($A$3,L2843)),MAX($K$1:K2842)+1,0)","v":0},"Punjab Chemicals & Crop P","PUNJABCHE.NS",{"$nulls":12},{"$f":"IFERROR(VLOOKUP(ROWS($Z$2:Z2843),K2843:$L$6000,2,0),\"\")","v":""},{"$f":"IFERROR(VLOOKUP(ROWS($AA$2:AA2843),K2843:$M$6000,3,0),\"\")","v":""}]
[{"$nulls":10},{"$f":"IF(ISNUMBER(SEARCH($A$3,L2844)),MAX($K$1:K2843)+1,0)","v":0},"Punjab Communications Ltd","PUNJCOMMU.BO",{"$nulls":12},{"$f":"IFERROR(VLOOKUP(ROWS($Z$2:Z2844),K2844:$L$6000,2,0),\"\")","v":""},{"$f":"IFERROR(VLOOKUP(ROWS($AA$2:AA2844),K2844:$M$6000,3,0),\"\")","v":""}]
[{"$nulls":10},{"$f":"IF(ISNUMBER(SEARCH($A$3,L2845)),MAX($K$1:K2844)+1,0)","v":0},"Punjab National Bank","PNB.BO",{"$nulls":12},{"$f":"IFERROR(VLOOKUP(ROWS($Z$2:Z2845),K2845:$L$6000,2,0),\"\")","v":""},{"$f":"IFERROR(VLOOKUP(ROWS($AA$2:AA2845),K2845:$M$6000,3,0),\"\")","v":""}]
[{"$nulls":10},{"$f":"IF(ISNUMBER(SEARCH($A$3,L2846)),MAX($K$1:K2845)+1,0)","v":0},"Punjab National Bank","PNB.NS",{"$nulls":12},{"$f":"IFERROR(VLOOKUP(ROWS($Z$2:Z2846),K2846:$L$6000,2,0),\"\")","v":""},{"$f":"IFERROR(VLOOKUP(ROWS($AA$2:AA2846),K2846:$M$6000,3,0),\"\")","v":""}]
[{"$nulls":10},{"$f":"IF(ISNUMBER(SEARCH($A$3,L2847)),MAX($K$1:K2846)+1,0)","v":0},"Punjab Woolcombers Ltd","PUNWOOLC.BO",{"$nulls":12},{"$f":"IFERROR(VLOOKUP(ROWS($Z$2:Z2847),K2847:$L$6000,2,0),\"\")","v":""},{"$f":"IFERROR(VLOOKUP(ROWS($AA$2:AA2847),K2847:$M$6000,3,0),\"\")","v":""}]
[{"$nulls":10},{"$f":"IF(ISNUMBER(SEARCH($A$3,L2848)),MAX($K$1:K2847)+1,0)","v":0},"Puravankara Projects Ltd","PURVA.BO",{"$nulls":12},{"$f":"IFERROR(VLOOKUP(ROWS($Z$2:Z2848),K2848:$L$6000,2,0),\"\")","v":""},{"$f":"IFERROR(VLOOKUP(ROWS($AA$2:AA2848),K2848:$M$6000,3,0),\"\")","v":""}]
[{"$nulls":10},{"$f":"IF(ISNUMBER(SEARCH($A$3,L2849)),MAX($K$1:K2848)+1,0)","v":0},"Puravankara Projects Ltd","PURVA.NS",{"$nulls":12},{"$f":"IFERROR(VLOOKUP(ROWS($Z$2:Z2849),K2849:$L$6000,2,0),\"\")","v":""},{"$f":"IFERROR(VLOOKUP(ROWS($AA$2:AA2849),K2849:$M$6000,3,0),\"\")","v":""}]
[{"$nulls":10},{"$f":"IF(ISNUMBER(SEARCH($A$3,L2850)),MAX($K$1:K2849)+1,0)","v":0},"PVP Ventures Ltd","PVP.BO",{"$nulls":12},{"$f":"IFERROR(VLOOKUP(ROWS($Z$2:Z2850),K2850:$L$6000,2,0),\"\")","v":""},{"$f":"IFERROR(VLOOKUP(ROWS($AA$2:AA2850),K2850:$M$6000,3,0),\"\")","v":""}]
[{"$nulls":10},{"$f":"IF(ISNUMBER(SEARCH($A$3,L2851)),MAX($K$1:K2850)+1,0)","v":0},"PVP Ventures Ltd","PVP.NS",{"$nulls":12},{"$f":"IFERROR(VLOOKUP(ROWS($Z$2:Z2851),K2851:$L$6000,2,0),\"\")","v":""},{"$f":"IFERROR(VLOOKUP(ROWS($AA$2:AA2851),K2851:$M$6000,3,0),\"\")","v":""}]
[{"$nulls":10},{"$f":"IF(ISNUMBER(SEARCH($A$3,L2852)),MAX($K$1:K2851)+1,0)","v":0},"PVR Ltd","PVR.BO",{"$nulls":12},{"$f":"IFERROR(VLOOKUP(ROWS($Z$2:Z2852),K2852:$L$6000,2,0),\"\")","v":""},{"$f":"IFERROR(VLOOKUP(ROWS($AA$2:AA2852),K2852:$M$6000,3,0),\"\")","v":""}]
[{"$nulls":10},{"$f":"IF(ISNUMBER(SEARCH($A$3,L2853)),MAX($K$1:K2852)+1,0)","v":0},"PVR Ltd","PVR.NS",{"$nulls":12},{"$f":"IFERROR(VLOOKUP(ROWS($Z$2:Z2853),K2853:$L$6000,2,0),\"\")","v":""},{"$f":"IFERROR(VLOOKUP(ROWS($AA$2:AA2853),K2853:$M$6000,3,0),\"\")","v":""}]
[{"$nulls":10},{"$f":"IF(ISNUMBER(SEARCH($A$3,L2854)),MAX($K$1:K2853)+1,0)","v":0},"Quadrant Televentures Ltd","INVESTRU.BO",{"$nulls":12},{"$f":"IFERROR(VLOOKUP(ROWS($Z$2:Z2854),K2854:$L$6000,2,0),\"\")","v":""},{"$f":"IFERROR(VLOOKUP(ROWS($AA$2:AA2854),K2854:$M$6000,3,0),\"\")","v":""}]
[{"$nulls":10},{"$f":"IF(ISNUMBER(SEARCH($A$3,L2855)),MAX($K$1:K2854)+1,0)","v":0},"Quantum Digital Vision (I","QUANTDIA.BO",{"$nulls":12},{"$f":"IFERROR(VLOOKUP(ROWS($Z$2:Z2855),K2855:$L$6000,2,0),\"\")","v":""},{"$f":"IFERROR(VLOOKUP(ROWS($AA$2:AA2855),K2855:$M$6000,3,0),\"\")","v":""}]
[{"$nulls":10},{"$f":"IF(ISNUMBER(SEARCH($A$3,L2856)),MAX($K$1:K2855)+1,0)","v":0},"Quintegra Solutions Ltd","QUINTEGRA.BO",{"$nulls":12},{"$f":"IFERROR(VLOOKUP(ROWS($Z$2:Z2856),K2856:$L$6000,2,0),\"\")","v":""},{"$f":"IFERROR(VLOOKUP(ROWS($AA$2:AA2856),K2856:$M$6000,3,0),\"\")","v":""}]
[{"$nulls":10},{"$f":"IF(ISNUMBER(SEARCH($A$3,L2857)),MAX($K$1:K2856)+1,0)","v":0},"Quintegra Solutions Ltd","QUINTEGRA.NS",{"$nulls":12},{"$f":"IFERROR(VLOOKUP(ROWS($Z$2:Z2857),K2857:$L$6000,2,0),\"\")","v":""},{"$f":"IFERROR(VLOOKUP(ROWS($AA$2:AA2857),K2857:$M$6000,3,0),\"\")","v":""}]
[{"$nulls":10},{"$f":"IF(ISNUMBER(SEARCH($A$3,L2858)),MAX($K$1:K2857)+1,0)","v":0},"R M Mohite Industries Ltd","RMMOHIT.BO",{"$nulls":12},{"$f":"IFERROR(VLOOKUP(ROWS($Z$2:Z2858),K2858:$L$6000,2,0),\"\")","v":""},{"$f":"IFERROR(VLOOKUP(ROWS($AA$2:AA2858),K2858:$M$6000,3,0),\"\")","v":""}]
[{"$nulls":10},{"$f":"IF(ISNUMBER(SEARCH($A$3,L2859)),MAX($K$1:K2858)+1,0)","v":0},"R R Financial Consultants Ltd","RRFIN.BO",{"$nulls":12},{"$f":"IFERROR(VLOOKUP(ROWS($Z$2:Z2859),K2859:$L$6000,2,0),\"\")","v":""},{"$f":"IFERROR(VLOOKUP(ROWS($AA$2:AA2859),K2859:$M$6000,3,0),\"\")","v":""}]
[{"$nulls":10},{"$f":"IF(ISNUMBER(SEARCH($A$3,L2860)),MAX($K$1:K2859)+1,0)","v":0},"R R Securities Ltd","RRSECUR.BO",{"$nulls":12},{"$f":"IFERROR(VLOOKUP(ROWS($Z$2:Z2860),K2860:$L$6000,2,0),\"\")","v":""},{"$f":"IFERROR(VLOOKUP(ROWS($AA$2:AA2860),K2860:$M$6000,3,0),\"\")","v":""}]
[{"$nulls":10},{"$f":"IF(ISNUMBER(SEARCH($A$3,L2861)),MAX($K$1:K2860)+1,0)","v":0},"R S Software (India) Ltd","RSSOFT.BO",{"$nulls":12},{"$f":"IFERROR(VLOOKUP(ROWS($Z$2:Z2861),K2861:$L$6000,2,0),\"\")","v":""},{"$f":"IFERROR(VLOOKUP(ROWS($AA$2:AA2861),K2861:$M$6000,3,0),\"\")","v":""}]
[{"$nulls":10},{"$f":"IF(ISNUMBER(SEARCH($A$3,L2862)),MAX($K$1:K2861)+1,0)","v":0},"R S Software (India) Ltd","RSSOFTWAR.NS",{"$nulls":12},{"$f":"IFERROR(VLOOKUP(ROWS($Z$2:Z2862),K2862:$L$6000,2,0),\"\")","v":""},{"$f":"IFERROR(VLOOKUP(ROWS($AA$2:AA2862),K2862:$M$6000,3,0),\"\")","v":""}]
[{"$nulls":10},{"$f":"IF(ISNUMBER(SEARCH($A$3,L2863)),MAX($K$1:K2862)+1,0)","v":0},"R Systems International Ltd","RSYSTEMS.BO",{"$nulls":12},{"$f":"IFERROR(VLOOKUP(ROWS($Z$2:Z2863),K2863:$L$6000,2,0),\"\")","v":""},{"$f":"IFERROR(VLOOKUP(ROWS($AA$2:AA2863),K2863:$M$6000,3,0),\"\")","v":""}]
[{"$nulls":10},{"$f":"IF(ISNUMBER(SEARCH($A$3,L2864)),MAX($K$1:K2863)+1,0)","v":0},"R T C L Ltd","RAGHUTOB.BO",{"$nulls":12},{"$f":"IFERROR(VLOOKUP(ROWS($Z$2:Z2864),K2864:$L$6000,2,0),\"\")","v":""},{"$f":"IFERROR(VLOOKUP(ROWS($AA$2:AA2864),K2864:$M$6000,3,0),\"\")","v":""}]
[{"$nulls":10},{"$f":"IF(ISNUMBER(SEARCH($A$3,L2865)),MAX($K$1:K2864)+1,0)","v":0},"R T Exports Ltd","RTEXPO.BO",{"$nulls":12},{"$f":"IFERROR(VLOOKUP(ROWS($Z$2:Z2865),K2865:$L$6000,2,0),\"\")","v":""},{"$f":"IFERROR(VLOOKUP(ROWS($AA$2:AA2865),K2865:$M$6000,3,0),\"\")","v":""}]
[{"$nulls":10},{"$f":"IF(ISNUMBER(SEARCH($A$3,L2866)),MAX($K$1:K2865)+1,0)","v":0},"Raaj Medisafe India Ltd","MANOJPH.BO",{"$nulls":12},{"$f":"IFERROR(VLOOKUP(ROWS($Z$2:Z2866),K2866:$L$6000,2,0),\"\")","v":""},{"$f":"IFERROR(VLOOKUP(ROWS($AA$2:AA2866),K2866:$M$6000,3,0),\"\")","v":""}]
[{"$nulls":10},{"$f":"IF(ISNUMBER(SEARCH($A$3,L2867)),MAX($K$1:K2866)+1,0)","v":0},"Raasi Enterprises Ltd","RAASIENT.BO",{"$nulls":12},{"$f":"IFERROR(VLOOKUP(ROWS($Z$2:Z2867),K2867:$L$6000,2,0),\"\")","v":""},{"$f":"IFERROR(VLOOKUP(ROWS($AA$2:AA2867),K2867:$M$6000,3,0),\"\")","v":""}]
[{"$nulls":10},{"$f":"IF(ISNUMBER(SEARCH($A$3,L2868)),MAX($K$1:K2867)+1,0)","v":0},"Raasi Refractories Ltd","RASSIREF.BO",{"$nulls":12},{"$f":"IFERROR(VLOOKUP(ROWS($Z$2:Z2868),K2868:$L$6000,2,0),\"\")","v":""},{"$f":"IFERROR(VLOOKUP(ROWS($AA$2:AA2868),K2868:$M$6000,3,0),\"\")","v":""}]
[{"$nulls":10},{"$f":"IF(ISNUMBER(SEARCH($A$3,L2869)),MAX($K$1:K2868)+1,0)","v":0},"Radaan Mediaworks India Ltd","RADAANMED.BO",{"$nulls":12},{"$f":"IFERROR(VLOOKUP(ROWS($Z$2:Z2869),K2869:$L$6000,2,0),\"\")","v":""},{"$f":"IFERROR(VLOOKUP(ROWS($AA$2:AA2869),K2869:$M$6000,3,0),\"\")","v":""}]
[{"$nulls":10},{"$f":"IF(ISNUMBER(SEARCH($A$3,L2870)),MAX($K$1:K2869)+1,0)","v":0},"Radaan Mediaworks India Ltd","RADAAN.NS",{"$nulls":12},{"$f":"IFERROR(VLOOKUP(ROWS($Z$2:Z2870),K2870:$L$6000,2,0),\"\")","v":""},{"$f":"IFERROR(VLOOKUP(ROWS($AA$2:AA2870),K2870:$M$6000,3,0),\"\")","v":""}]
[{"$nulls":10},{"$f":"IF(ISNUMBER(SEARCH($A$3,L2871)),MAX($K$1:K2870)+1,0)","v":0},"Radha Madhav Corp Ltd","RMCL.BO",{"$nulls":12},{"$f":"IFERROR(VLOOKUP(ROWS($Z$2:Z2871),K2871:$L$6000,2,0),\"\")","v":""},{"$f":"IFERROR(VLOOKUP(ROWS($AA$2:AA2871),K2871:$M$6000,3,0),\"\")","v":""}]
[{"$nulls":10},{"$f":"IF(ISNUMBER(SEARCH($A$3,L2872)),MAX($K$1:K2871)+1,0)","v":0},"Radha Madhav Corp Ltd","RMCL.NS",{"$nulls":12},{"$f":"IFERROR(VLOOKUP(ROWS($Z$2:Z2872),K2872:$L$6000,2,0),\"\")","v":""},{"$f":"IFERROR(VLOOKUP(ROWS($AA$2:AA2872),K2872:$M$6000,3,0),\"\")","v":""}]
[{"$nulls":10},{"$f":"IF(ISNUMBER(SEARCH($A$3,L2873)),MAX($K$1:K2872)+1,0)","v":0},"Radico Khaitan Ltd","RADICO.BO",{"$nulls":12},{"$f":"IFERROR(VLOOKUP(ROWS($Z$2:Z2873),K2873:$L$6000,2,0),\"\")","v":""},{"$f":"IFERROR(VLOOKUP(ROWS($AA$2:AA2873),K2873:$M$6000,3,0),\"\")","v":""}]
[{"$nulls":10},{"$f":"IF(ISNUMBER(SEARCH($A$3,L2874)),MAX($K$1:K2873)+1,0)","v":0},"Radico Khaitan Ltd","RADICO.NS",{"$nulls":12},{"$f":"IFERROR(VLOOKUP(ROWS($Z$2:Z2874),K2874:$L$6000,2,0),\"\")","v":""},{"$f":"IFERROR(VLOOKUP(ROWS($AA$2:AA2874),K2874:$M$6000,3,0),\"\")","v":""}]
[{"$nulls":10},{"$f":"IF(ISNUMBER(SEARCH($A$3,L2875)),MAX($K$1:K2874)+1,0)","v":0},"Raghunath International Ltd","RAGHUNAT.BO",{"$nulls":12},{"$f":"IFERROR(VLOOKUP(ROWS($Z$2:Z2875),K2875:$L$6000,2,0),\"\")","v":""},{"$f":"IFERROR(VLOOKUP(ROWS($AA$2:AA2875),K2875:$M$6000,3,0),\"\")","v":""}]
[{"$nulls":10},{"$f":"IF(ISNUMBER(SEARCH($A$3,L2876)),MAX($K$1:K2875)+1,0)","v":0},"Raghuvir Synthetics Ltd","RAGHUSYN.BO",{"$nulls":12},{"$f":"IFERROR(VLOOKUP(ROWS($Z$2:Z2876),K2876:$L$6000,2,0),\"\")","v":""},{"$f":"IFERROR(VLOOKUP(ROWS($AA$2:AA2876),K2876:$M$6000,3,0),\"\")","v":""}]
[{"$nulls":10},{"$f":"IF(ISNUMBER(SEARCH($A$3,L2877)),MAX($K$1:K2876)+1,0)","v":0},"Rahul Merchandising Ltd","RAHME.BO",{"$nulls":12},{"$f":"IFERROR(VLOOKUP(ROWS($Z$2:Z2877),K2877:$L$6000,2,0),\"\")","v":""},{"$f":"IFERROR(VLOOKUP(ROWS($AA$2:AA2877),K2877:$M$6000,3,0),\"\")","v":""}]
[{"$nulls":10},{"$f":"IF(ISNUMBER(SEARCH($A$3,L2878)),MAX($K$1:K2877)+1,0)","v":0},"Rain Commodities Limited","RAINCOM.NS",{"$nulls":12},{"$f":"IFERROR(VLOOKUP(ROWS($Z$2:Z2878),K2878:$L$6000,2,0),\"\")","v":""},{"$f":"IFERROR(VLOOKUP(ROWS($AA$2:AA2878),K2878:$M$6000,3,0),\"\")","v":""}]
[{"$nulls":10},{"$f":"IF(ISNUMBER(SEARCH($A$3,L2879)),MAX($K$1:K2878)+1,0)","v":0},"Rain Industries Ltd","RAIN.BO",{"$nulls":12},{"$f":"IFERROR(VLOOKUP(ROWS($Z$2:Z2879),K2879:$L$6000,2,0),\"\")","v":""},{"$f":"IFERROR(VLOOKUP(ROWS($AA$2:AA2879),K2879:$M$6000,3,0),\"\")","v":""}]
[{"$nulls":10},{"$f":"IF(ISNUMBER(SEARCH($A$3,L2880)),MAX($K$1:K2879)+1,0)","v":0},"Rainbow Denim Ltd","RAINBOWDQ.BO",{"$nulls":12},{"$f":"IFERROR(VLOOKUP(ROWS($Z$2:Z2880),K2880:$L$6000,2,0),\"\")","v":""},{"$f":"IFERROR(VLOOKUP(ROWS($AA$2:AA2880),K2880:$M$6000,3,0),\"\")","v":""}]
[{"$nulls":10},{"$f":"IF(ISNUMBER(SEARCH($A$3,L2881)),MAX($K$1:K2880)+1,0)","v":0},"Rainbow Foundations Ltd","RAINBOWF.BO",{"$nulls":12},{"$f":"IFERROR(VLOOKUP(ROWS($Z$2:Z2881),K2881:$L$6000,2,0),\"\")","v":""},{"$f":"IFERROR(VLOOKUP(ROWS($AA$2:AA2881),K2881:$M$6000,3,0),\"\")","v":""}]
[{"$nulls":10},{"$f":"IF(ISNUMBER(SEARCH($A$3,L2882)),MAX($K$1:K2881)+1,0)","v":0},"Rainbow Papers Ltd","RAINBOWPQ.BO",{"$nulls":12},{"$f":"IFERROR(VLOOKUP(ROWS($Z$2:Z2882),K2882:$L$6000,2,0),\"\")","v":""},{"$f":"IFERROR(VLOOKUP(ROWS($AA$2:AA2882),K2882:$M$6000,3,0),\"\")","v":""}]
[{"$nulls":10},{"$f":"IF(ISNUMBER(SEARCH($A$3,L2883)),MAX($K$1:K2882)+1,0)","v":0},"Raj Agro Mills Ltd","RAJAGRO.BO",{"$nulls":12},{"$f":"IFERROR(VLOOKUP(ROWS($Z$2:Z2883),K2883:$L$6000,2,0),\"\")","v":""},{"$f":"IFERROR(VLOOKUP(ROWS($AA$2:AA2883),K2883:$M$6000,3,0),\"\")","v":""}]
[{"$nulls":10},{"$f":"IF(ISNUMBER(SEARCH($A$3,L2884)),MAX($K$1:K2883)+1,0)","v":0},"Raj Oil Mills Ltd","RAJOIL.BO",{"$nulls":12},{"$f":"IFERROR(VLOOKUP(ROWS($Z$2:Z2884),K2884:$L$6000,2,0),\"\")","v":""},{"$f":"IFERROR(VLOOKUP(ROWS($AA$2:AA2884),K2884:$M$6000,3,0),\"\")","v":""}]
[{"$nulls":10},{"$f":"IF(ISNUMBER(SEARCH($A$3,L2885)),MAX($K$1:K2884)+1,0)","v":0},"Raj Oil Mills Ltd","RAJOIL.NS",{"$nulls":12},{"$f":"IFERROR(VLOOKUP(ROWS($Z$2:Z2885),K2885:$L$6000,2,0),\"\")","v":""},{"$f":"IFERROR(VLOOKUP(ROWS($AA$2:AA2885),K2885:$M$6000,3,0),\"\")","v":""}]
[{"$nulls":10},{"$f":"IF(ISNUMBER(SEARCH($A$3,L2886)),MAX($K$1:K2885)+1,0)","v":0},"Raj Packaging Industries Ltd","RAJPACK.BO",{"$nulls":12},{"$f":"IFERROR(VLOOKUP(ROWS($Z$2:Z2886),K2886:$L$6000,2,0),\"\")","v":""},{"$f":"IFERROR(VLOOKUP(ROWS($AA$2:AA2886),K2886:$M$6000,3,0),\"\")","v":""}]
[{"$nulls":10},{"$f":"IF(ISNUMBER(SEARCH($A$3,L2887)),MAX($K$1:K2886)+1,0)","v":0},"Rajapalayam Mills Ltd","RAJAPAMIL.BO",{"$nulls":12},{"$f":"IFERROR(VLOOKUP(ROWS($Z$2:Z2887),K2887:$L$6000,2,0),\"\")","v":""},{"$f":"IFERROR(VLOOKUP(ROWS($AA$2:AA2887),K2887:$M$6000,3,0),\"\")","v":""}]
[{"$nulls":10},{"$f":"IF(ISNUMBER(SEARCH($A$3,L2888)),MAX($K$1:K2887)+1,0)","v":0},"Rajasthan Gases Ltd","RAJGASES.BO",{"$nulls":12},{"$f":"IFERROR(VLOOKUP(ROWS($Z$2:Z2888),K2888:$L$6000,2,0),\"\")","v":""},{"$f":"IFERROR(VLOOKUP(ROWS($AA$2:AA2888),K2888:$M$6000,3,0),\"\")","v":""}]
[{"$nulls":10},{"$f":"IF(ISNUMBER(SEARCH($A$3,L2889)),MAX($K$1:K2888)+1,0)","v":0},"Rajasthan Tube","RAJTUBE.BO",{"$nulls":12},{"$f":"IFERROR(VLOOKUP(ROWS($Z$2:Z2889),K2889:$L$6000,2,0),\"\")","v":""},{"$f":"IFERROR(VLOOKUP(ROWS($AA$2:AA2889),K2889:$M$6000,3,0),\"\")","v":""}]
[{"$nulls":10},{"$f":"IF(ISNUMBER(SEARCH($A$3,L2890)),MAX($K$1:K2889)+1,0)","v":0},"Rajath Finance Ltd","ZRAJATH.BO",{"$nulls":12},{"$f":"IFERROR(VLOOKUP(ROWS($Z$2:Z2890),K2890:$L$6000,2,0),\"\")","v":""},{"$f":"IFERROR(VLOOKUP(ROWS($AA$2:AA2890),K2890:$M$6000,3,0),\"\")","v":""}]
[{"$nulls":10},{"$f":"IF(ISNUMBER(SEARCH($A$3,L2891)),MAX($K$1:K2890)+1,0)","v":0},"Rajesh Exports Ltd","RAJESHX.BO",{"$nulls":12},{"$f":"IFERROR(VLOOKUP(ROWS($Z$2:Z2891),K2891:$L$6000,2,0),\"\")","v":""},{"$f":"IFERROR(VLOOKUP(ROWS($AA$2:AA2891),K2891:$M$6000,3,0),\"\")","v":""}]
[{"$nulls":10},{"$f":"IF(ISNUMBER(SEARCH($A$3,L2892)),MAX($K$1:K2891)+1,0)","v":0},"Rajesh Exports Ltd","RAJESHEXP.NS",{"$nulls":12},{"$f":"IFERROR(VLOOKUP(ROWS($Z$2:Z2892),K2892:$L$6000,2,0),\"\")","v":""},{"$f":"IFERROR(VLOOKUP(ROWS($AA$2:AA2892),K2892:$M$6000,3,0),\"\")","v":""}]
[{"$nulls":10},{"$f":"IF(ISNUMBER(SEARCH($A$3,L2893)),MAX($K$1:K2892)+1,0)","v":0},"Rajeswari Infrastructure Ltd","RAJESWARI.BO",{"$nulls":12},{"$f":"IFERROR(VLOOKUP(ROWS($Z$2:Z2893),K2893:$L$6000,2,0),\"\")","v":""},{"$f":"IFERROR(VLOOKUP(ROWS($AA$2:AA2893),K2893:$M$6000,3,0),\"\")","v":""}]
[{"$nulls":10},{"$f":"IF(ISNUMBER(SEARCH($A$3,L2894)),MAX($K$1:K2893)+1,0)","v":0},"Rajkamal Synthetics Ltd","RAJKSYN.BO",{"$nulls":12},{"$f":"IFERROR(VLOOKUP(ROWS($Z$2:Z2894),K2894:$L$6000,2,0),\"\")","v":""},{"$f":"IFERROR(VLOOKUP(ROWS($AA$2:AA2894),K2894:$M$6000,3,0),\"\")","v":""}]
[{"$nulls":10},{"$f":"IF(ISNUMBER(SEARCH($A$3,L2895)),MAX($K$1:K2894)+1,0)","v":0},"Rajkumar Forge Ltd","RJKMRFR.BO",{"$nulls":12},{"$f":"IFERROR(VLOOKUP(ROWS($Z$2:Z2895),K2895:$L$6000,2,0),\"\")","v":""},{"$f":"IFERROR(VLOOKUP(ROWS($AA$2:AA2895),K2895:$M$6000,3,0),\"\")","v":""}]
[{"$nulls":10},{"$f":"IF(ISNUMBER(SEARCH($A$3,L2896)),MAX($K$1:K2895)+1,0)","v":0},"Rajoo Engineers Ltd","RAJOOENG.BO",{"$nulls":12},{"$f":"IFERROR(VLOOKUP(ROWS($Z$2:Z2896),K2896:$L$6000,2,0),\"\")","v":""},{"$f":"IFERROR(VLOOKUP(ROWS($AA$2:AA2896),K2896:$M$6000,3,0),\"\")","v":""}]
[{"$nulls":10},{"$f":"IF(ISNUMBER(SEARCH($A$3,L2897)),MAX($K$1:K2896)+1,0)","v":0},"Rajratan Global Wire Ltd","RAJGLOWIR.BO",{"$nulls":12},{"$f":"IFERROR(VLOOKUP(ROWS($Z$2:Z2897),K2897:$L$6000,2,0),\"\")","v":""},{"$f":"IFERROR(VLOOKUP(ROWS($AA$2:AA2897),K2897:$M$6000,3,0),\"\")","v":""}]
[{"$nulls":10},{"$f":"IF(ISNUMBER(SEARCH($A$3,L2898)),MAX($K$1:K2897)+1,0)","v":0},"Rajshree Sugars & Chemica","RSCL.BO",{"$nulls":12},{"$f":"IFERROR(VLOOKUP(ROWS($Z$2:Z2898),K2898:$L$6000,2,0),\"\")","v":""},{"$f":"IFERROR(VLOOKUP(ROWS($AA$2:AA2898),K2898:$M$6000,3,0),\"\")","v":""}]
[{"$nulls":10},{"$f":"IF(ISNUMBER(SEARCH($A$3,L2899)),MAX($K$1:K2898)+1,0)","v":0},"Rajshree Sugars & Chemica","RAJSREESU.NS",{"$nulls":12},{"$f":"IFERROR(VLOOKUP(ROWS($Z$2:Z2899),K2899:$L$6000,2,0),\"\")","v":""},{"$f":"IFERROR(VLOOKUP(ROWS($AA$2:AA2899),K2899:$M$6000,3,0),\"\")","v":""}]
[{"$nulls":10},{"$f":"IF(ISNUMBER(SEARCH($A$3,L2900)),MAX($K$1:K2899)+1,0)","v":0},"Rajvir Industries Ltd","RAJVIR.BO",{"$nulls":12},{"$f":"IFERROR(VLOOKUP(ROWS($Z$2:Z2900),K2900:$L$6000,2,0),\"\")","v":""},{"$f":"IFERROR(VLOOKUP(ROWS($AA$2:AA2900),K2900:$M$6000,3,0),\"\")","v":""}]
[{"$nulls":10},{"$f":"IF(ISNUMBER(SEARCH($A$3,L2901)),MAX($K$1:K2900)+1,0)","v":0},"Rajvir Industries Ltd","RAJVIR.NS",{"$nulls":12},{"$f":"IFERROR(VLOOKUP(ROWS($Z$2:Z2901),K2901:$L$6000,2,0),\"\")","v":""},{"$f":"IFERROR(VLOOKUP(ROWS($AA$2:AA2901),K2901:$M$6000,3,0),\"\")","v":""}]
[{"$nulls":10},{"$f":"IF(ISNUMBER(SEARCH($A$3,L2902)),MAX($K$1:K2901)+1,0)","v":0},"Ram Informatics Limited","RAMINFO.BO",{"$nulls":12},{"$f":"IFERROR(VLOOKUP(ROWS($Z$2:Z2902),K2902:$L$6000,2,0),\"\")","v":""},{"$f":"IFERROR(VLOOKUP(ROWS($AA$2:AA2902),K2902:$M$6000,3,0),\"\")","v":""}]
[{"$nulls":10},{"$f":"IF(ISNUMBER(SEARCH($A$3,L2903)),MAX($K$1:K2902)+1,0)","v":0},"Ram Ratna Wires Ltd","RAMRAT.BO",{"$nulls":12},{"$f":"IFERROR(VLOOKUP(ROWS($Z$2:Z2903),K2903:$L$6000,2,0),\"\")","v":""},{"$f":"IFERROR(VLOOKUP(ROWS($AA$2:AA2903),K2903:$M$6000,3,0),\"\")","v":""}]
[{"$nulls":10},{"$f":"IF(ISNUMBER(SEARCH($A$3,L2904)),MAX($K$1:K2903)+1,0)","v":0},"Rama Paper Mills Ltd","RAMAPPR-B.BO",{"$nulls":12},{"$f":"IFERROR(VLOOKUP(ROWS($Z$2:Z2904),K2904:$L$6000,2,0),\"\")","v":""},{"$f":"IFERROR(VLOOKUP(ROWS($AA$2:AA2904),K2904:$M$6000,3,0),\"\")","v":""}]
[{"$nulls":10},{"$f":"IF(ISNUMBER(SEARCH($A$3,L2905)),MAX($K$1:K2904)+1,0)","v":0},"Rama Petrochemicals Ltd","RAMAPETR.BO",{"$nulls":12},{"$f":"IFERROR(VLOOKUP(ROWS($Z$2:Z2905),K2905:$L$6000,2,0),\"\")","v":""},{"$f":"IFERROR(VLOOKUP(ROWS($AA$2:AA2905),K2905:$M$6000,3,0),\"\")","v":""}]
[{"$nulls":10},{"$f":"IF(ISNUMBER(SEARCH($A$3,L2906)),MAX($K$1:K2905)+1,0)","v":0},"Rama Phosphates Ltd","RAMAPHO.BO",{"$nulls":12},{"$f":"IFERROR(VLOOKUP(ROWS($Z$2:Z2906),K2906:$L$6000,2,0),\"\")","v":""},{"$f":"IFERROR(VLOOKUP(ROWS($AA$2:AA2906),K2906:$M$6000,3,0),\"\")","v":""}]
[{"$nulls":10},{"$f":"IF(ISNUMBER(SEARCH($A$3,L2907)),MAX($K$1:K2906)+1,0)","v":0},"Rama Pulp & Papers Ltd","RAMAPULP.BO",{"$nulls":12},{"$f":"IFERROR(VLOOKUP(ROWS($Z$2:Z2907),K2907:$L$6000,2,0),\"\")","v":""},{"$f":"IFERROR(VLOOKUP(ROWS($AA$2:AA2907),K2907:$M$6000,3,0),\"\")","v":""}]
[{"$nulls":10},{"$f":"IF(ISNUMBER(SEARCH($A$3,L2908)),MAX($K$1:K2907)+1,0)","v":0},"Rama Vision Ltd","RAMAVISI.BO",{"$nulls":12},{"$f":"IFERROR(VLOOKUP(ROWS($Z$2:Z2908),K2908:$L$6000,2,0),\"\")","v":""},{"$f":"IFERROR(VLOOKUP(ROWS($AA$2:AA2908),K2908:$M$6000,3,0),\"\")","v":""}]
[{"$nulls":10},{"$f":"IF(ISNUMBER(SEARCH($A$3,L2909)),MAX($K$1:K2908)+1,0)","v":0},"Ramco Cements Ltd","MADRASCEM.BO",{"$nulls":12},{"$f":"IFERROR(VLOOKUP(ROWS($Z$2:Z2909),K2909:$L$6000,2,0),\"\")","v":""},{"$f":"IFERROR(VLOOKUP(ROWS($AA$2:AA2909),K2909:$M$6000,3,0),\"\")","v":""}]
[{"$nulls":10},{"$f":"IF(ISNUMBER(SEARCH($A$3,L2910)),MAX($K$1:K2909)+1,0)","v":0},"Ramco Cements Ltd","MADRASCEM.NS",{"$nulls":12},{"$f":"IFERROR(VLOOKUP(ROWS($Z$2:Z2910),K2910:$L$6000,2,0),\"\")","v":""},{"$f":"IFERROR(VLOOKUP(ROWS($AA$2:AA2910),K2910:$M$6000,3,0),\"\")","v":""}]
[{"$nulls":10},{"$f":"IF(ISNUMBER(SEARCH($A$3,L2911)),MAX($K$1:K2910)+1,0)","v":0},"Ramco Industries Ltd","RAMCOIND.BO",{"$nulls":12},{"$f":"IFERROR(VLOOKUP(ROWS($Z$2:Z2911),K2911:$L$6000,2,0),\"\")","v":""},{"$f":"IFERROR(VLOOKUP(ROWS($AA$2:AA2911),K2911:$M$6000,3,0),\"\")","v":""}]
[{"$nulls":10},{"$f":"IF(ISNUMBER(SEARCH($A$3,L2912)),MAX($K$1:K2911)+1,0)","v":0},"Ramco Industries Ltd","RAMCOIND.NS",{"$nulls":12},{"$f":"IFERROR(VLOOKUP(ROWS($Z$2:Z2912),K2912:$L$6000,2,0),\"\")","v":""},{"$f":"IFERROR(VLOOKUP(ROWS($AA$2:AA2912),K2912:$M$6000,3,0),\"\")","v":""}]
[{"$nulls":10},{"$f":"IF(ISNUMBER(SEARCH($A$3,L2913)),MAX($K$1:K2912)+1,0)","v":0},"Ramco Systems Ltd","RAMCOSYS.BO",{"$nulls":12},{"$f":"IFERROR(VLOOKUP(ROWS($Z$2:Z2913),K2913:$L$6000,2,0),\"\")","v":""},{"$f":"IFERROR(VLOOKUP(ROWS($AA$2:AA2913),K2913:$M$6000,3,0),\"\")","v":""}]
[{"$nulls":10},{"$f":"IF(ISNUMBER(SEARCH($A$3,L2914)),MAX($K$1:K2913)+1,0)","v":0},"Ramco Systems Ltd","RAMCOSYS.NS",{"$nulls":12},{"$f":"IFERROR(VLOOKUP(ROWS($Z$2:Z2914),K2914:$L$6000,2,0),\"\")","v":""},{"$f":"IFERROR(VLOOKUP(ROWS($AA$2:AA2914),K2914:$M$6000,3,0),\"\")","v":""}]
[{"$nulls":10},{"$f":"IF(ISNUMBER(SEARCH($A$3,L2915)),MAX($K$1:K2914)+1,0)","v":0},"Ramkrishna Forgings Ltd","RKFORGE.BO",{"$nulls":12},{"$f":"IFERROR(VLOOKUP(ROWS($Z$2:Z2915),K2915:$L$6000,2,0),\"\")","v":""},{"$f":"IFERROR(VLOOKUP(ROWS($AA$2:AA2915),K2915:$M$6000,3,0),\"\")","v":""}]
[{"$nulls":10},{"$f":"IF(ISNUMBER(SEARCH($A$3,L2916)),MAX($K$1:K2915)+1,0)","v":0},"Ramkrishna Forgings Ltd","RKFORGE.NS",{"$nulls":12},{"$f":"IFERROR(VLOOKUP(ROWS($Z$2:Z2916),K2916:$L$6000,2,0),\"\")","v":""},{"$f":"IFERROR(VLOOKUP(ROWS($AA$2:AA2916),K2916:$M$6000,3,0),\"\")","v":""}]
[{"$nulls":10},{"$f":"IF(ISNUMBER(SEARCH($A$3,L2917)),MAX($K$1:K2916)+1,0)","v":0},"Rammaica (India) Ltd","RAMMA.BO",{"$nulls":12},{"$f":"IFERROR(VLOOKUP(ROWS($Z$2:Z2917),K2917:$L$6000,2,0),\"\")","v":""},{"$f":"IFERROR(VLOOKUP(ROWS($AA$2:AA2917),K2917:$M$6000,3,0),\"\")","v":""}]
[{"$nulls":10},{"$f":"IF(ISNUMBER(SEARCH($A$3,L2918)),MAX($K$1:K2917)+1,0)","v":0},"Ramsarup Industries Ltd","RAMSARUP.BO",{"$nulls":12},{"$f":"IFERROR(VLOOKUP(ROWS($Z$2:Z2918),K2918:$L$6000,2,0),\"\")","v":""},{"$f":"IFERROR(VLOOKUP(ROWS($AA$2:AA2918),K2918:$M$6000,3,0),\"\")","v":""}]
[{"$nulls":10},{"$f":"IF(ISNUMBER(SEARCH($A$3,L2919)),MAX($K$1:K2918)+1,0)","v":0},"Ramsarup Industries Ltd","RAMSARUP.NS",{"$nulls":12},{"$f":"IFERROR(VLOOKUP(ROWS($Z$2:Z2919),K2919:$L$6000,2,0),\"\")","v":""},{"$f":"IFERROR(VLOOKUP(ROWS($AA$2:AA2919),K2919:$M$6000,3,0),\"\")","v":""}]
[{"$nulls":10},{"$f":"IF(ISNUMBER(SEARCH($A$3,L2920)),MAX($K$1:K2919)+1,0)","v":0},"Ramsons Projects Ltd","RAMSONS.BO",{"$nulls":12},{"$f":"IFERROR(VLOOKUP(ROWS($Z$2:Z2920),K2920:$L$6000,2,0),\"\")","v":""},{"$f":"IFERROR(VLOOKUP(ROWS($AA$2:AA2920),K2920:$M$6000,3,0),\"\")","v":""}]
[{"$nulls":10},{"$f":"IF(ISNUMBER(SEARCH($A$3,L2921)),MAX($K$1:K2920)+1,0)","v":0},"Rana Sugars Ltd","RANASUG.BO",{"$nulls":12},{"$f":"IFERROR(VLOOKUP(ROWS($Z$2:Z2921),K2921:$L$6000,2,0),\"\")","v":""},{"$f":"IFERROR(VLOOKUP(ROWS($AA$2:AA2921),K2921:$M$6000,3,0),\"\")","v":""}]
[{"$nulls":10},{"$f":"IF(ISNUMBER(SEARCH($A$3,L2922)),MAX($K$1:K2921)+1,0)","v":0},"Rana Sugars Ltd","RANASUG.NS",{"$nulls":12},{"$f":"IFERROR(VLOOKUP(ROWS($Z$2:Z2922),K2922:$L$6000,2,0),\"\")","v":""},{"$f":"IFERROR(VLOOKUP(ROWS($AA$2:AA2922),K2922:$M$6000,3,0),\"\")","v":""}]
[{"$nulls":10},{"$f":"IF(ISNUMBER(SEARCH($A$3,L2923)),MAX($K$1:K2922)+1,0)","v":0},"Ranbaxy Laboratories Ltd","RANBAXY.BO",{"$nulls":12},{"$f":"IFERROR(VLOOKUP(ROWS($Z$2:Z2923),K2923:$L$6000,2,0),\"\")","v":""},{"$f":"IFERROR(VLOOKUP(ROWS($AA$2:AA2923),K2923:$M$6000,3,0),\"\")","v":""}]
[{"$nulls":10},{"$f":"IF(ISNUMBER(SEARCH($A$3,L2924)),MAX($K$1:K2923)+1,0)","v":0},"Ranbaxy Laboratories Ltd","RANBAXY.NS",{"$nulls":12},{"$f":"IFERROR(VLOOKUP(ROWS($Z$2:Z2924),K2924:$L$6000,2,0),\"\")","v":""},{"$f":"IFERROR(VLOOKUP(ROWS($AA$2:AA2924),K2924:$M$6000,3,0),\"\")","v":""}]
[{"$nulls":10},{"$f":"IF(ISNUMBER(SEARCH($A$3,L2925)),MAX($K$1:K2924)+1,0)","v":0},"Rane (Madras) Ltd","RANEMADRAS.BO",{"$nulls":12},{"$f":"IFERROR(VLOOKUP(ROWS($Z$2:Z2925),K2925:$L$6000,2,0),\"\")","v":""},{"$f":"IFERROR(VLOOKUP(ROWS($AA$2:AA2925),K2925:$M$6000,3,0),\"\")","v":""}]
[{"$nulls":10},{"$f":"IF(ISNUMBER(SEARCH($A$3,L2926)),MAX($K$1:K2925)+1,0)","v":0},"Rane (Madras) Ltd","RML.NS",{"$nulls":12},{"$f":"IFERROR(VLOOKUP(ROWS($Z$2:Z2926),K2926:$L$6000,2,0),\"\")","v":""},{"$f":"IFERROR(VLOOKUP(ROWS($AA$2:AA2926),K2926:$M$6000,3,0),\"\")","v":""}]
[{"$nulls":10},{"$f":"IF(ISNUMBER(SEARCH($A$3,L2927)),MAX($K$1:K2926)+1,0)","v":0},"Rane Brake Linings Ltd","RANEBRK.BO",{"$nulls":12},{"$f":"IFERROR(VLOOKUP(ROWS($Z$2:Z2927),K2927:$L$6000,2,0),\"\")","v":""},{"$f":"IFERROR(VLOOKUP(ROWS($AA$2:AA2927),K2927:$M$6000,3,0),\"\")","v":""}]
[{"$nulls":10},{"$f":"IF(ISNUMBER(SEARCH($A$3,L2928)),MAX($K$1:K2927)+1,0)","v":0},"Rane Brake Linings Ltd","RBL.NS",{"$nulls":12},{"$f":"IFERROR(VLOOKUP(ROWS($Z$2:Z2928),K2928:$L$6000,2,0),\"\")","v":""},{"$f":"IFERROR(VLOOKUP(ROWS($AA$2:AA2928),K2928:$M$6000,3,0),\"\")","v":""}]
[{"$nulls":10},{"$f":"IF(ISNUMBER(SEARCH($A$3,L2929)),MAX($K$1:K2928)+1,0)","v":0},"Rane Engine Valve Ltd","RANENG.BO",{"$nulls":12},{"$f":"IFERROR(VLOOKUP(ROWS($Z$2:Z2929),K2929:$L$6000,2,0),\"\")","v":""},{"$f":"IFERROR(VLOOKUP(ROWS($AA$2:AA2929),K2929:$M$6000,3,0),\"\")","v":""}]
[{"$nulls":10},{"$f":"IF(ISNUMBER(SEARCH($A$3,L2930)),MAX($K$1:K2929)+1,0)","v":0},"Rane Engine Valve Ltd","RANEENGIN.NS",{"$nulls":12},{"$f":"IFERROR(VLOOKUP(ROWS($Z$2:Z2930),K2930:$L$6000,2,0),\"\")","v":""},{"$f":"IFERROR(VLOOKUP(ROWS($AA$2:AA2930),K2930:$M$6000,3,0),\"\")","v":""}]
[{"$nulls":10},{"$f":"IF(ISNUMBER(SEARCH($A$3,L2931)),MAX($K$1:K2930)+1,0)","v":0},"Rane Holdings Ltd","RANEHOLD.BO",{"$nulls":12},{"$f":"IFERROR(VLOOKUP(ROWS($Z$2:Z2931),K2931:$L$6000,2,0),\"\")","v":""},{"$f":"IFERROR(VLOOKUP(ROWS($AA$2:AA2931),K2931:$M$6000,3,0),\"\")","v":""}]
[{"$nulls":10},{"$f":"IF(ISNUMBER(SEARCH($A$3,L2932)),MAX($K$1:K2931)+1,0)","v":0},"Rane Holdings Ltd","RANEHOLDI.NS",{"$nulls":12},{"$f":"IFERROR(VLOOKUP(ROWS($Z$2:Z2932),K2932:$L$6000,2,0),\"\")","v":""},{"$f":"IFERROR(VLOOKUP(ROWS($AA$2:AA2932),K2932:$M$6000,3,0),\"\")","v":""}]
[{"$nulls":10},{"$f":"IF(ISNUMBER(SEARCH($A$3,L2933)),MAX($K$1:K2932)+1,0)","v":0},"Ranjeev Alloys Ltd","RANJEEV.BO",{"$nulls":12},{"$f":"IFERROR(VLOOKUP(ROWS($Z$2:Z2933),K2933:$L$6000,2,0),\"\")","v":""},{"$f":"IFERROR(VLOOKUP(ROWS($AA$2:AA2933),K2933:$M$6000,3,0),\"\")","v":""}]
[{"$nulls":10},{"$f":"IF(ISNUMBER(SEARCH($A$3,L2934)),MAX($K$1:K2933)+1,0)","v":0},"Ranklin Solutions Ltd","RANKLIN.BO",{"$nulls":12},{"$f":"IFERROR(VLOOKUP(ROWS($Z$2:Z2934),K2934:$L$6000,2,0),\"\")","v":""},{"$f":"IFERROR(VLOOKUP(ROWS($AA$2:AA2934),K2934:$M$6000,3,0),\"\")","v":""}]
[{"$nulls":10},{"$f":"IF(ISNUMBER(SEARCH($A$3,L2935)),MAX($K$1:K2934)+1,0)","v":0},"Rap Media Ltd","RAP.BO",{"$nulls":12},{"$f":"IFERROR(VLOOKUP(ROWS($Z$2:Z2935),K2935:$L$6000,2,0),\"\")","v":""},{"$f":"IFERROR(VLOOKUP(ROWS($AA$2:AA2935),K2935:$M$6000,3,0),\"\")","v":""}]
[{"$nulls":10},{"$f":"IF(ISNUMBER(SEARCH($A$3,L2936)),MAX($K$1:K2935)+1,0)","v":0},"Rapicut Carbides Ltd","RAPICUT.BO",{"$nulls":12},{"$f":"IFERROR(VLOOKUP(ROWS($Z$2:Z2936),K2936:$L$6000,2,0),\"\")","v":""},{"$f":"IFERROR(VLOOKUP(ROWS($AA$2:AA2936),K2936:$M$6000,3,0),\"\")","v":""}]
[{"$nulls":10},{"$f":"IF(ISNUMBER(SEARCH($A$3,L2937)),MAX($K$1:K2936)+1,0)","v":0},"Ras Resorts & Apart Hotels Ltd","RASRESOR.BO",{"$nulls":12},{"$f":"IFERROR(VLOOKUP(ROWS($Z$2:Z2937),K2937:$L$6000,2,0),\"\")","v":""},{"$f":"IFERROR(VLOOKUP(ROWS($AA$2:AA2937),K2937:$M$6000,3,0),\"\")","v":""}]
[{"$nulls":10},{"$f":"IF(ISNUMBER(SEARCH($A$3,L2938)),MAX($K$1:K2937)+1,0)","v":0},"Rasandik Engineering Indu","RASANDIK.BO",{"$nulls":12},{"$f":"IFERROR(VLOOKUP(ROWS($Z$2:Z2938),K2938:$L$6000,2,0),\"\")","v":""},{"$f":"IFERROR(VLOOKUP(ROWS($AA$2:AA2938),K2938:$M$6000,3,0),\"\")","v":""}]
[{"$nulls":10},{"$f":"IF(ISNUMBER(SEARCH($A$3,L2939)),MAX($K$1:K2938)+1,0)","v":0},"Rashel Agrotech Ltd","RASHELAG.BO",{"$nulls":12},{"$f":"IFERROR(VLOOKUP(ROWS($Z$2:Z2939),K2939:$L$6000,2,0),\"\")","v":""},{"$f":"IFERROR(VLOOKUP(ROWS($AA$2:AA2939),K2939:$M$6000,3,0),\"\")","v":""}]
[{"$nulls":10},{"$f":"IF(ISNUMBER(SEARCH($A$3,L2940)),MAX($K$1:K2939)+1,0)","v":0},"Rashtriya Chemicals and F","RCF.BO",{"$nulls":12},{"$f":"IFERROR(VLOOKUP(ROWS($Z$2:Z2940),K2940:$L$6000,2,0),\"\")","v":""},{"$f":"IFERROR(VLOOKUP(ROWS($AA$2:AA2940),K2940:$M$6000,3,0),\"\")","v":""}]
[{"$nulls":10},{"$f":"IF(ISNUMBER(SEARCH($A$3,L2941)),MAX($K$1:K2940)+1,0)","v":0},"Rashtriya Chemicals and F","RCF.NS",{"$nulls":12},{"$f":"IFERROR(VLOOKUP(ROWS($Z$2:Z2941),K2941:$L$6000,2,0),\"\")","v":""},{"$f":"IFERROR(VLOOKUP(ROWS($AA$2:AA2941),K2941:$M$6000,3,0),\"\")","v":""}]
[{"$nulls":10},{"$f":"IF(ISNUMBER(SEARCH($A$3,L2942)),MAX($K$1:K2941)+1,0)","v":0},"Rasi Electrodes Ltd","RASIELEC.BO",{"$nulls":12},{"$f":"IFERROR(VLOOKUP(ROWS($Z$2:Z2942),K2942:$L$6000,2,0),\"\")","v":""},{"$f":"IFERROR(VLOOKUP(ROWS($AA$2:AA2942),K2942:$M$6000,3,0),\"\")","v":""}]
[{"$nulls":10},{"$f":"IF(ISNUMBER(SEARCH($A$3,L2943)),MAX($K$1:K2942)+1,0)","v":0},"Rasoi Ltd","RASOI.BO",{"$nulls":12},{"$f":"IFERROR(VLOOKUP(ROWS($Z$2:Z2943),K2943:$L$6000,2,0),\"\")","v":""},{"$f":"IFERROR(VLOOKUP(ROWS($AA$2:AA2943),K2943:$M$6000,3,0),\"\")","v":""}]
[{"$nulls":10},{"$f":"IF(ISNUMBER(SEARCH($A$3,L2944)),MAX($K$1:K2943)+1,0)","v":0},"Rathi Bars Ltd","RATHIBAR.BO",{"$nulls":12},{"$f":"IFERROR(VLOOKUP(ROWS($Z$2:Z2944),K2944:$L$6000,2,0),\"\")","v":""},{"$f":"IFERROR(VLOOKUP(ROWS($AA$2:AA2944),K2944:$M$6000,3,0),\"\")","v":""}]
[{"$nulls":10},{"$f":"IF(ISNUMBER(SEARCH($A$3,L2945)),MAX($K$1:K2944)+1,0)","v":0},"Rathi Graphic Technologies Ltd","RATHIGRA.BO",{"$nulls":12},{"$f":"IFERROR(VLOOKUP(ROWS($Z$2:Z2945),K2945:$L$6000,2,0),\"\")","v":""},{"$f":"IFERROR(VLOOKUP(ROWS($AA$2:AA2945),K2945:$M$6000,3,0),\"\")","v":""}]
[{"$nulls":10},{"$f":"IF(ISNUMBER(SEARCH($A$3,L2946)),MAX($K$1:K2945)+1,0)","v":0},"Rathi Steel & Power Ltd","RATHIST.BO",{"$nulls":12},{"$f":"IFERROR(VLOOKUP(ROWS($Z$2:Z2946),K2946:$L$6000,2,0),\"\")","v":""},{"$f":"IFERROR(VLOOKUP(ROWS($AA$2:AA2946),K2946:$M$6000,3,0),\"\")","v":""}]
[{"$nulls":10},{"$f":"IF(ISNUMBER(SEARCH($A$3,L2947)),MAX($K$1:K2946)+1,0)","v":0},"Ratnamani Metals & Tubes Ltd","RATNAMETQ.BO",{"$nulls":12},{"$f":"IFERROR(VLOOKUP(ROWS($Z$2:Z2947),K2947:$L$6000,2,0),\"\")","v":""},{"$f":"IFERROR(VLOOKUP(ROWS($AA$2:AA2947),K2947:$M$6000,3,0),\"\")","v":""}]
[{"$nulls":10},{"$f":"IF(ISNUMBER(SEARCH($A$3,L2948)),MAX($K$1:K2947)+1,0)","v":0},"Ratnamani Metals & Tubes Ltd","RATNAMANI.NS",{"$nulls":12},{"$f":"IFERROR(VLOOKUP(ROWS($Z$2:Z2948),K2948:$L$6000,2,0),\"\")","v":""},{"$f":"IFERROR(VLOOKUP(ROWS($AA$2:AA2948),K2948:$M$6000,3,0),\"\")","v":""}]
[{"$nulls":10},{"$f":"IF(ISNUMBER(SEARCH($A$3,L2949)),MAX($K$1:K2948)+1,0)","v":0},"Raunaq Automotive Compone","RAUNAQAU.BO",{"$nulls":12},{"$f":"IFERROR(VLOOKUP(ROWS($Z$2:Z2949),K2949:$L$6000,2,0),\"\")","v":""},{"$f":"IFERROR(VLOOKUP(ROWS($AA$2:AA2949),K2949:$M$6000,3,0),\"\")","v":""}]
[{"$nulls":10},{"$f":"IF(ISNUMBER(SEARCH($A$3,L2950)),MAX($K$1:K2949)+1,0)","v":0},"Ravalgaon Sugar Farm Ltd","RAVALSUG.BO",{"$nulls":12},{"$f":"IFERROR(VLOOKUP(ROWS($Z$2:Z2950),K2950:$L$6000,2,0),\"\")","v":""},{"$f":"IFERROR(VLOOKUP(ROWS($AA$2:AA2950),K2950:$M$6000,3,0),\"\")","v":""}]
[{"$nulls":10},{"$f":"IF(ISNUMBER(SEARCH($A$3,L2951)),MAX($K$1:K2950)+1,0)","v":0},"Raymed Laboratories Ltd","RAYLA.BO",{"$nulls":12},{"$f":"IFERROR(VLOOKUP(ROWS($Z$2:Z2951),K2951:$L$6000,2,0),\"\")","v":""},{"$f":"IFERROR(VLOOKUP(ROWS($AA$2:AA2951),K2951:$M$6000,3,0),\"\")","v":""}]
[{"$nulls":10},{"$f":"IF(ISNUMBER(SEARCH($A$3,L2952)),MAX($K$1:K2951)+1,0)","v":0},"Raymond Ltd","RAYMOND.BO",{"$nulls":12},{"$f":"IFERROR(VLOOKUP(ROWS($Z$2:Z2952),K2952:$L$6000,2,0),\"\")","v":""},{"$f":"IFERROR(VLOOKUP(ROWS($AA$2:AA2952),K2952:$M$6000,3,0),\"\")","v":""}]
[{"$nulls":10},{"$f":"IF(ISNUMBER(SEARCH($A$3,L2953)),MAX($K$1:K2952)+1,0)","v":0},"Raymond Ltd","RAYMOND.NS",{"$nulls":12},{"$f":"IFERROR(VLOOKUP(ROWS($Z$2:Z2953),K2953:$L$6000,2,0),\"\")","v":""},{"$f":"IFERROR(VLOOKUP(ROWS($AA$2:AA2953),K2953:$M$6000,3,0),\"\")","v":""}]
[{"$nulls":10},{"$f":"IF(ISNUMBER(SEARCH($A$3,L2954)),MAX($K$1:K2953)+1,0)","v":0},"RCL Foods Ltd","PASSARI.BO",{"$nulls":12},{"$f":"IFERROR(VLOOKUP(ROWS($Z$2:Z2954),K2954:$L$6000,2,0),\"\")","v":""},{"$f":"IFERROR(VLOOKUP(ROWS($AA$2:AA2954),K2954:$M$6000,3,0),\"\")","v":""}]
[{"$nulls":10},{"$f":"IF(ISNUMBER(SEARCH($A$3,L2955)),MAX($K$1:K2954)+1,0)","v":0},"Real Strips Ltd","REALSTR.BO",{"$nulls":12},{"$f":"IFERROR(VLOOKUP(ROWS($Z$2:Z2955),K2955:$L$6000,2,0),\"\")","v":""},{"$f":"IFERROR(VLOOKUP(ROWS($AA$2:AA2955),K2955:$M$6000,3,0),\"\")","v":""}]
[{"$nulls":10},{"$f":"IF(ISNUMBER(SEARCH($A$3,L2956)),MAX($K$1:K2955)+1,0)","v":0},"Redex Protech Ltd","REDEXPR.BO",{"$nulls":12},{"$f":"IFERROR(VLOOKUP(ROWS($Z$2:Z2956),K2956:$L$6000,2,0),\"\")","v":""},{"$f":"IFERROR(VLOOKUP(ROWS($AA$2:AA2956),K2956:$M$6000,3,0),\"\")","v":""}]
[{"$nulls":10},{"$f":"IF(ISNUMBER(SEARCH($A$3,L2957)),MAX($K$1:K2956)+1,0)","v":0},"Redington (India) Ltd","REDINGTON.BO",{"$nulls":12},{"$f":"IFERROR(VLOOKUP(ROWS($Z$2:Z2957),K2957:$L$6000,2,0),\"\")","v":""},{"$f":"IFERROR(VLOOKUP(ROWS($AA$2:AA2957),K2957:$M$6000,3,0),\"\")","v":""}]
[{"$nulls":10},{"$f":"IF(ISNUMBER(SEARCH($A$3,L2958)),MAX($K$1:K2957)+1,0)","v":0},"Redington (India) Ltd","REDINGTON.NS",{"$nulls":12},{"$f":"IFERROR(VLOOKUP(ROWS($Z$2:Z2958),K2958:$L$6000,2,0),\"\")","v":""},{"$f":"IFERROR(VLOOKUP(ROWS($AA$2:AA2958),K2958:$M$6000,3,0),\"\")","v":""}]
[{"$nulls":10},{"$f":"IF(ISNUMBER(SEARCH($A$3,L2959)),MAX($K$1:K2958)+1,0)","v":0},"Refex Refrigerants Ltd","REFEX.BO",{"$nulls":12},{"$f":"IFERROR(VLOOKUP(ROWS($Z$2:Z2959),K2959:$L$6000,2,0),\"\")","v":""},{"$f":"IFERROR(VLOOKUP(ROWS($AA$2:AA2959),K2959:$M$6000,3,0),\"\")","v":""}]
[{"$nulls":10},{"$f":"IF(ISNUMBER(SEARCH($A$3,L2960)),MAX($K$1:K2959)+1,0)","v":0},"Refnol Resins & Chemicals Ltd","REFNOL.BO",{"$nulls":12},{"$f":"IFERROR(VLOOKUP(ROWS($Z$2:Z2960),K2960:$L$6000,2,0),\"\")","v":""},{"$f":"IFERROR(VLOOKUP(ROWS($AA$2:AA2960),K2960:$M$6000,3,0),\"\")","v":""}]
[{"$nulls":10},{"$f":"IF(ISNUMBER(SEARCH($A$3,L2961)),MAX($K$1:K2960)+1,0)","v":0},"Regal Entertainment & Con","REGAL.BO",{"$nulls":12},{"$f":"IFERROR(VLOOKUP(ROWS($Z$2:Z2961),K2961:$L$6000,2,0),\"\")","v":""},{"$f":"IFERROR(VLOOKUP(ROWS($AA$2:AA2961),K2961:$M$6000,3,0),\"\")","v":""}]
[{"$nulls":10},{"$f":"IF(ISNUMBER(SEARCH($A$3,L2962)),MAX($K$1:K2961)+1,0)","v":0},"Regaliaa Realty Ltd","REGALIAA.BO",{"$nulls":12},{"$f":"IFERROR(VLOOKUP(ROWS($Z$2:Z2962),K2962:$L$6000,2,0),\"\")","v":""},{"$f":"IFERROR(VLOOKUP(ROWS($AA$2:AA2962),K2962:$M$6000,3,0),\"\")","v":""}]
[{"$nulls":10},{"$f":"IF(ISNUMBER(SEARCH($A$3,L2963)),MAX($K$1:K2962)+1,0)","v":0},"Regency Ceramics Ltd","REGENCY.BO",{"$nulls":12},{"$f":"IFERROR(VLOOKUP(ROWS($Z$2:Z2963),K2963:$L$6000,2,0),\"\")","v":""},{"$f":"IFERROR(VLOOKUP(ROWS($AA$2:AA2963),K2963:$M$6000,3,0),\"\")","v":""}]
[{"$nulls":10},{"$f":"IF(ISNUMBER(SEARCH($A$3,L2964)),MAX($K$1:K2963)+1,0)","v":0},"Regency Ceramics Ltd","REGENCERA.NS",{"$nulls":12},{"$f":"IFERROR(VLOOKUP(ROWS($Z$2:Z2964),K2964:$L$6000,2,0),\"\")","v":""},{"$f":"IFERROR(VLOOKUP(ROWS($AA$2:AA2964),K2964:$M$6000,3,0),\"\")","v":""}]
[{"$nulls":10},{"$f":"IF(ISNUMBER(SEARCH($A$3,L2965)),MAX($K$1:K2964)+1,0)","v":0},"Regency Hospital Ltd","RGNYMIS.BO",{"$nulls":12},{"$f":"IFERROR(VLOOKUP(ROWS($Z$2:Z2965),K2965:$L$6000,2,0),\"\")","v":""},{"$f":"IFERROR(VLOOKUP(ROWS($AA$2:AA2965),K2965:$M$6000,3,0),\"\")","v":""}]
[{"$nulls":10},{"$f":"IF(ISNUMBER(SEARCH($A$3,L2966)),MAX($K$1:K2965)+1,0)","v":0},"Regency Trust Ltd","REGTRUS.BO",{"$nulls":12},{"$f":"IFERROR(VLOOKUP(ROWS($Z$2:Z2966),K2966:$L$6000,2,0),\"\")","v":""},{"$f":"IFERROR(VLOOKUP(ROWS($AA$2:AA2966),K2966:$M$6000,3,0),\"\")","v":""}]
[{"$nulls":10},{"$f":"IF(ISNUMBER(SEARCH($A$3,L2967)),MAX($K$1:K2966)+1,0)","v":0},"REI Agro Ltd","REIAGRO.BO",{"$nulls":12},{"$f":"IFERROR(VLOOKUP(ROWS($Z$2:Z2967),K2967:$L$6000,2,0),\"\")","v":""},{"$f":"IFERROR(VLOOKUP(ROWS($AA$2:AA2967),K2967:$M$6000,3,0),\"\")","v":""}]
[{"$nulls":10},{"$f":"IF(ISNUMBER(SEARCH($A$3,L2968)),MAX($K$1:K2967)+1,0)","v":0},"REI Agro Ltd","REIAGROLT.NS",{"$nulls":12},{"$f":"IFERROR(VLOOKUP(ROWS($Z$2:Z2968),K2968:$L$6000,2,0),\"\")","v":""},{"$f":"IFERROR(VLOOKUP(ROWS($AA$2:AA2968),K2968:$M$6000,3,0),\"\")","v":""}]
[{"$nulls":10},{"$f":"IF(ISNUMBER(SEARCH($A$3,L2969)),MAX($K$1:K2968)+1,0)","v":0},"REI Six Ten Retail Ltd","REISIXTEN.BO",{"$nulls":12},{"$f":"IFERROR(VLOOKUP(ROWS($Z$2:Z2969),K2969:$L$6000,2,0),\"\")","v":""},{"$f":"IFERROR(VLOOKUP(ROWS($AA$2:AA2969),K2969:$M$6000,3,0),\"\")","v":""}]
[{"$nulls":10},{"$f":"IF(ISNUMBER(SEARCH($A$3,L2970)),MAX($K$1:K2969)+1,0)","v":0},"REI Six Ten Retail Ltd","REISIXTEN.NS",{"$nulls":12},{"$f":"IFERROR(VLOOKUP(ROWS($Z$2:Z2970),K2970:$L$6000,2,0),\"\")","v":""},{"$f":"IFERROR(VLOOKUP(ROWS($AA$2:AA2970),K2970:$M$6000,3,0),\"\")","v":""}]
[{"$nulls":10},{"$f":"IF(ISNUMBER(SEARCH($A$3,L2971)),MAX($K$1:K2970)+1,0)","v":0},"REIL Electricals India Ltd","REILELEC.BO",{"$nulls":12},{"$f":"IFERROR(VLOOKUP(ROWS($Z$2:Z2971),K2971:$L$6000,2,0),\"\")","v":""},{"$f":"IFERROR(VLOOKUP(ROWS($AA$2:AA2971),K2971:$M$6000,3,0),\"\")","v":""}]
[{"$nulls":10},{"$f":"IF(ISNUMBER(SEARCH($A$3,L2972)),MAX($K$1:K2971)+1,0)","v":0},"Relaxo Footwears Ltd","RELAXO.BO",{"$nulls":12},{"$f":"IFERROR(VLOOKUP(ROWS($Z$2:Z2972),K2972:$L$6000,2,0),\"\")","v":""},{"$f":"IFERROR(VLOOKUP(ROWS($AA$2:AA2972),K2972:$M$6000,3,0),\"\")","v":""}]
[{"$nulls":10},{"$f":"IF(ISNUMBER(SEARCH($A$3,L2973)),MAX($K$1:K2972)+1,0)","v":0},"Reliable Ventures India Ltd","RELIABVEN.BO",{"$nulls":12},{"$f":"IFERROR(VLOOKUP(ROWS($Z$2:Z2973),K2973:$L$6000,2,0),\"\")","v":""},{"$f":"IFERROR(VLOOKUP(ROWS($AA$2:AA2973),K2973:$M$6000,3,0),\"\")","v":""}]
[{"$nulls":10},{"$f":"IF(ISNUMBER(SEARCH($A$3,L2974)),MAX($K$1:K2973)+1,0)","v":0},"Reliance Broadcast Network Ltd","RBN.NS",{"$nulls":12},{"$f":"IFERROR(VLOOKUP(ROWS($Z$2:Z2974),K2974:$L$6000,2,0),\"\")","v":""},{"$f":"IFERROR(VLOOKUP(ROWS($AA$2:AA2974),K2974:$M$6000,3,0),\"\")","v":""}]
[{"$nulls":10},{"$f":"IF(ISNUMBER(SEARCH($A$3,L2975)),MAX($K$1:K2974)+1,0)","v":0},"Reliance Capital Ltd","RELCAPITAL.BO",{"$nulls":12},{"$f":"IFERROR(VLOOKUP(ROWS($Z$2:Z2975),K2975:$L$6000,2,0),\"\")","v":""},{"$f":"IFERROR(VLOOKUP(ROWS($AA$2:AA2975),K2975:$M$6000,3,0),\"\")","v":""}]
[{"$nulls":10},{"$f":"IF(ISNUMBER(SEARCH($A$3,L2976)),MAX($K$1:K2975)+1,0)","v":0},"Reliance Capital Ltd","RELCAPITA.NS",{"$nulls":12},{"$f":"IFERROR(VLOOKUP(ROWS($Z$2:Z2976),K2976:$L$6000,2,0),\"\")","v":""},{"$f":"IFERROR(VLOOKUP(ROWS($AA$2:AA2976),K2976:$M$6000,3,0),\"\")","v":""}]
[{"$nulls":10},{"$f":"IF(ISNUMBER(SEARCH($A$3,L2977)),MAX($K$1:K2976)+1,0)","v":0},"Reliance Chemotex Ind","RELCHEMQ.BO",{"$nulls":12},{"$f":"IFERROR(VLOOKUP(ROWS($Z$2:Z2977),K2977:$L$6000,2,0),\"\")","v":""},{"$f":"IFERROR(VLOOKUP(ROWS($AA$2:AA2977),K2977:$M$6000,3,0),\"\")","v":""}]
[{"$nulls":10},{"$f":"IF(ISNUMBER(SEARCH($A$3,L2978)),MAX($K$1:K2977)+1,0)","v":0},"Reliance Communications Ltd","RCOM.BO",{"$nulls":12},{"$f":"IFERROR(VLOOKUP(ROWS($Z$2:Z2978),K2978:$L$6000,2,0),\"\")","v":""},{"$f":"IFERROR(VLOOKUP(ROWS($AA$2:AA2978),K2978:$M$6000,3,0),\"\")","v":""}]
[{"$nulls":10},{"$f":"IF(ISNUMBER(SEARCH($A$3,L2979)),MAX($K$1:K2978)+1,0)","v":0},"Reliance Communications Ltd","RCOM.NS",{"$nulls":12},{"$f":"IFERROR(VLOOKUP(ROWS($Z$2:Z2979),K2979:$L$6000,2,0),\"\")","v":""},{"$f":"IFERROR(VLOOKUP(ROWS($AA$2:AA2979),K2979:$M$6000,3,0),\"\")","v":""}]
[{"$nulls":10},{"$f":"IF(ISNUMBER(SEARCH($A$3,L2980)),MAX($K$1:K2979)+1,0)","v":0},"Reliance Industries Ltd","RIL.BO",{"$nulls":12},{"$f":"IFERROR(VLOOKUP(ROWS($Z$2:Z2980),K2980:$L$6000,2,0),\"\")","v":""},{"$f":"IFERROR(VLOOKUP(ROWS($AA$2:AA2980),K2980:$M$6000,3,0),\"\")","v":""}]
[{"$nulls":10},{"$f":"IF(ISNUMBER(SEARCH($A$3,L2981)),MAX($K$1:K2980)+1,0)","v":0},"Reliance Industries Ltd","RELIANCE.NS",{"$nulls":12},{"$f":"IFERROR(VLOOKUP(ROWS($Z$2:Z2981),K2981:$L$6000,2,0),\"\")","v":""},{"$f":"IFERROR(VLOOKUP(ROWS($AA$2:AA2981),K2981:$M$6000,3,0),\"\")","v":""}]
[{"$nulls":10},{"$f":"IF(ISNUMBER(SEARCH($A$3,L2982)),MAX($K$1:K2981)+1,0)","v":0},"Reliance Infrastructure Ltd","RELINFRA.BO",{"$nulls":12},{"$f":"IFERROR(VLOOKUP(ROWS($Z$2:Z2982),K2982:$L$6000,2,0),\"\")","v":""},{"$f":"IFERROR(VLOOKUP(ROWS($AA$2:AA2982),K2982:$M$6000,3,0),\"\")","v":""}]
[{"$nulls":10},{"$f":"IF(ISNUMBER(SEARCH($A$3,L2983)),MAX($K$1:K2982)+1,0)","v":0},"Reliance Infrastructure Ltd","RELINFRA.NS",{"$nulls":12},{"$f":"IFERROR(VLOOKUP(ROWS($Z$2:Z2983),K2983:$L$6000,2,0),\"\")","v":""},{"$f":"IFERROR(VLOOKUP(ROWS($AA$2:AA2983),K2983:$M$6000,3,0),\"\")","v":""}]
[{"$nulls":10},{"$f":"IF(ISNUMBER(SEARCH($A$3,L2984)),MAX($K$1:K2983)+1,0)","v":0},"Reliance Mediaworks Ltd","RELMEDIA.NS",{"$nulls":12},{"$f":"IFERROR(VLOOKUP(ROWS($Z$2:Z2984),K2984:$L$6000,2,0),\"\")","v":""},{"$f":"IFERROR(VLOOKUP(ROWS($AA$2:AA2984),K2984:$M$6000,3,0),\"\")","v":""}]
[{"$nulls":10},{"$f":"IF(ISNUMBER(SEARCH($A$3,L2985)),MAX($K$1:K2984)+1,0)","v":0},"Reliance Power Ltd","RPOWER.BO",{"$nulls":12},{"$f":"IFERROR(VLOOKUP(ROWS($Z$2:Z2985),K2985:$L$6000,2,0),\"\")","v":""},{"$f":"IFERROR(VLOOKUP(ROWS($AA$2:AA2985),K2985:$M$6000,3,0),\"\")","v":""}]
[{"$nulls":10},{"$f":"IF(ISNUMBER(SEARCH($A$3,L2986)),MAX($K$1:K2985)+1,0)","v":0},"Reliance Power Ltd","RPOWER.NS",{"$nulls":12},{"$f":"IFERROR(VLOOKUP(ROWS($Z$2:Z2986),K2986:$L$6000,2,0),\"\")","v":""},{"$f":"IFERROR(VLOOKUP(ROWS($AA$2:AA2986),K2986:$M$6000,3,0),\"\")","v":""}]
[{"$nulls":10},{"$f":"IF(ISNUMBER(SEARCH($A$3,L2987)),MAX($K$1:K2986)+1,0)","v":0},"Relic Technologies Ltd","RELICTEC.BO",{"$nulls":12},{"$f":"IFERROR(VLOOKUP(ROWS($Z$2:Z2987),K2987:$L$6000,2,0),\"\")","v":""},{"$f":"IFERROR(VLOOKUP(ROWS($AA$2:AA2987),K2987:$M$6000,3,0),\"\")","v":""}]
[{"$nulls":10},{"$f":"IF(ISNUMBER(SEARCH($A$3,L2988)),MAX($K$1:K2987)+1,0)","v":0},"Religare Enterprises Ltd","RELIGARE.BO",{"$nulls":12},{"$f":"IFERROR(VLOOKUP(ROWS($Z$2:Z2988),K2988:$L$6000,2,0),\"\")","v":""},{"$f":"IFERROR(VLOOKUP(ROWS($AA$2:AA2988),K2988:$M$6000,3,0),\"\")","v":""}]
[{"$nulls":10},{"$f":"IF(ISNUMBER(SEARCH($A$3,L2989)),MAX($K$1:K2988)+1,0)","v":0},"Religare Enterprises Ltd","RELIGARE.NS",{"$nulls":12},{"$f":"IFERROR(VLOOKUP(ROWS($Z$2:Z2989),K2989:$L$6000,2,0),\"\")","v":""},{"$f":"IFERROR(VLOOKUP(ROWS($AA$2:AA2989),K2989:$M$6000,3,0),\"\")","v":""}]
[{"$nulls":10},{"$f":"IF(ISNUMBER(SEARCH($A$3,L2990)),MAX($K$1:K2989)+1,0)","v":0},"Relish Pharmaceuticals Ltd","RELISH.BO",{"$nulls":12},{"$f":"IFERROR(VLOOKUP(ROWS($Z$2:Z2990),K2990:$L$6000,2,0),\"\")","v":""},{"$f":"IFERROR(VLOOKUP(ROWS($AA$2:AA2990),K2990:$M$6000,3,0),\"\")","v":""}]
[{"$nulls":10},{"$f":"IF(ISNUMBER(SEARCH($A$3,L2991)),MAX($K$1:K2990)+1,0)","v":0},"Remi Edelstahl Tubulars Ltd","REMIEDEL.BO",{"$nulls":12},{"$f":"IFERROR(VLOOKUP(ROWS($Z$2:Z2991),K2991:$L$6000,2,0),\"\")","v":""},{"$f":"IFERROR(VLOOKUP(ROWS($AA$2:AA2991),K2991:$M$6000,3,0),\"\")","v":""}]
[{"$nulls":10},{"$f":"IF(ISNUMBER(SEARCH($A$3,L2992)),MAX($K$1:K2991)+1,0)","v":0},"Remsons Industries Ltd","REMSONQ.BO",{"$nulls":12},{"$f":"IFERROR(VLOOKUP(ROWS($Z$2:Z2992),K2992:$L$6000,2,0),\"\")","v":""},{"$f":"IFERROR(VLOOKUP(ROWS($AA$2:AA2992),K2992:$M$6000,3,0),\"\")","v":""}]
[{"$nulls":10},{"$f":"IF(ISNUMBER(SEARCH($A$3,L2993)),MAX($K$1:K2992)+1,0)","v":0},"Remsons Industries Ltd","REMSONSIN.NS",{"$nulls":12},{"$f":"IFERROR(VLOOKUP(ROWS($Z$2:Z2993),K2993:$L$6000,2,0),\"\")","v":""},{"$f":"IFERROR(VLOOKUP(ROWS($AA$2:AA2993),K2993:$M$6000,3,0),\"\")","v":""}]
[{"$nulls":10},{"$f":"IF(ISNUMBER(SEARCH($A$3,L2994)),MAX($K$1:K2993)+1,0)","v":0},"Renaissance Jewellery Ltd","RJL.BO",{"$nulls":12},{"$f":"IFERROR(VLOOKUP(ROWS($Z$2:Z2994),K2994:$L$6000,2,0),\"\")","v":""},{"$f":"IFERROR(VLOOKUP(ROWS($AA$2:AA2994),K2994:$M$6000,3,0),\"\")","v":""}]
[{"$nulls":10},{"$f":"IF(ISNUMBER(SEARCH($A$3,L2995)),MAX($K$1:K2994)+1,0)","v":0},"Renaissance Jewellery Ltd","RJL.NS",{"$nulls":12},{"$f":"IFERROR(VLOOKUP(ROWS($Z$2:Z2995),K2995:$L$6000,2,0),\"\")","v":""},{"$f":"IFERROR(VLOOKUP(ROWS($AA$2:AA2995),K2995:$M$6000,3,0),\"\")","v":""}]
[{"$nulls":10},{"$f":"IF(ISNUMBER(SEARCH($A$3,L2996)),MAX($K$1:K2995)+1,0)","v":0},"Repro India Ltd","REPRO.BO",{"$nulls":12},{"$f":"IFERROR(VLOOKUP(ROWS($Z$2:Z2996),K2996:$L$6000,2,0),\"\")","v":""},{"$f":"IFERROR(VLOOKUP(ROWS($AA$2:AA2996),K2996:$M$6000,3,0),\"\")","v":""}]
[{"$nulls":10},{"$f":"IF(ISNUMBER(SEARCH($A$3,L2997)),MAX($K$1:K2996)+1,0)","v":0},"Repro India Ltd","REPRO.NS",{"$nulls":12},{"$f":"IFERROR(VLOOKUP(ROWS($Z$2:Z2997),K2997:$L$6000,2,0),\"\")","v":""},{"$f":"IFERROR(VLOOKUP(ROWS($AA$2:AA2997),K2997:$M$6000,3,0),\"\")","v":""}]
[{"$nulls":10},{"$f":"IF(ISNUMBER(SEARCH($A$3,L2998)),MAX($K$1:K2997)+1,0)","v":0},"Resonance Specialties Ltd","RESONANCE.BO",{"$nulls":12},{"$f":"IFERROR(VLOOKUP(ROWS($Z$2:Z2998),K2998:$L$6000,2,0),\"\")","v":""},{"$f":"IFERROR(VLOOKUP(ROWS($AA$2:AA2998),K2998:$M$6000,3,0),\"\")","v":""}]
[{"$nulls":10},{"$f":"IF(ISNUMBER(SEARCH($A$3,L2999)),MAX($K$1:K2998)+1,0)","v":0},"Responsive Industries Ltd","RESPONIND.BO",{"$nulls":12},{"$f":"IFERROR(VLOOKUP(ROWS($Z$2:Z2999),K2999:$L$6000,2,0),\"\")","v":""},{"$f":"IFERROR(VLOOKUP(ROWS($AA$2:AA2999),K2999:$M$6000,3,0),\"\")","v":""}]
[{"$nulls":10},{"$f":"IF(ISNUMBER(SEARCH($A$3,L3000)),MAX($K$1:K2999)+1,0)","v":0},"Restile Ceramics Ltd","RESTILE.BO",{"$nulls":12},{"$f":"IFERROR(VLOOKUP(ROWS($Z$2:Z3000),K3000:$L$6000,2,0),\"\")","v":""},{"$f":"IFERROR(VLOOKUP(ROWS($AA$2:AA3000),K3000:$M$6000,3,0),\"\")","v":""}]
[{"$nulls":10},{"$f":"IF(ISNUMBER(SEARCH($A$3,L3001)),MAX($K$1:K3000)+1,0)","v":0},"Resurgere Mines & Mineral","RESURGERE.BO",{"$nulls":12},{"$f":"IFERROR(VLOOKUP(ROWS($Z$2:Z3001),K3001:$L$6000,2,0),\"\")","v":""},{"$f":"IFERROR(VLOOKUP(ROWS($AA$2:AA3001),K3001:$M$6000,3,0),\"\")","v":""}]
[{"$nulls":10},{"$f":"IF(ISNUMBER(SEARCH($A$3,L3002)),MAX($K$1:K3001)+1,0)","v":0},"Resurgere Mines & Mineral","RESURGERE.NS",{"$nulls":12},{"$f":"IFERROR(VLOOKUP(ROWS($Z$2:Z3002),K3002:$L$6000,2,0),\"\")","v":""},{"$f":"IFERROR(VLOOKUP(ROWS($AA$2:AA3002),K3002:$M$6000,3,0),\"\")","v":""}]
[{"$nulls":10},{"$f":"IF(ISNUMBER(SEARCH($A$3,L3003)),MAX($K$1:K3002)+1,0)","v":0},"Revathi Equipment Ltd","REVTEQP.BO",{"$nulls":12},{"$f":"IFERROR(VLOOKUP(ROWS($Z$2:Z3003),K3003:$L$6000,2,0),\"\")","v":""},{"$f":"IFERROR(VLOOKUP(ROWS($AA$2:AA3003),K3003:$M$6000,3,0),\"\")","v":""}]
[{"$nulls":10},{"$f":"IF(ISNUMBER(SEARCH($A$3,L3004)),MAX($K$1:K3003)+1,0)","v":0},"Revathi Equipment Ltd","REVATHI.NS",{"$nulls":12},{"$f":"IFERROR(VLOOKUP(ROWS($Z$2:Z3004),K3004:$L$6000,2,0),\"\")","v":""},{"$f":"IFERROR(VLOOKUP(ROWS($AA$2:AA3004),K3004:$M$6000,3,0),\"\")","v":""}]
[{"$nulls":10},{"$f":"IF(ISNUMBER(SEARCH($A$3,L3005)),MAX($K$1:K3004)+1,0)","v":0},"Rexnord Electronics & Con","REXNORD.BO",{"$nulls":12},{"$f":"IFERROR(VLOOKUP(ROWS($Z$2:Z3005),K3005:$L$6000,2,0),\"\")","v":""},{"$f":"IFERROR(VLOOKUP(ROWS($AA$2:AA3005),K3005:$M$6000,3,0),\"\")","v":""}]
[{"$nulls":10},{"$f":"IF(ISNUMBER(SEARCH($A$3,L3006)),MAX($K$1:K3005)+1,0)","v":0},"RFL International Ltd","RFLINT.BO",{"$nulls":12},{"$f":"IFERROR(VLOOKUP(ROWS($Z$2:Z3006),K3006:$L$6000,2,0),\"\")","v":""},{"$f":"IFERROR(VLOOKUP(ROWS($AA$2:AA3006),K3006:$M$6000,3,0),\"\")","v":""}]
[{"$nulls":10},{"$f":"IF(ISNUMBER(SEARCH($A$3,L3007)),MAX($K$1:K3006)+1,0)","v":0},"Riba Textiles Ltd","RIBATEX.BO",{"$nulls":12},{"$f":"IFERROR(VLOOKUP(ROWS($Z$2:Z3007),K3007:$L$6000,2,0),\"\")","v":""},{"$f":"IFERROR(VLOOKUP(ROWS($AA$2:AA3007),K3007:$M$6000,3,0),\"\")","v":""}]
[{"$nulls":10},{"$f":"IF(ISNUMBER(SEARCH($A$3,L3008)),MAX($K$1:K3007)+1,0)","v":0},"Rich Universe Network Ltd","RICHCAP.BO",{"$nulls":12},{"$f":"IFERROR(VLOOKUP(ROWS($Z$2:Z3008),K3008:$L$6000,2,0),\"\")","v":""},{"$f":"IFERROR(VLOOKUP(ROWS($AA$2:AA3008),K3008:$M$6000,3,0),\"\")","v":""}]
[{"$nulls":10},{"$f":"IF(ISNUMBER(SEARCH($A$3,L3009)),MAX($K$1:K3008)+1,0)","v":0},"Richa Industries Ltd","RICHAIND.BO",{"$nulls":12},{"$f":"IFERROR(VLOOKUP(ROWS($Z$2:Z3009),K3009:$L$6000,2,0),\"\")","v":""},{"$f":"IFERROR(VLOOKUP(ROWS($AA$2:AA3009),K3009:$M$6000,3,0),\"\")","v":""}]
[{"$nulls":10},{"$f":"IF(ISNUMBER(SEARCH($A$3,L3010)),MAX($K$1:K3009)+1,0)","v":0},"Richirich Inventures Ltd","RICAG.BO",{"$nulls":12},{"$f":"IFERROR(VLOOKUP(ROWS($Z$2:Z3010),K3010:$L$6000,2,0),\"\")","v":""},{"$f":"IFERROR(VLOOKUP(ROWS($AA$2:AA3010),K3010:$M$6000,3,0),\"\")","v":""}]
[{"$nulls":10},{"$f":"IF(ISNUMBER(SEARCH($A$3,L3011)),MAX($K$1:K3010)+1,0)","v":0},"Rico Auto Industries Ltd","RICOAUTO.BO",{"$nulls":12},{"$f":"IFERROR(VLOOKUP(ROWS($Z$2:Z3011),K3011:$L$6000,2,0),\"\")","v":""},{"$f":"IFERROR(VLOOKUP(ROWS($AA$2:AA3011),K3011:$M$6000,3,0),\"\")","v":""}]
[{"$nulls":10},{"$f":"IF(ISNUMBER(SEARCH($A$3,L3012)),MAX($K$1:K3011)+1,0)","v":0},"Rico Auto Industries Ltd","RICOAUTO.NS",{"$nulls":12},{"$f":"IFERROR(VLOOKUP(ROWS($Z$2:Z3012),K3012:$L$6000,2,0),\"\")","v":""},{"$f":"IFERROR(VLOOKUP(ROWS($AA$2:AA3012),K3012:$M$6000,3,0),\"\")","v":""}]
[{"$nulls":10},{"$f":"IF(ISNUMBER(SEARCH($A$3,L3013)),MAX($K$1:K3012)+1,0)","v":0},"Ricoh India Ltd","RICOHQ.BO",{"$nulls":12},{"$f":"IFERROR(VLOOKUP(ROWS($Z$2:Z3013),K3013:$L$6000,2,0),\"\")","v":""},{"$f":"IFERROR(VLOOKUP(ROWS($AA$2:AA3013),K3013:$M$6000,3,0),\"\")","v":""}]
[{"$nulls":10},{"$f":"IF(ISNUMBER(SEARCH($A$3,L3014)),MAX($K$1:K3013)+1,0)","v":0},"Riddhi Siddhi Gluco Biols Ltd","RIDDHI.BO",{"$nulls":12},{"$f":"IFERROR(VLOOKUP(ROWS($Z$2:Z3014),K3014:$L$6000,2,0),\"\")","v":""},{"$f":"IFERROR(VLOOKUP(ROWS($AA$2:AA3014),K3014:$M$6000,3,0),\"\")","v":""}]
[{"$nulls":10},{"$f":"IF(ISNUMBER(SEARCH($A$3,L3015)),MAX($K$1:K3014)+1,0)","v":0},"Riga Sugar Co Ltd","RIGASUG.BO",{"$nulls":12},{"$f":"IFERROR(VLOOKUP(ROWS($Z$2:Z3015),K3015:$L$6000,2,0),\"\")","v":""},{"$f":"IFERROR(VLOOKUP(ROWS($AA$2:AA3015),K3015:$M$6000,3,0),\"\")","v":""}]
[{"$nulls":10},{"$f":"IF(ISNUMBER(SEARCH($A$3,L3016)),MAX($K$1:K3015)+1,0)","v":0},"RIIL","RIIL.BO",{"$nulls":12},{"$f":"IFERROR(VLOOKUP(ROWS($Z$2:Z3016),K3016:$L$6000,2,0),\"\")","v":""},{"$f":"IFERROR(VLOOKUP(ROWS($AA$2:AA3016),K3016:$M$6000,3,0),\"\")","v":""}]
[{"$nulls":10},{"$f":"IF(ISNUMBER(SEARCH($A$3,L3017)),MAX($K$1:K3016)+1,0)","v":0},"RIIL","RIIL.NS",{"$nulls":12},{"$f":"IFERROR(VLOOKUP(ROWS($Z$2:Z3017),K3017:$L$6000,2,0),\"\")","v":""},{"$f":"IFERROR(VLOOKUP(ROWS($AA$2:AA3017),K3017:$M$6000,3,0),\"\")","v":""}]
[{"$nulls":10},{"$f":"IF(ISNUMBER(SEARCH($A$3,L3018)),MAX($K$1:K3017)+1,0)","v":0},"Risa International Ltd","GOVTRKX.BO",{"$nulls":12},{"$f":"IFERROR(VLOOKUP(ROWS($Z$2:Z3018),K3018:$L$6000,2,0),\"\")","v":""},{"$f":"IFERROR(VLOOKUP(ROWS($AA$2:AA3018),K3018:$M$6000,3,0),\"\")","v":""}]
[{"$nulls":10},{"$f":"IF(ISNUMBER(SEARCH($A$3,L3019)),MAX($K$1:K3018)+1,0)","v":0},"Rishab Financial Services Ltd","RISHABFIN.BO",{"$nulls":12},{"$f":"IFERROR(VLOOKUP(ROWS($Z$2:Z3019),K3019:$L$6000,2,0),\"\")","v":""},{"$f":"IFERROR(VLOOKUP(ROWS($AA$2:AA3019),K3019:$M$6000,3,0),\"\")","v":""}]
[{"$nulls":10},{"$f":"IF(ISNUMBER(SEARCH($A$3,L3020)),MAX($K$1:K3019)+1,0)","v":0},"Rishabh Digna Steel","RISHDIGA.BO",{"$nulls":12},{"$f":"IFERROR(VLOOKUP(ROWS($Z$2:Z3020),K3020:$L$6000,2,0),\"\")","v":""},{"$f":"IFERROR(VLOOKUP(ROWS($AA$2:AA3020),K3020:$M$6000,3,0),\"\")","v":""}]
[{"$nulls":10},{"$f":"IF(ISNUMBER(SEARCH($A$3,L3021)),MAX($K$1:K3020)+1,0)","v":0},"Rishabhdev Technocable Ltd","RDEVCAB.BO",{"$nulls":12},{"$f":"IFERROR(VLOOKUP(ROWS($Z$2:Z3021),K3021:$L$6000,2,0),\"\")","v":""},{"$f":"IFERROR(VLOOKUP(ROWS($AA$2:AA3021),K3021:$M$6000,3,0),\"\")","v":""}]
[{"$nulls":10},{"$f":"IF(ISNUMBER(SEARCH($A$3,L3022)),MAX($K$1:K3021)+1,0)","v":0},"Rishi Laser Ltd","RISHILASE.BO",{"$nulls":12},{"$f":"IFERROR(VLOOKUP(ROWS($Z$2:Z3022),K3022:$L$6000,2,0),\"\")","v":""},{"$f":"IFERROR(VLOOKUP(ROWS($AA$2:AA3022),K3022:$M$6000,3,0),\"\")","v":""}]
[{"$nulls":10},{"$f":"IF(ISNUMBER(SEARCH($A$3,L3023)),MAX($K$1:K3022)+1,0)","v":0},"Rishi Techtex Ltd","RISPACK.BO",{"$nulls":12},{"$f":"IFERROR(VLOOKUP(ROWS($Z$2:Z3023),K3023:$L$6000,2,0),\"\")","v":""},{"$f":"IFERROR(VLOOKUP(ROWS($AA$2:AA3023),K3023:$M$6000,3,0),\"\")","v":""}]
[{"$nulls":10},{"$f":"IF(ISNUMBER(SEARCH($A$3,L3024)),MAX($K$1:K3023)+1,0)","v":0},"Rishiroop Rubber Intl","RISHIRUB.BO",{"$nulls":12},{"$f":"IFERROR(VLOOKUP(ROWS($Z$2:Z3024),K3024:$L$6000,2,0),\"\")","v":""},{"$f":"IFERROR(VLOOKUP(ROWS($AA$2:AA3024),K3024:$M$6000,3,0),\"\")","v":""}]
[{"$nulls":10},{"$f":"IF(ISNUMBER(SEARCH($A$3,L3025)),MAX($K$1:K3024)+1,0)","v":0},"Ritesh International Ltd","RITESHIN.BO",{"$nulls":12},{"$f":"IFERROR(VLOOKUP(ROWS($Z$2:Z3025),K3025:$L$6000,2,0),\"\")","v":""},{"$f":"IFERROR(VLOOKUP(ROWS($AA$2:AA3025),K3025:$M$6000,3,0),\"\")","v":""}]
[{"$nulls":10},{"$f":"IF(ISNUMBER(SEARCH($A$3,L3026)),MAX($K$1:K3025)+1,0)","v":0},"Ritesh Properties","RPIL.BO",{"$nulls":12},{"$f":"IFERROR(VLOOKUP(ROWS($Z$2:Z3026),K3026:$L$6000,2,0),\"\")","v":""},{"$f":"IFERROR(VLOOKUP(ROWS($AA$2:AA3026),K3026:$M$6000,3,0),\"\")","v":""}]
[{"$nulls":10},{"$f":"IF(ISNUMBER(SEARCH($A$3,L3027)),MAX($K$1:K3026)+1,0)","v":0},"RMG Alloy Steel Ltd","REMIMET.BO",{"$nulls":12},{"$f":"IFERROR(VLOOKUP(ROWS($Z$2:Z3027),K3027:$L$6000,2,0),\"\")","v":""},{"$f":"IFERROR(VLOOKUP(ROWS($AA$2:AA3027),K3027:$M$6000,3,0),\"\")","v":""}]
[{"$nulls":10},{"$f":"IF(ISNUMBER(SEARCH($A$3,L3028)),MAX($K$1:K3027)+1,0)","v":0},"RNB Industrial Ltd","BWGILTD.BO",{"$nulls":12},{"$f":"IFERROR(VLOOKUP(ROWS($Z$2:Z3028),K3028:$L$6000,2,0),\"\")","v":""},{"$f":"IFERROR(VLOOKUP(ROWS($AA$2:AA3028),K3028:$M$6000,3,0),\"\")","v":""}]
[{"$nulls":10},{"$f":"IF(ISNUMBER(SEARCH($A$3,L3029)),MAX($K$1:K3028)+1,0)","v":0},"Rodium Realty Ltd","VISHA.BO",{"$nulls":12},{"$f":"IFERROR(VLOOKUP(ROWS($Z$2:Z3029),K3029:$L$6000,2,0),\"\")","v":""},{"$f":"IFERROR(VLOOKUP(ROWS($AA$2:AA3029),K3029:$M$6000,3,0),\"\")","v":""}]
[{"$nulls":10},{"$f":"IF(ISNUMBER(SEARCH($A$3,L3030)),MAX($K$1:K3029)+1,0)","v":0},"Rohit Ferro Tech Ltd","ROHITFERRO.BO",{"$nulls":12},{"$f":"IFERROR(VLOOKUP(ROWS($Z$2:Z3030),K3030:$L$6000,2,0),\"\")","v":""},{"$f":"IFERROR(VLOOKUP(ROWS($AA$2:AA3030),K3030:$M$6000,3,0),\"\")","v":""}]
[{"$nulls":10},{"$f":"IF(ISNUMBER(SEARCH($A$3,L3031)),MAX($K$1:K3030)+1,0)","v":0},"Rohit Ferro Tech Ltd","ROHITFERR.NS",{"$nulls":12},{"$f":"IFERROR(VLOOKUP(ROWS($Z$2:Z3031),K3031:$L$6000,2,0),\"\")","v":""},{"$f":"IFERROR(VLOOKUP(ROWS($AA$2:AA3031),K3031:$M$6000,3,0),\"\")","v":""}]
[{"$nulls":10},{"$f":"IF(ISNUMBER(SEARCH($A$3,L3032)),MAX($K$1:K3031)+1,0)","v":0},"Rohit Pulp & Paper Mills Ltd","ROHITPUL.BO",{"$nulls":12},{"$f":"IFERROR(VLOOKUP(ROWS($Z$2:Z3032),K3032:$L$6000,2,0),\"\")","v":""},{"$f":"IFERROR(VLOOKUP(ROWS($AA$2:AA3032),K3032:$M$6000,3,0),\"\")","v":""}]
[{"$nulls":10},{"$f":"IF(ISNUMBER(SEARCH($A$3,L3033)),MAX($K$1:K3032)+1,0)","v":0},"Rollatainers Ltd","ROLLT.BO",{"$nulls":12},{"$f":"IFERROR(VLOOKUP(ROWS($Z$2:Z3033),K3033:$L$6000,2,0),\"\")","v":""},{"$f":"IFERROR(VLOOKUP(ROWS($AA$2:AA3033),K3033:$M$6000,3,0),\"\")","v":""}]
[{"$nulls":10},{"$f":"IF(ISNUMBER(SEARCH($A$3,L3034)),MAX($K$1:K3033)+1,0)","v":0},"Rolta India Ltd","ROLTA.BO",{"$nulls":12},{"$f":"IFERROR(VLOOKUP(ROWS($Z$2:Z3034),K3034:$L$6000,2,0),\"\")","v":""},{"$f":"IFERROR(VLOOKUP(ROWS($AA$2:AA3034),K3034:$M$6000,3,0),\"\")","v":""}]
[{"$nulls":10},{"$f":"IF(ISNUMBER(SEARCH($A$3,L3035)),MAX($K$1:K3034)+1,0)","v":0},"Rolta India Ltd","ROLTA.NS",{"$nulls":12},{"$f":"IFERROR(VLOOKUP(ROWS($Z$2:Z3035),K3035:$L$6000,2,0),\"\")","v":""},{"$f":"IFERROR(VLOOKUP(ROWS($AA$2:AA3035),K3035:$M$6000,3,0),\"\")","v":""}]
[{"$nulls":10},{"$f":"IF(ISNUMBER(SEARCH($A$3,L3036)),MAX($K$1:K3035)+1,0)","v":0},"Roopa Industries Ltd","ROOPAIND.BO",{"$nulls":12},{"$f":"IFERROR(VLOOKUP(ROWS($Z$2:Z3036),K3036:$L$6000,2,0),\"\")","v":""},{"$f":"IFERROR(VLOOKUP(ROWS($AA$2:AA3036),K3036:$M$6000,3,0),\"\")","v":""}]
[{"$nulls":10},{"$f":"IF(ISNUMBER(SEARCH($A$3,L3037)),MAX($K$1:K3036)+1,0)","v":0},"Roselabs Finance Ltd","ROSELABS.BO",{"$nulls":12},{"$f":"IFERROR(VLOOKUP(ROWS($Z$2:Z3037),K3037:$L$6000,2,0),\"\")","v":""},{"$f":"IFERROR(VLOOKUP(ROWS($AA$2:AA3037),K3037:$M$6000,3,0),\"\")","v":""}]
[{"$nulls":10},{"$f":"IF(ISNUMBER(SEARCH($A$3,L3038)),MAX($K$1:K3037)+1,0)","v":0},"Rossell India Ltd","ROSSELLTEA.BO",{"$nulls":12},{"$f":"IFERROR(VLOOKUP(ROWS($Z$2:Z3038),K3038:$L$6000,2,0),\"\")","v":""},{"$f":"IFERROR(VLOOKUP(ROWS($AA$2:AA3038),K3038:$M$6000,3,0),\"\")","v":""}]
[{"$nulls":10},{"$f":"IF(ISNUMBER(SEARCH($A$3,L3039)),MAX($K$1:K3038)+1,0)","v":0},"Roto Pumps Ltd","ROTO.BO",{"$nulls":12},{"$f":"IFERROR(VLOOKUP(ROWS($Z$2:Z3039),K3039:$L$6000,2,0),\"\")","v":""},{"$f":"IFERROR(VLOOKUP(ROWS($AA$2:AA3039),K3039:$M$6000,3,0),\"\")","v":""}]
[{"$nulls":10},{"$f":"IF(ISNUMBER(SEARCH($A$3,L3040)),MAX($K$1:K3039)+1,0)","v":0},"Royal Cushion Vinyl","ROYALCU.BO",{"$nulls":12},{"$f":"IFERROR(VLOOKUP(ROWS($Z$2:Z3040),K3040:$L$6000,2,0),\"\")","v":""},{"$f":"IFERROR(VLOOKUP(ROWS($AA$2:AA3040),K3040:$M$6000,3,0),\"\")","v":""}]
[{"$nulls":10},{"$f":"IF(ISNUMBER(SEARCH($A$3,L3041)),MAX($K$1:K3040)+1,0)","v":0},"Royal India Corp Ltd","NATRAJFIN.BO",{"$nulls":12},{"$f":"IFERROR(VLOOKUP(ROWS($Z$2:Z3041),K3041:$L$6000,2,0),\"\")","v":""},{"$f":"IFERROR(VLOOKUP(ROWS($AA$2:AA3041),K3041:$M$6000,3,0),\"\")","v":""}]
[{"$nulls":10},{"$f":"IF(ISNUMBER(SEARCH($A$3,L3042)),MAX($K$1:K3041)+1,0)","v":0},"Royal Orchid Hotels Ltd","ROHLTD.BO",{"$nulls":12},{"$f":"IFERROR(VLOOKUP(ROWS($Z$2:Z3042),K3042:$L$6000,2,0),\"\")","v":""},{"$f":"IFERROR(VLOOKUP(ROWS($AA$2:AA3042),K3042:$M$6000,3,0),\"\")","v":""}]
[{"$nulls":10},{"$f":"IF(ISNUMBER(SEARCH($A$3,L3043)),MAX($K$1:K3042)+1,0)","v":0},"Royal Orchid Hotels Ltd","ROHLTD.NS",{"$nulls":12},{"$f":"IFERROR(VLOOKUP(ROWS($Z$2:Z3043),K3043:$L$6000,2,0),\"\")","v":""},{"$f":"IFERROR(VLOOKUP(ROWS($AA$2:AA3043),K3043:$M$6000,3,0),\"\")","v":""}]
[{"$nulls":10},{"$f":"IF(ISNUMBER(SEARCH($A$3,L3044)),MAX($K$1:K3043)+1,0)","v":0},"Royale Manor Hotels & Ind","RAYALEMA.BO",{"$nulls":12},{"$f":"IFERROR(VLOOKUP(ROWS($Z$2:Z3044),K3044:$L$6000,2,0),\"\")","v":""},{"$f":"IFERROR(VLOOKUP(ROWS($AA$2:AA3044),K3044:$M$6000,3,0),\"\")","v":""}]
[{"$nulls":10},{"$f":"IF(ISNUMBER(SEARCH($A$3,L3045)),MAX($K$1:K3044)+1,0)","v":0},"RPG Life Sciences Ltd","RPGLS.BO",{"$nulls":12},{"$f":"IFERROR(VLOOKUP(ROWS($Z$2:Z3045),K3045:$L$6000,2,0),\"\")","v":""},{"$f":"IFERROR(VLOOKUP(ROWS($AA$2:AA3045),K3045:$M$6000,3,0),\"\")","v":""}]
[{"$nulls":10},{"$f":"IF(ISNUMBER(SEARCH($A$3,L3046)),MAX($K$1:K3045)+1,0)","v":0},"RPG Life Sciences Ltd","RPGLIFE.NS",{"$nulls":12},{"$f":"IFERROR(VLOOKUP(ROWS($Z$2:Z3046),K3046:$L$6000,2,0),\"\")","v":""},{"$f":"IFERROR(VLOOKUP(ROWS($AA$2:AA3046),K3046:$M$6000,3,0),\"\")","v":""}]
[{"$nulls":10},{"$f":"IF(ISNUMBER(SEARCH($A$3,L3047)),MAX($K$1:K3046)+1,0)","v":0},"RSWM Ltd","RSWMLTD.BO",{"$nulls":12},{"$f":"IFERROR(VLOOKUP(ROWS($Z$2:Z3047),K3047:$L$6000,2,0),\"\")","v":""},{"$f":"IFERROR(VLOOKUP(ROWS($AA$2:AA3047),K3047:$M$6000,3,0),\"\")","v":""}]
[{"$nulls":10},{"$f":"IF(ISNUMBER(SEARCH($A$3,L3048)),MAX($K$1:K3047)+1,0)","v":0},"RSWM Ltd","RSWM.NS",{"$nulls":12},{"$f":"IFERROR(VLOOKUP(ROWS($Z$2:Z3048),K3048:$L$6000,2,0),\"\")","v":""},{"$f":"IFERROR(VLOOKUP(ROWS($AA$2:AA3048),K3048:$M$6000,3,0),\"\")","v":""}]
[{"$nulls":10},{"$f":"IF(ISNUMBER(SEARCH($A$3,L3049)),MAX($K$1:K3048)+1,0)","v":0},"RTS Power Corp Ltd","RTSPOWR.BO",{"$nulls":12},{"$f":"IFERROR(VLOOKUP(ROWS($Z$2:Z3049),K3049:$L$6000,2,0),\"\")","v":""},{"$f":"IFERROR(VLOOKUP(ROWS($AA$2:AA3049),K3049:$M$6000,3,0),\"\")","v":""}]
[{"$nulls":10},{"$f":"IF(ISNUMBER(SEARCH($A$3,L3050)),MAX($K$1:K3049)+1,0)","v":0},"Rubber Products Ltd","RUBBERPR.BO",{"$nulls":12},{"$f":"IFERROR(VLOOKUP(ROWS($Z$2:Z3050),K3050:$L$6000,2,0),\"\")","v":""},{"$f":"IFERROR(VLOOKUP(ROWS($AA$2:AA3050),K3050:$M$6000,3,0),\"\")","v":""}]
[{"$nulls":10},{"$f":"IF(ISNUMBER(SEARCH($A$3,L3051)),MAX($K$1:K3050)+1,0)","v":0},"Ruchi Infrastructure Ltd","RUCHINFR.BO",{"$nulls":12},{"$f":"IFERROR(VLOOKUP(ROWS($Z$2:Z3051),K3051:$L$6000,2,0),\"\")","v":""},{"$f":"IFERROR(VLOOKUP(ROWS($AA$2:AA3051),K3051:$M$6000,3,0),\"\")","v":""}]
[{"$nulls":10},{"$f":"IF(ISNUMBER(SEARCH($A$3,L3052)),MAX($K$1:K3051)+1,0)","v":0},"Ruchi Infrastructure Ltd","RUCHINFRA.NS",{"$nulls":12},{"$f":"IFERROR(VLOOKUP(ROWS($Z$2:Z3052),K3052:$L$6000,2,0),\"\")","v":""},{"$f":"IFERROR(VLOOKUP(ROWS($AA$2:AA3052),K3052:$M$6000,3,0),\"\")","v":""}]
[{"$nulls":10},{"$f":"IF(ISNUMBER(SEARCH($A$3,L3053)),MAX($K$1:K3052)+1,0)","v":0},"Ruchi Soya Industries Ltd","RUCHISOYA.BO",{"$nulls":12},{"$f":"IFERROR(VLOOKUP(ROWS($Z$2:Z3053),K3053:$L$6000,2,0),\"\")","v":""},{"$f":"IFERROR(VLOOKUP(ROWS($AA$2:AA3053),K3053:$M$6000,3,0),\"\")","v":""}]
[{"$nulls":10},{"$f":"IF(ISNUMBER(SEARCH($A$3,L3054)),MAX($K$1:K3053)+1,0)","v":0},"Ruchi Soya Industries Ltd","RUCHISOYA.NS",{"$nulls":12},{"$f":"IFERROR(VLOOKUP(ROWS($Z$2:Z3054),K3054:$L$6000,2,0),\"\")","v":""},{"$f":"IFERROR(VLOOKUP(ROWS($AA$2:AA3054),K3054:$M$6000,3,0),\"\")","v":""}]
[{"$nulls":10},{"$f":"IF(ISNUMBER(SEARCH($A$3,L3055)),MAX($K$1:K3054)+1,0)","v":0},"Ruchi Strips & Alloys Ltd","RUCHISTR.BO",{"$nulls":12},{"$f":"IFERROR(VLOOKUP(ROWS($Z$2:Z3055),K3055:$L$6000,2,0),\"\")","v":""},{"$f":"IFERROR(VLOOKUP(ROWS($AA$2:AA3055),K3055:$M$6000,3,0),\"\")","v":""}]
[{"$nulls":10},{"$f":"IF(ISNUMBER(SEARCH($A$3,L3056)),MAX($K$1:K3055)+1,0)","v":0},"Ruchira Papers Ltd","RUCHIRA.BO",{"$nulls":12},{"$f":"IFERROR(VLOOKUP(ROWS($Z$2:Z3056),K3056:$L$6000,2,0),\"\")","v":""},{"$f":"IFERROR(VLOOKUP(ROWS($AA$2:AA3056),K3056:$M$6000,3,0),\"\")","v":""}]
[{"$nulls":10},{"$f":"IF(ISNUMBER(SEARCH($A$3,L3057)),MAX($K$1:K3056)+1,0)","v":0},"Ruchira Papers Ltd","RUCHIRA.NS",{"$nulls":12},{"$f":"IFERROR(VLOOKUP(ROWS($Z$2:Z3057),K3057:$L$6000,2,0),\"\")","v":""},{"$f":"IFERROR(VLOOKUP(ROWS($AA$2:AA3057),K3057:$M$6000,3,0),\"\")","v":""}]
[{"$nulls":10},{"$f":"IF(ISNUMBER(SEARCH($A$3,L3058)),MAX($K$1:K3057)+1,0)","v":0},"Rudraksh Cap-Tech Ltd","JOLLYFN.BO",{"$nulls":12},{"$f":"IFERROR(VLOOKUP(ROWS($Z$2:Z3058),K3058:$L$6000,2,0),\"\")","v":""},{"$f":"IFERROR(VLOOKUP(ROWS($AA$2:AA3058),K3058:$M$6000,3,0),\"\")","v":""}]
[{"$nulls":10},{"$f":"IF(ISNUMBER(SEARCH($A$3,L3059)),MAX($K$1:K3058)+1,0)","v":0},"Rungta Irrigation Ltd","RUNGTAIR.BO",{"$nulls":12},{"$f":"IFERROR(VLOOKUP(ROWS($Z$2:Z3059),K3059:$L$6000,2,0),\"\")","v":""},{"$f":"IFERROR(VLOOKUP(ROWS($AA$2:AA3059),K3059:$M$6000,3,0),\"\")","v":""}]
[{"$nulls":10},{"$f":"IF(ISNUMBER(SEARCH($A$3,L3060)),MAX($K$1:K3059)+1,0)","v":0},"Rural Electrification Corp Ltd","RECLTD.BO",{"$nulls":12},{"$f":"IFERROR(VLOOKUP(ROWS($Z$2:Z3060),K3060:$L$6000,2,0),\"\")","v":""},{"$f":"IFERROR(VLOOKUP(ROWS($AA$2:AA3060),K3060:$M$6000,3,0),\"\")","v":""}]
[{"$nulls":10},{"$f":"IF(ISNUMBER(SEARCH($A$3,L3061)),MAX($K$1:K3060)+1,0)","v":0},"Rural Electrification Corp Ltd","RECLTD.NS",{"$nulls":12},{"$f":"IFERROR(VLOOKUP(ROWS($Z$2:Z3061),K3061:$L$6000,2,0),\"\")","v":""},{"$f":"IFERROR(VLOOKUP(ROWS($AA$2:AA3061),K3061:$M$6000,3,0),\"\")","v":""}]
[{"$nulls":10},{"$f":"IF(ISNUMBER(SEARCH($A$3,L3062)),MAX($K$1:K3061)+1,0)","v":0},"Ruttonsha International","RIR.BO",{"$nulls":12},{"$f":"IFERROR(VLOOKUP(ROWS($Z$2:Z3062),K3062:$L$6000,2,0),\"\")","v":""},{"$f":"IFERROR(VLOOKUP(ROWS($AA$2:AA3062),K3062:$M$6000,3,0),\"\")","v":""}]
[{"$nulls":10},{"$f":"IF(ISNUMBER(SEARCH($A$3,L3063)),MAX($K$1:K3062)+1,0)","v":0},"S & T Corp Ltd","STCORP.BO",{"$nulls":12},{"$f":"IFERROR(VLOOKUP(ROWS($Z$2:Z3063),K3063:$L$6000,2,0),\"\")","v":""},{"$f":"IFERROR(VLOOKUP(ROWS($AA$2:AA3063),K3063:$M$6000,3,0),\"\")","v":""}]
[{"$nulls":10},{"$f":"IF(ISNUMBER(SEARCH($A$3,L3064)),MAX($K$1:K3063)+1,0)","v":0},"S AL Steel Ltd","SALSTEEL.BO",{"$nulls":12},{"$f":"IFERROR(VLOOKUP(ROWS($Z$2:Z3064),K3064:$L$6000,2,0),\"\")","v":""},{"$f":"IFERROR(VLOOKUP(ROWS($AA$2:AA3064),K3064:$M$6000,3,0),\"\")","v":""}]
[{"$nulls":10},{"$f":"IF(ISNUMBER(SEARCH($A$3,L3065)),MAX($K$1:K3064)+1,0)","v":0},"S AL Steel Ltd","SALSTEEL.NS",{"$nulls":12},{"$f":"IFERROR(VLOOKUP(ROWS($Z$2:Z3065),K3065:$L$6000,2,0),\"\")","v":""},{"$f":"IFERROR(VLOOKUP(ROWS($AA$2:AA3065),K3065:$M$6000,3,0),\"\")","v":""}]
[{"$nulls":10},{"$f":"IF(ISNUMBER(SEARCH($A$3,L3066)),MAX($K$1:K3065)+1,0)","v":0},"S B & T International Ltd","SBNT.BO",{"$nulls":12},{"$f":"IFERROR(VLOOKUP(ROWS($Z$2:Z3066),K3066:$L$6000,2,0),\"\")","v":""},{"$f":"IFERROR(VLOOKUP(ROWS($AA$2:AA3066),K3066:$M$6000,3,0),\"\")","v":""}]
[{"$nulls":10},{"$f":"IF(ISNUMBER(SEARCH($A$3,L3067)),MAX($K$1:K3066)+1,0)","v":0},"S Kumars Nationwide Ltd","SKUMARN.BO",{"$nulls":12},{"$f":"IFERROR(VLOOKUP(ROWS($Z$2:Z3067),K3067:$L$6000,2,0),\"\")","v":""},{"$f":"IFERROR(VLOOKUP(ROWS($AA$2:AA3067),K3067:$M$6000,3,0),\"\")","v":""}]
[{"$nulls":10},{"$f":"IF(ISNUMBER(SEARCH($A$3,L3068)),MAX($K$1:K3067)+1,0)","v":0},"S Kumars Nationwide Ltd","SKUMARSYN.NS",{"$nulls":12},{"$f":"IFERROR(VLOOKUP(ROWS($Z$2:Z3068),K3068:$L$6000,2,0),\"\")","v":""},{"$f":"IFERROR(VLOOKUP(ROWS($AA$2:AA3068),K3068:$M$6000,3,0),\"\")","v":""}]
[{"$nulls":10},{"$f":"IF(ISNUMBER(SEARCH($A$3,L3069)),MAX($K$1:K3068)+1,0)","v":0},"S Kumars Online Ltd","SKUMAR.BO",{"$nulls":12},{"$f":"IFERROR(VLOOKUP(ROWS($Z$2:Z3069),K3069:$L$6000,2,0),\"\")","v":""},{"$f":"IFERROR(VLOOKUP(ROWS($AA$2:AA3069),K3069:$M$6000,3,0),\"\")","v":""}]
[{"$nulls":10},{"$f":"IF(ISNUMBER(SEARCH($A$3,L3070)),MAX($K$1:K3069)+1,0)","v":0},"S M Energy Teknik","SMENER.BO",{"$nulls":12},{"$f":"IFERROR(VLOOKUP(ROWS($Z$2:Z3070),K3070:$L$6000,2,0),\"\")","v":""},{"$f":"IFERROR(VLOOKUP(ROWS($AA$2:AA3070),K3070:$M$6000,3,0),\"\")","v":""}]
[{"$nulls":10},{"$f":"IF(ISNUMBER(SEARCH($A$3,L3071)),MAX($K$1:K3070)+1,0)","v":0},"S Mobility Ltd","SPICEMOBIL.BO",{"$nulls":12},{"$f":"IFERROR(VLOOKUP(ROWS($Z$2:Z3071),K3071:$L$6000,2,0),\"\")","v":""},{"$f":"IFERROR(VLOOKUP(ROWS($AA$2:AA3071),K3071:$M$6000,3,0),\"\")","v":""}]
[{"$nulls":10},{"$f":"IF(ISNUMBER(SEARCH($A$3,L3072)),MAX($K$1:K3071)+1,0)","v":0},"S Mobility Ltd","SPICEMOBI.NS",{"$nulls":12},{"$f":"IFERROR(VLOOKUP(ROWS($Z$2:Z3072),K3072:$L$6000,2,0),\"\")","v":""},{"$f":"IFERROR(VLOOKUP(ROWS($AA$2:AA3072),K3072:$M$6000,3,0),\"\")","v":""}]
[{"$nulls":10},{"$f":"IF(ISNUMBER(SEARCH($A$3,L3073)),MAX($K$1:K3072)+1,0)","v":0},"S P Capital Financing Ltd","SPCAPIT.BO",{"$nulls":12},{"$f":"IFERROR(VLOOKUP(ROWS($Z$2:Z3073),K3073:$L$6000,2,0),\"\")","v":""},{"$f":"IFERROR(VLOOKUP(ROWS($AA$2:AA3073),K3073:$M$6000,3,0),\"\")","v":""}]
[{"$nulls":10},{"$f":"IF(ISNUMBER(SEARCH($A$3,L3074)),MAX($K$1:K3073)+1,0)","v":0},"S R Industries Ltd","SRIND.BO",{"$nulls":12},{"$f":"IFERROR(VLOOKUP(ROWS($Z$2:Z3074),K3074:$L$6000,2,0),\"\")","v":""},{"$f":"IFERROR(VLOOKUP(ROWS($AA$2:AA3074),K3074:$M$6000,3,0),\"\")","v":""}]
[{"$nulls":10},{"$f":"IF(ISNUMBER(SEARCH($A$3,L3075)),MAX($K$1:K3074)+1,0)","v":0},"S S Forgings & Engineering Ltd","SSFORMT.BO",{"$nulls":12},{"$f":"IFERROR(VLOOKUP(ROWS($Z$2:Z3075),K3075:$L$6000,2,0),\"\")","v":""},{"$f":"IFERROR(VLOOKUP(ROWS($AA$2:AA3075),K3075:$M$6000,3,0),\"\")","v":""}]
[{"$nulls":10},{"$f":"IF(ISNUMBER(SEARCH($A$3,L3076)),MAX($K$1:K3075)+1,0)","v":0},"S T I India Ltd","STIIN.BO",{"$nulls":12},{"$f":"IFERROR(VLOOKUP(ROWS($Z$2:Z3076),K3076:$L$6000,2,0),\"\")","v":""},{"$f":"IFERROR(VLOOKUP(ROWS($AA$2:AA3076),K3076:$M$6000,3,0),\"\")","v":""}]
[{"$nulls":10},{"$f":"IF(ISNUMBER(SEARCH($A$3,L3077)),MAX($K$1:K3076)+1,0)","v":0},"Saamya Biotech (India) Ltd","SAAMYABIO.BO",{"$nulls":12},{"$f":"IFERROR(VLOOKUP(ROWS($Z$2:Z3077),K3077:$L$6000,2,0),\"\")","v":""},{"$f":"IFERROR(VLOOKUP(ROWS($AA$2:AA3077),K3077:$M$6000,3,0),\"\")","v":""}]
[{"$nulls":10},{"$f":"IF(ISNUMBER(SEARCH($A$3,L3078)),MAX($K$1:K3077)+1,0)","v":0},"Sabero Organics Gujarat Ltd","SABERO.BO",{"$nulls":12},{"$f":"IFERROR(VLOOKUP(ROWS($Z$2:Z3078),K3078:$L$6000,2,0),\"\")","v":""},{"$f":"IFERROR(VLOOKUP(ROWS($AA$2:AA3078),K3078:$M$6000,3,0),\"\")","v":""}]
[{"$nulls":10},{"$f":"IF(ISNUMBER(SEARCH($A$3,L3079)),MAX($K$1:K3078)+1,0)","v":0},"Sabero Organics Gujarat Ltd","SABERORGA.NS",{"$nulls":12},{"$f":"IFERROR(VLOOKUP(ROWS($Z$2:Z3079),K3079:$L$6000,2,0),\"\")","v":""},{"$f":"IFERROR(VLOOKUP(ROWS($AA$2:AA3079),K3079:$M$6000,3,0),\"\")","v":""}]
[{"$nulls":10},{"$f":"IF(ISNUMBER(SEARCH($A$3,L3080)),MAX($K$1:K3079)+1,0)","v":0},"Saboo Sodium Chloro Ltd","SABOOSOD.BO",{"$nulls":12},{"$f":"IFERROR(VLOOKUP(ROWS($Z$2:Z3080),K3080:$L$6000,2,0),\"\")","v":""},{"$f":"IFERROR(VLOOKUP(ROWS($AA$2:AA3080),K3080:$M$6000,3,0),\"\")","v":""}]
[{"$nulls":10},{"$f":"IF(ISNUMBER(SEARCH($A$3,L3081)),MAX($K$1:K3080)+1,0)","v":0},"Sacheta Metals Ltd","SACHEMT.BO",{"$nulls":12},{"$f":"IFERROR(VLOOKUP(ROWS($Z$2:Z3081),K3081:$L$6000,2,0),\"\")","v":""},{"$f":"IFERROR(VLOOKUP(ROWS($AA$2:AA3081),K3081:$M$6000,3,0),\"\")","v":""}]
[{"$nulls":10},{"$f":"IF(ISNUMBER(SEARCH($A$3,L3082)),MAX($K$1:K3081)+1,0)","v":0},"Sadbhav Engineering Ltd","SADBHAV.BO",{"$nulls":12},{"$f":"IFERROR(VLOOKUP(ROWS($Z$2:Z3082),K3082:$L$6000,2,0),\"\")","v":""},{"$f":"IFERROR(VLOOKUP(ROWS($AA$2:AA3082),K3082:$M$6000,3,0),\"\")","v":""}]
[{"$nulls":10},{"$f":"IF(ISNUMBER(SEARCH($A$3,L3083)),MAX($K$1:K3082)+1,0)","v":0},"Sadhana Nitro Chem Ltd","SADHNANIQ.BO",{"$nulls":12},{"$f":"IFERROR(VLOOKUP(ROWS($Z$2:Z3083),K3083:$L$6000,2,0),\"\")","v":""},{"$f":"IFERROR(VLOOKUP(ROWS($AA$2:AA3083),K3083:$M$6000,3,0),\"\")","v":""}]
[{"$nulls":10},{"$f":"IF(ISNUMBER(SEARCH($A$3,L3084)),MAX($K$1:K3083)+1,0)","v":0},"Safal Securities Ltd","ASECURT.BO",{"$nulls":12},{"$f":"IFERROR(VLOOKUP(ROWS($Z$2:Z3084),K3084:$L$6000,2,0),\"\")","v":""},{"$f":"IFERROR(VLOOKUP(ROWS($AA$2:AA3084),K3084:$M$6000,3,0),\"\")","v":""}]
[{"$nulls":10},{"$f":"IF(ISNUMBER(SEARCH($A$3,L3085)),MAX($K$1:K3084)+1,0)","v":0},"Safari Industries (India) Ltd","SAFARIND.BO",{"$nulls":12},{"$f":"IFERROR(VLOOKUP(ROWS($Z$2:Z3085),K3085:$L$6000,2,0),\"\")","v":""},{"$f":"IFERROR(VLOOKUP(ROWS($AA$2:AA3085),K3085:$M$6000,3,0),\"\")","v":""}]
[{"$nulls":10},{"$f":"IF(ISNUMBER(SEARCH($A$3,L3086)),MAX($K$1:K3085)+1,0)","v":0},"Saffron Industries Ltd","MADPAPER.BO",{"$nulls":12},{"$f":"IFERROR(VLOOKUP(ROWS($Z$2:Z3086),K3086:$L$6000,2,0),\"\")","v":""},{"$f":"IFERROR(VLOOKUP(ROWS($AA$2:AA3086),K3086:$M$6000,3,0),\"\")","v":""}]
[{"$nulls":10},{"$f":"IF(ISNUMBER(SEARCH($A$3,L3087)),MAX($K$1:K3086)+1,0)","v":0},"Sagar Cements Ltd","SAGARCE.BO",{"$nulls":12},{"$f":"IFERROR(VLOOKUP(ROWS($Z$2:Z3087),K3087:$L$6000,2,0),\"\")","v":""},{"$f":"IFERROR(VLOOKUP(ROWS($AA$2:AA3087),K3087:$M$6000,3,0),\"\")","v":""}]
[{"$nulls":10},{"$f":"IF(ISNUMBER(SEARCH($A$3,L3088)),MAX($K$1:K3087)+1,0)","v":0},"Sagar Cements Ltd","SAGCEM.NS",{"$nulls":12},{"$f":"IFERROR(VLOOKUP(ROWS($Z$2:Z3088),K3088:$L$6000,2,0),\"\")","v":""},{"$f":"IFERROR(VLOOKUP(ROWS($AA$2:AA3088),K3088:$M$6000,3,0),\"\")","v":""}]
[{"$nulls":10},{"$f":"IF(ISNUMBER(SEARCH($A$3,L3089)),MAX($K$1:K3088)+1,0)","v":0},"Sagar Productions Ltd","KIRTIFIN.BO",{"$nulls":12},{"$f":"IFERROR(VLOOKUP(ROWS($Z$2:Z3089),K3089:$L$6000,2,0),\"\")","v":""},{"$f":"IFERROR(VLOOKUP(ROWS($AA$2:AA3089),K3089:$M$6000,3,0),\"\")","v":""}]
[{"$nulls":10},{"$f":"IF(ISNUMBER(SEARCH($A$3,L3090)),MAX($K$1:K3089)+1,0)","v":0},"Sah Petroleums Ltd","SAHPETRO.BO",{"$nulls":12},{"$f":"IFERROR(VLOOKUP(ROWS($Z$2:Z3090),K3090:$L$6000,2,0),\"\")","v":""},{"$f":"IFERROR(VLOOKUP(ROWS($AA$2:AA3090),K3090:$M$6000,3,0),\"\")","v":""}]
[{"$nulls":10},{"$f":"IF(ISNUMBER(SEARCH($A$3,L3091)),MAX($K$1:K3090)+1,0)","v":0},"Sah Petroleums Ltd","SAHPETRO.NS",{"$nulls":12},{"$f":"IFERROR(VLOOKUP(ROWS($Z$2:Z3091),K3091:$L$6000,2,0),\"\")","v":""},{"$f":"IFERROR(VLOOKUP(ROWS($AA$2:AA3091),K3091:$M$6000,3,0),\"\")","v":""}]
[{"$nulls":10},{"$f":"IF(ISNUMBER(SEARCH($A$3,L3092)),MAX($K$1:K3091)+1,0)","v":0},"Sahara Housingfina Corp Ltd","SAHARAHOUS.BO",{"$nulls":12},{"$f":"IFERROR(VLOOKUP(ROWS($Z$2:Z3092),K3092:$L$6000,2,0),\"\")","v":""},{"$f":"IFERROR(VLOOKUP(ROWS($AA$2:AA3092),K3092:$M$6000,3,0),\"\")","v":""}]
[{"$nulls":10},{"$f":"IF(ISNUMBER(SEARCH($A$3,L3093)),MAX($K$1:K3092)+1,0)","v":0},"Sahara One Media & Entert","SAHARA.BO",{"$nulls":12},{"$f":"IFERROR(VLOOKUP(ROWS($Z$2:Z3093),K3093:$L$6000,2,0),\"\")","v":""},{"$f":"IFERROR(VLOOKUP(ROWS($AA$2:AA3093),K3093:$M$6000,3,0),\"\")","v":""}]
[{"$nulls":10},{"$f":"IF(ISNUMBER(SEARCH($A$3,L3094)),MAX($K$1:K3093)+1,0)","v":0},"Sahyadri Industries Ltd","SAHYADRI.BO",{"$nulls":12},{"$f":"IFERROR(VLOOKUP(ROWS($Z$2:Z3094),K3094:$L$6000,2,0),\"\")","v":""},{"$f":"IFERROR(VLOOKUP(ROWS($AA$2:AA3094),K3094:$M$6000,3,0),\"\")","v":""}]
[{"$nulls":10},{"$f":"IF(ISNUMBER(SEARCH($A$3,L3095)),MAX($K$1:K3094)+1,0)","v":0},"Sainik Finance Industries Ltd","SAINIK.BO",{"$nulls":12},{"$f":"IFERROR(VLOOKUP(ROWS($Z$2:Z3095),K3095:$L$6000,2,0),\"\")","v":""},{"$f":"IFERROR(VLOOKUP(ROWS($AA$2:AA3095),K3095:$M$6000,3,0),\"\")","v":""}]
[{"$nulls":10},{"$f":"IF(ISNUMBER(SEARCH($A$3,L3096)),MAX($K$1:K3095)+1,0)","v":0},"Saint Gobain Sekurit India Ltd","SAINTGOBAIN.BO",{"$nulls":12},{"$f":"IFERROR(VLOOKUP(ROWS($Z$2:Z3096),K3096:$L$6000,2,0),\"\")","v":""},{"$f":"IFERROR(VLOOKUP(ROWS($AA$2:AA3096),K3096:$M$6000,3,0),\"\")","v":""}]
[{"$nulls":10},{"$f":"IF(ISNUMBER(SEARCH($A$3,L3097)),MAX($K$1:K3096)+1,0)","v":0},"Saksoft Ltd","SAKSOFT.BO",{"$nulls":12},{"$f":"IFERROR(VLOOKUP(ROWS($Z$2:Z3097),K3097:$L$6000,2,0),\"\")","v":""},{"$f":"IFERROR(VLOOKUP(ROWS($AA$2:AA3097),K3097:$M$6000,3,0),\"\")","v":""}]
[{"$nulls":10},{"$f":"IF(ISNUMBER(SEARCH($A$3,L3098)),MAX($K$1:K3097)+1,0)","v":0},"Saksoft Ltd","SAKSOFT.NS",{"$nulls":12},{"$f":"IFERROR(VLOOKUP(ROWS($Z$2:Z3098),K3098:$L$6000,2,0),\"\")","v":""},{"$f":"IFERROR(VLOOKUP(ROWS($AA$2:AA3098),K3098:$M$6000,3,0),\"\")","v":""}]
[{"$nulls":10},{"$f":"IF(ISNUMBER(SEARCH($A$3,L3099)),MAX($K$1:K3098)+1,0)","v":0},"Sakthi Finance Ltd","SAKTHIFI.BO",{"$nulls":12},{"$f":"IFERROR(VLOOKUP(ROWS($Z$2:Z3099),K3099:$L$6000,2,0),\"\")","v":""},{"$f":"IFERROR(VLOOKUP(ROWS($AA$2:AA3099),K3099:$M$6000,3,0),\"\")","v":""}]
[{"$nulls":10},{"$f":"IF(ISNUMBER(SEARCH($A$3,L3100)),MAX($K$1:K3099)+1,0)","v":0},"Sakthi Sugars Ltd","SAKTHISU.BO",{"$nulls":12},{"$f":"IFERROR(VLOOKUP(ROWS($Z$2:Z3100),K3100:$L$6000,2,0),\"\")","v":""},{"$f":"IFERROR(VLOOKUP(ROWS($AA$2:AA3100),K3100:$M$6000,3,0),\"\")","v":""}]
[{"$nulls":10},{"$f":"IF(ISNUMBER(SEARCH($A$3,L3101)),MAX($K$1:K3100)+1,0)","v":0},"Sakthi Sugars Ltd","SAKHTISUG.NS",{"$nulls":12},{"$f":"IFERROR(VLOOKUP(ROWS($Z$2:Z3101),K3101:$L$6000,2,0),\"\")","v":""},{"$f":"IFERROR(VLOOKUP(ROWS($AA$2:AA3101),K3101:$M$6000,3,0),\"\")","v":""}]
[{"$nulls":10},{"$f":"IF(ISNUMBER(SEARCH($A$3,L3102)),MAX($K$1:K3101)+1,0)","v":0},"Sakuma Exports Ltd","SAKUMAEXP.BO",{"$nulls":12},{"$f":"IFERROR(VLOOKUP(ROWS($Z$2:Z3102),K3102:$L$6000,2,0),\"\")","v":""},{"$f":"IFERROR(VLOOKUP(ROWS($AA$2:AA3102),K3102:$M$6000,3,0),\"\")","v":""}]
[{"$nulls":10},{"$f":"IF(ISNUMBER(SEARCH($A$3,L3103)),MAX($K$1:K3102)+1,0)","v":0},"Sakuma Exports Ltd","SAKUMA.NS",{"$nulls":12},{"$f":"IFERROR(VLOOKUP(ROWS($Z$2:Z3103),K3103:$L$6000,2,0),\"\")","v":""},{"$f":"IFERROR(VLOOKUP(ROWS($AA$2:AA3103),K3103:$M$6000,3,0),\"\")","v":""}]
[{"$nulls":10},{"$f":"IF(ISNUMBER(SEARCH($A$3,L3104)),MAX($K$1:K3103)+1,0)","v":0},"Salona Cotspin Ltd","SALONA.BO",{"$nulls":12},{"$f":"IFERROR(VLOOKUP(ROWS($Z$2:Z3104),K3104:$L$6000,2,0),\"\")","v":""},{"$f":"IFERROR(VLOOKUP(ROWS($AA$2:AA3104),K3104:$M$6000,3,0),\"\")","v":""}]
[{"$nulls":10},{"$f":"IF(ISNUMBER(SEARCH($A$3,L3105)),MAX($K$1:K3104)+1,0)","v":0},"Salora International Ltd","SALORA.BO",{"$nulls":12},{"$f":"IFERROR(VLOOKUP(ROWS($Z$2:Z3105),K3105:$L$6000,2,0),\"\")","v":""},{"$f":"IFERROR(VLOOKUP(ROWS($AA$2:AA3105),K3105:$M$6000,3,0),\"\")","v":""}]
[{"$nulls":10},{"$f":"IF(ISNUMBER(SEARCH($A$3,L3106)),MAX($K$1:K3105)+1,0)","v":0},"Salora International Ltd","SALORAINT.NS",{"$nulls":12},{"$f":"IFERROR(VLOOKUP(ROWS($Z$2:Z3106),K3106:$L$6000,2,0),\"\")","v":""},{"$f":"IFERROR(VLOOKUP(ROWS($AA$2:AA3106),K3106:$M$6000,3,0),\"\")","v":""}]
[{"$nulls":10},{"$f":"IF(ISNUMBER(SEARCH($A$3,L3107)),MAX($K$1:K3106)+1,0)","v":0},"Salzer Electronics Ltd","SALZER.BO",{"$nulls":12},{"$f":"IFERROR(VLOOKUP(ROWS($Z$2:Z3107),K3107:$L$6000,2,0),\"\")","v":""},{"$f":"IFERROR(VLOOKUP(ROWS($AA$2:AA3107),K3107:$M$6000,3,0),\"\")","v":""}]
[{"$nulls":10},{"$f":"IF(ISNUMBER(SEARCH($A$3,L3108)),MAX($K$1:K3107)+1,0)","v":0},"Sam Industries Ltd","SAIND.BO",{"$nulls":12},{"$f":"IFERROR(VLOOKUP(ROWS($Z$2:Z3108),K3108:$L$6000,2,0),\"\")","v":""},{"$f":"IFERROR(VLOOKUP(ROWS($AA$2:AA3108),K3108:$M$6000,3,0),\"\")","v":""}]
[{"$nulls":10},{"$f":"IF(ISNUMBER(SEARCH($A$3,L3109)),MAX($K$1:K3108)+1,0)","v":0},"Sambandam Spinning Mills Ltd","SAMBNDSPQ.BO",{"$nulls":12},{"$f":"IFERROR(VLOOKUP(ROWS($Z$2:Z3109),K3109:$L$6000,2,0),\"\")","v":""},{"$f":"IFERROR(VLOOKUP(ROWS($AA$2:AA3109),K3109:$M$6000,3,0),\"\")","v":""}]
[{"$nulls":10},{"$f":"IF(ISNUMBER(SEARCH($A$3,L3110)),MAX($K$1:K3109)+1,0)","v":0},"Sambhaav Media Ltd","PEARLENE.BO",{"$nulls":12},{"$f":"IFERROR(VLOOKUP(ROWS($Z$2:Z3110),K3110:$L$6000,2,0),\"\")","v":""},{"$f":"IFERROR(VLOOKUP(ROWS($AA$2:AA3110),K3110:$M$6000,3,0),\"\")","v":""}]
[{"$nulls":10},{"$f":"IF(ISNUMBER(SEARCH($A$3,L3111)),MAX($K$1:K3110)+1,0)","v":0},"Samkrg Pistons and Rings Ltd","SAMKRG.BO",{"$nulls":12},{"$f":"IFERROR(VLOOKUP(ROWS($Z$2:Z3111),K3111:$L$6000,2,0),\"\")","v":""},{"$f":"IFERROR(VLOOKUP(ROWS($AA$2:AA3111),K3111:$M$6000,3,0),\"\")","v":""}]
[{"$nulls":10},{"$f":"IF(ISNUMBER(SEARCH($A$3,L3112)),MAX($K$1:K3111)+1,0)","v":0},"Sampre Nutritions Ltd","SAMPRE.BO",{"$nulls":12},{"$f":"IFERROR(VLOOKUP(ROWS($Z$2:Z3112),K3112:$L$6000,2,0),\"\")","v":""},{"$f":"IFERROR(VLOOKUP(ROWS($AA$2:AA3112),K3112:$M$6000,3,0),\"\")","v":""}]
[{"$nulls":10},{"$f":"IF(ISNUMBER(SEARCH($A$3,L3113)),MAX($K$1:K3112)+1,0)","v":0},"Samrat Pharmachem Ltd","SAMRATPH.BO",{"$nulls":12},{"$f":"IFERROR(VLOOKUP(ROWS($Z$2:Z3113),K3113:$L$6000,2,0),\"\")","v":""},{"$f":"IFERROR(VLOOKUP(ROWS($AA$2:AA3113),K3113:$M$6000,3,0),\"\")","v":""}]
[{"$nulls":10},{"$f":"IF(ISNUMBER(SEARCH($A$3,L3114)),MAX($K$1:K3113)+1,0)","v":0},"Samtel Color Ltd","SAMTEL.BO",{"$nulls":12},{"$f":"IFERROR(VLOOKUP(ROWS($Z$2:Z3114),K3114:$L$6000,2,0),\"\")","v":""},{"$f":"IFERROR(VLOOKUP(ROWS($AA$2:AA3114),K3114:$M$6000,3,0),\"\")","v":""}]
[{"$nulls":10},{"$f":"IF(ISNUMBER(SEARCH($A$3,L3115)),MAX($K$1:K3114)+1,0)","v":0},"Samtel Color Ltd","SAMTEL.NS",{"$nulls":12},{"$f":"IFERROR(VLOOKUP(ROWS($Z$2:Z3115),K3115:$L$6000,2,0),\"\")","v":""},{"$f":"IFERROR(VLOOKUP(ROWS($AA$2:AA3115),K3115:$M$6000,3,0),\"\")","v":""}]
[{"$nulls":10},{"$f":"IF(ISNUMBER(SEARCH($A$3,L3116)),MAX($K$1:K3115)+1,0)","v":0},"Samtel India Ltd","SAMTELIN.BO",{"$nulls":12},{"$f":"IFERROR(VLOOKUP(ROWS($Z$2:Z3116),K3116:$L$6000,2,0),\"\")","v":""},{"$f":"IFERROR(VLOOKUP(ROWS($AA$2:AA3116),K3116:$M$6000,3,0),\"\")","v":""}]
[{"$nulls":10},{"$f":"IF(ISNUMBER(SEARCH($A$3,L3117)),MAX($K$1:K3116)+1,0)","v":0},"Samtex Fashions Ltd","SAMTEX.BO",{"$nulls":12},{"$f":"IFERROR(VLOOKUP(ROWS($Z$2:Z3117),K3117:$L$6000,2,0),\"\")","v":""},{"$f":"IFERROR(VLOOKUP(ROWS($AA$2:AA3117),K3117:$M$6000,3,0),\"\")","v":""}]
[{"$nulls":10},{"$f":"IF(ISNUMBER(SEARCH($A$3,L3118)),MAX($K$1:K3117)+1,0)","v":0},"Samyak International Ltd","SAMYAKINT.BO",{"$nulls":12},{"$f":"IFERROR(VLOOKUP(ROWS($Z$2:Z3118),K3118:$L$6000,2,0),\"\")","v":""},{"$f":"IFERROR(VLOOKUP(ROWS($AA$2:AA3118),K3118:$M$6000,3,0),\"\")","v":""}]
[{"$nulls":10},{"$f":"IF(ISNUMBER(SEARCH($A$3,L3119)),MAX($K$1:K3118)+1,0)","v":0},"Sancia Global Infraprojec","GREMACH.BO",{"$nulls":12},{"$f":"IFERROR(VLOOKUP(ROWS($Z$2:Z3119),K3119:$L$6000,2,0),\"\")","v":""},{"$f":"IFERROR(VLOOKUP(ROWS($AA$2:AA3119),K3119:$M$6000,3,0),\"\")","v":""}]
[{"$nulls":10},{"$f":"IF(ISNUMBER(SEARCH($A$3,L3120)),MAX($K$1:K3119)+1,0)","v":0},"Sanco Trans Ltd","SANCTRN.BO",{"$nulls":12},{"$f":"IFERROR(VLOOKUP(ROWS($Z$2:Z3120),K3120:$L$6000,2,0),\"\")","v":""},{"$f":"IFERROR(VLOOKUP(ROWS($AA$2:AA3120),K3120:$M$6000,3,0),\"\")","v":""}]
[{"$nulls":10},{"$f":"IF(ISNUMBER(SEARCH($A$3,L3121)),MAX($K$1:K3120)+1,0)","v":0},"Sand Plast (India) Ltd","SANDPLAST.BO",{"$nulls":12},{"$f":"IFERROR(VLOOKUP(ROWS($Z$2:Z3121),K3121:$L$6000,2,0),\"\")","v":""},{"$f":"IFERROR(VLOOKUP(ROWS($AA$2:AA3121),K3121:$M$6000,3,0),\"\")","v":""}]
[{"$nulls":10},{"$f":"IF(ISNUMBER(SEARCH($A$3,L3122)),MAX($K$1:K3121)+1,0)","v":0},"Sandesh Ltd","SANDESH.BO",{"$nulls":12},{"$f":"IFERROR(VLOOKUP(ROWS($Z$2:Z3122),K3122:$L$6000,2,0),\"\")","v":""},{"$f":"IFERROR(VLOOKUP(ROWS($AA$2:AA3122),K3122:$M$6000,3,0),\"\")","v":""}]
[{"$nulls":10},{"$f":"IF(ISNUMBER(SEARCH($A$3,L3123)),MAX($K$1:K3122)+1,0)","v":0},"Sandesh Ltd","SANDESH.NS",{"$nulls":12},{"$f":"IFERROR(VLOOKUP(ROWS($Z$2:Z3123),K3123:$L$6000,2,0),\"\")","v":""},{"$f":"IFERROR(VLOOKUP(ROWS($AA$2:AA3123),K3123:$M$6000,3,0),\"\")","v":""}]
[{"$nulls":10},{"$f":"IF(ISNUMBER(SEARCH($A$3,L3124)),MAX($K$1:K3123)+1,0)","v":0},"Sandu Pharmaceuticals Ltd","SANDUPHQ.BO",{"$nulls":12},{"$f":"IFERROR(VLOOKUP(ROWS($Z$2:Z3124),K3124:$L$6000,2,0),\"\")","v":""},{"$f":"IFERROR(VLOOKUP(ROWS($AA$2:AA3124),K3124:$M$6000,3,0),\"\")","v":""}]
[{"$nulls":10},{"$f":"IF(ISNUMBER(SEARCH($A$3,L3125)),MAX($K$1:K3124)+1,0)","v":0},"Sandur Manganese And Iron","SANDUMA.BO",{"$nulls":12},{"$f":"IFERROR(VLOOKUP(ROWS($Z$2:Z3125),K3125:$L$6000,2,0),\"\")","v":""},{"$f":"IFERROR(VLOOKUP(ROWS($AA$2:AA3125),K3125:$M$6000,3,0),\"\")","v":""}]
[{"$nulls":10},{"$f":"IF(ISNUMBER(SEARCH($A$3,L3126)),MAX($K$1:K3125)+1,0)","v":0},"Sangal Papers Ltd","SANPA.BO",{"$nulls":12},{"$f":"IFERROR(VLOOKUP(ROWS($Z$2:Z3126),K3126:$L$6000,2,0),\"\")","v":""},{"$f":"IFERROR(VLOOKUP(ROWS($AA$2:AA3126),K3126:$M$6000,3,0),\"\")","v":""}]
[{"$nulls":10},{"$f":"IF(ISNUMBER(SEARCH($A$3,L3127)),MAX($K$1:K3126)+1,0)","v":0},"Sangam (India) Ltd","SANGAM.BO",{"$nulls":12},{"$f":"IFERROR(VLOOKUP(ROWS($Z$2:Z3127),K3127:$L$6000,2,0),\"\")","v":""},{"$f":"IFERROR(VLOOKUP(ROWS($AA$2:AA3127),K3127:$M$6000,3,0),\"\")","v":""}]
[{"$nulls":10},{"$f":"IF(ISNUMBER(SEARCH($A$3,L3128)),MAX($K$1:K3127)+1,0)","v":0},"Sangam (India) Ltd","SANGAMIND.NS",{"$nulls":12},{"$f":"IFERROR(VLOOKUP(ROWS($Z$2:Z3128),K3128:$L$6000,2,0),\"\")","v":""},{"$f":"IFERROR(VLOOKUP(ROWS($AA$2:AA3128),K3128:$M$6000,3,0),\"\")","v":""}]
[{"$nulls":10},{"$f":"IF(ISNUMBER(SEARCH($A$3,L3129)),MAX($K$1:K3128)+1,0)","v":0},"Sanghi Industries Ltd","SANGHIIN.BO",{"$nulls":12},{"$f":"IFERROR(VLOOKUP(ROWS($Z$2:Z3129),K3129:$L$6000,2,0),\"\")","v":""},{"$f":"IFERROR(VLOOKUP(ROWS($AA$2:AA3129),K3129:$M$6000,3,0),\"\")","v":""}]
[{"$nulls":10},{"$f":"IF(ISNUMBER(SEARCH($A$3,L3130)),MAX($K$1:K3129)+1,0)","v":0},"Sanghi Industries Ltd","SANGHIIND.NS",{"$nulls":12},{"$f":"IFERROR(VLOOKUP(ROWS($Z$2:Z3130),K3130:$L$6000,2,0),\"\")","v":""},{"$f":"IFERROR(VLOOKUP(ROWS($AA$2:AA3130),K3130:$M$6000,3,0),\"\")","v":""}]
[{"$nulls":10},{"$f":"IF(ISNUMBER(SEARCH($A$3,L3131)),MAX($K$1:K3130)+1,0)","v":0},"Sanghvi Movers Ltd","SANGHVIMQ.BO",{"$nulls":12},{"$f":"IFERROR(VLOOKUP(ROWS($Z$2:Z3131),K3131:$L$6000,2,0),\"\")","v":""},{"$f":"IFERROR(VLOOKUP(ROWS($AA$2:AA3131),K3131:$M$6000,3,0),\"\")","v":""}]
[{"$nulls":10},{"$f":"IF(ISNUMBER(SEARCH($A$3,L3132)),MAX($K$1:K3131)+1,0)","v":0},"Sanghvi Movers Ltd","SANGHVIMO.NS",{"$nulls":12},{"$f":"IFERROR(VLOOKUP(ROWS($Z$2:Z3132),K3132:$L$6000,2,0),\"\")","v":""},{"$f":"IFERROR(VLOOKUP(ROWS($AA$2:AA3132),K3132:$M$6000,3,0),\"\")","v":""}]
[{"$nulls":10},{"$f":"IF(ISNUMBER(SEARCH($A$3,L3133)),MAX($K$1:K3132)+1,0)","v":0},"Sanjivani Paranterals Ltd","SANJIVIN.BO",{"$nulls":12},{"$f":"IFERROR(VLOOKUP(ROWS($Z$2:Z3133),K3133:$L$6000,2,0),\"\")","v":""},{"$f":"IFERROR(VLOOKUP(ROWS($AA$2:AA3133),K3133:$M$6000,3,0),\"\")","v":""}]
[{"$nulls":10},{"$f":"IF(ISNUMBER(SEARCH($A$3,L3134)),MAX($K$1:K3133)+1,0)","v":0},"Sankhya Infotech Ltd","SANKHYAIN.BO",{"$nulls":12},{"$f":"IFERROR(VLOOKUP(ROWS($Z$2:Z3134),K3134:$L$6000,2,0),\"\")","v":""},{"$f":"IFERROR(VLOOKUP(ROWS($AA$2:AA3134),K3134:$M$6000,3,0),\"\")","v":""}]
[{"$nulls":10},{"$f":"IF(ISNUMBER(SEARCH($A$3,L3135)),MAX($K$1:K3134)+1,0)","v":0},"Sanmit Infra Ltd","ASIAHR.BO",{"$nulls":12},{"$f":"IFERROR(VLOOKUP(ROWS($Z$2:Z3135),K3135:$L$6000,2,0),\"\")","v":""},{"$f":"IFERROR(VLOOKUP(ROWS($AA$2:AA3135),K3135:$M$6000,3,0),\"\")","v":""}]
[{"$nulls":10},{"$f":"IF(ISNUMBER(SEARCH($A$3,L3136)),MAX($K$1:K3135)+1,0)","v":0},"Sanofi India Ltd","AVENTIS.BO",{"$nulls":12},{"$f":"IFERROR(VLOOKUP(ROWS($Z$2:Z3136),K3136:$L$6000,2,0),\"\")","v":""},{"$f":"IFERROR(VLOOKUP(ROWS($AA$2:AA3136),K3136:$M$6000,3,0),\"\")","v":""}]
[{"$nulls":10},{"$f":"IF(ISNUMBER(SEARCH($A$3,L3137)),MAX($K$1:K3136)+1,0)","v":0},"Sanofi India Ltd","AVENTIS.NS",{"$nulls":12},{"$f":"IFERROR(VLOOKUP(ROWS($Z$2:Z3137),K3137:$L$6000,2,0),\"\")","v":""},{"$f":"IFERROR(VLOOKUP(ROWS($AA$2:AA3137),K3137:$M$6000,3,0),\"\")","v":""}]
[{"$nulls":10},{"$f":"IF(ISNUMBER(SEARCH($A$3,L3138)),MAX($K$1:K3137)+1,0)","v":0},"Santaram Spinners Ltd","SANTASPN.BO",{"$nulls":12},{"$f":"IFERROR(VLOOKUP(ROWS($Z$2:Z3138),K3138:$L$6000,2,0),\"\")","v":""},{"$f":"IFERROR(VLOOKUP(ROWS($AA$2:AA3138),K3138:$M$6000,3,0),\"\")","v":""}]
[{"$nulls":10},{"$f":"IF(ISNUMBER(SEARCH($A$3,L3139)),MAX($K$1:K3138)+1,0)","v":0},"Santosh Fine Fab Ltd","SANTOSHF.BO",{"$nulls":12},{"$f":"IFERROR(VLOOKUP(ROWS($Z$2:Z3139),K3139:$L$6000,2,0),\"\")","v":""},{"$f":"IFERROR(VLOOKUP(ROWS($AA$2:AA3139),K3139:$M$6000,3,0),\"\")","v":""}]
[{"$nulls":10},{"$f":"IF(ISNUMBER(SEARCH($A$3,L3140)),MAX($K$1:K3139)+1,0)","v":0},"Sanwaria Agro Oils Ltd","SANWARIA.BO",{"$nulls":12},{"$f":"IFERROR(VLOOKUP(ROWS($Z$2:Z3140),K3140:$L$6000,2,0),\"\")","v":""},{"$f":"IFERROR(VLOOKUP(ROWS($AA$2:AA3140),K3140:$M$6000,3,0),\"\")","v":""}]
[{"$nulls":10},{"$f":"IF(ISNUMBER(SEARCH($A$3,L3141)),MAX($K$1:K3140)+1,0)","v":0},"Sanwaria Agro Oils Ltd","SANWARIA.NS",{"$nulls":12},{"$f":"IFERROR(VLOOKUP(ROWS($Z$2:Z3141),K3141:$L$6000,2,0),\"\")","v":""},{"$f":"IFERROR(VLOOKUP(ROWS($AA$2:AA3141),K3141:$M$6000,3,0),\"\")","v":""}]
[{"$nulls":10},{"$f":"IF(ISNUMBER(SEARCH($A$3,L3142)),MAX($K$1:K3141)+1,0)","v":0},"Sapan Chemicals Ltd","SAPANCHEM.BO",{"$nulls":12},{"$f":"IFERROR(VLOOKUP(ROWS($Z$2:Z3142),K3142:$L$6000,2,0),\"\")","v":""},{"$f":"IFERROR(VLOOKUP(ROWS($AA$2:AA3142),K3142:$M$6000,3,0),\"\")","v":""}]
[{"$nulls":10},{"$f":"IF(ISNUMBER(SEARCH($A$3,L3143)),MAX($K$1:K3142)+1,0)","v":0},"Saral Mining Ltd","XOINFO.BO",{"$nulls":12},{"$f":"IFERROR(VLOOKUP(ROWS($Z$2:Z3143),K3143:$L$6000,2,0),\"\")","v":""},{"$f":"IFERROR(VLOOKUP(ROWS($AA$2:AA3143),K3143:$M$6000,3,0),\"\")","v":""}]
[{"$nulls":10},{"$f":"IF(ISNUMBER(SEARCH($A$3,L3144)),MAX($K$1:K3143)+1,0)","v":0},"Sarang Chemicals Ltd","SARCHEM.BO",{"$nulls":12},{"$f":"IFERROR(VLOOKUP(ROWS($Z$2:Z3144),K3144:$L$6000,2,0),\"\")","v":""},{"$f":"IFERROR(VLOOKUP(ROWS($AA$2:AA3144),K3144:$M$6000,3,0),\"\")","v":""}]
[{"$nulls":10},{"$f":"IF(ISNUMBER(SEARCH($A$3,L3145)),MAX($K$1:K3144)+1,0)","v":0},"Sarda Energy & Minerals Ltd","SARDAEN.BO",{"$nulls":12},{"$f":"IFERROR(VLOOKUP(ROWS($Z$2:Z3145),K3145:$L$6000,2,0),\"\")","v":""},{"$f":"IFERROR(VLOOKUP(ROWS($AA$2:AA3145),K3145:$M$6000,3,0),\"\")","v":""}]
[{"$nulls":10},{"$f":"IF(ISNUMBER(SEARCH($A$3,L3146)),MAX($K$1:K3145)+1,0)","v":0},"Sarda Papers Ltd","SARDAPPR.BO",{"$nulls":12},{"$f":"IFERROR(VLOOKUP(ROWS($Z$2:Z3146),K3146:$L$6000,2,0),\"\")","v":""},{"$f":"IFERROR(VLOOKUP(ROWS($AA$2:AA3146),K3146:$M$6000,3,0),\"\")","v":""}]
[{"$nulls":10},{"$f":"IF(ISNUMBER(SEARCH($A$3,L3147)),MAX($K$1:K3146)+1,0)","v":0},"Sarda Plywood Industries Ltd","SARDAPLY.BO",{"$nulls":12},{"$f":"IFERROR(VLOOKUP(ROWS($Z$2:Z3147),K3147:$L$6000,2,0),\"\")","v":""},{"$f":"IFERROR(VLOOKUP(ROWS($AA$2:AA3147),K3147:$M$6000,3,0),\"\")","v":""}]
[{"$nulls":10},{"$f":"IF(ISNUMBER(SEARCH($A$3,L3148)),MAX($K$1:K3147)+1,0)","v":0},"Saregama India Ltd","SAREGAMA.BO",{"$nulls":12},{"$f":"IFERROR(VLOOKUP(ROWS($Z$2:Z3148),K3148:$L$6000,2,0),\"\")","v":""},{"$f":"IFERROR(VLOOKUP(ROWS($AA$2:AA3148),K3148:$M$6000,3,0),\"\")","v":""}]
[{"$nulls":10},{"$f":"IF(ISNUMBER(SEARCH($A$3,L3149)),MAX($K$1:K3148)+1,0)","v":0},"Saregama India Ltd","SAREGAMA.NS",{"$nulls":12},{"$f":"IFERROR(VLOOKUP(ROWS($Z$2:Z3149),K3149:$L$6000,2,0),\"\")","v":""},{"$f":"IFERROR(VLOOKUP(ROWS($AA$2:AA3149),K3149:$M$6000,3,0),\"\")","v":""}]
[{"$nulls":10},{"$f":"IF(ISNUMBER(SEARCH($A$3,L3150)),MAX($K$1:K3149)+1,0)","v":0},"Sarla Performance Fibers Ltd","SARLAPERF.BO",{"$nulls":12},{"$f":"IFERROR(VLOOKUP(ROWS($Z$2:Z3150),K3150:$L$6000,2,0),\"\")","v":""},{"$f":"IFERROR(VLOOKUP(ROWS($AA$2:AA3150),K3150:$M$6000,3,0),\"\")","v":""}]
[{"$nulls":10},{"$f":"IF(ISNUMBER(SEARCH($A$3,L3151)),MAX($K$1:K3150)+1,0)","v":0},"Sarla Performance Fibers Ltd","SARLAPOLY.NS",{"$nulls":12},{"$f":"IFERROR(VLOOKUP(ROWS($Z$2:Z3151),K3151:$L$6000,2,0),\"\")","v":""},{"$f":"IFERROR(VLOOKUP(ROWS($AA$2:AA3151),K3151:$M$6000,3,0),\"\")","v":""}]
[{"$nulls":10},{"$f":"IF(ISNUMBER(SEARCH($A$3,L3152)),MAX($K$1:K3151)+1,0)","v":0},"Sarthak Industries Ltd","SARTHAKIN.BO",{"$nulls":12},{"$f":"IFERROR(VLOOKUP(ROWS($Z$2:Z3152),K3152:$L$6000,2,0),\"\")","v":""},{"$f":"IFERROR(VLOOKUP(ROWS($AA$2:AA3152),K3152:$M$6000,3,0),\"\")","v":""}]
[{"$nulls":10},{"$f":"IF(ISNUMBER(SEARCH($A$3,L3153)),MAX($K$1:K3152)+1,0)","v":0},"Sarup Industries Ltd","SARUPTAN.BO",{"$nulls":12},{"$f":"IFERROR(VLOOKUP(ROWS($Z$2:Z3153),K3153:$L$6000,2,0),\"\")","v":""},{"$f":"IFERROR(VLOOKUP(ROWS($AA$2:AA3153),K3153:$M$6000,3,0),\"\")","v":""}]
[{"$nulls":10},{"$f":"IF(ISNUMBER(SEARCH($A$3,L3154)),MAX($K$1:K3153)+1,0)","v":0},"Sashwat Technocrats Ltd","ZENZYTECH.BO",{"$nulls":12},{"$f":"IFERROR(VLOOKUP(ROWS($Z$2:Z3154),K3154:$L$6000,2,0),\"\")","v":""},{"$f":"IFERROR(VLOOKUP(ROWS($AA$2:AA3154),K3154:$M$6000,3,0),\"\")","v":""}]
[{"$nulls":10},{"$f":"IF(ISNUMBER(SEARCH($A$3,L3155)),MAX($K$1:K3154)+1,0)","v":0},"Sasken Communication Tech","SASKEN.BO",{"$nulls":12},{"$f":"IFERROR(VLOOKUP(ROWS($Z$2:Z3155),K3155:$L$6000,2,0),\"\")","v":""},{"$f":"IFERROR(VLOOKUP(ROWS($AA$2:AA3155),K3155:$M$6000,3,0),\"\")","v":""}]
[{"$nulls":10},{"$f":"IF(ISNUMBER(SEARCH($A$3,L3156)),MAX($K$1:K3155)+1,0)","v":0},"Sasken Communication Tech","SASKEN.NS",{"$nulls":12},{"$f":"IFERROR(VLOOKUP(ROWS($Z$2:Z3156),K3156:$L$6000,2,0),\"\")","v":""},{"$f":"IFERROR(VLOOKUP(ROWS($AA$2:AA3156),K3156:$M$6000,3,0),\"\")","v":""}]
[{"$nulls":10},{"$f":"IF(ISNUMBER(SEARCH($A$3,L3157)),MAX($K$1:K3156)+1,0)","v":0},"Sat Industries Ltd","SATINDLTD.BO",{"$nulls":12},{"$f":"IFERROR(VLOOKUP(ROWS($Z$2:Z3157),K3157:$L$6000,2,0),\"\")","v":""},{"$f":"IFERROR(VLOOKUP(ROWS($AA$2:AA3157),K3157:$M$6000,3,0),\"\")","v":""}]
[{"$nulls":10},{"$f":"IF(ISNUMBER(SEARCH($A$3,L3158)),MAX($K$1:K3157)+1,0)","v":0},"Satellite Engineering Ltd","SATELENG.BO",{"$nulls":12},{"$f":"IFERROR(VLOOKUP(ROWS($Z$2:Z3158),K3158:$L$6000,2,0),\"\")","v":""},{"$f":"IFERROR(VLOOKUP(ROWS($AA$2:AA3158),K3158:$M$6000,3,0),\"\")","v":""}]
[{"$nulls":10},{"$f":"IF(ISNUMBER(SEARCH($A$3,L3159)),MAX($K$1:K3158)+1,0)","v":0},"Sathavahana Ispat Ltd","SATHVANI.BO",{"$nulls":12},{"$f":"IFERROR(VLOOKUP(ROWS($Z$2:Z3159),K3159:$L$6000,2,0),\"\")","v":""},{"$f":"IFERROR(VLOOKUP(ROWS($AA$2:AA3159),K3159:$M$6000,3,0),\"\")","v":""}]
[{"$nulls":10},{"$f":"IF(ISNUMBER(SEARCH($A$3,L3160)),MAX($K$1:K3159)+1,0)","v":0},"Sathavahana Ispat Ltd","SATHAISPA.NS",{"$nulls":12},{"$f":"IFERROR(VLOOKUP(ROWS($Z$2:Z3160),K3160:$L$6000,2,0),\"\")","v":""},{"$f":"IFERROR(VLOOKUP(ROWS($AA$2:AA3160),K3160:$M$6000,3,0),\"\")","v":""}]
[{"$nulls":10},{"$f":"IF(ISNUMBER(SEARCH($A$3,L3161)),MAX($K$1:K3160)+1,0)","v":0},"Satra Properties India Ltd","SATRAPROP.BO",{"$nulls":12},{"$f":"IFERROR(VLOOKUP(ROWS($Z$2:Z3161),K3161:$L$6000,2,0),\"\")","v":""},{"$f":"IFERROR(VLOOKUP(ROWS($AA$2:AA3161),K3161:$M$6000,3,0),\"\")","v":""}]
[{"$nulls":10},{"$f":"IF(ISNUMBER(SEARCH($A$3,L3162)),MAX($K$1:K3161)+1,0)","v":0},"Saurashtra Cement Ltd","SAURASHCEM.BO",{"$nulls":12},{"$f":"IFERROR(VLOOKUP(ROWS($Z$2:Z3162),K3162:$L$6000,2,0),\"\")","v":""},{"$f":"IFERROR(VLOOKUP(ROWS($AA$2:AA3162),K3162:$M$6000,3,0),\"\")","v":""}]
[{"$nulls":10},{"$f":"IF(ISNUMBER(SEARCH($A$3,L3163)),MAX($K$1:K3162)+1,0)","v":0},"Savani Financial Ltd","SAVFI.BO",{"$nulls":12},{"$f":"IFERROR(VLOOKUP(ROWS($Z$2:Z3163),K3163:$L$6000,2,0),\"\")","v":""},{"$f":"IFERROR(VLOOKUP(ROWS($AA$2:AA3163),K3163:$M$6000,3,0),\"\")","v":""}]
[{"$nulls":10},{"$f":"IF(ISNUMBER(SEARCH($A$3,L3164)),MAX($K$1:K3163)+1,0)","v":0},"Savant Infocomm Ltd","SAVINFOCO.BO",{"$nulls":12},{"$f":"IFERROR(VLOOKUP(ROWS($Z$2:Z3164),K3164:$L$6000,2,0),\"\")","v":""},{"$f":"IFERROR(VLOOKUP(ROWS($AA$2:AA3164),K3164:$M$6000,3,0),\"\")","v":""}]
[{"$nulls":10},{"$f":"IF(ISNUMBER(SEARCH($A$3,L3165)),MAX($K$1:K3164)+1,0)","v":0},"Saven Technologies Ltd","7TEC.BO",{"$nulls":12},{"$f":"IFERROR(VLOOKUP(ROWS($Z$2:Z3165),K3165:$L$6000,2,0),\"\")","v":""},{"$f":"IFERROR(VLOOKUP(ROWS($AA$2:AA3165),K3165:$M$6000,3,0),\"\")","v":""}]
[{"$nulls":10},{"$f":"IF(ISNUMBER(SEARCH($A$3,L3166)),MAX($K$1:K3165)+1,0)","v":0},"Savera Industries Ltd","SAVERAIND.BO",{"$nulls":12},{"$f":"IFERROR(VLOOKUP(ROWS($Z$2:Z3166),K3166:$L$6000,2,0),\"\")","v":""},{"$f":"IFERROR(VLOOKUP(ROWS($AA$2:AA3166),K3166:$M$6000,3,0),\"\")","v":""}]
[{"$nulls":10},{"$f":"IF(ISNUMBER(SEARCH($A$3,L3167)),MAX($K$1:K3166)+1,0)","v":0},"Savita Oil Technologies Ltd","SOTL.BO",{"$nulls":12},{"$f":"IFERROR(VLOOKUP(ROWS($Z$2:Z3167),K3167:$L$6000,2,0),\"\")","v":""},{"$f":"IFERROR(VLOOKUP(ROWS($AA$2:AA3167),K3167:$M$6000,3,0),\"\")","v":""}]
[{"$nulls":10},{"$f":"IF(ISNUMBER(SEARCH($A$3,L3168)),MAX($K$1:K3167)+1,0)","v":0},"Savita Oil Technologies Ltd","SOTL.NS",{"$nulls":12},{"$f":"IFERROR(VLOOKUP(ROWS($Z$2:Z3168),K3168:$L$6000,2,0),\"\")","v":""},{"$f":"IFERROR(VLOOKUP(ROWS($AA$2:AA3168),K3168:$M$6000,3,0),\"\")","v":""}]
[{"$nulls":10},{"$f":"IF(ISNUMBER(SEARCH($A$3,L3169)),MAX($K$1:K3168)+1,0)","v":0},"Sawaca Business Machines Ltd","SAWABUSI.BO",{"$nulls":12},{"$f":"IFERROR(VLOOKUP(ROWS($Z$2:Z3169),K3169:$L$6000,2,0),\"\")","v":""},{"$f":"IFERROR(VLOOKUP(ROWS($AA$2:AA3169),K3169:$M$6000,3,0),\"\")","v":""}]
[{"$nulls":10},{"$f":"IF(ISNUMBER(SEARCH($A$3,L3170)),MAX($K$1:K3169)+1,0)","v":0},"Sayaji Hotels Ltd","SAYAJHO.BO",{"$nulls":12},{"$f":"IFERROR(VLOOKUP(ROWS($Z$2:Z3170),K3170:$L$6000,2,0),\"\")","v":""},{"$f":"IFERROR(VLOOKUP(ROWS($AA$2:AA3170),K3170:$M$6000,3,0),\"\")","v":""}]
[{"$nulls":10},{"$f":"IF(ISNUMBER(SEARCH($A$3,L3171)),MAX($K$1:K3170)+1,0)","v":0},"SBEC Sugar Ltd","SBECSUG.BO",{"$nulls":12},{"$f":"IFERROR(VLOOKUP(ROWS($Z$2:Z3171),K3171:$L$6000,2,0),\"\")","v":""},{"$f":"IFERROR(VLOOKUP(ROWS($AA$2:AA3171),K3171:$M$6000,3,0),\"\")","v":""}]
[{"$nulls":10},{"$f":"IF(ISNUMBER(SEARCH($A$3,L3172)),MAX($K$1:K3171)+1,0)","v":0},"Scanpoint Geomatics Ltd","SCANPGEOM.BO",{"$nulls":12},{"$f":"IFERROR(VLOOKUP(ROWS($Z$2:Z3172),K3172:$L$6000,2,0),\"\")","v":""},{"$f":"IFERROR(VLOOKUP(ROWS($AA$2:AA3172),K3172:$M$6000,3,0),\"\")","v":""}]
[{"$nulls":10},{"$f":"IF(ISNUMBER(SEARCH($A$3,L3173)),MAX($K$1:K3172)+1,0)","v":0},"Schablona India Ltd","SCHABLON.BO",{"$nulls":12},{"$f":"IFERROR(VLOOKUP(ROWS($Z$2:Z3173),K3173:$L$6000,2,0),\"\")","v":""},{"$f":"IFERROR(VLOOKUP(ROWS($AA$2:AA3173),K3173:$M$6000,3,0),\"\")","v":""}]
[{"$nulls":10},{"$f":"IF(ISNUMBER(SEARCH($A$3,L3174)),MAX($K$1:K3173)+1,0)","v":0},"Schneider Electric","APW.BO",{"$nulls":12},{"$f":"IFERROR(VLOOKUP(ROWS($Z$2:Z3174),K3174:$L$6000,2,0),\"\")","v":""},{"$f":"IFERROR(VLOOKUP(ROWS($AA$2:AA3174),K3174:$M$6000,3,0),\"\")","v":""}]
[{"$nulls":10},{"$f":"IF(ISNUMBER(SEARCH($A$3,L3175)),MAX($K$1:K3174)+1,0)","v":0},"Schrader Duncan Ltd","SSDUNC.BO",{"$nulls":12},{"$f":"IFERROR(VLOOKUP(ROWS($Z$2:Z3175),K3175:$L$6000,2,0),\"\")","v":""},{"$f":"IFERROR(VLOOKUP(ROWS($AA$2:AA3175),K3175:$M$6000,3,0),\"\")","v":""}]
[{"$nulls":10},{"$f":"IF(ISNUMBER(SEARCH($A$3,L3176)),MAX($K$1:K3175)+1,0)","v":0},"Scooters India Ltd","SCOOTER.BO",{"$nulls":12},{"$f":"IFERROR(VLOOKUP(ROWS($Z$2:Z3176),K3176:$L$6000,2,0),\"\")","v":""},{"$f":"IFERROR(VLOOKUP(ROWS($AA$2:AA3176),K3176:$M$6000,3,0),\"\")","v":""}]
[{"$nulls":10},{"$f":"IF(ISNUMBER(SEARCH($A$3,L3177)),MAX($K$1:K3176)+1,0)","v":0},"Scope Industries (India) Ltd","JAIMU.BO",{"$nulls":12},{"$f":"IFERROR(VLOOKUP(ROWS($Z$2:Z3177),K3177:$L$6000,2,0),\"\")","v":""},{"$f":"IFERROR(VLOOKUP(ROWS($AA$2:AA3177),K3177:$M$6000,3,0),\"\")","v":""}]
[{"$nulls":10},{"$f":"IF(ISNUMBER(SEARCH($A$3,L3178)),MAX($K$1:K3177)+1,0)","v":0},"Sea Gold Infrastructure Ltd","SEAGOLD.BO",{"$nulls":12},{"$f":"IFERROR(VLOOKUP(ROWS($Z$2:Z3178),K3178:$L$6000,2,0),\"\")","v":""},{"$f":"IFERROR(VLOOKUP(ROWS($AA$2:AA3178),K3178:$M$6000,3,0),\"\")","v":""}]
[{"$nulls":10},{"$f":"IF(ISNUMBER(SEARCH($A$3,L3179)),MAX($K$1:K3178)+1,0)","v":0},"Seamec Ltd","SEAMECLTD.BO",{"$nulls":12},{"$f":"IFERROR(VLOOKUP(ROWS($Z$2:Z3179),K3179:$L$6000,2,0),\"\")","v":""},{"$f":"IFERROR(VLOOKUP(ROWS($AA$2:AA3179),K3179:$M$6000,3,0),\"\")","v":""}]
[{"$nulls":10},{"$f":"IF(ISNUMBER(SEARCH($A$3,L3180)),MAX($K$1:K3179)+1,0)","v":0},"Seamec Ltd","SEAMECLTD.NS",{"$nulls":12},{"$f":"IFERROR(VLOOKUP(ROWS($Z$2:Z3180),K3180:$L$6000,2,0),\"\")","v":""},{"$f":"IFERROR(VLOOKUP(ROWS($AA$2:AA3180),K3180:$M$6000,3,0),\"\")","v":""}]
[{"$nulls":10},{"$f":"IF(ISNUMBER(SEARCH($A$3,L3181)),MAX($K$1:K3180)+1,0)","v":0},"Seasons Furnishings Ltd","SEASONF.BO",{"$nulls":12},{"$f":"IFERROR(VLOOKUP(ROWS($Z$2:Z3181),K3181:$L$6000,2,0),\"\")","v":""},{"$f":"IFERROR(VLOOKUP(ROWS($AA$2:AA3181),K3181:$M$6000,3,0),\"\")","v":""}]
[{"$nulls":10},{"$f":"IF(ISNUMBER(SEARCH($A$3,L3182)),MAX($K$1:K3181)+1,0)","v":0},"Seasons Textiles Ltd","SEASONST.BO",{"$nulls":12},{"$f":"IFERROR(VLOOKUP(ROWS($Z$2:Z3182),K3182:$L$6000,2,0),\"\")","v":""},{"$f":"IFERROR(VLOOKUP(ROWS($AA$2:AA3182),K3182:$M$6000,3,0),\"\")","v":""}]
[{"$nulls":10},{"$f":"IF(ISNUMBER(SEARCH($A$3,L3183)),MAX($K$1:K3182)+1,0)","v":0},"Secunderabad Healthcare Ltd","SECHE.BO",{"$nulls":12},{"$f":"IFERROR(VLOOKUP(ROWS($Z$2:Z3183),K3183:$L$6000,2,0),\"\")","v":""},{"$f":"IFERROR(VLOOKUP(ROWS($AA$2:AA3183),K3183:$M$6000,3,0),\"\")","v":""}]
[{"$nulls":10},{"$f":"IF(ISNUMBER(SEARCH($A$3,L3184)),MAX($K$1:K3183)+1,0)","v":0},"Secure Earth Technologies Ltd","GLOBSYNIN.BO",{"$nulls":12},{"$f":"IFERROR(VLOOKUP(ROWS($Z$2:Z3184),K3184:$L$6000,2,0),\"\")","v":""},{"$f":"IFERROR(VLOOKUP(ROWS($AA$2:AA3184),K3184:$M$6000,3,0),\"\")","v":""}]
[{"$nulls":10},{"$f":"IF(ISNUMBER(SEARCH($A$3,L3185)),MAX($K$1:K3184)+1,0)","v":0},"SEL Manufacturing Co Ltd","SELMCL.BO",{"$nulls":12},{"$f":"IFERROR(VLOOKUP(ROWS($Z$2:Z3185),K3185:$L$6000,2,0),\"\")","v":""},{"$f":"IFERROR(VLOOKUP(ROWS($AA$2:AA3185),K3185:$M$6000,3,0),\"\")","v":""}]
[{"$nulls":10},{"$f":"IF(ISNUMBER(SEARCH($A$3,L3186)),MAX($K$1:K3185)+1,0)","v":0},"SEL Manufacturing Co Ltd","SELMCL.NS",{"$nulls":12},{"$f":"IFERROR(VLOOKUP(ROWS($Z$2:Z3186),K3186:$L$6000,2,0),\"\")","v":""},{"$f":"IFERROR(VLOOKUP(ROWS($AA$2:AA3186),K3186:$M$6000,3,0),\"\")","v":""}]
[{"$nulls":10},{"$f":"IF(ISNUMBER(SEARCH($A$3,L3187)),MAX($K$1:K3186)+1,0)","v":0},"Selan Exploration","SELAN.BO",{"$nulls":12},{"$f":"IFERROR(VLOOKUP(ROWS($Z$2:Z3187),K3187:$L$6000,2,0),\"\")","v":""},{"$f":"IFERROR(VLOOKUP(ROWS($AA$2:AA3187),K3187:$M$6000,3,0),\"\")","v":""}]
[{"$nulls":10},{"$f":"IF(ISNUMBER(SEARCH($A$3,L3188)),MAX($K$1:K3187)+1,0)","v":0},"Selan Exploration","SELAN.NS",{"$nulls":12},{"$f":"IFERROR(VLOOKUP(ROWS($Z$2:Z3188),K3188:$L$6000,2,0),\"\")","v":""},{"$f":"IFERROR(VLOOKUP(ROWS($AA$2:AA3188),K3188:$M$6000,3,0),\"\")","v":""}]
[{"$nulls":10},{"$f":"IF(ISNUMBER(SEARCH($A$3,L3189)),MAX($K$1:K3188)+1,0)","v":0},"Senbo Industries Ltd","SENBO.BO",{"$nulls":12},{"$f":"IFERROR(VLOOKUP(ROWS($Z$2:Z3189),K3189:$L$6000,2,0),\"\")","v":""},{"$f":"IFERROR(VLOOKUP(ROWS($AA$2:AA3189),K3189:$M$6000,3,0),\"\")","v":""}]
[{"$nulls":10},{"$f":"IF(ISNUMBER(SEARCH($A$3,L3190)),MAX($K$1:K3189)+1,0)","v":0},"Senthil Infotek Ltd","SENAG.BO",{"$nulls":12},{"$f":"IFERROR(VLOOKUP(ROWS($Z$2:Z3190),K3190:$L$6000,2,0),\"\")","v":""},{"$f":"IFERROR(VLOOKUP(ROWS($AA$2:AA3190),K3190:$M$6000,3,0),\"\")","v":""}]
[{"$nulls":10},{"$f":"IF(ISNUMBER(SEARCH($A$3,L3191)),MAX($K$1:K3190)+1,0)","v":0},"Sequel e-Routers Ltd","SEQUELE.BO",{"$nulls":12},{"$f":"IFERROR(VLOOKUP(ROWS($Z$2:Z3191),K3191:$L$6000,2,0),\"\")","v":""},{"$f":"IFERROR(VLOOKUP(ROWS($AA$2:AA3191),K3191:$M$6000,3,0),\"\")","v":""}]
[{"$nulls":10},{"$f":"IF(ISNUMBER(SEARCH($A$3,L3192)),MAX($K$1:K3191)+1,0)","v":0},"SER Industries Ltd","SERIND.BO",{"$nulls":12},{"$f":"IFERROR(VLOOKUP(ROWS($Z$2:Z3192),K3192:$L$6000,2,0),\"\")","v":""},{"$f":"IFERROR(VLOOKUP(ROWS($AA$2:AA3192),K3192:$M$6000,3,0),\"\")","v":""}]
[{"$nulls":10},{"$f":"IF(ISNUMBER(SEARCH($A$3,L3193)),MAX($K$1:K3192)+1,0)","v":0},"Servotech Engineering","SERVOTEC.BO",{"$nulls":12},{"$f":"IFERROR(VLOOKUP(ROWS($Z$2:Z3193),K3193:$L$6000,2,0),\"\")","v":""},{"$f":"IFERROR(VLOOKUP(ROWS($AA$2:AA3193),K3193:$M$6000,3,0),\"\")","v":""}]
[{"$nulls":10},{"$f":"IF(ISNUMBER(SEARCH($A$3,L3194)),MAX($K$1:K3193)+1,0)","v":0},"Seshachal Technologies Ltd","SESHACHAL.BO",{"$nulls":12},{"$f":"IFERROR(VLOOKUP(ROWS($Z$2:Z3194),K3194:$L$6000,2,0),\"\")","v":""},{"$f":"IFERROR(VLOOKUP(ROWS($AA$2:AA3194),K3194:$M$6000,3,0),\"\")","v":""}]
[{"$nulls":10},{"$f":"IF(ISNUMBER(SEARCH($A$3,L3195)),MAX($K$1:K3194)+1,0)","v":0},"Seshasayee Paper & Boards Ltd","SESHAPPR.BO",{"$nulls":12},{"$f":"IFERROR(VLOOKUP(ROWS($Z$2:Z3195),K3195:$L$6000,2,0),\"\")","v":""},{"$f":"IFERROR(VLOOKUP(ROWS($AA$2:AA3195),K3195:$M$6000,3,0),\"\")","v":""}]
[{"$nulls":10},{"$f":"IF(ISNUMBER(SEARCH($A$3,L3196)),MAX($K$1:K3195)+1,0)","v":0},"Seshasayee Paper & Boards Ltd","SESHAPAPE.NS",{"$nulls":12},{"$f":"IFERROR(VLOOKUP(ROWS($Z$2:Z3196),K3196:$L$6000,2,0),\"\")","v":""},{"$f":"IFERROR(VLOOKUP(ROWS($AA$2:AA3196),K3196:$M$6000,3,0),\"\")","v":""}]
[{"$nulls":10},{"$f":"IF(ISNUMBER(SEARCH($A$3,L3197)),MAX($K$1:K3196)+1,0)","v":0},"Setco Automotive Ltd","SETCO.BO",{"$nulls":12},{"$f":"IFERROR(VLOOKUP(ROWS($Z$2:Z3197),K3197:$L$6000,2,0),\"\")","v":""},{"$f":"IFERROR(VLOOKUP(ROWS($AA$2:AA3197),K3197:$M$6000,3,0),\"\")","v":""}]
[{"$nulls":10},{"$f":"IF(ISNUMBER(SEARCH($A$3,L3198)),MAX($K$1:K3197)+1,0)","v":0},"Seven Hill Industries Ltd","KOSIAN.BO",{"$nulls":12},{"$f":"IFERROR(VLOOKUP(ROWS($Z$2:Z3198),K3198:$L$6000,2,0),\"\")","v":""},{"$f":"IFERROR(VLOOKUP(ROWS($AA$2:AA3198),K3198:$M$6000,3,0),\"\")","v":""}]
[{"$nulls":10},{"$f":"IF(ISNUMBER(SEARCH($A$3,L3199)),MAX($K$1:K3198)+1,0)","v":0},"SGN Telecoms Ltd","SGNTE.BO",{"$nulls":12},{"$f":"IFERROR(VLOOKUP(ROWS($Z$2:Z3199),K3199:$L$6000,2,0),\"\")","v":""},{"$f":"IFERROR(VLOOKUP(ROWS($AA$2:AA3199),K3199:$M$6000,3,0),\"\")","v":""}]
[{"$nulls":10},{"$f":"IF(ISNUMBER(SEARCH($A$3,L3200)),MAX($K$1:K3199)+1,0)","v":0},"Shah Alloys Ltd","SHAHALL.BO",{"$nulls":12},{"$f":"IFERROR(VLOOKUP(ROWS($Z$2:Z3200),K3200:$L$6000,2,0),\"\")","v":""},{"$f":"IFERROR(VLOOKUP(ROWS($AA$2:AA3200),K3200:$M$6000,3,0),\"\")","v":""}]
[{"$nulls":10},{"$f":"IF(ISNUMBER(SEARCH($A$3,L3201)),MAX($K$1:K3200)+1,0)","v":0},"Shah Alloys Ltd","SHAHALLOY.NS",{"$nulls":12},{"$f":"IFERROR(VLOOKUP(ROWS($Z$2:Z3201),K3201:$L$6000,2,0),\"\")","v":""},{"$f":"IFERROR(VLOOKUP(ROWS($AA$2:AA3201),K3201:$M$6000,3,0),\"\")","v":""}]
[{"$nulls":10},{"$f":"IF(ISNUMBER(SEARCH($A$3,L3202)),MAX($K$1:K3201)+1,0)","v":0},"Shah Foods Ltd","SHAHFOOD.BO",{"$nulls":12},{"$f":"IFERROR(VLOOKUP(ROWS($Z$2:Z3202),K3202:$L$6000,2,0),\"\")","v":""},{"$f":"IFERROR(VLOOKUP(ROWS($AA$2:AA3202),K3202:$M$6000,3,0),\"\")","v":""}]
[{"$nulls":10},{"$f":"IF(ISNUMBER(SEARCH($A$3,L3203)),MAX($K$1:K3202)+1,0)","v":0},"Shaily Engineering Plasti","SHAILY.BO",{"$nulls":12},{"$f":"IFERROR(VLOOKUP(ROWS($Z$2:Z3203),K3203:$L$6000,2,0),\"\")","v":""},{"$f":"IFERROR(VLOOKUP(ROWS($AA$2:AA3203),K3203:$M$6000,3,0),\"\")","v":""}]
[{"$nulls":10},{"$f":"IF(ISNUMBER(SEARCH($A$3,L3204)),MAX($K$1:K3203)+1,0)","v":0},"Shakti Press Ltd","SHAKTIPR.BO",{"$nulls":12},{"$f":"IFERROR(VLOOKUP(ROWS($Z$2:Z3204),K3204:$L$6000,2,0),\"\")","v":""},{"$f":"IFERROR(VLOOKUP(ROWS($AA$2:AA3204),K3204:$M$6000,3,0),\"\")","v":""}]
[{"$nulls":10},{"$f":"IF(ISNUMBER(SEARCH($A$3,L3205)),MAX($K$1:K3204)+1,0)","v":0},"Shakti Pumps (India) Ltd","SHAKTIPU.BO",{"$nulls":12},{"$f":"IFERROR(VLOOKUP(ROWS($Z$2:Z3205),K3205:$L$6000,2,0),\"\")","v":""},{"$f":"IFERROR(VLOOKUP(ROWS($AA$2:AA3205),K3205:$M$6000,3,0),\"\")","v":""}]
[{"$nulls":10},{"$f":"IF(ISNUMBER(SEARCH($A$3,L3206)),MAX($K$1:K3205)+1,0)","v":0},"Shalibhadra Finance Ltd","SAHLIBHFI.BO",{"$nulls":12},{"$f":"IFERROR(VLOOKUP(ROWS($Z$2:Z3206),K3206:$L$6000,2,0),\"\")","v":""},{"$f":"IFERROR(VLOOKUP(ROWS($AA$2:AA3206),K3206:$M$6000,3,0),\"\")","v":""}]
[{"$nulls":10},{"$f":"IF(ISNUMBER(SEARCH($A$3,L3207)),MAX($K$1:K3206)+1,0)","v":0},"Shalimar Paints Ltd","SHALMPAI.BO",{"$nulls":12},{"$f":"IFERROR(VLOOKUP(ROWS($Z$2:Z3207),K3207:$L$6000,2,0),\"\")","v":""},{"$f":"IFERROR(VLOOKUP(ROWS($AA$2:AA3207),K3207:$M$6000,3,0),\"\")","v":""}]
[{"$nulls":10},{"$f":"IF(ISNUMBER(SEARCH($A$3,L3208)),MAX($K$1:K3207)+1,0)","v":0},"Shalimar Paints Ltd","SHALPAINT.NS",{"$nulls":12},{"$f":"IFERROR(VLOOKUP(ROWS($Z$2:Z3208),K3208:$L$6000,2,0),\"\")","v":""},{"$f":"IFERROR(VLOOKUP(ROWS($AA$2:AA3208),K3208:$M$6000,3,0),\"\")","v":""}]
[{"$nulls":10},{"$f":"IF(ISNUMBER(SEARCH($A$3,L3209)),MAX($K$1:K3208)+1,0)","v":0},"Shalimar Productions Ltd","SHALPRO.BO",{"$nulls":12},{"$f":"IFERROR(VLOOKUP(ROWS($Z$2:Z3209),K3209:$L$6000,2,0),\"\")","v":""},{"$f":"IFERROR(VLOOKUP(ROWS($AA$2:AA3209),K3209:$M$6000,3,0),\"\")","v":""}]
[{"$nulls":10},{"$f":"IF(ISNUMBER(SEARCH($A$3,L3210)),MAX($K$1:K3209)+1,0)","v":0},"Shalimar Wires Industries Ltd","SHALIWIR.BO",{"$nulls":12},{"$f":"IFERROR(VLOOKUP(ROWS($Z$2:Z3210),K3210:$L$6000,2,0),\"\")","v":""},{"$f":"IFERROR(VLOOKUP(ROWS($AA$2:AA3210),K3210:$M$6000,3,0),\"\")","v":""}]
[{"$nulls":10},{"$f":"IF(ISNUMBER(SEARCH($A$3,L3211)),MAX($K$1:K3210)+1,0)","v":0},"Shanthi Gears Ltd","SHANTIGE.BO",{"$nulls":12},{"$f":"IFERROR(VLOOKUP(ROWS($Z$2:Z3211),K3211:$L$6000,2,0),\"\")","v":""},{"$f":"IFERROR(VLOOKUP(ROWS($AA$2:AA3211),K3211:$M$6000,3,0),\"\")","v":""}]
[{"$nulls":10},{"$f":"IF(ISNUMBER(SEARCH($A$3,L3212)),MAX($K$1:K3211)+1,0)","v":0},"Shanthi Gears Ltd","SHANTIGEA.NS",{"$nulls":12},{"$f":"IFERROR(VLOOKUP(ROWS($Z$2:Z3212),K3212:$L$6000,2,0),\"\")","v":""},{"$f":"IFERROR(VLOOKUP(ROWS($AA$2:AA3212),K3212:$M$6000,3,0),\"\")","v":""}]
[{"$nulls":10},{"$f":"IF(ISNUMBER(SEARCH($A$3,L3213)),MAX($K$1:K3212)+1,0)","v":0},"Shantivijay Jewels Ltd","SHANTIVI.BO",{"$nulls":12},{"$f":"IFERROR(VLOOKUP(ROWS($Z$2:Z3213),K3213:$L$6000,2,0),\"\")","v":""},{"$f":"IFERROR(VLOOKUP(ROWS($AA$2:AA3213),K3213:$M$6000,3,0),\"\")","v":""}]
[{"$nulls":10},{"$f":"IF(ISNUMBER(SEARCH($A$3,L3214)),MAX($K$1:K3213)+1,0)","v":0},"Sharad Fibres","SHARDFI.BO",{"$nulls":12},{"$f":"IFERROR(VLOOKUP(ROWS($Z$2:Z3214),K3214:$L$6000,2,0),\"\")","v":""},{"$f":"IFERROR(VLOOKUP(ROWS($AA$2:AA3214),K3214:$M$6000,3,0),\"\")","v":""}]
[{"$nulls":10},{"$f":"IF(ISNUMBER(SEARCH($A$3,L3215)),MAX($K$1:K3214)+1,0)","v":0},"Shardul Securities Ltd","SHARDUL.BO",{"$nulls":12},{"$f":"IFERROR(VLOOKUP(ROWS($Z$2:Z3215),K3215:$L$6000,2,0),\"\")","v":""},{"$f":"IFERROR(VLOOKUP(ROWS($AA$2:AA3215),K3215:$M$6000,3,0),\"\")","v":""}]
[{"$nulls":10},{"$f":"IF(ISNUMBER(SEARCH($A$3,L3216)),MAX($K$1:K3215)+1,0)","v":0},"Sharp India Ltd","SHARP.BO",{"$nulls":12},{"$f":"IFERROR(VLOOKUP(ROWS($Z$2:Z3216),K3216:$L$6000,2,0),\"\")","v":""},{"$f":"IFERROR(VLOOKUP(ROWS($AA$2:AA3216),K3216:$M$6000,3,0),\"\")","v":""}]
[{"$nulls":10},{"$f":"IF(ISNUMBER(SEARCH($A$3,L3217)),MAX($K$1:K3216)+1,0)","v":0},"Sharp Industries Ltd","SHARPIND.BO",{"$nulls":12},{"$f":"IFERROR(VLOOKUP(ROWS($Z$2:Z3217),K3217:$L$6000,2,0),\"\")","v":""},{"$f":"IFERROR(VLOOKUP(ROWS($AA$2:AA3217),K3217:$M$6000,3,0),\"\")","v":""}]
[{"$nulls":10},{"$f":"IF(ISNUMBER(SEARCH($A$3,L3218)),MAX($K$1:K3217)+1,0)","v":0},"Sharyans Resources Ltd","SHARYANR.BO",{"$nulls":12},{"$f":"IFERROR(VLOOKUP(ROWS($Z$2:Z3218),K3218:$L$6000,2,0),\"\")","v":""},{"$f":"IFERROR(VLOOKUP(ROWS($AA$2:AA3218),K3218:$M$6000,3,0),\"\")","v":""}]
[{"$nulls":10},{"$f":"IF(ISNUMBER(SEARCH($A$3,L3219)),MAX($K$1:K3218)+1,0)","v":0},"Sharyans Resources Ltd","SHARRESLT.NS",{"$nulls":12},{"$f":"IFERROR(VLOOKUP(ROWS($Z$2:Z3219),K3219:$L$6000,2,0),\"\")","v":""},{"$f":"IFERROR(VLOOKUP(ROWS($AA$2:AA3219),K3219:$M$6000,3,0),\"\")","v":""}]
[{"$nulls":10},{"$f":"IF(ISNUMBER(SEARCH($A$3,L3220)),MAX($K$1:K3219)+1,0)","v":0},"Shasun Pharmaceuticals Ltd","SHASUNCHEM.BO",{"$nulls":12},{"$f":"IFERROR(VLOOKUP(ROWS($Z$2:Z3220),K3220:$L$6000,2,0),\"\")","v":""},{"$f":"IFERROR(VLOOKUP(ROWS($AA$2:AA3220),K3220:$M$6000,3,0),\"\")","v":""}]
[{"$nulls":10},{"$f":"IF(ISNUMBER(SEARCH($A$3,L3221)),MAX($K$1:K3220)+1,0)","v":0},"Shasun Pharmaceuticals Ltd","SHASUNCHE.NS",{"$nulls":12},{"$f":"IFERROR(VLOOKUP(ROWS($Z$2:Z3221),K3221:$L$6000,2,0),\"\")","v":""},{"$f":"IFERROR(VLOOKUP(ROWS($AA$2:AA3221),K3221:$M$6000,3,0),\"\")","v":""}]
[{"$nulls":10},{"$f":"IF(ISNUMBER(SEARCH($A$3,L3222)),MAX($K$1:K3221)+1,0)","v":0},"Sheetal Diamonds Ltd","SHEETAL.BO",{"$nulls":12},{"$f":"IFERROR(VLOOKUP(ROWS($Z$2:Z3222),K3222:$L$6000,2,0),\"\")","v":""},{"$f":"IFERROR(VLOOKUP(ROWS($AA$2:AA3222),K3222:$M$6000,3,0),\"\")","v":""}]
[{"$nulls":10},{"$f":"IF(ISNUMBER(SEARCH($A$3,L3223)),MAX($K$1:K3222)+1,0)","v":0},"Shelter Infra Projects Ltd","CCAP.BO",{"$nulls":12},{"$f":"IFERROR(VLOOKUP(ROWS($Z$2:Z3223),K3223:$L$6000,2,0),\"\")","v":""},{"$f":"IFERROR(VLOOKUP(ROWS($AA$2:AA3223),K3223:$M$6000,3,0),\"\")","v":""}]
[{"$nulls":10},{"$f":"IF(ISNUMBER(SEARCH($A$3,L3224)),MAX($K$1:K3223)+1,0)","v":0},"Shervani Industrial Syndi","SHERVANI.BO",{"$nulls":12},{"$f":"IFERROR(VLOOKUP(ROWS($Z$2:Z3224),K3224:$L$6000,2,0),\"\")","v":""},{"$f":"IFERROR(VLOOKUP(ROWS($AA$2:AA3224),K3224:$M$6000,3,0),\"\")","v":""}]
[{"$nulls":10},{"$f":"IF(ISNUMBER(SEARCH($A$3,L3225)),MAX($K$1:K3224)+1,0)","v":0},"Shetron Ltd","SHETR.BO",{"$nulls":12},{"$f":"IFERROR(VLOOKUP(ROWS($Z$2:Z3225),K3225:$L$6000,2,0),\"\")","v":""},{"$f":"IFERROR(VLOOKUP(ROWS($AA$2:AA3225),K3225:$M$6000,3,0),\"\")","v":""}]
[{"$nulls":10},{"$f":"IF(ISNUMBER(SEARCH($A$3,L3226)),MAX($K$1:K3225)+1,0)","v":0},"Shilchar Technologies Ltd","SHILCTECH.BO",{"$nulls":12},{"$f":"IFERROR(VLOOKUP(ROWS($Z$2:Z3226),K3226:$L$6000,2,0),\"\")","v":""},{"$f":"IFERROR(VLOOKUP(ROWS($AA$2:AA3226),K3226:$M$6000,3,0),\"\")","v":""}]
[{"$nulls":10},{"$f":"IF(ISNUMBER(SEARCH($A$3,L3227)),MAX($K$1:K3226)+1,0)","v":0},"Shilp Gravures Ltd","SHILGRAVQ.BO",{"$nulls":12},{"$f":"IFERROR(VLOOKUP(ROWS($Z$2:Z3227),K3227:$L$6000,2,0),\"\")","v":""},{"$f":"IFERROR(VLOOKUP(ROWS($AA$2:AA3227),K3227:$M$6000,3,0),\"\")","v":""}]
[{"$nulls":10},{"$f":"IF(ISNUMBER(SEARCH($A$3,L3228)),MAX($K$1:K3227)+1,0)","v":0},"Shilpa Medicare Ltd","SHILPAMEDCA.BO",{"$nulls":12},{"$f":"IFERROR(VLOOKUP(ROWS($Z$2:Z3228),K3228:$L$6000,2,0),\"\")","v":""},{"$f":"IFERROR(VLOOKUP(ROWS($AA$2:AA3228),K3228:$M$6000,3,0),\"\")","v":""}]
[{"$nulls":10},{"$f":"IF(ISNUMBER(SEARCH($A$3,L3229)),MAX($K$1:K3228)+1,0)","v":0},"Shipping Corp of India Ltd","SCI.BO",{"$nulls":12},{"$f":"IFERROR(VLOOKUP(ROWS($Z$2:Z3229),K3229:$L$6000,2,0),\"\")","v":""},{"$f":"IFERROR(VLOOKUP(ROWS($AA$2:AA3229),K3229:$M$6000,3,0),\"\")","v":""}]
[{"$nulls":10},{"$f":"IF(ISNUMBER(SEARCH($A$3,L3230)),MAX($K$1:K3229)+1,0)","v":0},"Shipping Corp of India Ltd","SCI.NS",{"$nulls":12},{"$f":"IFERROR(VLOOKUP(ROWS($Z$2:Z3230),K3230:$L$6000,2,0),\"\")","v":""},{"$f":"IFERROR(VLOOKUP(ROWS($AA$2:AA3230),K3230:$M$6000,3,0),\"\")","v":""}]
[{"$nulls":10},{"$f":"IF(ISNUMBER(SEARCH($A$3,L3231)),MAX($K$1:K3230)+1,0)","v":0},"Shirpur Gold Refinery Ltd","AGEEGOLD.BO",{"$nulls":12},{"$f":"IFERROR(VLOOKUP(ROWS($Z$2:Z3231),K3231:$L$6000,2,0),\"\")","v":""},{"$f":"IFERROR(VLOOKUP(ROWS($AA$2:AA3231),K3231:$M$6000,3,0),\"\")","v":""}]
[{"$nulls":10},{"$f":"IF(ISNUMBER(SEARCH($A$3,L3232)),MAX($K$1:K3231)+1,0)","v":0},"Shiva Cement Ltd","SHIVACEM.BO",{"$nulls":12},{"$f":"IFERROR(VLOOKUP(ROWS($Z$2:Z3232),K3232:$L$6000,2,0),\"\")","v":""},{"$f":"IFERROR(VLOOKUP(ROWS($AA$2:AA3232),K3232:$M$6000,3,0),\"\")","v":""}]
[{"$nulls":10},{"$f":"IF(ISNUMBER(SEARCH($A$3,L3233)),MAX($K$1:K3232)+1,0)","v":0},"Shiva Global Agro Industr","SHIVAFER.BO",{"$nulls":12},{"$f":"IFERROR(VLOOKUP(ROWS($Z$2:Z3233),K3233:$L$6000,2,0),\"\")","v":""},{"$f":"IFERROR(VLOOKUP(ROWS($AA$2:AA3233),K3233:$M$6000,3,0),\"\")","v":""}]
[{"$nulls":10},{"$f":"IF(ISNUMBER(SEARCH($A$3,L3234)),MAX($K$1:K3233)+1,0)","v":0},"Shiva Texyarn Ltd","SHIVATEX.BO",{"$nulls":12},{"$f":"IFERROR(VLOOKUP(ROWS($Z$2:Z3234),K3234:$L$6000,2,0),\"\")","v":""},{"$f":"IFERROR(VLOOKUP(ROWS($AA$2:AA3234),K3234:$M$6000,3,0),\"\")","v":""}]
[{"$nulls":10},{"$f":"IF(ISNUMBER(SEARCH($A$3,L3235)),MAX($K$1:K3234)+1,0)","v":0},"Shiva Texyarn Ltd","SHIVTEX.NS",{"$nulls":12},{"$f":"IFERROR(VLOOKUP(ROWS($Z$2:Z3235),K3235:$L$6000,2,0),\"\")","v":""},{"$f":"IFERROR(VLOOKUP(ROWS($AA$2:AA3235),K3235:$M$6000,3,0),\"\")","v":""}]
[{"$nulls":10},{"$f":"IF(ISNUMBER(SEARCH($A$3,L3236)),MAX($K$1:K3235)+1,0)","v":0},"Shivagrico Implements Ltd","SHIVAGR.BO",{"$nulls":12},{"$f":"IFERROR(VLOOKUP(ROWS($Z$2:Z3236),K3236:$L$6000,2,0),\"\")","v":""},{"$f":"IFERROR(VLOOKUP(ROWS($AA$2:AA3236),K3236:$M$6000,3,0),\"\")","v":""}]
[{"$nulls":10},{"$f":"IF(ISNUMBER(SEARCH($A$3,L3237)),MAX($K$1:K3236)+1,0)","v":0},"Shivalik Bimetal Controls Ltd","SHBCLQ.BO",{"$nulls":12},{"$f":"IFERROR(VLOOKUP(ROWS($Z$2:Z3237),K3237:$L$6000,2,0),\"\")","v":""},{"$f":"IFERROR(VLOOKUP(ROWS($AA$2:AA3237),K3237:$M$6000,3,0),\"\")","v":""}]
[{"$nulls":10},{"$f":"IF(ISNUMBER(SEARCH($A$3,L3238)),MAX($K$1:K3237)+1,0)","v":0},"Shivam Autotech Ltd","SHIVAM.BO",{"$nulls":12},{"$f":"IFERROR(VLOOKUP(ROWS($Z$2:Z3238),K3238:$L$6000,2,0),\"\")","v":""},{"$f":"IFERROR(VLOOKUP(ROWS($AA$2:AA3238),K3238:$M$6000,3,0),\"\")","v":""}]
[{"$nulls":10},{"$f":"IF(ISNUMBER(SEARCH($A$3,L3239)),MAX($K$1:K3238)+1,0)","v":0},"Shivam Autotech Ltd","SHIVAMAUT.NS",{"$nulls":12},{"$f":"IFERROR(VLOOKUP(ROWS($Z$2:Z3239),K3239:$L$6000,2,0),\"\")","v":""},{"$f":"IFERROR(VLOOKUP(ROWS($AA$2:AA3239),K3239:$M$6000,3,0),\"\")","v":""}]
[{"$nulls":10},{"$f":"IF(ISNUMBER(SEARCH($A$3,L3240)),MAX($K$1:K3239)+1,0)","v":0},"Shiv-Vani Oil & Gas Explo","SHIVVANI.BO",{"$nulls":12},{"$f":"IFERROR(VLOOKUP(ROWS($Z$2:Z3240),K3240:$L$6000,2,0),\"\")","v":""},{"$f":"IFERROR(VLOOKUP(ROWS($AA$2:AA3240),K3240:$M$6000,3,0),\"\")","v":""}]
[{"$nulls":10},{"$f":"IF(ISNUMBER(SEARCH($A$3,L3241)),MAX($K$1:K3240)+1,0)","v":0},"Shiv-Vani Oil & Gas Explo","SHIV-VANI.NS",{"$nulls":12},{"$f":"IFERROR(VLOOKUP(ROWS($Z$2:Z3241),K3241:$L$6000,2,0),\"\")","v":""},{"$f":"IFERROR(VLOOKUP(ROWS($AA$2:AA3241),K3241:$M$6000,3,0),\"\")","v":""}]
[{"$nulls":10},{"$f":"IF(ISNUMBER(SEARCH($A$3,L3242)),MAX($K$1:K3241)+1,0)","v":0},"Shoppers Stop Ltd","SHOPERSTOP.BO",{"$nulls":12},{"$f":"IFERROR(VLOOKUP(ROWS($Z$2:Z3242),K3242:$L$6000,2,0),\"\")","v":""},{"$f":"IFERROR(VLOOKUP(ROWS($AA$2:AA3242),K3242:$M$6000,3,0),\"\")","v":""}]
[{"$nulls":10},{"$f":"IF(ISNUMBER(SEARCH($A$3,L3243)),MAX($K$1:K3242)+1,0)","v":0},"Shree Ajit Paper Pulp","SHREEAJIT.BO",{"$nulls":12},{"$f":"IFERROR(VLOOKUP(ROWS($Z$2:Z3243),K3243:$L$6000,2,0),\"\")","v":""},{"$f":"IFERROR(VLOOKUP(ROWS($AA$2:AA3243),K3243:$M$6000,3,0),\"\")","v":""}]
[{"$nulls":10},{"$f":"IF(ISNUMBER(SEARCH($A$3,L3244)),MAX($K$1:K3243)+1,0)","v":0},"Shree Ashtavinayak Cine V","SHREEASHT.BO",{"$nulls":12},{"$f":"IFERROR(VLOOKUP(ROWS($Z$2:Z3244),K3244:$L$6000,2,0),\"\")","v":""},{"$f":"IFERROR(VLOOKUP(ROWS($AA$2:AA3244),K3244:$M$6000,3,0),\"\")","v":""}]
[{"$nulls":10},{"$f":"IF(ISNUMBER(SEARCH($A$3,L3245)),MAX($K$1:K3244)+1,0)","v":0},"Shree Ashtavinayak Cine V","SHREEASHT.NS",{"$nulls":12},{"$f":"IFERROR(VLOOKUP(ROWS($Z$2:Z3245),K3245:$L$6000,2,0),\"\")","v":""},{"$f":"IFERROR(VLOOKUP(ROWS($AA$2:AA3245),K3245:$M$6000,3,0),\"\")","v":""}]
[{"$nulls":10},{"$f":"IF(ISNUMBER(SEARCH($A$3,L3246)),MAX($K$1:K3245)+1,0)","v":0},"Shree Bhawani Paper Mills Ltd","SHBHAWPA.BO",{"$nulls":12},{"$f":"IFERROR(VLOOKUP(ROWS($Z$2:Z3246),K3246:$L$6000,2,0),\"\")","v":""},{"$f":"IFERROR(VLOOKUP(ROWS($AA$2:AA3246),K3246:$M$6000,3,0),\"\")","v":""}]
[{"$nulls":10},{"$f":"IF(ISNUMBER(SEARCH($A$3,L3247)),MAX($K$1:K3246)+1,0)","v":0},"Shree Cements Ltd","SHREECEM.BO",{"$nulls":12},{"$f":"IFERROR(VLOOKUP(ROWS($Z$2:Z3247),K3247:$L$6000,2,0),\"\")","v":""},{"$f":"IFERROR(VLOOKUP(ROWS($AA$2:AA3247),K3247:$M$6000,3,0),\"\")","v":""}]
[{"$nulls":10},{"$f":"IF(ISNUMBER(SEARCH($A$3,L3248)),MAX($K$1:K3247)+1,0)","v":0},"Shree Cements Ltd","SHREECEM.NS",{"$nulls":12},{"$f":"IFERROR(VLOOKUP(ROWS($Z$2:Z3248),K3248:$L$6000,2,0),\"\")","v":""},{"$f":"IFERROR(VLOOKUP(ROWS($AA$2:AA3248),K3248:$M$6000,3,0),\"\")","v":""}]
[{"$nulls":10},{"$f":"IF(ISNUMBER(SEARCH($A$3,L3249)),MAX($K$1:K3248)+1,0)","v":0},"Shree Digvijay Cement Co Ltd","SHREDIGC.BO",{"$nulls":12},{"$f":"IFERROR(VLOOKUP(ROWS($Z$2:Z3249),K3249:$L$6000,2,0),\"\")","v":""},{"$f":"IFERROR(VLOOKUP(ROWS($AA$2:AA3249),K3249:$M$6000,3,0),\"\")","v":""}]
[{"$nulls":10},{"$f":"IF(ISNUMBER(SEARCH($A$3,L3250)),MAX($K$1:K3249)+1,0)","v":0},"Shree Ganesh Forgings Ltd","GANESHFORG.BO",{"$nulls":12},{"$f":"IFERROR(VLOOKUP(ROWS($Z$2:Z3250),K3250:$L$6000,2,0),\"\")","v":""},{"$f":"IFERROR(VLOOKUP(ROWS($AA$2:AA3250),K3250:$M$6000,3,0),\"\")","v":""}]
[{"$nulls":10},{"$f":"IF(ISNUMBER(SEARCH($A$3,L3251)),MAX($K$1:K3250)+1,0)","v":0},"Shree Ganesh Forgings Ltd","SGFL.NS",{"$nulls":12},{"$f":"IFERROR(VLOOKUP(ROWS($Z$2:Z3251),K3251:$L$6000,2,0),\"\")","v":""},{"$f":"IFERROR(VLOOKUP(ROWS($AA$2:AA3251),K3251:$M$6000,3,0),\"\")","v":""}]
[{"$nulls":10},{"$f":"IF(ISNUMBER(SEARCH($A$3,L3252)),MAX($K$1:K3251)+1,0)","v":0},"Shree Ganesh Jewellery","SGJHL.BO",{"$nulls":12},{"$f":"IFERROR(VLOOKUP(ROWS($Z$2:Z3252),K3252:$L$6000,2,0),\"\")","v":""},{"$f":"IFERROR(VLOOKUP(ROWS($AA$2:AA3252),K3252:$M$6000,3,0),\"\")","v":""}]
[{"$nulls":10},{"$f":"IF(ISNUMBER(SEARCH($A$3,L3253)),MAX($K$1:K3252)+1,0)","v":0},"Shree Global Tradefin Ltd","SHRGLTR.BO",{"$nulls":12},{"$f":"IFERROR(VLOOKUP(ROWS($Z$2:Z3253),K3253:$L$6000,2,0),\"\")","v":""},{"$f":"IFERROR(VLOOKUP(ROWS($AA$2:AA3253),K3253:$M$6000,3,0),\"\")","v":""}]
[{"$nulls":10},{"$f":"IF(ISNUMBER(SEARCH($A$3,L3254)),MAX($K$1:K3253)+1,0)","v":0},"Shree Hari Chemicals Expo","SHHARICH.BO",{"$nulls":12},{"$f":"IFERROR(VLOOKUP(ROWS($Z$2:Z3254),K3254:$L$6000,2,0),\"\")","v":""},{"$f":"IFERROR(VLOOKUP(ROWS($AA$2:AA3254),K3254:$M$6000,3,0),\"\")","v":""}]
[{"$nulls":10},{"$f":"IF(ISNUMBER(SEARCH($A$3,L3255)),MAX($K$1:K3254)+1,0)","v":0},"Shree Krishna Paper Mills","SKPMIL.BO",{"$nulls":12},{"$f":"IFERROR(VLOOKUP(ROWS($Z$2:Z3255),K3255:$L$6000,2,0),\"\")","v":""},{"$f":"IFERROR(VLOOKUP(ROWS($AA$2:AA3255),K3255:$M$6000,3,0),\"\")","v":""}]
[{"$nulls":10},{"$f":"IF(ISNUMBER(SEARCH($A$3,L3256)),MAX($K$1:K3255)+1,0)","v":0},"Shree Manufacturing Co Ltd","SHRMFGC.BO",{"$nulls":12},{"$f":"IFERROR(VLOOKUP(ROWS($Z$2:Z3256),K3256:$L$6000,2,0),\"\")","v":""},{"$f":"IFERROR(VLOOKUP(ROWS($AA$2:AA3256),K3256:$M$6000,3,0),\"\")","v":""}]
[{"$nulls":10},{"$f":"IF(ISNUMBER(SEARCH($A$3,L3257)),MAX($K$1:K3256)+1,0)","v":0},"Shree Metalloys Ltd","VALLI.BO",{"$nulls":12},{"$f":"IFERROR(VLOOKUP(ROWS($Z$2:Z3257),K3257:$L$6000,2,0),\"\")","v":""},{"$f":"IFERROR(VLOOKUP(ROWS($AA$2:AA3257),K3257:$M$6000,3,0),\"\")","v":""}]
[{"$nulls":10},{"$f":"IF(ISNUMBER(SEARCH($A$3,L3258)),MAX($K$1:K3257)+1,0)","v":0},"Shree Nath Commercial","SHRENTH.BO",{"$nulls":12},{"$f":"IFERROR(VLOOKUP(ROWS($Z$2:Z3258),K3258:$L$6000,2,0),\"\")","v":""},{"$f":"IFERROR(VLOOKUP(ROWS($AA$2:AA3258),K3258:$M$6000,3,0),\"\")","v":""}]
[{"$nulls":10},{"$f":"IF(ISNUMBER(SEARCH($A$3,L3259)),MAX($K$1:K3258)+1,0)","v":0},"Shree Pacetronix Ltd","SHREEPAC.BO",{"$nulls":12},{"$f":"IFERROR(VLOOKUP(ROWS($Z$2:Z3259),K3259:$L$6000,2,0),\"\")","v":""},{"$f":"IFERROR(VLOOKUP(ROWS($AA$2:AA3259),K3259:$M$6000,3,0),\"\")","v":""}]
[{"$nulls":10},{"$f":"IF(ISNUMBER(SEARCH($A$3,L3260)),MAX($K$1:K3259)+1,0)","v":0},"Shree Precoated Steels Ltd","SPSL.BO",{"$nulls":12},{"$f":"IFERROR(VLOOKUP(ROWS($Z$2:Z3260),K3260:$L$6000,2,0),\"\")","v":""},{"$f":"IFERROR(VLOOKUP(ROWS($AA$2:AA3260),K3260:$M$6000,3,0),\"\")","v":""}]
[{"$nulls":10},{"$f":"IF(ISNUMBER(SEARCH($A$3,L3261)),MAX($K$1:K3260)+1,0)","v":0},"Shree Rajasthan Syntex Ltd","SHRAJSYNQ.BO",{"$nulls":12},{"$f":"IFERROR(VLOOKUP(ROWS($Z$2:Z3261),K3261:$L$6000,2,0),\"\")","v":""},{"$f":"IFERROR(VLOOKUP(ROWS($AA$2:AA3261),K3261:$M$6000,3,0),\"\")","v":""}]
[{"$nulls":10},{"$f":"IF(ISNUMBER(SEARCH($A$3,L3262)),MAX($K$1:K3261)+1,0)","v":0},"Shree Rajeshwaran & Paper","SRPML.BO",{"$nulls":12},{"$f":"IFERROR(VLOOKUP(ROWS($Z$2:Z3262),K3262:$L$6000,2,0),\"\")","v":""},{"$f":"IFERROR(VLOOKUP(ROWS($AA$2:AA3262),K3262:$M$6000,3,0),\"\")","v":""}]
[{"$nulls":10},{"$f":"IF(ISNUMBER(SEARCH($A$3,L3263)),MAX($K$1:K3262)+1,0)","v":0},"Shree Ram Urban Infra","SHREERAM.BO",{"$nulls":12},{"$f":"IFERROR(VLOOKUP(ROWS($Z$2:Z3263),K3263:$L$6000,2,0),\"\")","v":""},{"$f":"IFERROR(VLOOKUP(ROWS($AA$2:AA3263),K3263:$M$6000,3,0),\"\")","v":""}]
[{"$nulls":10},{"$f":"IF(ISNUMBER(SEARCH($A$3,L3264)),MAX($K$1:K3263)+1,0)","v":0},"Shree Rama Multi-Tech Ltd","SHREERAMA.BO",{"$nulls":12},{"$f":"IFERROR(VLOOKUP(ROWS($Z$2:Z3264),K3264:$L$6000,2,0),\"\")","v":""},{"$f":"IFERROR(VLOOKUP(ROWS($AA$2:AA3264),K3264:$M$6000,3,0),\"\")","v":""}]
[{"$nulls":10},{"$f":"IF(ISNUMBER(SEARCH($A$3,L3265)),MAX($K$1:K3264)+1,0)","v":0},"Shree Rama Multi-Tech Ltd","SHREERAMA.NS",{"$nulls":12},{"$f":"IFERROR(VLOOKUP(ROWS($Z$2:Z3265),K3265:$L$6000,2,0),\"\")","v":""},{"$f":"IFERROR(VLOOKUP(ROWS($AA$2:AA3265),K3265:$M$6000,3,0),\"\")","v":""}]
[{"$nulls":10},{"$f":"IF(ISNUMBER(SEARCH($A$3,L3266)),MAX($K$1:K3265)+1,0)","v":0},"Shree Rama Newsprint Ltd","RAMANEWSPR.BO",{"$nulls":12},{"$f":"IFERROR(VLOOKUP(ROWS($Z$2:Z3266),K3266:$L$6000,2,0),\"\")","v":""},{"$f":"IFERROR(VLOOKUP(ROWS($AA$2:AA3266),K3266:$M$6000,3,0),\"\")","v":""}]
[{"$nulls":10},{"$f":"IF(ISNUMBER(SEARCH($A$3,L3267)),MAX($K$1:K3266)+1,0)","v":0},"Shree Rama Newsprint Ltd","RAMANEWS.NS",{"$nulls":12},{"$f":"IFERROR(VLOOKUP(ROWS($Z$2:Z3267),K3267:$L$6000,2,0),\"\")","v":""},{"$f":"IFERROR(VLOOKUP(ROWS($AA$2:AA3267),K3267:$M$6000,3,0),\"\")","v":""}]
[{"$nulls":10},{"$f":"IF(ISNUMBER(SEARCH($A$3,L3268)),MAX($K$1:K3267)+1,0)","v":0},"Shree Rang Mark Travels Ltd","SRANGMARK.BO",{"$nulls":12},{"$f":"IFERROR(VLOOKUP(ROWS($Z$2:Z3268),K3268:$L$6000,2,0),\"\")","v":""},{"$f":"IFERROR(VLOOKUP(ROWS($AA$2:AA3268),K3268:$M$6000,3,0),\"\")","v":""}]
[{"$nulls":10},{"$f":"IF(ISNUMBER(SEARCH($A$3,L3269)),MAX($K$1:K3268)+1,0)","v":0},"Shree Renuka Sugars Ltd","RENUKA.BO",{"$nulls":12},{"$f":"IFERROR(VLOOKUP(ROWS($Z$2:Z3269),K3269:$L$6000,2,0),\"\")","v":""},{"$f":"IFERROR(VLOOKUP(ROWS($AA$2:AA3269),K3269:$M$6000,3,0),\"\")","v":""}]
[{"$nulls":10},{"$f":"IF(ISNUMBER(SEARCH($A$3,L3270)),MAX($K$1:K3269)+1,0)","v":0},"Shree Renuka Sugars Ltd","RENUKA.NS",{"$nulls":12},{"$f":"IFERROR(VLOOKUP(ROWS($Z$2:Z3270),K3270:$L$6000,2,0),\"\")","v":""},{"$f":"IFERROR(VLOOKUP(ROWS($AA$2:AA3270),K3270:$M$6000,3,0),\"\")","v":""}]
[{"$nulls":10},{"$f":"IF(ISNUMBER(SEARCH($A$3,L3271)),MAX($K$1:K3270)+1,0)","v":0},"Shree Steelwire Ropes Ltd","SSWRL.BO",{"$nulls":12},{"$f":"IFERROR(VLOOKUP(ROWS($Z$2:Z3271),K3271:$L$6000,2,0),\"\")","v":""},{"$f":"IFERROR(VLOOKUP(ROWS($AA$2:AA3271),K3271:$M$6000,3,0),\"\")","v":""}]
[{"$nulls":10},{"$f":"IF(ISNUMBER(SEARCH($A$3,L3272)),MAX($K$1:K3271)+1,0)","v":0},"Shreejal Info Hubs Ltd","SHREEJAL.BO",{"$nulls":12},{"$f":"IFERROR(VLOOKUP(ROWS($Z$2:Z3272),K3272:$L$6000,2,0),\"\")","v":""},{"$f":"IFERROR(VLOOKUP(ROWS($AA$2:AA3272),K3272:$M$6000,3,0),\"\")","v":""}]
[{"$nulls":10},{"$f":"IF(ISNUMBER(SEARCH($A$3,L3273)),MAX($K$1:K3272)+1,0)","v":0},"Shreeyash Industries Ltd","RANGE.BO",{"$nulls":12},{"$f":"IFERROR(VLOOKUP(ROWS($Z$2:Z3273),K3273:$L$6000,2,0),\"\")","v":""},{"$f":"IFERROR(VLOOKUP(ROWS($AA$2:AA3273),K3273:$M$6000,3,0),\"\")","v":""}]
[{"$nulls":10},{"$f":"IF(ISNUMBER(SEARCH($A$3,L3274)),MAX($K$1:K3273)+1,0)","v":0},"Shrenuj & Company Ltd","SHRENUJ.BO",{"$nulls":12},{"$f":"IFERROR(VLOOKUP(ROWS($Z$2:Z3274),K3274:$L$6000,2,0),\"\")","v":""},{"$f":"IFERROR(VLOOKUP(ROWS($AA$2:AA3274),K3274:$M$6000,3,0),\"\")","v":""}]
[{"$nulls":10},{"$f":"IF(ISNUMBER(SEARCH($A$3,L3275)),MAX($K$1:K3274)+1,0)","v":0},"Shrenuj & Company Ltd","SHRENUJ.NS",{"$nulls":12},{"$f":"IFERROR(VLOOKUP(ROWS($Z$2:Z3275),K3275:$L$6000,2,0),\"\")","v":""},{"$f":"IFERROR(VLOOKUP(ROWS($AA$2:AA3275),K3275:$M$6000,3,0),\"\")","v":""}]
[{"$nulls":10},{"$f":"IF(ISNUMBER(SEARCH($A$3,L3276)),MAX($K$1:K3275)+1,0)","v":0},"Shreyans Industries Ltd","SHRYNIND.BO",{"$nulls":12},{"$f":"IFERROR(VLOOKUP(ROWS($Z$2:Z3276),K3276:$L$6000,2,0),\"\")","v":""},{"$f":"IFERROR(VLOOKUP(ROWS($AA$2:AA3276),K3276:$M$6000,3,0),\"\")","v":""}]
[{"$nulls":10},{"$f":"IF(ISNUMBER(SEARCH($A$3,L3277)),MAX($K$1:K3276)+1,0)","v":0},"Shreyans Industries Ltd","SHREYANIN.NS",{"$nulls":12},{"$f":"IFERROR(VLOOKUP(ROWS($Z$2:Z3277),K3277:$L$6000,2,0),\"\")","v":""},{"$f":"IFERROR(VLOOKUP(ROWS($AA$2:AA3277),K3277:$M$6000,3,0),\"\")","v":""}]
[{"$nulls":10},{"$f":"IF(ISNUMBER(SEARCH($A$3,L3278)),MAX($K$1:K3277)+1,0)","v":0},"Shreyas Intermediates Ltd","SHREYASI.BO",{"$nulls":12},{"$f":"IFERROR(VLOOKUP(ROWS($Z$2:Z3278),K3278:$L$6000,2,0),\"\")","v":""},{"$f":"IFERROR(VLOOKUP(ROWS($AA$2:AA3278),K3278:$M$6000,3,0),\"\")","v":""}]
[{"$nulls":10},{"$f":"IF(ISNUMBER(SEARCH($A$3,L3279)),MAX($K$1:K3278)+1,0)","v":0},"Shreyas Shipping & Logist","SHREYSL.BO",{"$nulls":12},{"$f":"IFERROR(VLOOKUP(ROWS($Z$2:Z3279),K3279:$L$6000,2,0),\"\")","v":""},{"$f":"IFERROR(VLOOKUP(ROWS($AA$2:AA3279),K3279:$M$6000,3,0),\"\")","v":""}]
[{"$nulls":10},{"$f":"IF(ISNUMBER(SEARCH($A$3,L3280)),MAX($K$1:K3279)+1,0)","v":0},"Shreyas Shipping & Logist","SHREYAS.NS",{"$nulls":12},{"$f":"IFERROR(VLOOKUP(ROWS($Z$2:Z3280),K3280:$L$6000,2,0),\"\")","v":""},{"$f":"IFERROR(VLOOKUP(ROWS($AA$2:AA3280),K3280:$M$6000,3,0),\"\")","v":""}]
[{"$nulls":10},{"$f":"IF(ISNUMBER(SEARCH($A$3,L3281)),MAX($K$1:K3280)+1,0)","v":0},"Shri Bajrang Alloys Ltd","SHBAJRG.BO",{"$nulls":12},{"$f":"IFERROR(VLOOKUP(ROWS($Z$2:Z3281),K3281:$L$6000,2,0),\"\")","v":""},{"$f":"IFERROR(VLOOKUP(ROWS($AA$2:AA3281),K3281:$M$6000,3,0),\"\")","v":""}]
[{"$nulls":10},{"$f":"IF(ISNUMBER(SEARCH($A$3,L3282)),MAX($K$1:K3281)+1,0)","v":0},"Shri Dinesh Mills Ltd","SHRIDINE.BO",{"$nulls":12},{"$f":"IFERROR(VLOOKUP(ROWS($Z$2:Z3282),K3282:$L$6000,2,0),\"\")","v":""},{"$f":"IFERROR(VLOOKUP(ROWS($AA$2:AA3282),K3282:$M$6000,3,0),\"\")","v":""}]
[{"$nulls":10},{"$f":"IF(ISNUMBER(SEARCH($A$3,L3283)),MAX($K$1:K3282)+1,0)","v":0},"Shri Jagdamba Polymers Ltd","SHRJAGP.BO",{"$nulls":12},{"$f":"IFERROR(VLOOKUP(ROWS($Z$2:Z3283),K3283:$L$6000,2,0),\"\")","v":""},{"$f":"IFERROR(VLOOKUP(ROWS($AA$2:AA3283),K3283:$M$6000,3,0),\"\")","v":""}]
[{"$nulls":10},{"$f":"IF(ISNUMBER(SEARCH($A$3,L3284)),MAX($K$1:K3283)+1,0)","v":0},"Shri Krishna Devcon Ltd","SHRIKRISH.BO",{"$nulls":12},{"$f":"IFERROR(VLOOKUP(ROWS($Z$2:Z3284),K3284:$L$6000,2,0),\"\")","v":""},{"$f":"IFERROR(VLOOKUP(ROWS($AA$2:AA3284),K3284:$M$6000,3,0),\"\")","v":""}]
[{"$nulls":10},{"$f":"IF(ISNUMBER(SEARCH($A$3,L3285)),MAX($K$1:K3284)+1,0)","v":0},"Shri Lakshmi Cotsyn Ltd","SHLAKSHMI.BO",{"$nulls":12},{"$f":"IFERROR(VLOOKUP(ROWS($Z$2:Z3285),K3285:$L$6000,2,0),\"\")","v":""},{"$f":"IFERROR(VLOOKUP(ROWS($AA$2:AA3285),K3285:$M$6000,3,0),\"\")","v":""}]
[{"$nulls":10},{"$f":"IF(ISNUMBER(SEARCH($A$3,L3286)),MAX($K$1:K3285)+1,0)","v":0},"Shri Lakshmi Cotsyn Ltd","SHLAKSHMI.NS",{"$nulls":12},{"$f":"IFERROR(VLOOKUP(ROWS($Z$2:Z3286),K3286:$L$6000,2,0),\"\")","v":""},{"$f":"IFERROR(VLOOKUP(ROWS($AA$2:AA3286),K3286:$M$6000,3,0),\"\")","v":""}]
[{"$nulls":10},{"$f":"IF(ISNUMBER(SEARCH($A$3,L3287)),MAX($K$1:K3286)+1,0)","v":0},"Shricon Industries Ltd","SHRICON.BO",{"$nulls":12},{"$f":"IFERROR(VLOOKUP(ROWS($Z$2:Z3287),K3287:$L$6000,2,0),\"\")","v":""},{"$f":"IFERROR(VLOOKUP(ROWS($AA$2:AA3287),K3287:$M$6000,3,0),\"\")","v":""}]
[{"$nulls":10},{"$f":"IF(ISNUMBER(SEARCH($A$3,L3288)),MAX($K$1:K3287)+1,0)","v":0},"Shriram Assets Management Ltd","SRAMSET.BO",{"$nulls":12},{"$f":"IFERROR(VLOOKUP(ROWS($Z$2:Z3288),K3288:$L$6000,2,0),\"\")","v":""},{"$f":"IFERROR(VLOOKUP(ROWS($AA$2:AA3288),K3288:$M$6000,3,0),\"\")","v":""}]
[{"$nulls":10},{"$f":"IF(ISNUMBER(SEARCH($A$3,L3289)),MAX($K$1:K3288)+1,0)","v":0},"Shriram City Union Finance Ltd","SHRMCITY.BO",{"$nulls":12},{"$f":"IFERROR(VLOOKUP(ROWS($Z$2:Z3289),K3289:$L$6000,2,0),\"\")","v":""},{"$f":"IFERROR(VLOOKUP(ROWS($AA$2:AA3289),K3289:$M$6000,3,0),\"\")","v":""}]
[{"$nulls":10},{"$f":"IF(ISNUMBER(SEARCH($A$3,L3290)),MAX($K$1:K3289)+1,0)","v":0},"Shriram City Union Finance Ltd","SHRIRAMCI.NS",{"$nulls":12},{"$f":"IFERROR(VLOOKUP(ROWS($Z$2:Z3290),K3290:$L$6000,2,0),\"\")","v":""},{"$f":"IFERROR(VLOOKUP(ROWS($AA$2:AA3290),K3290:$M$6000,3,0),\"\")","v":""}]
[{"$nulls":10},{"$f":"IF(ISNUMBER(SEARCH($A$3,L3291)),MAX($K$1:K3290)+1,0)","v":0},"Shriram EPC Ltd","SHRIRAMEPC.BO",{"$nulls":12},{"$f":"IFERROR(VLOOKUP(ROWS($Z$2:Z3291),K3291:$L$6000,2,0),\"\")","v":""},{"$f":"IFERROR(VLOOKUP(ROWS($AA$2:AA3291),K3291:$M$6000,3,0),\"\")","v":""}]
[{"$nulls":10},{"$f":"IF(ISNUMBER(SEARCH($A$3,L3292)),MAX($K$1:K3291)+1,0)","v":0},"Shriram EPC Ltd","SHRIRAMEP.NS",{"$nulls":12},{"$f":"IFERROR(VLOOKUP(ROWS($Z$2:Z3292),K3292:$L$6000,2,0),\"\")","v":""},{"$f":"IFERROR(VLOOKUP(ROWS($AA$2:AA3292),K3292:$M$6000,3,0),\"\")","v":""}]
[{"$nulls":10},{"$f":"IF(ISNUMBER(SEARCH($A$3,L3293)),MAX($K$1:K3292)+1,0)","v":0},"Shriram Transport Finance","STFC.BO",{"$nulls":12},{"$f":"IFERROR(VLOOKUP(ROWS($Z$2:Z3293),K3293:$L$6000,2,0),\"\")","v":""},{"$f":"IFERROR(VLOOKUP(ROWS($AA$2:AA3293),K3293:$M$6000,3,0),\"\")","v":""}]
[{"$nulls":10},{"$f":"IF(ISNUMBER(SEARCH($A$3,L3294)),MAX($K$1:K3293)+1,0)","v":0},"Shriram Transport Finance","SRTRANSFI.NS",{"$nulls":12},{"$f":"IFERROR(VLOOKUP(ROWS($Z$2:Z3294),K3294:$L$6000,2,0),\"\")","v":""},{"$f":"IFERROR(VLOOKUP(ROWS($AA$2:AA3294),K3294:$M$6000,3,0),\"\")","v":""}]
[{"$nulls":10},{"$f":"IF(ISNUMBER(SEARCH($A$3,L3295)),MAX($K$1:K3294)+1,0)","v":0},"Shristi Infrastructure De","SHRISTI.BO",{"$nulls":12},{"$f":"IFERROR(VLOOKUP(ROWS($Z$2:Z3295),K3295:$L$6000,2,0),\"\")","v":""},{"$f":"IFERROR(VLOOKUP(ROWS($AA$2:AA3295),K3295:$M$6000,3,0),\"\")","v":""}]
[{"$nulls":10},{"$f":"IF(ISNUMBER(SEARCH($A$3,L3296)),MAX($K$1:K3295)+1,0)","v":0},"Shukra Jewellery Ltd","SHUKJEW.BO",{"$nulls":12},{"$f":"IFERROR(VLOOKUP(ROWS($Z$2:Z3296),K3296:$L$6000,2,0),\"\")","v":""},{"$f":"IFERROR(VLOOKUP(ROWS($AA$2:AA3296),K3296:$M$6000,3,0),\"\")","v":""}]
[{"$nulls":10},{"$f":"IF(ISNUMBER(SEARCH($A$3,L3297)),MAX($K$1:K3296)+1,0)","v":0},"Shyam Telecom Ltd","SHYAMTELE.BO",{"$nulls":12},{"$f":"IFERROR(VLOOKUP(ROWS($Z$2:Z3297),K3297:$L$6000,2,0),\"\")","v":""},{"$f":"IFERROR(VLOOKUP(ROWS($AA$2:AA3297),K3297:$M$6000,3,0),\"\")","v":""}]
[{"$nulls":10},{"$f":"IF(ISNUMBER(SEARCH($A$3,L3298)),MAX($K$1:K3297)+1,0)","v":0},"Shyam Telecom Ltd","SHYAMTEL.NS",{"$nulls":12},{"$f":"IFERROR(VLOOKUP(ROWS($Z$2:Z3298),K3298:$L$6000,2,0),\"\")","v":""},{"$f":"IFERROR(VLOOKUP(ROWS($AA$2:AA3298),K3298:$M$6000,3,0),\"\")","v":""}]
[{"$nulls":10},{"$f":"IF(ISNUMBER(SEARCH($A$3,L3299)),MAX($K$1:K3298)+1,0)","v":0},"Shyama Infosys Ltd","POONAMC.BO",{"$nulls":12},{"$f":"IFERROR(VLOOKUP(ROWS($Z$2:Z3299),K3299:$L$6000,2,0),\"\")","v":""},{"$f":"IFERROR(VLOOKUP(ROWS($AA$2:AA3299),K3299:$M$6000,3,0),\"\")","v":""}]
[{"$nulls":10},{"$f":"IF(ISNUMBER(SEARCH($A$3,L3300)),MAX($K$1:K3299)+1,0)","v":0},"Sibar Auto Parts Ltd","SIBARAUT.BO",{"$nulls":12},{"$f":"IFERROR(VLOOKUP(ROWS($Z$2:Z3300),K3300:$L$6000,2,0),\"\")","v":""},{"$f":"IFERROR(VLOOKUP(ROWS($AA$2:AA3300),K3300:$M$6000,3,0),\"\")","v":""}]
[{"$nulls":10},{"$f":"IF(ISNUMBER(SEARCH($A$3,L3301)),MAX($K$1:K3300)+1,0)","v":0},"Sicagen India Ltd","SICAGEN.BO",{"$nulls":12},{"$f":"IFERROR(VLOOKUP(ROWS($Z$2:Z3301),K3301:$L$6000,2,0),\"\")","v":""},{"$f":"IFERROR(VLOOKUP(ROWS($AA$2:AA3301),K3301:$M$6000,3,0),\"\")","v":""}]
[{"$nulls":10},{"$f":"IF(ISNUMBER(SEARCH($A$3,L3302)),MAX($K$1:K3301)+1,0)","v":0},"Sicagen India Ltd","SICAGEN.NS",{"$nulls":12},{"$f":"IFERROR(VLOOKUP(ROWS($Z$2:Z3302),K3302:$L$6000,2,0),\"\")","v":""},{"$f":"IFERROR(VLOOKUP(ROWS($AA$2:AA3302),K3302:$M$6000,3,0),\"\")","v":""}]
[{"$nulls":10},{"$f":"IF(ISNUMBER(SEARCH($A$3,L3303)),MAX($K$1:K3302)+1,0)","v":0},"Sical Logistics Ltd","SICAL.BO",{"$nulls":12},{"$f":"IFERROR(VLOOKUP(ROWS($Z$2:Z3303),K3303:$L$6000,2,0),\"\")","v":""},{"$f":"IFERROR(VLOOKUP(ROWS($AA$2:AA3303),K3303:$M$6000,3,0),\"\")","v":""}]
[{"$nulls":10},{"$f":"IF(ISNUMBER(SEARCH($A$3,L3304)),MAX($K$1:K3303)+1,0)","v":0},"Sical Logistics Ltd","SICAL.NS",{"$nulls":12},{"$f":"IFERROR(VLOOKUP(ROWS($Z$2:Z3304),K3304:$L$6000,2,0),\"\")","v":""},{"$f":"IFERROR(VLOOKUP(ROWS($AA$2:AA3304),K3304:$M$6000,3,0),\"\")","v":""}]
[{"$nulls":10},{"$f":"IF(ISNUMBER(SEARCH($A$3,L3305)),MAX($K$1:K3304)+1,0)","v":0},"Siddha Ventures Ltd","SIDDHA.BO",{"$nulls":12},{"$f":"IFERROR(VLOOKUP(ROWS($Z$2:Z3305),K3305:$L$6000,2,0),\"\")","v":""},{"$f":"IFERROR(VLOOKUP(ROWS($AA$2:AA3305),K3305:$M$6000,3,0),\"\")","v":""}]
[{"$nulls":10},{"$f":"IF(ISNUMBER(SEARCH($A$3,L3306)),MAX($K$1:K3305)+1,0)","v":0},"Siddhartha Tubes Ltd","SIDTB.BO",{"$nulls":12},{"$f":"IFERROR(VLOOKUP(ROWS($Z$2:Z3306),K3306:$L$6000,2,0),\"\")","v":""},{"$f":"IFERROR(VLOOKUP(ROWS($AA$2:AA3306),K3306:$M$6000,3,0),\"\")","v":""}]
[{"$nulls":10},{"$f":"IF(ISNUMBER(SEARCH($A$3,L3307)),MAX($K$1:K3306)+1,0)","v":0},"SIEL Financial Services Ltd","SIELFNS.BO",{"$nulls":12},{"$f":"IFERROR(VLOOKUP(ROWS($Z$2:Z3307),K3307:$L$6000,2,0),\"\")","v":""},{"$f":"IFERROR(VLOOKUP(ROWS($AA$2:AA3307),K3307:$M$6000,3,0),\"\")","v":""}]
[{"$nulls":10},{"$f":"IF(ISNUMBER(SEARCH($A$3,L3308)),MAX($K$1:K3307)+1,0)","v":0},"Siemens Ltd","SIEMENS.BO",{"$nulls":12},{"$f":"IFERROR(VLOOKUP(ROWS($Z$2:Z3308),K3308:$L$6000,2,0),\"\")","v":""},{"$f":"IFERROR(VLOOKUP(ROWS($AA$2:AA3308),K3308:$M$6000,3,0),\"\")","v":""}]
[{"$nulls":10},{"$f":"IF(ISNUMBER(SEARCH($A$3,L3309)),MAX($K$1:K3308)+1,0)","v":0},"Siemens Ltd","SIEMENS.NS",{"$nulls":12},{"$f":"IFERROR(VLOOKUP(ROWS($Z$2:Z3309),K3309:$L$6000,2,0),\"\")","v":""},{"$f":"IFERROR(VLOOKUP(ROWS($AA$2:AA3309),K3309:$M$6000,3,0),\"\")","v":""}]
[{"$nulls":10},{"$f":"IF(ISNUMBER(SEARCH($A$3,L3310)),MAX($K$1:K3309)+1,0)","v":0},"Signet Overseas Ltd","SIGNET.BO",{"$nulls":12},{"$f":"IFERROR(VLOOKUP(ROWS($Z$2:Z3310),K3310:$L$6000,2,0),\"\")","v":""},{"$f":"IFERROR(VLOOKUP(ROWS($AA$2:AA3310),K3310:$M$6000,3,0),\"\")","v":""}]
[{"$nulls":10},{"$f":"IF(ISNUMBER(SEARCH($A$3,L3311)),MAX($K$1:K3310)+1,0)","v":0},"Sigrun Holdings Ltd","GKFIN.BO",{"$nulls":12},{"$f":"IFERROR(VLOOKUP(ROWS($Z$2:Z3311),K3311:$L$6000,2,0),\"\")","v":""},{"$f":"IFERROR(VLOOKUP(ROWS($AA$2:AA3311),K3311:$M$6000,3,0),\"\")","v":""}]
[{"$nulls":10},{"$f":"IF(ISNUMBER(SEARCH($A$3,L3312)),MAX($K$1:K3311)+1,0)","v":0},"Sika Interplant Systems Ltd","SIKA.BO",{"$nulls":12},{"$f":"IFERROR(VLOOKUP(ROWS($Z$2:Z3312),K3312:$L$6000,2,0),\"\")","v":""},{"$f":"IFERROR(VLOOKUP(ROWS($AA$2:AA3312),K3312:$M$6000,3,0),\"\")","v":""}]
[{"$nulls":10},{"$f":"IF(ISNUMBER(SEARCH($A$3,L3313)),MAX($K$1:K3312)+1,0)","v":0},"SIL Investments Ltd","SILINVEST.BO",{"$nulls":12},{"$f":"IFERROR(VLOOKUP(ROWS($Z$2:Z3313),K3313:$L$6000,2,0),\"\")","v":""},{"$f":"IFERROR(VLOOKUP(ROWS($AA$2:AA3313),K3313:$M$6000,3,0),\"\")","v":""}]
[{"$nulls":10},{"$f":"IF(ISNUMBER(SEARCH($A$3,L3314)),MAX($K$1:K3313)+1,0)","v":0},"SIL Investments Ltd","SILINV.NS",{"$nulls":12},{"$f":"IFERROR(VLOOKUP(ROWS($Z$2:Z3314),K3314:$L$6000,2,0),\"\")","v":""},{"$f":"IFERROR(VLOOKUP(ROWS($AA$2:AA3314),K3314:$M$6000,3,0),\"\")","v":""}]
[{"$nulls":10},{"$f":"IF(ISNUMBER(SEARCH($A$3,L3315)),MAX($K$1:K3314)+1,0)","v":0},"Silicon Valley Infotech Ltd","SILICON.BO",{"$nulls":12},{"$f":"IFERROR(VLOOKUP(ROWS($Z$2:Z3315),K3315:$L$6000,2,0),\"\")","v":""},{"$f":"IFERROR(VLOOKUP(ROWS($AA$2:AA3315),K3315:$M$6000,3,0),\"\")","v":""}]
[{"$nulls":10},{"$f":"IF(ISNUMBER(SEARCH($A$3,L3316)),MAX($K$1:K3315)+1,0)","v":0},"Silver Oak (India) Ltd","SILVOAK.BO",{"$nulls":12},{"$f":"IFERROR(VLOOKUP(ROWS($Z$2:Z3316),K3316:$L$6000,2,0),\"\")","v":""},{"$f":"IFERROR(VLOOKUP(ROWS($AA$2:AA3316),K3316:$M$6000,3,0),\"\")","v":""}]
[{"$nulls":10},{"$f":"IF(ISNUMBER(SEARCH($A$3,L3317)),MAX($K$1:K3316)+1,0)","v":0},"Simbhaoli Sugars Ltd","SIMBHALS.BO",{"$nulls":12},{"$f":"IFERROR(VLOOKUP(ROWS($Z$2:Z3317),K3317:$L$6000,2,0),\"\")","v":""},{"$f":"IFERROR(VLOOKUP(ROWS($AA$2:AA3317),K3317:$M$6000,3,0),\"\")","v":""}]
[{"$nulls":10},{"$f":"IF(ISNUMBER(SEARCH($A$3,L3318)),MAX($K$1:K3317)+1,0)","v":0},"Simbhaoli Sugars Ltd","SIMBHSUGA.NS",{"$nulls":12},{"$f":"IFERROR(VLOOKUP(ROWS($Z$2:Z3318),K3318:$L$6000,2,0),\"\")","v":""},{"$f":"IFERROR(VLOOKUP(ROWS($AA$2:AA3318),K3318:$M$6000,3,0),\"\")","v":""}]
[{"$nulls":10},{"$f":"IF(ISNUMBER(SEARCH($A$3,L3319)),MAX($K$1:K3318)+1,0)","v":0},"Simmonds-Marshall Ltd","SIMMOND.BO",{"$nulls":12},{"$f":"IFERROR(VLOOKUP(ROWS($Z$2:Z3319),K3319:$L$6000,2,0),\"\")","v":""},{"$f":"IFERROR(VLOOKUP(ROWS($AA$2:AA3319),K3319:$M$6000,3,0),\"\")","v":""}]
[{"$nulls":10},{"$f":"IF(ISNUMBER(SEARCH($A$3,L3320)),MAX($K$1:K3319)+1,0)","v":0},"Simplex Castings Ltd","SIMPLEXCA.BO",{"$nulls":12},{"$f":"IFERROR(VLOOKUP(ROWS($Z$2:Z3320),K3320:$L$6000,2,0),\"\")","v":""},{"$f":"IFERROR(VLOOKUP(ROWS($AA$2:AA3320),K3320:$M$6000,3,0),\"\")","v":""}]
[{"$nulls":10},{"$f":"IF(ISNUMBER(SEARCH($A$3,L3321)),MAX($K$1:K3320)+1,0)","v":0},"Simplex Infrastructures Ltd","SIMPLEXIN.BO",{"$nulls":12},{"$f":"IFERROR(VLOOKUP(ROWS($Z$2:Z3321),K3321:$L$6000,2,0),\"\")","v":""},{"$f":"IFERROR(VLOOKUP(ROWS($AA$2:AA3321),K3321:$M$6000,3,0),\"\")","v":""}]
[{"$nulls":10},{"$f":"IF(ISNUMBER(SEARCH($A$3,L3322)),MAX($K$1:K3321)+1,0)","v":0},"Simplex Infrastructures Ltd","SIMPLEXIN.NS",{"$nulls":12},{"$f":"IFERROR(VLOOKUP(ROWS($Z$2:Z3322),K3322:$L$6000,2,0),\"\")","v":""},{"$f":"IFERROR(VLOOKUP(ROWS($AA$2:AA3322),K3322:$M$6000,3,0),\"\")","v":""}]
[{"$nulls":10},{"$f":"IF(ISNUMBER(SEARCH($A$3,L3323)),MAX($K$1:K3322)+1,0)","v":0},"Simplex Mills Co Ltd","SIMPLXMIL.BO",{"$nulls":12},{"$f":"IFERROR(VLOOKUP(ROWS($Z$2:Z3323),K3323:$L$6000,2,0),\"\")","v":""},{"$f":"IFERROR(VLOOKUP(ROWS($AA$2:AA3323),K3323:$M$6000,3,0),\"\")","v":""}]
[{"$nulls":10},{"$f":"IF(ISNUMBER(SEARCH($A$3,L3324)),MAX($K$1:K3323)+1,0)","v":0},"Simplex Papers Ltd","SIMPLXPAP.BO",{"$nulls":12},{"$f":"IFERROR(VLOOKUP(ROWS($Z$2:Z3324),K3324:$L$6000,2,0),\"\")","v":""},{"$f":"IFERROR(VLOOKUP(ROWS($AA$2:AA3324),K3324:$M$6000,3,0),\"\")","v":""}]
[{"$nulls":10},{"$f":"IF(ISNUMBER(SEARCH($A$3,L3325)),MAX($K$1:K3324)+1,0)","v":0},"Simplex Projects Ltd","SIMPLEX.BO",{"$nulls":12},{"$f":"IFERROR(VLOOKUP(ROWS($Z$2:Z3325),K3325:$L$6000,2,0),\"\")","v":""},{"$f":"IFERROR(VLOOKUP(ROWS($AA$2:AA3325),K3325:$M$6000,3,0),\"\")","v":""}]
[{"$nulls":10},{"$f":"IF(ISNUMBER(SEARCH($A$3,L3326)),MAX($K$1:K3325)+1,0)","v":0},"Simplex Projects Ltd","SIMPLEX.NS",{"$nulls":12},{"$f":"IFERROR(VLOOKUP(ROWS($Z$2:Z3326),K3326:$L$6000,2,0),\"\")","v":""},{"$f":"IFERROR(VLOOKUP(ROWS($AA$2:AA3326),K3326:$M$6000,3,0),\"\")","v":""}]
[{"$nulls":10},{"$f":"IF(ISNUMBER(SEARCH($A$3,L3327)),MAX($K$1:K3326)+1,0)","v":0},"Simplex Realty Ltd","SIMPLXREA.BO",{"$nulls":12},{"$f":"IFERROR(VLOOKUP(ROWS($Z$2:Z3327),K3327:$L$6000,2,0),\"\")","v":""},{"$f":"IFERROR(VLOOKUP(ROWS($AA$2:AA3327),K3327:$M$6000,3,0),\"\")","v":""}]
[{"$nulls":10},{"$f":"IF(ISNUMBER(SEARCH($A$3,L3328)),MAX($K$1:K3327)+1,0)","v":0},"Simplex Trading & Agencies Ltd","SMPLXTR.BO",{"$nulls":12},{"$f":"IFERROR(VLOOKUP(ROWS($Z$2:Z3328),K3328:$L$6000,2,0),\"\")","v":""},{"$f":"IFERROR(VLOOKUP(ROWS($AA$2:AA3328),K3328:$M$6000,3,0),\"\")","v":""}]
[{"$nulls":10},{"$f":"IF(ISNUMBER(SEARCH($A$3,L3329)),MAX($K$1:K3328)+1,0)","v":0},"Simran Farms Ltd","SIMRAN.BO",{"$nulls":12},{"$f":"IFERROR(VLOOKUP(ROWS($Z$2:Z3329),K3329:$L$6000,2,0),\"\")","v":""},{"$f":"IFERROR(VLOOKUP(ROWS($AA$2:AA3329),K3329:$M$6000,3,0),\"\")","v":""}]
[{"$nulls":10},{"$f":"IF(ISNUMBER(SEARCH($A$3,L3330)),MAX($K$1:K3329)+1,0)","v":0},"Sinclairs Hotels Ltd","SINCLAIR.BO",{"$nulls":12},{"$f":"IFERROR(VLOOKUP(ROWS($Z$2:Z3330),K3330:$L$6000,2,0),\"\")","v":""},{"$f":"IFERROR(VLOOKUP(ROWS($AA$2:AA3330),K3330:$M$6000,3,0),\"\")","v":""}]
[{"$nulls":10},{"$f":"IF(ISNUMBER(SEARCH($A$3,L3331)),MAX($K$1:K3330)+1,0)","v":0},"Singer India Ltd","SINGER.BO",{"$nulls":12},{"$f":"IFERROR(VLOOKUP(ROWS($Z$2:Z3331),K3331:$L$6000,2,0),\"\")","v":""},{"$f":"IFERROR(VLOOKUP(ROWS($AA$2:AA3331),K3331:$M$6000,3,0),\"\")","v":""}]
[{"$nulls":10},{"$f":"IF(ISNUMBER(SEARCH($A$3,L3332)),MAX($K$1:K3331)+1,0)","v":0},"Sinnar Bidi Udyog Ltd","SINNAR.BO",{"$nulls":12},{"$f":"IFERROR(VLOOKUP(ROWS($Z$2:Z3332),K3332:$L$6000,2,0),\"\")","v":""},{"$f":"IFERROR(VLOOKUP(ROWS($AA$2:AA3332),K3332:$M$6000,3,0),\"\")","v":""}]
[{"$nulls":10},{"$f":"IF(ISNUMBER(SEARCH($A$3,L3333)),MAX($K$1:K3332)+1,0)","v":0},"Sintex Industries Ltd","SINTEX.BO",{"$nulls":12},{"$f":"IFERROR(VLOOKUP(ROWS($Z$2:Z3333),K3333:$L$6000,2,0),\"\")","v":""},{"$f":"IFERROR(VLOOKUP(ROWS($AA$2:AA3333),K3333:$M$6000,3,0),\"\")","v":""}]
[{"$nulls":10},{"$f":"IF(ISNUMBER(SEARCH($A$3,L3334)),MAX($K$1:K3333)+1,0)","v":0},"Sip Industries Ltd","SIPIND.BO",{"$nulls":12},{"$f":"IFERROR(VLOOKUP(ROWS($Z$2:Z3334),K3334:$L$6000,2,0),\"\")","v":""},{"$f":"IFERROR(VLOOKUP(ROWS($AA$2:AA3334),K3334:$M$6000,3,0),\"\")","v":""}]
[{"$nulls":10},{"$f":"IF(ISNUMBER(SEARCH($A$3,L3335)),MAX($K$1:K3334)+1,0)","v":0},"Sir Shadi Lal Enterprises Ltd","SSLEL.BO",{"$nulls":12},{"$f":"IFERROR(VLOOKUP(ROWS($Z$2:Z3335),K3335:$L$6000,2,0),\"\")","v":""},{"$f":"IFERROR(VLOOKUP(ROWS($AA$2:AA3335),K3335:$M$6000,3,0),\"\")","v":""}]
[{"$nulls":10},{"$f":"IF(ISNUMBER(SEARCH($A$3,L3336)),MAX($K$1:K3335)+1,0)","v":0},"Sirpur Paper Mills Ltd","SIRPUR.BO",{"$nulls":12},{"$f":"IFERROR(VLOOKUP(ROWS($Z$2:Z3336),K3336:$L$6000,2,0),\"\")","v":""},{"$f":"IFERROR(VLOOKUP(ROWS($AA$2:AA3336),K3336:$M$6000,3,0),\"\")","v":""}]
[{"$nulls":10},{"$f":"IF(ISNUMBER(SEARCH($A$3,L3337)),MAX($K$1:K3336)+1,0)","v":0},"Sirpur Paper Mills Ltd","SIRPAPER.NS",{"$nulls":12},{"$f":"IFERROR(VLOOKUP(ROWS($Z$2:Z3337),K3337:$L$6000,2,0),\"\")","v":""},{"$f":"IFERROR(VLOOKUP(ROWS($AA$2:AA3337),K3337:$M$6000,3,0),\"\")","v":""}]
[{"$nulls":10},{"$f":"IF(ISNUMBER(SEARCH($A$3,L3338)),MAX($K$1:K3337)+1,0)","v":0},"Sita Enterprises Ltd","SITAENT.BO",{"$nulls":12},{"$f":"IFERROR(VLOOKUP(ROWS($Z$2:Z3338),K3338:$L$6000,2,0),\"\")","v":""},{"$f":"IFERROR(VLOOKUP(ROWS($AA$2:AA3338),K3338:$M$6000,3,0),\"\")","v":""}]
[{"$nulls":10},{"$f":"IF(ISNUMBER(SEARCH($A$3,L3339)),MAX($K$1:K3338)+1,0)","v":0},"Sita Shree Food Products Ltd","SITASHREE.BO",{"$nulls":12},{"$f":"IFERROR(VLOOKUP(ROWS($Z$2:Z3339),K3339:$L$6000,2,0),\"\")","v":""},{"$f":"IFERROR(VLOOKUP(ROWS($AA$2:AA3339),K3339:$M$6000,3,0),\"\")","v":""}]
[{"$nulls":10},{"$f":"IF(ISNUMBER(SEARCH($A$3,L3340)),MAX($K$1:K3339)+1,0)","v":0},"Sita Shree Food Products Ltd","SITASHREE.NS",{"$nulls":12},{"$f":"IFERROR(VLOOKUP(ROWS($Z$2:Z3340),K3340:$L$6000,2,0),\"\")","v":""},{"$f":"IFERROR(VLOOKUP(ROWS($AA$2:AA3340),K3340:$M$6000,3,0),\"\")","v":""}]
[{"$nulls":10},{"$f":"IF(ISNUMBER(SEARCH($A$3,L3341)),MAX($K$1:K3340)+1,0)","v":0},"Siti Cable Network Ltd","WWIL.BO",{"$nulls":12},{"$f":"IFERROR(VLOOKUP(ROWS($Z$2:Z3341),K3341:$L$6000,2,0),\"\")","v":""},{"$f":"IFERROR(VLOOKUP(ROWS($AA$2:AA3341),K3341:$M$6000,3,0),\"\")","v":""}]
[{"$nulls":10},{"$f":"IF(ISNUMBER(SEARCH($A$3,L3342)),MAX($K$1:K3341)+1,0)","v":0},"Siti Cable Network Ltd","WWIL.NS",{"$nulls":12},{"$f":"IFERROR(VLOOKUP(ROWS($Z$2:Z3342),K3342:$L$6000,2,0),\"\")","v":""},{"$f":"IFERROR(VLOOKUP(ROWS($AA$2:AA3342),K3342:$M$6000,3,0),\"\")","v":""}]
[{"$nulls":10},{"$f":"IF(ISNUMBER(SEARCH($A$3,L3343)),MAX($K$1:K3342)+1,0)","v":0},"Siyaram Silk Mills Ltd","SIYARAM.BO",{"$nulls":12},{"$f":"IFERROR(VLOOKUP(ROWS($Z$2:Z3343),K3343:$L$6000,2,0),\"\")","v":""},{"$f":"IFERROR(VLOOKUP(ROWS($AA$2:AA3343),K3343:$M$6000,3,0),\"\")","v":""}]
[{"$nulls":10},{"$f":"IF(ISNUMBER(SEARCH($A$3,L3344)),MAX($K$1:K3343)+1,0)","v":0},"Siyaram Silk Mills Ltd","SIYSIL.NS",{"$nulls":12},{"$f":"IFERROR(VLOOKUP(ROWS($Z$2:Z3344),K3344:$L$6000,2,0),\"\")","v":""},{"$f":"IFERROR(VLOOKUP(ROWS($AA$2:AA3344),K3344:$M$6000,3,0),\"\")","v":""}]
[{"$nulls":10},{"$f":"IF(ISNUMBER(SEARCH($A$3,L3345)),MAX($K$1:K3344)+1,0)","v":0},"SJ Corp Ltd","SJCORP.BO",{"$nulls":12},{"$f":"IFERROR(VLOOKUP(ROWS($Z$2:Z3345),K3345:$L$6000,2,0),\"\")","v":""},{"$f":"IFERROR(VLOOKUP(ROWS($AA$2:AA3345),K3345:$M$6000,3,0),\"\")","v":""}]
[{"$nulls":10},{"$f":"IF(ISNUMBER(SEARCH($A$3,L3346)),MAX($K$1:K3345)+1,0)","v":0},"SJVN Ltd","SJVN.BO",{"$nulls":12},{"$f":"IFERROR(VLOOKUP(ROWS($Z$2:Z3346),K3346:$L$6000,2,0),\"\")","v":""},{"$f":"IFERROR(VLOOKUP(ROWS($AA$2:AA3346),K3346:$M$6000,3,0),\"\")","v":""}]
[{"$nulls":10},{"$f":"IF(ISNUMBER(SEARCH($A$3,L3347)),MAX($K$1:K3346)+1,0)","v":0},"SJVN Ltd","SJVN.NS",{"$nulls":12},{"$f":"IFERROR(VLOOKUP(ROWS($Z$2:Z3347),K3347:$L$6000,2,0),\"\")","v":""},{"$f":"IFERROR(VLOOKUP(ROWS($AA$2:AA3347),K3347:$M$6000,3,0),\"\")","v":""}]
[{"$nulls":10},{"$f":"IF(ISNUMBER(SEARCH($A$3,L3348)),MAX($K$1:K3347)+1,0)","v":0},"SKF India Ltd","SKF.BO",{"$nulls":12},{"$f":"IFERROR(VLOOKUP(ROWS($Z$2:Z3348),K3348:$L$6000,2,0),\"\")","v":""},{"$f":"IFERROR(VLOOKUP(ROWS($AA$2:AA3348),K3348:$M$6000,3,0),\"\")","v":""}]
[{"$nulls":10},{"$f":"IF(ISNUMBER(SEARCH($A$3,L3349)),MAX($K$1:K3348)+1,0)","v":0},"SKF India Ltd","SKFINDIA.NS",{"$nulls":12},{"$f":"IFERROR(VLOOKUP(ROWS($Z$2:Z3349),K3349:$L$6000,2,0),\"\")","v":""},{"$f":"IFERROR(VLOOKUP(ROWS($AA$2:AA3349),K3349:$M$6000,3,0),\"\")","v":""}]
[{"$nulls":10},{"$f":"IF(ISNUMBER(SEARCH($A$3,L3350)),MAX($K$1:K3349)+1,0)","v":0},"SKIL Infrastructure Ltd","HORIZONIN.NS",{"$nulls":12},{"$f":"IFERROR(VLOOKUP(ROWS($Z$2:Z3350),K3350:$L$6000,2,0),\"\")","v":""},{"$f":"IFERROR(VLOOKUP(ROWS($AA$2:AA3350),K3350:$M$6000,3,0),\"\")","v":""}]
[{"$nulls":10},{"$f":"IF(ISNUMBER(SEARCH($A$3,L3351)),MAX($K$1:K3350)+1,0)","v":0},"SKM Egg Products Export (","SKMEGGPRO.NS",{"$nulls":12},{"$f":"IFERROR(VLOOKUP(ROWS($Z$2:Z3351),K3351:$L$6000,2,0),\"\")","v":""},{"$f":"IFERROR(VLOOKUP(ROWS($AA$2:AA3351),K3351:$M$6000,3,0),\"\")","v":""}]
[{"$nulls":10},{"$f":"IF(ISNUMBER(SEARCH($A$3,L3352)),MAX($K$1:K3351)+1,0)","v":0},"SKP Securities Ltd","SKPSEC.BO",{"$nulls":12},{"$f":"IFERROR(VLOOKUP(ROWS($Z$2:Z3352),K3352:$L$6000,2,0),\"\")","v":""},{"$f":"IFERROR(VLOOKUP(ROWS($AA$2:AA3352),K3352:$M$6000,3,0),\"\")","v":""}]
[{"$nulls":10},{"$f":"IF(ISNUMBER(SEARCH($A$3,L3353)),MAX($K$1:K3352)+1,0)","v":0},"SKS Logistics Ltd","SKSLOGLTD.BO",{"$nulls":12},{"$f":"IFERROR(VLOOKUP(ROWS($Z$2:Z3353),K3353:$L$6000,2,0),\"\")","v":""},{"$f":"IFERROR(VLOOKUP(ROWS($AA$2:AA3353),K3353:$M$6000,3,0),\"\")","v":""}]
[{"$nulls":10},{"$f":"IF(ISNUMBER(SEARCH($A$3,L3354)),MAX($K$1:K3353)+1,0)","v":0},"Sky Industries Ltd","SKYIND.BO",{"$nulls":12},{"$f":"IFERROR(VLOOKUP(ROWS($Z$2:Z3354),K3354:$L$6000,2,0),\"\")","v":""},{"$f":"IFERROR(VLOOKUP(ROWS($AA$2:AA3354),K3354:$M$6000,3,0),\"\")","v":""}]
[{"$nulls":10},{"$f":"IF(ISNUMBER(SEARCH($A$3,L3355)),MAX($K$1:K3354)+1,0)","v":0},"Skyline Millars Ltd","SKYLMILAR.BO",{"$nulls":12},{"$f":"IFERROR(VLOOKUP(ROWS($Z$2:Z3355),K3355:$L$6000,2,0),\"\")","v":""},{"$f":"IFERROR(VLOOKUP(ROWS($AA$2:AA3355),K3355:$M$6000,3,0),\"\")","v":""}]
[{"$nulls":10},{"$f":"IF(ISNUMBER(SEARCH($A$3,L3356)),MAX($K$1:K3355)+1,0)","v":0},"Skypak Service Specialiti","SKYSS.BO",{"$nulls":12},{"$f":"IFERROR(VLOOKUP(ROWS($Z$2:Z3356),K3356:$L$6000,2,0),\"\")","v":""},{"$f":"IFERROR(VLOOKUP(ROWS($AA$2:AA3356),K3356:$M$6000,3,0),\"\")","v":""}]
[{"$nulls":10},{"$f":"IF(ISNUMBER(SEARCH($A$3,L3357)),MAX($K$1:K3356)+1,0)","v":0},"Smartlink Network Systems Ltd","SMARTLINK.BO",{"$nulls":12},{"$f":"IFERROR(VLOOKUP(ROWS($Z$2:Z3357),K3357:$L$6000,2,0),\"\")","v":""},{"$f":"IFERROR(VLOOKUP(ROWS($AA$2:AA3357),K3357:$M$6000,3,0),\"\")","v":""}]
[{"$nulls":10},{"$f":"IF(ISNUMBER(SEARCH($A$3,L3358)),MAX($K$1:K3357)+1,0)","v":0},"Smartlink Network Systems Ltd","DLINKINDI.NS",{"$nulls":12},{"$f":"IFERROR(VLOOKUP(ROWS($Z$2:Z3358),K3358:$L$6000,2,0),\"\")","v":""},{"$f":"IFERROR(VLOOKUP(ROWS($AA$2:AA3358),K3358:$M$6000,3,0),\"\")","v":""}]
[{"$nulls":10},{"$f":"IF(ISNUMBER(SEARCH($A$3,L3359)),MAX($K$1:K3358)+1,0)","v":0},"Smartlink Network Systems Ltd","SMARTLINK.NS",{"$nulls":12},{"$f":"IFERROR(VLOOKUP(ROWS($Z$2:Z3359),K3359:$L$6000,2,0),\"\")","v":""},{"$f":"IFERROR(VLOOKUP(ROWS($AA$2:AA3359),K3359:$M$6000,3,0),\"\")","v":""}]
[{"$nulls":10},{"$f":"IF(ISNUMBER(SEARCH($A$3,L3360)),MAX($K$1:K3359)+1,0)","v":0},"Smifs Capital Markets Ltd","SMIFS.BO",{"$nulls":12},{"$f":"IFERROR(VLOOKUP(ROWS($Z$2:Z3360),K3360:$L$6000,2,0),\"\")","v":""},{"$f":"IFERROR(VLOOKUP(ROWS($AA$2:AA3360),K3360:$M$6000,3,0),\"\")","v":""}]
[{"$nulls":10},{"$f":"IF(ISNUMBER(SEARCH($A$3,L3361)),MAX($K$1:K3360)+1,0)","v":0},"Smiths & Founders (India) Ltd","SHIMOGA.BO",{"$nulls":12},{"$f":"IFERROR(VLOOKUP(ROWS($Z$2:Z3361),K3361:$L$6000,2,0),\"\")","v":""},{"$f":"IFERROR(VLOOKUP(ROWS($AA$2:AA3361),K3361:$M$6000,3,0),\"\")","v":""}]
[{"$nulls":10},{"$f":"IF(ISNUMBER(SEARCH($A$3,L3362)),MAX($K$1:K3361)+1,0)","v":0},"SML Isuzu Ltd","SWARAJMAZD.BO",{"$nulls":12},{"$f":"IFERROR(VLOOKUP(ROWS($Z$2:Z3362),K3362:$L$6000,2,0),\"\")","v":""},{"$f":"IFERROR(VLOOKUP(ROWS($AA$2:AA3362),K3362:$M$6000,3,0),\"\")","v":""}]
[{"$nulls":10},{"$f":"IF(ISNUMBER(SEARCH($A$3,L3363)),MAX($K$1:K3362)+1,0)","v":0},"SML Isuzu Ltd","SWARAJMAZ.NS",{"$nulls":12},{"$f":"IFERROR(VLOOKUP(ROWS($Z$2:Z3363),K3363:$L$6000,2,0),\"\")","v":""},{"$f":"IFERROR(VLOOKUP(ROWS($AA$2:AA3363),K3363:$M$6000,3,0),\"\")","v":""}]
[{"$nulls":10},{"$f":"IF(ISNUMBER(SEARCH($A$3,L3364)),MAX($K$1:K3363)+1,0)","v":0},"Smruthi Organics Ltd","SMRUTHI.BO",{"$nulls":12},{"$f":"IFERROR(VLOOKUP(ROWS($Z$2:Z3364),K3364:$L$6000,2,0),\"\")","v":""},{"$f":"IFERROR(VLOOKUP(ROWS($AA$2:AA3364),K3364:$M$6000,3,0),\"\")","v":""}]
[{"$nulls":10},{"$f":"IF(ISNUMBER(SEARCH($A$3,L3365)),MAX($K$1:K3364)+1,0)","v":0},"SMS Pharmaceuticals Ltd","SMSPHARMA.BO",{"$nulls":12},{"$f":"IFERROR(VLOOKUP(ROWS($Z$2:Z3365),K3365:$L$6000,2,0),\"\")","v":""},{"$f":"IFERROR(VLOOKUP(ROWS($AA$2:AA3365),K3365:$M$6000,3,0),\"\")","v":""}]
[{"$nulls":10},{"$f":"IF(ISNUMBER(SEARCH($A$3,L3366)),MAX($K$1:K3365)+1,0)","v":0},"SMS Pharmaceuticals Ltd","SMSPHARMA.NS",{"$nulls":12},{"$f":"IFERROR(VLOOKUP(ROWS($Z$2:Z3366),K3366:$L$6000,2,0),\"\")","v":""},{"$f":"IFERROR(VLOOKUP(ROWS($AA$2:AA3366),K3366:$M$6000,3,0),\"\")","v":""}]
[{"$nulls":10},{"$f":"IF(ISNUMBER(SEARCH($A$3,L3367)),MAX($K$1:K3366)+1,0)","v":0},"SMS Techsoft (India) Ltd","AKLSOFT.BO",{"$nulls":12},{"$f":"IFERROR(VLOOKUP(ROWS($Z$2:Z3367),K3367:$L$6000,2,0),\"\")","v":""},{"$f":"IFERROR(VLOOKUP(ROWS($AA$2:AA3367),K3367:$M$6000,3,0),\"\")","v":""}]
[{"$nulls":10},{"$f":"IF(ISNUMBER(SEARCH($A$3,L3368)),MAX($K$1:K3367)+1,0)","v":0},"SNL Bearings Ltd","SNL.BO",{"$nulls":12},{"$f":"IFERROR(VLOOKUP(ROWS($Z$2:Z3368),K3368:$L$6000,2,0),\"\")","v":""},{"$f":"IFERROR(VLOOKUP(ROWS($AA$2:AA3368),K3368:$M$6000,3,0),\"\")","v":""}]
[{"$nulls":10},{"$f":"IF(ISNUMBER(SEARCH($A$3,L3369)),MAX($K$1:K3368)+1,0)","v":0},"SNS Textiles Ltd","SNSTEXTIL.BO",{"$nulls":12},{"$f":"IFERROR(VLOOKUP(ROWS($Z$2:Z3369),K3369:$L$6000,2,0),\"\")","v":""},{"$f":"IFERROR(VLOOKUP(ROWS($AA$2:AA3369),K3369:$M$6000,3,0),\"\")","v":""}]
[{"$nulls":10},{"$f":"IF(ISNUMBER(SEARCH($A$3,L3370)),MAX($K$1:K3369)+1,0)","v":0},"Sobha Developers Ltd","SOBHA.BO",{"$nulls":12},{"$f":"IFERROR(VLOOKUP(ROWS($Z$2:Z3370),K3370:$L$6000,2,0),\"\")","v":""},{"$f":"IFERROR(VLOOKUP(ROWS($AA$2:AA3370),K3370:$M$6000,3,0),\"\")","v":""}]
[{"$nulls":10},{"$f":"IF(ISNUMBER(SEARCH($A$3,L3371)),MAX($K$1:K3370)+1,0)","v":0},"Sobha Developers Ltd","SOBHA.NS",{"$nulls":12},{"$f":"IFERROR(VLOOKUP(ROWS($Z$2:Z3371),K3371:$L$6000,2,0),\"\")","v":""},{"$f":"IFERROR(VLOOKUP(ROWS($AA$2:AA3371),K3371:$M$6000,3,0),\"\")","v":""}]
[{"$nulls":10},{"$f":"IF(ISNUMBER(SEARCH($A$3,L3372)),MAX($K$1:K3371)+1,0)","v":0},"Softech Infinium Solutions Ltd","SOFTECH.BO",{"$nulls":12},{"$f":"IFERROR(VLOOKUP(ROWS($Z$2:Z3372),K3372:$L$6000,2,0),\"\")","v":""},{"$f":"IFERROR(VLOOKUP(ROWS($AA$2:AA3372),K3372:$M$6000,3,0),\"\")","v":""}]
[{"$nulls":10},{"$f":"IF(ISNUMBER(SEARCH($A$3,L3373)),MAX($K$1:K3372)+1,0)","v":0},"Softsol India Ltd","SOFTSOL.BO",{"$nulls":12},{"$f":"IFERROR(VLOOKUP(ROWS($Z$2:Z3373),K3373:$L$6000,2,0),\"\")","v":""},{"$f":"IFERROR(VLOOKUP(ROWS($AA$2:AA3373),K3373:$M$6000,3,0),\"\")","v":""}]
[{"$nulls":10},{"$f":"IF(ISNUMBER(SEARCH($A$3,L3374)),MAX($K$1:K3373)+1,0)","v":0},"Software Technology Group","SOFTECHG.BO",{"$nulls":12},{"$f":"IFERROR(VLOOKUP(ROWS($Z$2:Z3374),K3374:$L$6000,2,0),\"\")","v":""},{"$f":"IFERROR(VLOOKUP(ROWS($AA$2:AA3374),K3374:$M$6000,3,0),\"\")","v":""}]
[{"$nulls":10},{"$f":"IF(ISNUMBER(SEARCH($A$3,L3375)),MAX($K$1:K3374)+1,0)","v":0},"Solar Industries India Ltd","SOLARIND.BO",{"$nulls":12},{"$f":"IFERROR(VLOOKUP(ROWS($Z$2:Z3375),K3375:$L$6000,2,0),\"\")","v":""},{"$f":"IFERROR(VLOOKUP(ROWS($AA$2:AA3375),K3375:$M$6000,3,0),\"\")","v":""}]
[{"$nulls":10},{"$f":"IF(ISNUMBER(SEARCH($A$3,L3376)),MAX($K$1:K3375)+1,0)","v":0},"Solar Industries India Ltd","SOLARINDS.NS",{"$nulls":12},{"$f":"IFERROR(VLOOKUP(ROWS($Z$2:Z3376),K3376:$L$6000,2,0),\"\")","v":""},{"$f":"IFERROR(VLOOKUP(ROWS($AA$2:AA3376),K3376:$M$6000,3,0),\"\")","v":""}]
[{"$nulls":10},{"$f":"IF(ISNUMBER(SEARCH($A$3,L3377)),MAX($K$1:K3376)+1,0)","v":0},"Solid Stone Co Ltd","SOLIDSTON.BO",{"$nulls":12},{"$f":"IFERROR(VLOOKUP(ROWS($Z$2:Z3377),K3377:$L$6000,2,0),\"\")","v":""},{"$f":"IFERROR(VLOOKUP(ROWS($AA$2:AA3377),K3377:$M$6000,3,0),\"\")","v":""}]
[{"$nulls":10},{"$f":"IF(ISNUMBER(SEARCH($A$3,L3378)),MAX($K$1:K3377)+1,0)","v":0},"Solitaire Machine Tools Ltd","SOLIMAC.BO",{"$nulls":12},{"$f":"IFERROR(VLOOKUP(ROWS($Z$2:Z3378),K3378:$L$6000,2,0),\"\")","v":""},{"$f":"IFERROR(VLOOKUP(ROWS($AA$2:AA3378),K3378:$M$6000,3,0),\"\")","v":""}]
[{"$nulls":10},{"$f":"IF(ISNUMBER(SEARCH($A$3,L3379)),MAX($K$1:K3378)+1,0)","v":0},"Som Datt Finance Corp Ltd","SODFC.BO",{"$nulls":12},{"$f":"IFERROR(VLOOKUP(ROWS($Z$2:Z3379),K3379:$L$6000,2,0),\"\")","v":""},{"$f":"IFERROR(VLOOKUP(ROWS($AA$2:AA3379),K3379:$M$6000,3,0),\"\")","v":""}]
[{"$nulls":10},{"$f":"IF(ISNUMBER(SEARCH($A$3,L3380)),MAX($K$1:K3379)+1,0)","v":0},"Som Distilleries And Brew","SOMDIST.BO",{"$nulls":12},{"$f":"IFERROR(VLOOKUP(ROWS($Z$2:Z3380),K3380:$L$6000,2,0),\"\")","v":""},{"$f":"IFERROR(VLOOKUP(ROWS($AA$2:AA3380),K3380:$M$6000,3,0),\"\")","v":""}]
[{"$nulls":10},{"$f":"IF(ISNUMBER(SEARCH($A$3,L3381)),MAX($K$1:K3380)+1,0)","v":0},"Soma Papers & Industries Ltd","SOMAPPR.BO",{"$nulls":12},{"$f":"IFERROR(VLOOKUP(ROWS($Z$2:Z3381),K3381:$L$6000,2,0),\"\")","v":""},{"$f":"IFERROR(VLOOKUP(ROWS($AA$2:AA3381),K3381:$M$6000,3,0),\"\")","v":""}]
[{"$nulls":10},{"$f":"IF(ISNUMBER(SEARCH($A$3,L3382)),MAX($K$1:K3381)+1,0)","v":0},"Soma Textiles & Industries Ltd","SOMATEX.BO",{"$nulls":12},{"$f":"IFERROR(VLOOKUP(ROWS($Z$2:Z3382),K3382:$L$6000,2,0),\"\")","v":""},{"$f":"IFERROR(VLOOKUP(ROWS($AA$2:AA3382),K3382:$M$6000,3,0),\"\")","v":""}]
[{"$nulls":10},{"$f":"IF(ISNUMBER(SEARCH($A$3,L3383)),MAX($K$1:K3382)+1,0)","v":0},"Soma Textiles & Industries Ltd","SOMATEX.NS",{"$nulls":12},{"$f":"IFERROR(VLOOKUP(ROWS($Z$2:Z3383),K3383:$L$6000,2,0),\"\")","v":""},{"$f":"IFERROR(VLOOKUP(ROWS($AA$2:AA3383),K3383:$M$6000,3,0),\"\")","v":""}]
[{"$nulls":10},{"$f":"IF(ISNUMBER(SEARCH($A$3,L3384)),MAX($K$1:K3383)+1,0)","v":0},"Somany Ceramics Ltd","SOMANY.BO",{"$nulls":12},{"$f":"IFERROR(VLOOKUP(ROWS($Z$2:Z3384),K3384:$L$6000,2,0),\"\")","v":""},{"$f":"IFERROR(VLOOKUP(ROWS($AA$2:AA3384),K3384:$M$6000,3,0),\"\")","v":""}]
[{"$nulls":10},{"$f":"IF(ISNUMBER(SEARCH($A$3,L3385)),MAX($K$1:K3384)+1,0)","v":0},"Somi Conveyor Beltings Ltd","SOMICONV.BO",{"$nulls":12},{"$f":"IFERROR(VLOOKUP(ROWS($Z$2:Z3385),K3385:$L$6000,2,0),\"\")","v":""},{"$f":"IFERROR(VLOOKUP(ROWS($AA$2:AA3385),K3385:$M$6000,3,0),\"\")","v":""}]
[{"$nulls":10},{"$f":"IF(ISNUMBER(SEARCH($A$3,L3386)),MAX($K$1:K3385)+1,0)","v":0},"Sona Koyo Steering Systems Ltd","SONAKOYA.BO",{"$nulls":12},{"$f":"IFERROR(VLOOKUP(ROWS($Z$2:Z3386),K3386:$L$6000,2,0),\"\")","v":""},{"$f":"IFERROR(VLOOKUP(ROWS($AA$2:AA3386),K3386:$M$6000,3,0),\"\")","v":""}]
[{"$nulls":10},{"$f":"IF(ISNUMBER(SEARCH($A$3,L3387)),MAX($K$1:K3386)+1,0)","v":0},"Sona Koyo Steering Systems Ltd","SONASTEER.NS",{"$nulls":12},{"$f":"IFERROR(VLOOKUP(ROWS($Z$2:Z3387),K3387:$L$6000,2,0),\"\")","v":""},{"$f":"IFERROR(VLOOKUP(ROWS($AA$2:AA3387),K3387:$M$6000,3,0),\"\")","v":""}]
[{"$nulls":10},{"$f":"IF(ISNUMBER(SEARCH($A$3,L3388)),MAX($K$1:K3387)+1,0)","v":0},"Sonal Adhesives Ltd","SONALAD.BO",{"$nulls":12},{"$f":"IFERROR(VLOOKUP(ROWS($Z$2:Z3388),K3388:$L$6000,2,0),\"\")","v":""},{"$f":"IFERROR(VLOOKUP(ROWS($AA$2:AA3388),K3388:$M$6000,3,0),\"\")","v":""}]
[{"$nulls":10},{"$f":"IF(ISNUMBER(SEARCH($A$3,L3389)),MAX($K$1:K3388)+1,0)","v":0},"Sonata Software Ltd","SONATA.BO",{"$nulls":12},{"$f":"IFERROR(VLOOKUP(ROWS($Z$2:Z3389),K3389:$L$6000,2,0),\"\")","v":""},{"$f":"IFERROR(VLOOKUP(ROWS($AA$2:AA3389),K3389:$M$6000,3,0),\"\")","v":""}]
[{"$nulls":10},{"$f":"IF(ISNUMBER(SEARCH($A$3,L3390)),MAX($K$1:K3389)+1,0)","v":0},"Sonata Software Ltd","SONATSOFT.NS",{"$nulls":12},{"$f":"IFERROR(VLOOKUP(ROWS($Z$2:Z3390),K3390:$L$6000,2,0),\"\")","v":""},{"$f":"IFERROR(VLOOKUP(ROWS($AA$2:AA3390),K3390:$M$6000,3,0),\"\")","v":""}]
[{"$nulls":10},{"$f":"IF(ISNUMBER(SEARCH($A$3,L3391)),MAX($K$1:K3390)+1,0)","v":0},"Source Industries (India) Ltd","TISHT.BO",{"$nulls":12},{"$f":"IFERROR(VLOOKUP(ROWS($Z$2:Z3391),K3391:$L$6000,2,0),\"\")","v":""},{"$f":"IFERROR(VLOOKUP(ROWS($AA$2:AA3391),K3391:$M$6000,3,0),\"\")","v":""}]
[{"$nulls":10},{"$f":"IF(ISNUMBER(SEARCH($A$3,L3392)),MAX($K$1:K3391)+1,0)","v":0},"Source Natural Foods","INWINEX.BO",{"$nulls":12},{"$f":"IFERROR(VLOOKUP(ROWS($Z$2:Z3392),K3392:$L$6000,2,0),\"\")","v":""},{"$f":"IFERROR(VLOOKUP(ROWS($AA$2:AA3392),K3392:$M$6000,3,0),\"\")","v":""}]
[{"$nulls":10},{"$f":"IF(ISNUMBER(SEARCH($A$3,L3393)),MAX($K$1:K3392)+1,0)","v":0},"South Asian Enterprises Ltd","SAENTER.BO",{"$nulls":12},{"$f":"IFERROR(VLOOKUP(ROWS($Z$2:Z3393),K3393:$L$6000,2,0),\"\")","v":""},{"$f":"IFERROR(VLOOKUP(ROWS($AA$2:AA3393),K3393:$M$6000,3,0),\"\")","v":""}]
[{"$nulls":10},{"$f":"IF(ISNUMBER(SEARCH($A$3,L3394)),MAX($K$1:K3393)+1,0)","v":0},"South India Paper Mills","STHINPA.BO",{"$nulls":12},{"$f":"IFERROR(VLOOKUP(ROWS($Z$2:Z3394),K3394:$L$6000,2,0),\"\")","v":""},{"$f":"IFERROR(VLOOKUP(ROWS($AA$2:AA3394),K3394:$M$6000,3,0),\"\")","v":""}]
[{"$nulls":10},{"$f":"IF(ISNUMBER(SEARCH($A$3,L3395)),MAX($K$1:K3394)+1,0)","v":0},"South Indian Bank Ltd","SOUTHINDBA.BO",{"$nulls":12},{"$f":"IFERROR(VLOOKUP(ROWS($Z$2:Z3395),K3395:$L$6000,2,0),\"\")","v":""},{"$f":"IFERROR(VLOOKUP(ROWS($AA$2:AA3395),K3395:$M$6000,3,0),\"\")","v":""}]
[{"$nulls":10},{"$f":"IF(ISNUMBER(SEARCH($A$3,L3396)),MAX($K$1:K3395)+1,0)","v":0},"South Indian Bank Ltd","SOUTHBANK.NS",{"$nulls":12},{"$f":"IFERROR(VLOOKUP(ROWS($Z$2:Z3396),K3396:$L$6000,2,0),\"\")","v":""},{"$f":"IFERROR(VLOOKUP(ROWS($AA$2:AA3396),K3396:$M$6000,3,0),\"\")","v":""}]
[{"$nulls":10},{"$f":"IF(ISNUMBER(SEARCH($A$3,L3397)),MAX($K$1:K3396)+1,0)","v":0},"Southern Ispat & Energy Ltd","SOUTHISPQ.BO",{"$nulls":12},{"$f":"IFERROR(VLOOKUP(ROWS($Z$2:Z3397),K3397:$L$6000,2,0),\"\")","v":""},{"$f":"IFERROR(VLOOKUP(ROWS($AA$2:AA3397),K3397:$M$6000,3,0),\"\")","v":""}]
[{"$nulls":10},{"$f":"IF(ISNUMBER(SEARCH($A$3,L3398)),MAX($K$1:K3397)+1,0)","v":0},"Southern Online Bio","SBTL.BO",{"$nulls":12},{"$f":"IFERROR(VLOOKUP(ROWS($Z$2:Z3398),K3398:$L$6000,2,0),\"\")","v":""},{"$f":"IFERROR(VLOOKUP(ROWS($AA$2:AA3398),K3398:$M$6000,3,0),\"\")","v":""}]
[{"$nulls":10},{"$f":"IF(ISNUMBER(SEARCH($A$3,L3399)),MAX($K$1:K3398)+1,0)","v":0},"Southern Petrochemicals I","SOUTHPET.BO",{"$nulls":12},{"$f":"IFERROR(VLOOKUP(ROWS($Z$2:Z3399),K3399:$L$6000,2,0),\"\")","v":""},{"$f":"IFERROR(VLOOKUP(ROWS($AA$2:AA3399),K3399:$M$6000,3,0),\"\")","v":""}]
[{"$nulls":10},{"$f":"IF(ISNUMBER(SEARCH($A$3,L3400)),MAX($K$1:K3399)+1,0)","v":0},"Southern Petrochemicals I","SPIC.NS",{"$nulls":12},{"$f":"IFERROR(VLOOKUP(ROWS($Z$2:Z3400),K3400:$L$6000,2,0),\"\")","v":""},{"$f":"IFERROR(VLOOKUP(ROWS($AA$2:AA3400),K3400:$M$6000,3,0),\"\")","v":""}]
[{"$nulls":10},{"$f":"IF(ISNUMBER(SEARCH($A$3,L3401)),MAX($K$1:K3400)+1,0)","v":0},"Sovereign Diamonds Ltd","SOVERDIA.BO",{"$nulls":12},{"$f":"IFERROR(VLOOKUP(ROWS($Z$2:Z3401),K3401:$L$6000,2,0),\"\")","v":""},{"$f":"IFERROR(VLOOKUP(ROWS($AA$2:AA3401),K3401:$M$6000,3,0),\"\")","v":""}]
[{"$nulls":10},{"$f":"IF(ISNUMBER(SEARCH($A$3,L3402)),MAX($K$1:K3401)+1,0)","v":0},"Sowbhagya Media Ltd","SOWBHAGYA.BO",{"$nulls":12},{"$f":"IFERROR(VLOOKUP(ROWS($Z$2:Z3402),K3402:$L$6000,2,0),\"\")","v":""},{"$f":"IFERROR(VLOOKUP(ROWS($AA$2:AA3402),K3402:$M$6000,3,0),\"\")","v":""}]
[{"$nulls":10},{"$f":"IF(ISNUMBER(SEARCH($A$3,L3403)),MAX($K$1:K3402)+1,0)","v":0},"Span Diagnostics Ltd","SPANDIAQ.BO",{"$nulls":12},{"$f":"IFERROR(VLOOKUP(ROWS($Z$2:Z3403),K3403:$L$6000,2,0),\"\")","v":""},{"$f":"IFERROR(VLOOKUP(ROWS($AA$2:AA3403),K3403:$M$6000,3,0),\"\")","v":""}]
[{"$nulls":10},{"$f":"IF(ISNUMBER(SEARCH($A$3,L3404)),MAX($K$1:K3403)+1,0)","v":0},"Spanco Telesystems & Solu","SPANCO.BO",{"$nulls":12},{"$f":"IFERROR(VLOOKUP(ROWS($Z$2:Z3404),K3404:$L$6000,2,0),\"\")","v":""},{"$f":"IFERROR(VLOOKUP(ROWS($AA$2:AA3404),K3404:$M$6000,3,0),\"\")","v":""}]
[{"$nulls":10},{"$f":"IF(ISNUMBER(SEARCH($A$3,L3405)),MAX($K$1:K3404)+1,0)","v":0},"Sparc Systems Ltd","SPARC.BO",{"$nulls":12},{"$f":"IFERROR(VLOOKUP(ROWS($Z$2:Z3405),K3405:$L$6000,2,0),\"\")","v":""},{"$f":"IFERROR(VLOOKUP(ROWS($AA$2:AA3405),K3405:$M$6000,3,0),\"\")","v":""}]
[{"$nulls":10},{"$f":"IF(ISNUMBER(SEARCH($A$3,L3406)),MAX($K$1:K3405)+1,0)","v":0},"Speciality Papers Ltd","SPECIAPP.BO",{"$nulls":12},{"$f":"IFERROR(VLOOKUP(ROWS($Z$2:Z3406),K3406:$L$6000,2,0),\"\")","v":""},{"$f":"IFERROR(VLOOKUP(ROWS($AA$2:AA3406),K3406:$M$6000,3,0),\"\")","v":""}]
[{"$nulls":10},{"$f":"IF(ISNUMBER(SEARCH($A$3,L3407)),MAX($K$1:K3406)+1,0)","v":0},"Spectacle Ventures Ltd","SPECTACLE.BO",{"$nulls":12},{"$f":"IFERROR(VLOOKUP(ROWS($Z$2:Z3407),K3407:$L$6000,2,0),\"\")","v":""},{"$f":"IFERROR(VLOOKUP(ROWS($AA$2:AA3407),K3407:$M$6000,3,0),\"\")","v":""}]
[{"$nulls":10},{"$f":"IF(ISNUMBER(SEARCH($A$3,L3408)),MAX($K$1:K3407)+1,0)","v":0},"Spectra Industries Ltd","SPECTRA.BO",{"$nulls":12},{"$f":"IFERROR(VLOOKUP(ROWS($Z$2:Z3408),K3408:$L$6000,2,0),\"\")","v":""},{"$f":"IFERROR(VLOOKUP(ROWS($AA$2:AA3408),K3408:$M$6000,3,0),\"\")","v":""}]
[{"$nulls":10},{"$f":"IF(ISNUMBER(SEARCH($A$3,L3409)),MAX($K$1:K3408)+1,0)","v":0},"Spectrum Foods Ltd","SPECFOOD.BO",{"$nulls":12},{"$f":"IFERROR(VLOOKUP(ROWS($Z$2:Z3409),K3409:$L$6000,2,0),\"\")","v":""},{"$f":"IFERROR(VLOOKUP(ROWS($AA$2:AA3409),K3409:$M$6000,3,0),\"\")","v":""}]
[{"$nulls":10},{"$f":"IF(ISNUMBER(SEARCH($A$3,L3410)),MAX($K$1:K3409)+1,0)","v":0},"Spel Semiconductor Ltd","SPELS.BO",{"$nulls":12},{"$f":"IFERROR(VLOOKUP(ROWS($Z$2:Z3410),K3410:$L$6000,2,0),\"\")","v":""},{"$f":"IFERROR(VLOOKUP(ROWS($AA$2:AA3410),K3410:$M$6000,3,0),\"\")","v":""}]
[{"$nulls":10},{"$f":"IF(ISNUMBER(SEARCH($A$3,L3411)),MAX($K$1:K3410)+1,0)","v":0},"Spenta International Ltd","SPENTA.BO",{"$nulls":12},{"$f":"IFERROR(VLOOKUP(ROWS($Z$2:Z3411),K3411:$L$6000,2,0),\"\")","v":""},{"$f":"IFERROR(VLOOKUP(ROWS($AA$2:AA3411),K3411:$M$6000,3,0),\"\")","v":""}]
[{"$nulls":10},{"$f":"IF(ISNUMBER(SEARCH($A$3,L3412)),MAX($K$1:K3411)+1,0)","v":0},"Spentex Industries Ltd","SPENTEX.BO",{"$nulls":12},{"$f":"IFERROR(VLOOKUP(ROWS($Z$2:Z3412),K3412:$L$6000,2,0),\"\")","v":""},{"$f":"IFERROR(VLOOKUP(ROWS($AA$2:AA3412),K3412:$M$6000,3,0),\"\")","v":""}]
[{"$nulls":10},{"$f":"IF(ISNUMBER(SEARCH($A$3,L3413)),MAX($K$1:K3412)+1,0)","v":0},"Spentex Industries Ltd","SPENTEX.NS",{"$nulls":12},{"$f":"IFERROR(VLOOKUP(ROWS($Z$2:Z3413),K3413:$L$6000,2,0),\"\")","v":""},{"$f":"IFERROR(VLOOKUP(ROWS($AA$2:AA3413),K3413:$M$6000,3,0),\"\")","v":""}]
[{"$nulls":10},{"$f":"IF(ISNUMBER(SEARCH($A$3,L3414)),MAX($K$1:K3413)+1,0)","v":0},"Spice Islands Apparels Ltd","SPICEISL.BO",{"$nulls":12},{"$f":"IFERROR(VLOOKUP(ROWS($Z$2:Z3414),K3414:$L$6000,2,0),\"\")","v":""},{"$f":"IFERROR(VLOOKUP(ROWS($AA$2:AA3414),K3414:$M$6000,3,0),\"\")","v":""}]
[{"$nulls":10},{"$f":"IF(ISNUMBER(SEARCH($A$3,L3415)),MAX($K$1:K3414)+1,0)","v":0},"Spicejet Ltd","SPICEJET.BO",{"$nulls":12},{"$f":"IFERROR(VLOOKUP(ROWS($Z$2:Z3415),K3415:$L$6000,2,0),\"\")","v":""},{"$f":"IFERROR(VLOOKUP(ROWS($AA$2:AA3415),K3415:$M$6000,3,0),\"\")","v":""}]
[{"$nulls":10},{"$f":"IF(ISNUMBER(SEARCH($A$3,L3416)),MAX($K$1:K3415)+1,0)","v":0},"Spine Traders Ltd","CAHNDRITR.BO",{"$nulls":12},{"$f":"IFERROR(VLOOKUP(ROWS($Z$2:Z3416),K3416:$L$6000,2,0),\"\")","v":""},{"$f":"IFERROR(VLOOKUP(ROWS($AA$2:AA3416),K3416:$M$6000,3,0),\"\")","v":""}]
[{"$nulls":10},{"$f":"IF(ISNUMBER(SEARCH($A$3,L3417)),MAX($K$1:K3416)+1,0)","v":0},"SPL Industries Ltd","SPLIL.BO",{"$nulls":12},{"$f":"IFERROR(VLOOKUP(ROWS($Z$2:Z3417),K3417:$L$6000,2,0),\"\")","v":""},{"$f":"IFERROR(VLOOKUP(ROWS($AA$2:AA3417),K3417:$M$6000,3,0),\"\")","v":""}]
[{"$nulls":10},{"$f":"IF(ISNUMBER(SEARCH($A$3,L3418)),MAX($K$1:K3417)+1,0)","v":0},"SPL Industries Ltd","SPLIL.NS",{"$nulls":12},{"$f":"IFERROR(VLOOKUP(ROWS($Z$2:Z3418),K3418:$L$6000,2,0),\"\")","v":""},{"$f":"IFERROR(VLOOKUP(ROWS($AA$2:AA3418),K3418:$M$6000,3,0),\"\")","v":""}]
[{"$nulls":10},{"$f":"IF(ISNUMBER(SEARCH($A$3,L3419)),MAX($K$1:K3418)+1,0)","v":0},"Splash Media & Infra Ltd","SPLASHM.BO",{"$nulls":12},{"$f":"IFERROR(VLOOKUP(ROWS($Z$2:Z3419),K3419:$L$6000,2,0),\"\")","v":""},{"$f":"IFERROR(VLOOKUP(ROWS($AA$2:AA3419),K3419:$M$6000,3,0),\"\")","v":""}]
[{"$nulls":10},{"$f":"IF(ISNUMBER(SEARCH($A$3,L3420)),MAX($K$1:K3419)+1,0)","v":0},"SPML Infra Ltd","SUBHASHP.BO",{"$nulls":12},{"$f":"IFERROR(VLOOKUP(ROWS($Z$2:Z3420),K3420:$L$6000,2,0),\"\")","v":""},{"$f":"IFERROR(VLOOKUP(ROWS($AA$2:AA3420),K3420:$M$6000,3,0),\"\")","v":""}]
[{"$nulls":10},{"$f":"IF(ISNUMBER(SEARCH($A$3,L3421)),MAX($K$1:K3420)+1,0)","v":0},"SPML Infra Ltd","SPMLINFRA.NS",{"$nulls":12},{"$f":"IFERROR(VLOOKUP(ROWS($Z$2:Z3421),K3421:$L$6000,2,0),\"\")","v":""},{"$f":"IFERROR(VLOOKUP(ROWS($AA$2:AA3421),K3421:$M$6000,3,0),\"\")","v":""}]
[{"$nulls":10},{"$f":"IF(ISNUMBER(SEARCH($A$3,L3422)),MAX($K$1:K3421)+1,0)","v":0},"SPS International Ltd","SPSINT.BO",{"$nulls":12},{"$f":"IFERROR(VLOOKUP(ROWS($Z$2:Z3422),K3422:$L$6000,2,0),\"\")","v":""},{"$f":"IFERROR(VLOOKUP(ROWS($AA$2:AA3422),K3422:$M$6000,3,0),\"\")","v":""}]
[{"$nulls":10},{"$f":"IF(ISNUMBER(SEARCH($A$3,L3423)),MAX($K$1:K3422)+1,0)","v":0},"Square Four Projects India Ltd","ESSNSUP.BO",{"$nulls":12},{"$f":"IFERROR(VLOOKUP(ROWS($Z$2:Z3423),K3423:$L$6000,2,0),\"\")","v":""},{"$f":"IFERROR(VLOOKUP(ROWS($AA$2:AA3423),K3423:$M$6000,3,0),\"\")","v":""}]
[{"$nulls":10},{"$f":"IF(ISNUMBER(SEARCH($A$3,L3424)),MAX($K$1:K3423)+1,0)","v":0},"Sree Jayalakshmi Autospin Ltd","SREEJAYA.BO",{"$nulls":12},{"$f":"IFERROR(VLOOKUP(ROWS($Z$2:Z3424),K3424:$L$6000,2,0),\"\")","v":""},{"$f":"IFERROR(VLOOKUP(ROWS($AA$2:AA3424),K3424:$M$6000,3,0),\"\")","v":""}]
[{"$nulls":10},{"$f":"IF(ISNUMBER(SEARCH($A$3,L3425)),MAX($K$1:K3424)+1,0)","v":0},"Sree Rayalaseema","SREERAYA.BO",{"$nulls":12},{"$f":"IFERROR(VLOOKUP(ROWS($Z$2:Z3425),K3425:$L$6000,2,0),\"\")","v":""},{"$f":"IFERROR(VLOOKUP(ROWS($AA$2:AA3425),K3425:$M$6000,3,0),\"\")","v":""}]
[{"$nulls":10},{"$f":"IF(ISNUMBER(SEARCH($A$3,L3426)),MAX($K$1:K3425)+1,0)","v":0},"Sree Rayalaseema Hi-Stren","SREERAYAL.BO",{"$nulls":12},{"$f":"IFERROR(VLOOKUP(ROWS($Z$2:Z3426),K3426:$L$6000,2,0),\"\")","v":""},{"$f":"IFERROR(VLOOKUP(ROWS($AA$2:AA3426),K3426:$M$6000,3,0),\"\")","v":""}]
[{"$nulls":10},{"$f":"IF(ISNUMBER(SEARCH($A$3,L3427)),MAX($K$1:K3426)+1,0)","v":0},"Sree Rayalaseema Hi-Stren","SRHHYPOLT.NS",{"$nulls":12},{"$f":"IFERROR(VLOOKUP(ROWS($Z$2:Z3427),K3427:$L$6000,2,0),\"\")","v":""},{"$f":"IFERROR(VLOOKUP(ROWS($AA$2:AA3427),K3427:$M$6000,3,0),\"\")","v":""}]
[{"$nulls":10},{"$f":"IF(ISNUMBER(SEARCH($A$3,L3428)),MAX($K$1:K3427)+1,0)","v":0},"Sree Sakthi Paper Mills Ltd","SREESAKHTI.BO",{"$nulls":12},{"$f":"IFERROR(VLOOKUP(ROWS($Z$2:Z3428),K3428:$L$6000,2,0),\"\")","v":""},{"$f":"IFERROR(VLOOKUP(ROWS($AA$2:AA3428),K3428:$M$6000,3,0),\"\")","v":""}]
[{"$nulls":10},{"$f":"IF(ISNUMBER(SEARCH($A$3,L3429)),MAX($K$1:K3428)+1,0)","v":0},"Srei Infrastructure Fin","SREINFRA.BO",{"$nulls":12},{"$f":"IFERROR(VLOOKUP(ROWS($Z$2:Z3429),K3429:$L$6000,2,0),\"\")","v":""},{"$f":"IFERROR(VLOOKUP(ROWS($AA$2:AA3429),K3429:$M$6000,3,0),\"\")","v":""}]
[{"$nulls":10},{"$f":"IF(ISNUMBER(SEARCH($A$3,L3430)),MAX($K$1:K3429)+1,0)","v":0},"Srei Infrastructure Fin","SREINFRA.NS",{"$nulls":12},{"$f":"IFERROR(VLOOKUP(ROWS($Z$2:Z3430),K3430:$L$6000,2,0),\"\")","v":""},{"$f":"IFERROR(VLOOKUP(ROWS($AA$2:AA3430),K3430:$M$6000,3,0),\"\")","v":""}]
[{"$nulls":10},{"$f":"IF(ISNUMBER(SEARCH($A$3,L3431)),MAX($K$1:K3430)+1,0)","v":0},"SRF Ltd","SRFLTD.BO",{"$nulls":12},{"$f":"IFERROR(VLOOKUP(ROWS($Z$2:Z3431),K3431:$L$6000,2,0),\"\")","v":""},{"$f":"IFERROR(VLOOKUP(ROWS($AA$2:AA3431),K3431:$M$6000,3,0),\"\")","v":""}]
[{"$nulls":10},{"$f":"IF(ISNUMBER(SEARCH($A$3,L3432)),MAX($K$1:K3431)+1,0)","v":0},"SRF Ltd","SRF.NS",{"$nulls":12},{"$f":"IFERROR(VLOOKUP(ROWS($Z$2:Z3432),K3432:$L$6000,2,0),\"\")","v":""},{"$f":"IFERROR(VLOOKUP(ROWS($AA$2:AA3432),K3432:$M$6000,3,0),\"\")","v":""}]
[{"$nulls":10},{"$f":"IF(ISNUMBER(SEARCH($A$3,L3433)),MAX($K$1:K3432)+1,0)","v":0},"Sri Adhikari Brothers Tel","SABTV.BO",{"$nulls":12},{"$f":"IFERROR(VLOOKUP(ROWS($Z$2:Z3433),K3433:$L$6000,2,0),\"\")","v":""},{"$f":"IFERROR(VLOOKUP(ROWS($AA$2:AA3433),K3433:$M$6000,3,0),\"\")","v":""}]
[{"$nulls":10},{"$f":"IF(ISNUMBER(SEARCH($A$3,L3434)),MAX($K$1:K3433)+1,0)","v":0},"Sri Adhikari Brothers Tel","SABTN.NS",{"$nulls":12},{"$f":"IFERROR(VLOOKUP(ROWS($Z$2:Z3434),K3434:$L$6000,2,0),\"\")","v":""},{"$f":"IFERROR(VLOOKUP(ROWS($AA$2:AA3434),K3434:$M$6000,3,0),\"\")","v":""}]
[{"$nulls":10},{"$f":"IF(ISNUMBER(SEARCH($A$3,L3435)),MAX($K$1:K3434)+1,0)","v":0},"Sri KPR Industries Ltd","BWPL.BO",{"$nulls":12},{"$f":"IFERROR(VLOOKUP(ROWS($Z$2:Z3435),K3435:$L$6000,2,0),\"\")","v":""},{"$f":"IFERROR(VLOOKUP(ROWS($AA$2:AA3435),K3435:$M$6000,3,0),\"\")","v":""}]
[{"$nulls":10},{"$f":"IF(ISNUMBER(SEARCH($A$3,L3436)),MAX($K$1:K3435)+1,0)","v":0},"Sri Lakshmi Saraswathi","SLSTLQ.BO",{"$nulls":12},{"$f":"IFERROR(VLOOKUP(ROWS($Z$2:Z3436),K3436:$L$6000,2,0),\"\")","v":""},{"$f":"IFERROR(VLOOKUP(ROWS($AA$2:AA3436),K3436:$M$6000,3,0),\"\")","v":""}]
[{"$nulls":10},{"$f":"IF(ISNUMBER(SEARCH($A$3,L3437)),MAX($K$1:K3436)+1,0)","v":0},"Sri Nachammai Cotton Mills Ltd","SRINACHA.BO",{"$nulls":12},{"$f":"IFERROR(VLOOKUP(ROWS($Z$2:Z3437),K3437:$L$6000,2,0),\"\")","v":""},{"$f":"IFERROR(VLOOKUP(ROWS($AA$2:AA3437),K3437:$M$6000,3,0),\"\")","v":""}]
[{"$nulls":10},{"$f":"IF(ISNUMBER(SEARCH($A$3,L3438)),MAX($K$1:K3437)+1,0)","v":0},"Sri Ramakrishna Mills Coi","SRMCL.BO",{"$nulls":12},{"$f":"IFERROR(VLOOKUP(ROWS($Z$2:Z3438),K3438:$L$6000,2,0),\"\")","v":""},{"$f":"IFERROR(VLOOKUP(ROWS($AA$2:AA3438),K3438:$M$6000,3,0),\"\")","v":""}]
[{"$nulls":10},{"$f":"IF(ISNUMBER(SEARCH($A$3,L3439)),MAX($K$1:K3438)+1,0)","v":0},"Sri Vajra Granites Ltd","SRIVAJRA.BO",{"$nulls":12},{"$f":"IFERROR(VLOOKUP(ROWS($Z$2:Z3439),K3439:$L$6000,2,0),\"\")","v":""},{"$f":"IFERROR(VLOOKUP(ROWS($AA$2:AA3439),K3439:$M$6000,3,0),\"\")","v":""}]
[{"$nulls":10},{"$f":"IF(ISNUMBER(SEARCH($A$3,L3440)),MAX($K$1:K3439)+1,0)","v":0},"Srinivasa Hatcheries Ltd","SRINIHAT.BO",{"$nulls":12},{"$f":"IFERROR(VLOOKUP(ROWS($Z$2:Z3440),K3440:$L$6000,2,0),\"\")","v":""},{"$f":"IFERROR(VLOOKUP(ROWS($AA$2:AA3440),K3440:$M$6000,3,0),\"\")","v":""}]
[{"$nulls":10},{"$f":"IF(ISNUMBER(SEARCH($A$3,L3441)),MAX($K$1:K3440)+1,0)","v":0},"SRM Energy Ltd","SRMENERGY.BO",{"$nulls":12},{"$f":"IFERROR(VLOOKUP(ROWS($Z$2:Z3441),K3441:$L$6000,2,0),\"\")","v":""},{"$f":"IFERROR(VLOOKUP(ROWS($AA$2:AA3441),K3441:$M$6000,3,0),\"\")","v":""}]
[{"$nulls":10},{"$f":"IF(ISNUMBER(SEARCH($A$3,L3442)),MAX($K$1:K3441)+1,0)","v":0},"SSPDL Ltd","SSPDL.BO",{"$nulls":12},{"$f":"IFERROR(VLOOKUP(ROWS($Z$2:Z3442),K3442:$L$6000,2,0),\"\")","v":""},{"$f":"IFERROR(VLOOKUP(ROWS($AA$2:AA3442),K3442:$M$6000,3,0),\"\")","v":""}]
[{"$nulls":10},{"$f":"IF(ISNUMBER(SEARCH($A$3,L3443)),MAX($K$1:K3442)+1,0)","v":0},"Stampede Capital Ltd","BRILLSEC.BO",{"$nulls":12},{"$f":"IFERROR(VLOOKUP(ROWS($Z$2:Z3443),K3443:$L$6000,2,0),\"\")","v":""},{"$f":"IFERROR(VLOOKUP(ROWS($AA$2:AA3443),K3443:$M$6000,3,0),\"\")","v":""}]
[{"$nulls":10},{"$f":"IF(ISNUMBER(SEARCH($A$3,L3444)),MAX($K$1:K3443)+1,0)","v":0},"Standard Capital Markets Ltd","STANCAP.BO",{"$nulls":12},{"$f":"IFERROR(VLOOKUP(ROWS($Z$2:Z3444),K3444:$L$6000,2,0),\"\")","v":""},{"$f":"IFERROR(VLOOKUP(ROWS($AA$2:AA3444),K3444:$M$6000,3,0),\"\")","v":""}]
[{"$nulls":10},{"$f":"IF(ISNUMBER(SEARCH($A$3,L3445)),MAX($K$1:K3444)+1,0)","v":0},"Standard Industries Ltd","STANDARDIN.BO",{"$nulls":12},{"$f":"IFERROR(VLOOKUP(ROWS($Z$2:Z3445),K3445:$L$6000,2,0),\"\")","v":""},{"$f":"IFERROR(VLOOKUP(ROWS($AA$2:AA3445),K3445:$M$6000,3,0),\"\")","v":""}]
[{"$nulls":10},{"$f":"IF(ISNUMBER(SEARCH($A$3,L3446)),MAX($K$1:K3445)+1,0)","v":0},"Standard Industries Ltd","SIL.NS",{"$nulls":12},{"$f":"IFERROR(VLOOKUP(ROWS($Z$2:Z3446),K3446:$L$6000,2,0),\"\")","v":""},{"$f":"IFERROR(VLOOKUP(ROWS($AA$2:AA3446),K3446:$M$6000,3,0),\"\")","v":""}]
[{"$nulls":10},{"$f":"IF(ISNUMBER(SEARCH($A$3,L3447)),MAX($K$1:K3446)+1,0)","v":0},"Standard Shoe Sole","CHMCRWN.BO",{"$nulls":12},{"$f":"IFERROR(VLOOKUP(ROWS($Z$2:Z3447),K3447:$L$6000,2,0),\"\")","v":""},{"$f":"IFERROR(VLOOKUP(ROWS($AA$2:AA3447),K3447:$M$6000,3,0),\"\")","v":""}]
[{"$nulls":10},{"$f":"IF(ISNUMBER(SEARCH($A$3,L3448)),MAX($K$1:K3447)+1,0)","v":0},"Stanpacks (India) Ltd","STANPACK.BO",{"$nulls":12},{"$f":"IFERROR(VLOOKUP(ROWS($Z$2:Z3448),K3448:$L$6000,2,0),\"\")","v":""},{"$f":"IFERROR(VLOOKUP(ROWS($AA$2:AA3448),K3448:$M$6000,3,0),\"\")","v":""}]
[{"$nulls":10},{"$f":"IF(ISNUMBER(SEARCH($A$3,L3449)),MAX($K$1:K3448)+1,0)","v":0},"Star Paper Mills Ltd","STARPPR.BO",{"$nulls":12},{"$f":"IFERROR(VLOOKUP(ROWS($Z$2:Z3449),K3449:$L$6000,2,0),\"\")","v":""},{"$f":"IFERROR(VLOOKUP(ROWS($AA$2:AA3449),K3449:$M$6000,3,0),\"\")","v":""}]
[{"$nulls":10},{"$f":"IF(ISNUMBER(SEARCH($A$3,L3450)),MAX($K$1:K3449)+1,0)","v":0},"Star Paper Mills Ltd","STARPAPER.NS",{"$nulls":12},{"$f":"IFERROR(VLOOKUP(ROWS($Z$2:Z3450),K3450:$L$6000,2,0),\"\")","v":""},{"$f":"IFERROR(VLOOKUP(ROWS($AA$2:AA3450),K3450:$M$6000,3,0),\"\")","v":""}]
[{"$nulls":10},{"$f":"IF(ISNUMBER(SEARCH($A$3,L3451)),MAX($K$1:K3450)+1,0)","v":1},"State Bank Of Bikaner","SBBJ.BO",{"$nulls":12},{"$f":"IFERROR(VLOOKUP(ROWS($Z$2:Z3451),K3451:$L$6000,2,0),\"\")","v":""},{"$f":"IFERROR(VLOOKUP(ROWS($AA$2:AA3451),K3451:$M$6000,3,0),\"\")","v":""}]
[{"$nulls":10},{"$f":"IF(ISNUMBER(SEARCH($A$3,L3452)),MAX($K$1:K3451)+1,0)","v":2},"State Bank of India","SBI.BO",{"$nulls":12},{"$f":"IFERROR(VLOOKUP(ROWS($Z$2:Z3452),K3452:$L$6000,2,0),\"\")","v":""},{"$f":"IFERROR(VLOOKUP(ROWS($AA$2:AA3452),K3452:$M$6000,3,0),\"\")","v":""}]
[{"$nulls":10},{"$f":"IF(ISNUMBER(SEARCH($A$3,L3453)),MAX($K$1:K3452)+1,0)","v":3},"State Bank of India","SBIN.NS",{"$nulls":12},{"$f":"IFERROR(VLOOKUP(ROWS($Z$2:Z3453),K3453:$L$6000,2,0),\"\")","v":""},{"$f":"IFERROR(VLOOKUP(ROWS($AA$2:AA3453),K3453:$M$6000,3,0),\"\")","v":""}]
[{"$nulls":10},{"$f":"IF(ISNUMBER(SEARCH($A$3,L3454)),MAX($K$1:K3453)+1,0)","v":4},"State Bank of Mysore","SBM.BO",{"$nulls":12},{"$f":"IFERROR(VLOOKUP(ROWS($Z$2:Z3454),K3454:$L$6000,2,0),\"\")","v":""},{"$f":"IFERROR(VLOOKUP(ROWS($AA$2:AA3454),K3454:$M$6000,3,0),\"\")","v":""}]
[{"$nulls":10},{"$f":"IF(ISNUMBER(SEARCH($A$3,L3455)),MAX($K$1:K3454)+1,0)","v":5},"State Bank of Travancore","SBT.BO",{"$nulls":12},{"$f":"IFERROR(VLOOKUP(ROWS($Z$2:Z3455),K3455:$L$6000,2,0),\"\")","v":""},{"$f":"IFERROR(VLOOKUP(ROWS($AA$2:AA3455),K3455:$M$6000,3,0),\"\")","v":""}]
[{"$nulls":10},{"$f":"IF(ISNUMBER(SEARCH($A$3,L3456)),MAX($K$1:K3455)+1,0)","v":0},"State Trading of India","STCI.BO",{"$nulls":12},{"$f":"IFERROR(VLOOKUP(ROWS($Z$2:Z3456),K3456:$L$6000,2,0),\"\")","v":""},{"$f":"IFERROR(VLOOKUP(ROWS($AA$2:AA3456),K3456:$M$6000,3,0),\"\")","v":""}]
[{"$nulls":10},{"$f":"IF(ISNUMBER(SEARCH($A$3,L3457)),MAX($K$1:K3456)+1,0)","v":0},"State Trading of India","STCINDIA.NS",{"$nulls":12},{"$f":"IFERROR(VLOOKUP(ROWS($Z$2:Z3457),K3457:$L$6000,2,0),\"\")","v":""},{"$f":"IFERROR(VLOOKUP(ROWS($AA$2:AA3457),K3457:$M$6000,3,0),\"\")","v":""}]
[{"$nulls":10},{"$f":"IF(ISNUMBER(SEARCH($A$3,L3458)),MAX($K$1:K3457)+1,0)","v":0},"Steel Authority Of India Ltd","SAIL.BO",{"$nulls":12},{"$f":"IFERROR(VLOOKUP(ROWS($Z$2:Z3458),K3458:$L$6000,2,0),\"\")","v":""},{"$f":"IFERROR(VLOOKUP(ROWS($AA$2:AA3458),K3458:$M$6000,3,0),\"\")","v":""}]
[{"$nulls":10},{"$f":"IF(ISNUMBER(SEARCH($A$3,L3459)),MAX($K$1:K3458)+1,0)","v":0},"Steel Authority Of India Ltd","SAIL.NS",{"$nulls":12},{"$f":"IFERROR(VLOOKUP(ROWS($Z$2:Z3459),K3459:$L$6000,2,0),\"\")","v":""},{"$f":"IFERROR(VLOOKUP(ROWS($AA$2:AA3459),K3459:$M$6000,3,0),\"\")","v":""}]
[{"$nulls":10},{"$f":"IF(ISNUMBER(SEARCH($A$3,L3460)),MAX($K$1:K3459)+1,0)","v":0},"Steel Exchange India Ltd","STEELXIND.BO",{"$nulls":12},{"$f":"IFERROR(VLOOKUP(ROWS($Z$2:Z3460),K3460:$L$6000,2,0),\"\")","v":""},{"$f":"IFERROR(VLOOKUP(ROWS($AA$2:AA3460),K3460:$M$6000,3,0),\"\")","v":""}]
[{"$nulls":10},{"$f":"IF(ISNUMBER(SEARCH($A$3,L3461)),MAX($K$1:K3460)+1,0)","v":0},"Steel Strips","STLSTRINF.BO",{"$nulls":12},{"$f":"IFERROR(VLOOKUP(ROWS($Z$2:Z3461),K3461:$L$6000,2,0),\"\")","v":""},{"$f":"IFERROR(VLOOKUP(ROWS($AA$2:AA3461),K3461:$M$6000,3,0),\"\")","v":""}]
[{"$nulls":10},{"$f":"IF(ISNUMBER(SEARCH($A$3,L3462)),MAX($K$1:K3461)+1,0)","v":0},"Steel Strips Wheels Ltd","STEELSTR.BO",{"$nulls":12},{"$f":"IFERROR(VLOOKUP(ROWS($Z$2:Z3462),K3462:$L$6000,2,0),\"\")","v":""},{"$f":"IFERROR(VLOOKUP(ROWS($AA$2:AA3462),K3462:$M$6000,3,0),\"\")","v":""}]
[{"$nulls":10},{"$f":"IF(ISNUMBER(SEARCH($A$3,L3463)),MAX($K$1:K3462)+1,0)","v":0},"Steel Strips Wheels Ltd","SSWL.NS",{"$nulls":12},{"$f":"IFERROR(VLOOKUP(ROWS($Z$2:Z3463),K3463:$L$6000,2,0),\"\")","v":""},{"$f":"IFERROR(VLOOKUP(ROWS($AA$2:AA3463),K3463:$M$6000,3,0),\"\")","v":""}]
[{"$nulls":10},{"$f":"IF(ISNUMBER(SEARCH($A$3,L3464)),MAX($K$1:K3463)+1,0)","v":0},"Steelco Gujarat Ltd","STEELCO.BO",{"$nulls":12},{"$f":"IFERROR(VLOOKUP(ROWS($Z$2:Z3464),K3464:$L$6000,2,0),\"\")","v":""},{"$f":"IFERROR(VLOOKUP(ROWS($AA$2:AA3464),K3464:$M$6000,3,0),\"\")","v":""}]
[{"$nulls":10},{"$f":"IF(ISNUMBER(SEARCH($A$3,L3465)),MAX($K$1:K3464)+1,0)","v":0},"Stellant Securities","SELLAID.BO",{"$nulls":12},{"$f":"IFERROR(VLOOKUP(ROWS($Z$2:Z3465),K3465:$L$6000,2,0),\"\")","v":""},{"$f":"IFERROR(VLOOKUP(ROWS($AA$2:AA3465),K3465:$M$6000,3,0),\"\")","v":""}]
[{"$nulls":10},{"$f":"IF(ISNUMBER(SEARCH($A$3,L3466)),MAX($K$1:K3465)+1,0)","v":0},"Step Two Corp Ltd","STEP2COR.BO",{"$nulls":12},{"$f":"IFERROR(VLOOKUP(ROWS($Z$2:Z3466),K3466:$L$6000,2,0),\"\")","v":""},{"$f":"IFERROR(VLOOKUP(ROWS($AA$2:AA3466),K3466:$M$6000,3,0),\"\")","v":""}]
[{"$nulls":10},{"$f":"IF(ISNUMBER(SEARCH($A$3,L3467)),MAX($K$1:K3466)+1,0)","v":0},"Sterling Biotech Ltd","STERLINBIO.BO",{"$nulls":12},{"$f":"IFERROR(VLOOKUP(ROWS($Z$2:Z3467),K3467:$L$6000,2,0),\"\")","v":""},{"$f":"IFERROR(VLOOKUP(ROWS($AA$2:AA3467),K3467:$M$6000,3,0),\"\")","v":""}]
[{"$nulls":10},{"$f":"IF(ISNUMBER(SEARCH($A$3,L3468)),MAX($K$1:K3467)+1,0)","v":0},"Sterling Biotech Ltd","STERLINBI.NS",{"$nulls":12},{"$f":"IFERROR(VLOOKUP(ROWS($Z$2:Z3468),K3468:$L$6000,2,0),\"\")","v":""},{"$f":"IFERROR(VLOOKUP(ROWS($AA$2:AA3468),K3468:$M$6000,3,0),\"\")","v":""}]
[{"$nulls":10},{"$f":"IF(ISNUMBER(SEARCH($A$3,L3469)),MAX($K$1:K3468)+1,0)","v":0},"Sterling Greenwoods Ltd","STRGRENWO.BO",{"$nulls":12},{"$f":"IFERROR(VLOOKUP(ROWS($Z$2:Z3469),K3469:$L$6000,2,0),\"\")","v":""},{"$f":"IFERROR(VLOOKUP(ROWS($AA$2:AA3469),K3469:$M$6000,3,0),\"\")","v":""}]
[{"$nulls":10},{"$f":"IF(ISNUMBER(SEARCH($A$3,L3470)),MAX($K$1:K3469)+1,0)","v":0},"Sterling Holiday Resorts","STERLINH.BO",{"$nulls":12},{"$f":"IFERROR(VLOOKUP(ROWS($Z$2:Z3470),K3470:$L$6000,2,0),\"\")","v":""},{"$f":"IFERROR(VLOOKUP(ROWS($AA$2:AA3470),K3470:$M$6000,3,0),\"\")","v":""}]
[{"$nulls":10},{"$f":"IF(ISNUMBER(SEARCH($A$3,L3471)),MAX($K$1:K3470)+1,0)","v":0},"Sterling International En","STEERINTER.BO",{"$nulls":12},{"$f":"IFERROR(VLOOKUP(ROWS($Z$2:Z3471),K3471:$L$6000,2,0),\"\")","v":""},{"$f":"IFERROR(VLOOKUP(ROWS($AA$2:AA3471),K3471:$M$6000,3,0),\"\")","v":""}]
[{"$nulls":10},{"$f":"IF(ISNUMBER(SEARCH($A$3,L3472)),MAX($K$1:K3471)+1,0)","v":0},"Sterling Strips Ltd","STERS.BO",{"$nulls":12},{"$f":"IFERROR(VLOOKUP(ROWS($Z$2:Z3472),K3472:$L$6000,2,0),\"\")","v":""},{"$f":"IFERROR(VLOOKUP(ROWS($AA$2:AA3472),K3472:$M$6000,3,0),\"\")","v":""}]
[{"$nulls":10},{"$f":"IF(ISNUMBER(SEARCH($A$3,L3473)),MAX($K$1:K3472)+1,0)","v":0},"Sterling Tools Ltd","STERTOOL.BO",{"$nulls":12},{"$f":"IFERROR(VLOOKUP(ROWS($Z$2:Z3473),K3473:$L$6000,2,0),\"\")","v":""},{"$f":"IFERROR(VLOOKUP(ROWS($AA$2:AA3473),K3473:$M$6000,3,0),\"\")","v":""}]
[{"$nulls":10},{"$f":"IF(ISNUMBER(SEARCH($A$3,L3474)),MAX($K$1:K3473)+1,0)","v":0},"Sterling Tools Ltd","STERTOOLS.NS",{"$nulls":12},{"$f":"IFERROR(VLOOKUP(ROWS($Z$2:Z3474),K3474:$L$6000,2,0),\"\")","v":""},{"$f":"IFERROR(VLOOKUP(ROWS($AA$2:AA3474),K3474:$M$6000,3,0),\"\")","v":""}]
[{"$nulls":10},{"$f":"IF(ISNUMBER(SEARCH($A$3,L3475)),MAX($K$1:K3474)+1,0)","v":0},"Sterling Webnet Ltd","SARCN.BO",{"$nulls":12},{"$f":"IFERROR(VLOOKUP(ROWS($Z$2:Z3475),K3475:$L$6000,2,0),\"\")","v":""},{"$f":"IFERROR(VLOOKUP(ROWS($AA$2:AA3475),K3475:$M$6000,3,0),\"\")","v":""}]
[{"$nulls":10},{"$f":"IF(ISNUMBER(SEARCH($A$3,L3476)),MAX($K$1:K3475)+1,0)","v":0},"Sterlite Technologies Ltd","STRTECH.BO",{"$nulls":12},{"$f":"IFERROR(VLOOKUP(ROWS($Z$2:Z3476),K3476:$L$6000,2,0),\"\")","v":""},{"$f":"IFERROR(VLOOKUP(ROWS($AA$2:AA3476),K3476:$M$6000,3,0),\"\")","v":""}]
[{"$nulls":10},{"$f":"IF(ISNUMBER(SEARCH($A$3,L3477)),MAX($K$1:K3476)+1,0)","v":0},"Sterlite Technologies Ltd","STRTECH.NS",{"$nulls":12},{"$f":"IFERROR(VLOOKUP(ROWS($Z$2:Z3477),K3477:$L$6000,2,0),\"\")","v":""},{"$f":"IFERROR(VLOOKUP(ROWS($AA$2:AA3477),K3477:$M$6000,3,0),\"\")","v":""}]
[{"$nulls":10},{"$f":"IF(ISNUMBER(SEARCH($A$3,L3478)),MAX($K$1:K3477)+1,0)","v":0},"Stewarts & Lloyds Of India Ltd","STEWARTQ.BO",{"$nulls":12},{"$f":"IFERROR(VLOOKUP(ROWS($Z$2:Z3478),K3478:$L$6000,2,0),\"\")","v":""},{"$f":"IFERROR(VLOOKUP(ROWS($AA$2:AA3478),K3478:$M$6000,3,0),\"\")","v":""}]
[{"$nulls":10},{"$f":"IF(ISNUMBER(SEARCH($A$3,L3479)),MAX($K$1:K3478)+1,0)","v":0},"STL Global Ltd","STLGLOBAL.BO",{"$nulls":12},{"$f":"IFERROR(VLOOKUP(ROWS($Z$2:Z3479),K3479:$L$6000,2,0),\"\")","v":""},{"$f":"IFERROR(VLOOKUP(ROWS($AA$2:AA3479),K3479:$M$6000,3,0),\"\")","v":""}]
[{"$nulls":10},{"$f":"IF(ISNUMBER(SEARCH($A$3,L3480)),MAX($K$1:K3479)+1,0)","v":0},"STL Global Ltd","SGL.NS",{"$nulls":12},{"$f":"IFERROR(VLOOKUP(ROWS($Z$2:Z3480),K3480:$L$6000,2,0),\"\")","v":""},{"$f":"IFERROR(VLOOKUP(ROWS($AA$2:AA3480),K3480:$M$6000,3,0),\"\")","v":""}]
[{"$nulls":10},{"$f":"IF(ISNUMBER(SEARCH($A$3,L3481)),MAX($K$1:K3480)+1,0)","v":0},"Stone India Ltd","STONEIN.BO",{"$nulls":12},{"$f":"IFERROR(VLOOKUP(ROWS($Z$2:Z3481),K3481:$L$6000,2,0),\"\")","v":""},{"$f":"IFERROR(VLOOKUP(ROWS($AA$2:AA3481),K3481:$M$6000,3,0),\"\")","v":""}]
[{"$nulls":10},{"$f":"IF(ISNUMBER(SEARCH($A$3,L3482)),MAX($K$1:K3481)+1,0)","v":0},"Store One Retail India Ltd","STOREONE.BO",{"$nulls":12},{"$f":"IFERROR(VLOOKUP(ROWS($Z$2:Z3482),K3482:$L$6000,2,0),\"\")","v":""},{"$f":"IFERROR(VLOOKUP(ROWS($AA$2:AA3482),K3482:$M$6000,3,0),\"\")","v":""}]
[{"$nulls":10},{"$f":"IF(ISNUMBER(SEARCH($A$3,L3483)),MAX($K$1:K3482)+1,0)","v":0},"Store One Retail India Ltd","STOREONE.NS",{"$nulls":12},{"$f":"IFERROR(VLOOKUP(ROWS($Z$2:Z3483),K3483:$L$6000,2,0),\"\")","v":""},{"$f":"IFERROR(VLOOKUP(ROWS($AA$2:AA3483),K3483:$M$6000,3,0),\"\")","v":""}]
[{"$nulls":10},{"$f":"IF(ISNUMBER(SEARCH($A$3,L3484)),MAX($K$1:K3483)+1,0)","v":0},"Stovec Industries Ltd","STOVACQ.BO",{"$nulls":12},{"$f":"IFERROR(VLOOKUP(ROWS($Z$2:Z3484),K3484:$L$6000,2,0),\"\")","v":""},{"$f":"IFERROR(VLOOKUP(ROWS($AA$2:AA3484),K3484:$M$6000,3,0),\"\")","v":""}]
[{"$nulls":10},{"$f":"IF(ISNUMBER(SEARCH($A$3,L3485)),MAX($K$1:K3484)+1,0)","v":0},"Strides Arcolab Ltd","STRIDES.BO",{"$nulls":12},{"$f":"IFERROR(VLOOKUP(ROWS($Z$2:Z3485),K3485:$L$6000,2,0),\"\")","v":""},{"$f":"IFERROR(VLOOKUP(ROWS($AA$2:AA3485),K3485:$M$6000,3,0),\"\")","v":""}]
[{"$nulls":10},{"$f":"IF(ISNUMBER(SEARCH($A$3,L3486)),MAX($K$1:K3485)+1,0)","v":0},"Strides Arcolab Ltd","STAR.NS",{"$nulls":12},{"$f":"IFERROR(VLOOKUP(ROWS($Z$2:Z3486),K3486:$L$6000,2,0),\"\")","v":""},{"$f":"IFERROR(VLOOKUP(ROWS($AA$2:AA3486),K3486:$M$6000,3,0),\"\")","v":""}]
[{"$nulls":10},{"$f":"IF(ISNUMBER(SEARCH($A$3,L3487)),MAX($K$1:K3486)+1,0)","v":0},"Sturdy Industries Ltd","STURDY.BO",{"$nulls":12},{"$f":"IFERROR(VLOOKUP(ROWS($Z$2:Z3487),K3487:$L$6000,2,0),\"\")","v":""},{"$f":"IFERROR(VLOOKUP(ROWS($AA$2:AA3487),K3487:$M$6000,3,0),\"\")","v":""}]
[{"$nulls":10},{"$f":"IF(ISNUMBER(SEARCH($A$3,L3488)),MAX($K$1:K3487)+1,0)","v":0},"Styrolution ABS (India) Ltd","INABS.BO",{"$nulls":12},{"$f":"IFERROR(VLOOKUP(ROWS($Z$2:Z3488),K3488:$L$6000,2,0),\"\")","v":""},{"$f":"IFERROR(VLOOKUP(ROWS($AA$2:AA3488),K3488:$M$6000,3,0),\"\")","v":""}]
[{"$nulls":10},{"$f":"IF(ISNUMBER(SEARCH($A$3,L3489)),MAX($K$1:K3488)+1,0)","v":0},"Styrolution ABS (India) Ltd","INEABS.NS",{"$nulls":12},{"$f":"IFERROR(VLOOKUP(ROWS($Z$2:Z3489),K3489:$L$6000,2,0),\"\")","v":""},{"$f":"IFERROR(VLOOKUP(ROWS($AA$2:AA3489),K3489:$M$6000,3,0),\"\")","v":""}]
[{"$nulls":10},{"$f":"IF(ISNUMBER(SEARCH($A$3,L3490)),MAX($K$1:K3489)+1,0)","v":0},"Subex Ltd","SUBEXLTD.BO",{"$nulls":12},{"$f":"IFERROR(VLOOKUP(ROWS($Z$2:Z3490),K3490:$L$6000,2,0),\"\")","v":""},{"$f":"IFERROR(VLOOKUP(ROWS($AA$2:AA3490),K3490:$M$6000,3,0),\"\")","v":""}]
[{"$nulls":10},{"$f":"IF(ISNUMBER(SEARCH($A$3,L3491)),MAX($K$1:K3490)+1,0)","v":0},"Subex Ltd","SUBEX.NS",{"$nulls":12},{"$f":"IFERROR(VLOOKUP(ROWS($Z$2:Z3491),K3491:$L$6000,2,0),\"\")","v":""},{"$f":"IFERROR(VLOOKUP(ROWS($AA$2:AA3491),K3491:$M$6000,3,0),\"\")","v":""}]
[{"$nulls":10},{"$f":"IF(ISNUMBER(SEARCH($A$3,L3492)),MAX($K$1:K3491)+1,0)","v":0},"Subhash Silk Mills Ltd","SUBSM.BO",{"$nulls":12},{"$f":"IFERROR(VLOOKUP(ROWS($Z$2:Z3492),K3492:$L$6000,2,0),\"\")","v":""},{"$f":"IFERROR(VLOOKUP(ROWS($AA$2:AA3492),K3492:$M$6000,3,0),\"\")","v":""}]
[{"$nulls":10},{"$f":"IF(ISNUMBER(SEARCH($A$3,L3493)),MAX($K$1:K3492)+1,0)","v":0},"Subros Ltd","SUBROS.BO",{"$nulls":12},{"$f":"IFERROR(VLOOKUP(ROWS($Z$2:Z3493),K3493:$L$6000,2,0),\"\")","v":""},{"$f":"IFERROR(VLOOKUP(ROWS($AA$2:AA3493),K3493:$M$6000,3,0),\"\")","v":""}]
[{"$nulls":10},{"$f":"IF(ISNUMBER(SEARCH($A$3,L3494)),MAX($K$1:K3493)+1,0)","v":0},"Subros Ltd","SUBROS.NS",{"$nulls":12},{"$f":"IFERROR(VLOOKUP(ROWS($Z$2:Z3494),K3494:$L$6000,2,0),\"\")","v":""},{"$f":"IFERROR(VLOOKUP(ROWS($AA$2:AA3494),K3494:$M$6000,3,0),\"\")","v":""}]
[{"$nulls":10},{"$f":"IF(ISNUMBER(SEARCH($A$3,L3495)),MAX($K$1:K3494)+1,0)","v":0},"Sudal Industries Ltd","SUDAI.BO",{"$nulls":12},{"$f":"IFERROR(VLOOKUP(ROWS($Z$2:Z3495),K3495:$L$6000,2,0),\"\")","v":""},{"$f":"IFERROR(VLOOKUP(ROWS($AA$2:AA3495),K3495:$M$6000,3,0),\"\")","v":""}]
[{"$nulls":10},{"$f":"IF(ISNUMBER(SEARCH($A$3,L3496)),MAX($K$1:K3495)+1,0)","v":0},"Sudarshan Chemical","SUDRCHK-B.BO",{"$nulls":12},{"$f":"IFERROR(VLOOKUP(ROWS($Z$2:Z3496),K3496:$L$6000,2,0),\"\")","v":""},{"$f":"IFERROR(VLOOKUP(ROWS($AA$2:AA3496),K3496:$M$6000,3,0),\"\")","v":""}]
[{"$nulls":10},{"$f":"IF(ISNUMBER(SEARCH($A$3,L3497)),MAX($K$1:K3496)+1,0)","v":0},"Sudarshan Chemical","SUDARSCHE.NS",{"$nulls":12},{"$f":"IFERROR(VLOOKUP(ROWS($Z$2:Z3497),K3497:$L$6000,2,0),\"\")","v":""},{"$f":"IFERROR(VLOOKUP(ROWS($AA$2:AA3497),K3497:$M$6000,3,0),\"\")","v":""}]
[{"$nulls":10},{"$f":"IF(ISNUMBER(SEARCH($A$3,L3498)),MAX($K$1:K3497)+1,0)","v":0},"Sudev Industries Ltd","SUDIN.BO",{"$nulls":12},{"$f":"IFERROR(VLOOKUP(ROWS($Z$2:Z3498),K3498:$L$6000,2,0),\"\")","v":""},{"$f":"IFERROR(VLOOKUP(ROWS($AA$2:AA3498),K3498:$M$6000,3,0),\"\")","v":""}]
[{"$nulls":10},{"$f":"IF(ISNUMBER(SEARCH($A$3,L3499)),MAX($K$1:K3498)+1,0)","v":0},"Suditi Industries Ltd","SUDTIND-B.BO",{"$nulls":12},{"$f":"IFERROR(VLOOKUP(ROWS($Z$2:Z3499),K3499:$L$6000,2,0),\"\")","v":""},{"$f":"IFERROR(VLOOKUP(ROWS($AA$2:AA3499),K3499:$M$6000,3,0),\"\")","v":""}]
[{"$nulls":10},{"$f":"IF(ISNUMBER(SEARCH($A$3,L3500)),MAX($K$1:K3499)+1,0)","v":0},"Sugal & Damani Share Brok","SUGALDAM.BO",{"$nulls":12},{"$f":"IFERROR(VLOOKUP(ROWS($Z$2:Z3500),K3500:$L$6000,2,0),\"\")","v":""},{"$f":"IFERROR(VLOOKUP(ROWS($AA$2:AA3500),K3500:$M$6000,3,0),\"\")","v":""}]
[{"$nulls":10},{"$f":"IF(ISNUMBER(SEARCH($A$3,L3501)),MAX($K$1:K3500)+1,0)","v":0},"Sujana Metal Products Ltd","SUJANAMETAL.BO",{"$nulls":12},{"$f":"IFERROR(VLOOKUP(ROWS($Z$2:Z3501),K3501:$L$6000,2,0),\"\")","v":""},{"$f":"IFERROR(VLOOKUP(ROWS($AA$2:AA3501),K3501:$M$6000,3,0),\"\")","v":""}]
[{"$nulls":10},{"$f":"IF(ISNUMBER(SEARCH($A$3,L3502)),MAX($K$1:K3501)+1,0)","v":0},"Sujana Universal Industri","SUJANA.BO",{"$nulls":12},{"$f":"IFERROR(VLOOKUP(ROWS($Z$2:Z3502),K3502:$L$6000,2,0),\"\")","v":""},{"$f":"IFERROR(VLOOKUP(ROWS($AA$2:AA3502),K3502:$M$6000,3,0),\"\")","v":""}]
[{"$nulls":10},{"$f":"IF(ISNUMBER(SEARCH($A$3,L3503)),MAX($K$1:K3502)+1,0)","v":0},"Sujana Universal Industri","SUJANAUNI.NS",{"$nulls":12},{"$f":"IFERROR(VLOOKUP(ROWS($Z$2:Z3503),K3503:$L$6000,2,0),\"\")","v":""},{"$f":"IFERROR(VLOOKUP(ROWS($AA$2:AA3503),K3503:$M$6000,3,0),\"\")","v":""}]
[{"$nulls":10},{"$f":"IF(ISNUMBER(SEARCH($A$3,L3504)),MAX($K$1:K3503)+1,0)","v":0},"Sukhjit Starch & Chemicals Ltd","SUKHJITS.BO",{"$nulls":12},{"$f":"IFERROR(VLOOKUP(ROWS($Z$2:Z3504),K3504:$L$6000,2,0),\"\")","v":""},{"$f":"IFERROR(VLOOKUP(ROWS($AA$2:AA3504),K3504:$M$6000,3,0),\"\")","v":""}]
[{"$nulls":10},{"$f":"IF(ISNUMBER(SEARCH($A$3,L3505)),MAX($K$1:K3504)+1,0)","v":0},"Sumedha Fiscal Services Ltd","SUMEDHA.BO",{"$nulls":12},{"$f":"IFERROR(VLOOKUP(ROWS($Z$2:Z3505),K3505:$L$6000,2,0),\"\")","v":""},{"$f":"IFERROR(VLOOKUP(ROWS($AA$2:AA3505),K3505:$M$6000,3,0),\"\")","v":""}]
[{"$nulls":10},{"$f":"IF(ISNUMBER(SEARCH($A$3,L3506)),MAX($K$1:K3505)+1,0)","v":0},"Sumeet Industries Ltd","SUMEETIN.BO",{"$nulls":12},{"$f":"IFERROR(VLOOKUP(ROWS($Z$2:Z3506),K3506:$L$6000,2,0),\"\")","v":""},{"$f":"IFERROR(VLOOKUP(ROWS($AA$2:AA3506),K3506:$M$6000,3,0),\"\")","v":""}]
[{"$nulls":10},{"$f":"IF(ISNUMBER(SEARCH($A$3,L3507)),MAX($K$1:K3506)+1,0)","v":0},"Sumeru Industries Ltd","SUMERUIND.BO",{"$nulls":12},{"$f":"IFERROR(VLOOKUP(ROWS($Z$2:Z3507),K3507:$L$6000,2,0),\"\")","v":""},{"$f":"IFERROR(VLOOKUP(ROWS($AA$2:AA3507),K3507:$M$6000,3,0),\"\")","v":""}]
[{"$nulls":10},{"$f":"IF(ISNUMBER(SEARCH($A$3,L3508)),MAX($K$1:K3507)+1,0)","v":0},"Summit Securities Ltd","SUMMITSEC.NS",{"$nulls":12},{"$f":"IFERROR(VLOOKUP(ROWS($Z$2:Z3508),K3508:$L$6000,2,0),\"\")","v":""},{"$f":"IFERROR(VLOOKUP(ROWS($AA$2:AA3508),K3508:$M$6000,3,0),\"\")","v":""}]
[{"$nulls":10},{"$f":"IF(ISNUMBER(SEARCH($A$3,L3509)),MAX($K$1:K3508)+1,0)","v":0},"Sun and Shine Worldwide Ltd","ROBINSON.BO",{"$nulls":12},{"$f":"IFERROR(VLOOKUP(ROWS($Z$2:Z3509),K3509:$L$6000,2,0),\"\")","v":""},{"$f":"IFERROR(VLOOKUP(ROWS($AA$2:AA3509),K3509:$M$6000,3,0),\"\")","v":""}]
[{"$nulls":10},{"$f":"IF(ISNUMBER(SEARCH($A$3,L3510)),MAX($K$1:K3509)+1,0)","v":0},"Sun Pharma Advanced","SUNPHADV.BO",{"$nulls":12},{"$f":"IFERROR(VLOOKUP(ROWS($Z$2:Z3510),K3510:$L$6000,2,0),\"\")","v":""},{"$f":"IFERROR(VLOOKUP(ROWS($AA$2:AA3510),K3510:$M$6000,3,0),\"\")","v":""}]
[{"$nulls":10},{"$f":"IF(ISNUMBER(SEARCH($A$3,L3511)),MAX($K$1:K3510)+1,0)","v":0},"Sun Pharma Advanced","SPARC.NS",{"$nulls":12},{"$f":"IFERROR(VLOOKUP(ROWS($Z$2:Z3511),K3511:$L$6000,2,0),\"\")","v":""},{"$f":"IFERROR(VLOOKUP(ROWS($AA$2:AA3511),K3511:$M$6000,3,0),\"\")","v":""}]
[{"$nulls":10},{"$f":"IF(ISNUMBER(SEARCH($A$3,L3512)),MAX($K$1:K3511)+1,0)","v":0},"Sun Pharmaceuticals Indus","SUNPHARMA.BO",{"$nulls":12},{"$f":"IFERROR(VLOOKUP(ROWS($Z$2:Z3512),K3512:$L$6000,2,0),\"\")","v":""},{"$f":"IFERROR(VLOOKUP(ROWS($AA$2:AA3512),K3512:$M$6000,3,0),\"\")","v":""}]
[{"$nulls":10},{"$f":"IF(ISNUMBER(SEARCH($A$3,L3513)),MAX($K$1:K3512)+1,0)","v":0},"Sun Source (India) Ltd","SUNSOUI.BO",{"$nulls":12},{"$f":"IFERROR(VLOOKUP(ROWS($Z$2:Z3513),K3513:$L$6000,2,0),\"\")","v":""},{"$f":"IFERROR(VLOOKUP(ROWS($AA$2:AA3513),K3513:$M$6000,3,0),\"\")","v":""}]
[{"$nulls":10},{"$f":"IF(ISNUMBER(SEARCH($A$3,L3514)),MAX($K$1:K3513)+1,0)","v":0},"Sun Techno Overseas Ltd","WELLWORT.BO",{"$nulls":12},{"$f":"IFERROR(VLOOKUP(ROWS($Z$2:Z3514),K3514:$L$6000,2,0),\"\")","v":""},{"$f":"IFERROR(VLOOKUP(ROWS($AA$2:AA3514),K3514:$M$6000,3,0),\"\")","v":""}]
[{"$nulls":10},{"$f":"IF(ISNUMBER(SEARCH($A$3,L3515)),MAX($K$1:K3514)+1,0)","v":0},"Sun TV Network Ltd","SUNTV.BO",{"$nulls":12},{"$f":"IFERROR(VLOOKUP(ROWS($Z$2:Z3515),K3515:$L$6000,2,0),\"\")","v":""},{"$f":"IFERROR(VLOOKUP(ROWS($AA$2:AA3515),K3515:$M$6000,3,0),\"\")","v":""}]
[{"$nulls":10},{"$f":"IF(ISNUMBER(SEARCH($A$3,L3516)),MAX($K$1:K3515)+1,0)","v":0},"Sun TV Network Ltd","SUNTV.NS",{"$nulls":12},{"$f":"IFERROR(VLOOKUP(ROWS($Z$2:Z3516),K3516:$L$6000,2,0),\"\")","v":""},{"$f":"IFERROR(VLOOKUP(ROWS($AA$2:AA3516),K3516:$M$6000,3,0),\"\")","v":""}]
[{"$nulls":10},{"$f":"IF(ISNUMBER(SEARCH($A$3,L3517)),MAX($K$1:K3516)+1,0)","v":0},"Sunbright Stock Broking Ltd","BUBST.BO",{"$nulls":12},{"$f":"IFERROR(VLOOKUP(ROWS($Z$2:Z3517),K3517:$L$6000,2,0),\"\")","v":""},{"$f":"IFERROR(VLOOKUP(ROWS($AA$2:AA3517),K3517:$M$6000,3,0),\"\")","v":""}]
[{"$nulls":10},{"$f":"IF(ISNUMBER(SEARCH($A$3,L3518)),MAX($K$1:K3517)+1,0)","v":0},"Suncity Synthetics Ltd","SUNCITYSY.BO",{"$nulls":12},{"$f":"IFERROR(VLOOKUP(ROWS($Z$2:Z3518),K3518:$L$6000,2,0),\"\")","v":""},{"$f":"IFERROR(VLOOKUP(ROWS($AA$2:AA3518),K3518:$M$6000,3,0),\"\")","v":""}]
[{"$nulls":10},{"$f":"IF(ISNUMBER(SEARCH($A$3,L3519)),MAX($K$1:K3518)+1,0)","v":0},"Sundaram Brake Linings Ltd","SUNDRMBRAK.BO",{"$nulls":12},{"$f":"IFERROR(VLOOKUP(ROWS($Z$2:Z3519),K3519:$L$6000,2,0),\"\")","v":""},{"$f":"IFERROR(VLOOKUP(ROWS($AA$2:AA3519),K3519:$M$6000,3,0),\"\")","v":""}]
[{"$nulls":10},{"$f":"IF(ISNUMBER(SEARCH($A$3,L3520)),MAX($K$1:K3519)+1,0)","v":0},"Sundaram Brake Linings Ltd","SUNDRMBRA.NS",{"$nulls":12},{"$f":"IFERROR(VLOOKUP(ROWS($Z$2:Z3520),K3520:$L$6000,2,0),\"\")","v":""},{"$f":"IFERROR(VLOOKUP(ROWS($AA$2:AA3520),K3520:$M$6000,3,0),\"\")","v":""}]
[{"$nulls":10},{"$f":"IF(ISNUMBER(SEARCH($A$3,L3521)),MAX($K$1:K3520)+1,0)","v":0},"Sundaram Clayton Ltd","SUNDRMCLAY.BO",{"$nulls":12},{"$f":"IFERROR(VLOOKUP(ROWS($Z$2:Z3521),K3521:$L$6000,2,0),\"\")","v":""},{"$f":"IFERROR(VLOOKUP(ROWS($AA$2:AA3521),K3521:$M$6000,3,0),\"\")","v":""}]
[{"$nulls":10},{"$f":"IF(ISNUMBER(SEARCH($A$3,L3522)),MAX($K$1:K3521)+1,0)","v":0},"Sundaram Fasteners Ltd","SUNDRMFAST.BO",{"$nulls":12},{"$f":"IFERROR(VLOOKUP(ROWS($Z$2:Z3522),K3522:$L$6000,2,0),\"\")","v":""},{"$f":"IFERROR(VLOOKUP(ROWS($AA$2:AA3522),K3522:$M$6000,3,0),\"\")","v":""}]
[{"$nulls":10},{"$f":"IF(ISNUMBER(SEARCH($A$3,L3523)),MAX($K$1:K3522)+1,0)","v":0},"Sundaram Fasteners Ltd","SUNDRMFAS.NS",{"$nulls":12},{"$f":"IFERROR(VLOOKUP(ROWS($Z$2:Z3523),K3523:$L$6000,2,0),\"\")","v":""},{"$f":"IFERROR(VLOOKUP(ROWS($AA$2:AA3523),K3523:$M$6000,3,0),\"\")","v":""}]
[{"$nulls":10},{"$f":"IF(ISNUMBER(SEARCH($A$3,L3524)),MAX($K$1:K3523)+1,0)","v":0},"Sundaram Finance Ltd","SUNDARMFIN.BO",{"$nulls":12},{"$f":"IFERROR(VLOOKUP(ROWS($Z$2:Z3524),K3524:$L$6000,2,0),\"\")","v":""},{"$f":"IFERROR(VLOOKUP(ROWS($AA$2:AA3524),K3524:$M$6000,3,0),\"\")","v":""}]
[{"$nulls":10},{"$f":"IF(ISNUMBER(SEARCH($A$3,L3525)),MAX($K$1:K3524)+1,0)","v":0},"Sundaram Finance Ltd","SUNDARMFI.NS",{"$nulls":12},{"$f":"IFERROR(VLOOKUP(ROWS($Z$2:Z3525),K3525:$L$6000,2,0),\"\")","v":""},{"$f":"IFERROR(VLOOKUP(ROWS($AA$2:AA3525),K3525:$M$6000,3,0),\"\")","v":""}]
[{"$nulls":10},{"$f":"IF(ISNUMBER(SEARCH($A$3,L3526)),MAX($K$1:K3525)+1,0)","v":0},"Sundaram Multi Pap Ltd","SUNDARAM.BO",{"$nulls":12},{"$f":"IFERROR(VLOOKUP(ROWS($Z$2:Z3526),K3526:$L$6000,2,0),\"\")","v":""},{"$f":"IFERROR(VLOOKUP(ROWS($AA$2:AA3526),K3526:$M$6000,3,0),\"\")","v":""}]
[{"$nulls":10},{"$f":"IF(ISNUMBER(SEARCH($A$3,L3527)),MAX($K$1:K3526)+1,0)","v":0},"Sunday Export Ltd","SUNDYEX.BO",{"$nulls":12},{"$f":"IFERROR(VLOOKUP(ROWS($Z$2:Z3527),K3527:$L$6000,2,0),\"\")","v":""},{"$f":"IFERROR(VLOOKUP(ROWS($AA$2:AA3527),K3527:$M$6000,3,0),\"\")","v":""}]
[{"$nulls":10},{"$f":"IF(ISNUMBER(SEARCH($A$3,L3528)),MAX($K$1:K3527)+1,0)","v":0},"Sunflag Iron & Steel Co Ltd","SUNFLAGIRN.BO",{"$nulls":12},{"$f":"IFERROR(VLOOKUP(ROWS($Z$2:Z3528),K3528:$L$6000,2,0),\"\")","v":""},{"$f":"IFERROR(VLOOKUP(ROWS($AA$2:AA3528),K3528:$M$6000,3,0),\"\")","v":""}]
[{"$nulls":10},{"$f":"IF(ISNUMBER(SEARCH($A$3,L3529)),MAX($K$1:K3528)+1,0)","v":0},"Sunflag Iron & Steel Co Ltd","SUNFLAG.NS",{"$nulls":12},{"$f":"IFERROR(VLOOKUP(ROWS($Z$2:Z3529),K3529:$L$6000,2,0),\"\")","v":""},{"$f":"IFERROR(VLOOKUP(ROWS($AA$2:AA3529),K3529:$M$6000,3,0),\"\")","v":""}]
[{"$nulls":10},{"$f":"IF(ISNUMBER(SEARCH($A$3,L3530)),MAX($K$1:K3529)+1,0)","v":0},"Sungold Capital Ltd","SUNGOLD.BO",{"$nulls":12},{"$f":"IFERROR(VLOOKUP(ROWS($Z$2:Z3530),K3530:$L$6000,2,0),\"\")","v":""},{"$f":"IFERROR(VLOOKUP(ROWS($AA$2:AA3530),K3530:$M$6000,3,0),\"\")","v":""}]
[{"$nulls":10},{"$f":"IF(ISNUMBER(SEARCH($A$3,L3531)),MAX($K$1:K3530)+1,0)","v":0},"Sunil Agro Foods Ltd","SUNILAGR.BO",{"$nulls":12},{"$f":"IFERROR(VLOOKUP(ROWS($Z$2:Z3531),K3531:$L$6000,2,0),\"\")","v":""},{"$f":"IFERROR(VLOOKUP(ROWS($AA$2:AA3531),K3531:$M$6000,3,0),\"\")","v":""}]
[{"$nulls":10},{"$f":"IF(ISNUMBER(SEARCH($A$3,L3532)),MAX($K$1:K3531)+1,0)","v":0},"Sunil Hitech Engineers Ltd","SUNILHITEC.BO",{"$nulls":12},{"$f":"IFERROR(VLOOKUP(ROWS($Z$2:Z3532),K3532:$L$6000,2,0),\"\")","v":""},{"$f":"IFERROR(VLOOKUP(ROWS($AA$2:AA3532),K3532:$M$6000,3,0),\"\")","v":""}]
[{"$nulls":10},{"$f":"IF(ISNUMBER(SEARCH($A$3,L3533)),MAX($K$1:K3532)+1,0)","v":0},"Sunil Hitech Engineers Ltd","SUNILHITE.NS",{"$nulls":12},{"$f":"IFERROR(VLOOKUP(ROWS($Z$2:Z3533),K3533:$L$6000,2,0),\"\")","v":""},{"$f":"IFERROR(VLOOKUP(ROWS($AA$2:AA3533),K3533:$M$6000,3,0),\"\")","v":""}]
[{"$nulls":10},{"$f":"IF(ISNUMBER(SEARCH($A$3,L3534)),MAX($K$1:K3533)+1,0)","v":0},"Sunitee Chemicals Ltd","SUNITEE.BO",{"$nulls":12},{"$f":"IFERROR(VLOOKUP(ROWS($Z$2:Z3534),K3534:$L$6000,2,0),\"\")","v":""},{"$f":"IFERROR(VLOOKUP(ROWS($AA$2:AA3534),K3534:$M$6000,3,0),\"\")","v":""}]
[{"$nulls":10},{"$f":"IF(ISNUMBER(SEARCH($A$3,L3535)),MAX($K$1:K3534)+1,0)","v":0},"Sunraj Diamond Exports Ltd","SUNRAJDI.BO",{"$nulls":12},{"$f":"IFERROR(VLOOKUP(ROWS($Z$2:Z3535),K3535:$L$6000,2,0),\"\")","v":""},{"$f":"IFERROR(VLOOKUP(ROWS($AA$2:AA3535),K3535:$M$6000,3,0),\"\")","v":""}]
[{"$nulls":10},{"$f":"IF(ISNUMBER(SEARCH($A$3,L3536)),MAX($K$1:K3535)+1,0)","v":0},"Sunrise Asian Ltd","AKASI.BO",{"$nulls":12},{"$f":"IFERROR(VLOOKUP(ROWS($Z$2:Z3536),K3536:$L$6000,2,0),\"\")","v":""},{"$f":"IFERROR(VLOOKUP(ROWS($AA$2:AA3536),K3536:$M$6000,3,0),\"\")","v":""}]
[{"$nulls":10},{"$f":"IF(ISNUMBER(SEARCH($A$3,L3537)),MAX($K$1:K3536)+1,0)","v":0},"Sunshield Chemicals Ltd","SUNSHIEL.BO",{"$nulls":12},{"$f":"IFERROR(VLOOKUP(ROWS($Z$2:Z3537),K3537:$L$6000,2,0),\"\")","v":""},{"$f":"IFERROR(VLOOKUP(ROWS($AA$2:AA3537),K3537:$M$6000,3,0),\"\")","v":""}]
[{"$nulls":10},{"$f":"IF(ISNUMBER(SEARCH($A$3,L3538)),MAX($K$1:K3537)+1,0)","v":0},"Sunteck Realty Ltd","SUNTECK.BO",{"$nulls":12},{"$f":"IFERROR(VLOOKUP(ROWS($Z$2:Z3538),K3538:$L$6000,2,0),\"\")","v":""},{"$f":"IFERROR(VLOOKUP(ROWS($AA$2:AA3538),K3538:$M$6000,3,0),\"\")","v":""}]
[{"$nulls":10},{"$f":"IF(ISNUMBER(SEARCH($A$3,L3539)),MAX($K$1:K3538)+1,0)","v":0},"Super Bakers (India) Ltd","SUPERBAK.BO",{"$nulls":12},{"$f":"IFERROR(VLOOKUP(ROWS($Z$2:Z3539),K3539:$L$6000,2,0),\"\")","v":""},{"$f":"IFERROR(VLOOKUP(ROWS($AA$2:AA3539),K3539:$M$6000,3,0),\"\")","v":""}]
[{"$nulls":10},{"$f":"IF(ISNUMBER(SEARCH($A$3,L3540)),MAX($K$1:K3539)+1,0)","v":0},"Super Crop Safe Ltd","SUCROSA.BO",{"$nulls":12},{"$f":"IFERROR(VLOOKUP(ROWS($Z$2:Z3540),K3540:$L$6000,2,0),\"\")","v":""},{"$f":"IFERROR(VLOOKUP(ROWS($AA$2:AA3540),K3540:$M$6000,3,0),\"\")","v":""}]
[{"$nulls":10},{"$f":"IF(ISNUMBER(SEARCH($A$3,L3541)),MAX($K$1:K3540)+1,0)","v":0},"Super Sales India Ltd","SUPERSALE.BO",{"$nulls":12},{"$f":"IFERROR(VLOOKUP(ROWS($Z$2:Z3541),K3541:$L$6000,2,0),\"\")","v":""},{"$f":"IFERROR(VLOOKUP(ROWS($AA$2:AA3541),K3541:$M$6000,3,0),\"\")","v":""}]
[{"$nulls":10},{"$f":"IF(ISNUMBER(SEARCH($A$3,L3542)),MAX($K$1:K3541)+1,0)","v":0},"Super Spinning Mills Ltd","SUPERSPG.BO",{"$nulls":12},{"$f":"IFERROR(VLOOKUP(ROWS($Z$2:Z3542),K3542:$L$6000,2,0),\"\")","v":""},{"$f":"IFERROR(VLOOKUP(ROWS($AA$2:AA3542),K3542:$M$6000,3,0),\"\")","v":""}]
[{"$nulls":10},{"$f":"IF(ISNUMBER(SEARCH($A$3,L3543)),MAX($K$1:K3542)+1,0)","v":0},"Super Spinning Mills Ltd","SUPERSPIN.NS",{"$nulls":12},{"$f":"IFERROR(VLOOKUP(ROWS($Z$2:Z3543),K3543:$L$6000,2,0),\"\")","v":""},{"$f":"IFERROR(VLOOKUP(ROWS($AA$2:AA3543),K3543:$M$6000,3,0),\"\")","v":""}]
[{"$nulls":10},{"$f":"IF(ISNUMBER(SEARCH($A$3,L3544)),MAX($K$1:K3543)+1,0)","v":0},"Super Tannery Ltd","SUPERTAN.BO",{"$nulls":12},{"$f":"IFERROR(VLOOKUP(ROWS($Z$2:Z3544),K3544:$L$6000,2,0),\"\")","v":""},{"$f":"IFERROR(VLOOKUP(ROWS($AA$2:AA3544),K3544:$M$6000,3,0),\"\")","v":""}]
[{"$nulls":10},{"$f":"IF(ISNUMBER(SEARCH($A$3,L3545)),MAX($K$1:K3544)+1,0)","v":0},"Superhouse Ltd","SUPRHOUSE.BO",{"$nulls":12},{"$f":"IFERROR(VLOOKUP(ROWS($Z$2:Z3545),K3545:$L$6000,2,0),\"\")","v":""},{"$f":"IFERROR(VLOOKUP(ROWS($AA$2:AA3545),K3545:$M$6000,3,0),\"\")","v":""}]
[{"$nulls":10},{"$f":"IF(ISNUMBER(SEARCH($A$3,L3546)),MAX($K$1:K3545)+1,0)","v":0},"Supra Trends Ltd","VIJAYGR.BO",{"$nulls":12},{"$f":"IFERROR(VLOOKUP(ROWS($Z$2:Z3546),K3546:$L$6000,2,0),\"\")","v":""},{"$f":"IFERROR(VLOOKUP(ROWS($AA$2:AA3546),K3546:$M$6000,3,0),\"\")","v":""}]
[{"$nulls":10},{"$f":"IF(ISNUMBER(SEARCH($A$3,L3547)),MAX($K$1:K3546)+1,0)","v":0},"Suprajit Engineering Ltd","SUPRAENG.BO",{"$nulls":12},{"$f":"IFERROR(VLOOKUP(ROWS($Z$2:Z3547),K3547:$L$6000,2,0),\"\")","v":""},{"$f":"IFERROR(VLOOKUP(ROWS($AA$2:AA3547),K3547:$M$6000,3,0),\"\")","v":""}]
[{"$nulls":10},{"$f":"IF(ISNUMBER(SEARCH($A$3,L3548)),MAX($K$1:K3547)+1,0)","v":0},"Suprajit Engineering Ltd","SUPRAJIT.NS",{"$nulls":12},{"$f":"IFERROR(VLOOKUP(ROWS($Z$2:Z3548),K3548:$L$6000,2,0),\"\")","v":""},{"$f":"IFERROR(VLOOKUP(ROWS($AA$2:AA3548),K3548:$M$6000,3,0),\"\")","v":""}]
[{"$nulls":10},{"$f":"IF(ISNUMBER(SEARCH($A$3,L3549)),MAX($K$1:K3548)+1,0)","v":0},"Supreme Holdings","SUPREHOL.BO",{"$nulls":12},{"$f":"IFERROR(VLOOKUP(ROWS($Z$2:Z3549),K3549:$L$6000,2,0),\"\")","v":""},{"$f":"IFERROR(VLOOKUP(ROWS($AA$2:AA3549),K3549:$M$6000,3,0),\"\")","v":""}]
[{"$nulls":10},{"$f":"IF(ISNUMBER(SEARCH($A$3,L3550)),MAX($K$1:K3549)+1,0)","v":0},"Supreme Industries Ltd","SUPREMEIND.BO",{"$nulls":12},{"$f":"IFERROR(VLOOKUP(ROWS($Z$2:Z3550),K3550:$L$6000,2,0),\"\")","v":""},{"$f":"IFERROR(VLOOKUP(ROWS($AA$2:AA3550),K3550:$M$6000,3,0),\"\")","v":""}]
[{"$nulls":10},{"$f":"IF(ISNUMBER(SEARCH($A$3,L3551)),MAX($K$1:K3550)+1,0)","v":0},"Supreme Infrastructure In","SUPREMEINF.BO",{"$nulls":12},{"$f":"IFERROR(VLOOKUP(ROWS($Z$2:Z3551),K3551:$L$6000,2,0),\"\")","v":""},{"$f":"IFERROR(VLOOKUP(ROWS($AA$2:AA3551),K3551:$M$6000,3,0),\"\")","v":""}]
[{"$nulls":10},{"$f":"IF(ISNUMBER(SEARCH($A$3,L3552)),MAX($K$1:K3551)+1,0)","v":0},"Supreme Petrochem Ltd","SUPREMEPET.BO",{"$nulls":12},{"$f":"IFERROR(VLOOKUP(ROWS($Z$2:Z3552),K3552:$L$6000,2,0),\"\")","v":""},{"$f":"IFERROR(VLOOKUP(ROWS($AA$2:AA3552),K3552:$M$6000,3,0),\"\")","v":""}]
[{"$nulls":10},{"$f":"IF(ISNUMBER(SEARCH($A$3,L3553)),MAX($K$1:K3552)+1,0)","v":0},"Supreme Petrochem Ltd","SUPPETRO.NS",{"$nulls":12},{"$f":"IFERROR(VLOOKUP(ROWS($Z$2:Z3553),K3553:$L$6000,2,0),\"\")","v":""},{"$f":"IFERROR(VLOOKUP(ROWS($AA$2:AA3553),K3553:$M$6000,3,0),\"\")","v":""}]
[{"$nulls":10},{"$f":"IF(ISNUMBER(SEARCH($A$3,L3554)),MAX($K$1:K3553)+1,0)","v":0},"Supreme Tex Mart Ltd","SUPREMTEX.BO",{"$nulls":12},{"$f":"IFERROR(VLOOKUP(ROWS($Z$2:Z3554),K3554:$L$6000,2,0),\"\")","v":""},{"$f":"IFERROR(VLOOKUP(ROWS($AA$2:AA3554),K3554:$M$6000,3,0),\"\")","v":""}]
[{"$nulls":10},{"$f":"IF(ISNUMBER(SEARCH($A$3,L3555)),MAX($K$1:K3554)+1,0)","v":0},"Supreme Tex Mart Ltd","SUPREMETE.NS",{"$nulls":12},{"$f":"IFERROR(VLOOKUP(ROWS($Z$2:Z3555),K3555:$L$6000,2,0),\"\")","v":""},{"$f":"IFERROR(VLOOKUP(ROWS($AA$2:AA3555),K3555:$M$6000,3,0),\"\")","v":""}]
[{"$nulls":10},{"$f":"IF(ISNUMBER(SEARCH($A$3,L3556)),MAX($K$1:K3555)+1,0)","v":0},"Suraj Ltd","SURAJST.BO",{"$nulls":12},{"$f":"IFERROR(VLOOKUP(ROWS($Z$2:Z3556),K3556:$L$6000,2,0),\"\")","v":""},{"$f":"IFERROR(VLOOKUP(ROWS($AA$2:AA3556),K3556:$M$6000,3,0),\"\")","v":""}]
[{"$nulls":10},{"$f":"IF(ISNUMBER(SEARCH($A$3,L3557)),MAX($K$1:K3556)+1,0)","v":0},"Suraj Products Ltd","SURAJ.BO",{"$nulls":12},{"$f":"IFERROR(VLOOKUP(ROWS($Z$2:Z3557),K3557:$L$6000,2,0),\"\")","v":""},{"$f":"IFERROR(VLOOKUP(ROWS($AA$2:AA3557),K3557:$M$6000,3,0),\"\")","v":""}]
[{"$nulls":10},{"$f":"IF(ISNUMBER(SEARCH($A$3,L3558)),MAX($K$1:K3557)+1,0)","v":0},"Surana Corp Ltd","SURANACO.BO",{"$nulls":12},{"$f":"IFERROR(VLOOKUP(ROWS($Z$2:Z3558),K3558:$L$6000,2,0),\"\")","v":""},{"$f":"IFERROR(VLOOKUP(ROWS($AA$2:AA3558),K3558:$M$6000,3,0),\"\")","v":""}]
[{"$nulls":10},{"$f":"IF(ISNUMBER(SEARCH($A$3,L3559)),MAX($K$1:K3558)+1,0)","v":0},"Surana Corp Ltd","SURANACOR.NS",{"$nulls":12},{"$f":"IFERROR(VLOOKUP(ROWS($Z$2:Z3559),K3559:$L$6000,2,0),\"\")","v":""},{"$f":"IFERROR(VLOOKUP(ROWS($AA$2:AA3559),K3559:$M$6000,3,0),\"\")","v":""}]
[{"$nulls":10},{"$f":"IF(ISNUMBER(SEARCH($A$3,L3560)),MAX($K$1:K3559)+1,0)","v":0},"Surana Industries Ltd","SURANAIN.BO",{"$nulls":12},{"$f":"IFERROR(VLOOKUP(ROWS($Z$2:Z3560),K3560:$L$6000,2,0),\"\")","v":""},{"$f":"IFERROR(VLOOKUP(ROWS($AA$2:AA3560),K3560:$M$6000,3,0),\"\")","v":""}]
[{"$nulls":10},{"$f":"IF(ISNUMBER(SEARCH($A$3,L3561)),MAX($K$1:K3560)+1,0)","v":0},"Surana Industries Ltd","SURANAIND.NS",{"$nulls":12},{"$f":"IFERROR(VLOOKUP(ROWS($Z$2:Z3561),K3561:$L$6000,2,0),\"\")","v":""},{"$f":"IFERROR(VLOOKUP(ROWS($AA$2:AA3561),K3561:$M$6000,3,0),\"\")","v":""}]
[{"$nulls":10},{"$f":"IF(ISNUMBER(SEARCH($A$3,L3562)),MAX($K$1:K3561)+1,0)","v":0},"Surana Telecom Ltd","SURANATP.BO",{"$nulls":12},{"$f":"IFERROR(VLOOKUP(ROWS($Z$2:Z3562),K3562:$L$6000,2,0),\"\")","v":""},{"$f":"IFERROR(VLOOKUP(ROWS($AA$2:AA3562),K3562:$M$6000,3,0),\"\")","v":""}]
[{"$nulls":10},{"$f":"IF(ISNUMBER(SEARCH($A$3,L3563)),MAX($K$1:K3562)+1,0)","v":0},"Surana Ventures Ltd","SURANAVEL.NS",{"$nulls":12},{"$f":"IFERROR(VLOOKUP(ROWS($Z$2:Z3563),K3563:$L$6000,2,0),\"\")","v":""},{"$f":"IFERROR(VLOOKUP(ROWS($AA$2:AA3563),K3563:$M$6000,3,0),\"\")","v":""}]
[{"$nulls":10},{"$f":"IF(ISNUMBER(SEARCH($A$3,L3564)),MAX($K$1:K3563)+1,0)","v":0},"Surat Textile Mills Ltd","SURATEX.BO",{"$nulls":12},{"$f":"IFERROR(VLOOKUP(ROWS($Z$2:Z3564),K3564:$L$6000,2,0),\"\")","v":""},{"$f":"IFERROR(VLOOKUP(ROWS($AA$2:AA3564),K3564:$M$6000,3,0),\"\")","v":""}]
[{"$nulls":10},{"$f":"IF(ISNUMBER(SEARCH($A$3,L3565)),MAX($K$1:K3564)+1,0)","v":0},"Surya Pharmaceutical Ltd","SURYAP.BO",{"$nulls":12},{"$f":"IFERROR(VLOOKUP(ROWS($Z$2:Z3565),K3565:$L$6000,2,0),\"\")","v":""},{"$f":"IFERROR(VLOOKUP(ROWS($AA$2:AA3565),K3565:$M$6000,3,0),\"\")","v":""}]
[{"$nulls":10},{"$f":"IF(ISNUMBER(SEARCH($A$3,L3566)),MAX($K$1:K3565)+1,0)","v":0},"Surya Roshni Ltd","SURYAROSNI.BO",{"$nulls":12},{"$f":"IFERROR(VLOOKUP(ROWS($Z$2:Z3566),K3566:$L$6000,2,0),\"\")","v":""},{"$f":"IFERROR(VLOOKUP(ROWS($AA$2:AA3566),K3566:$M$6000,3,0),\"\")","v":""}]
[{"$nulls":10},{"$f":"IF(ISNUMBER(SEARCH($A$3,L3567)),MAX($K$1:K3566)+1,0)","v":0},"Surya Roshni Ltd","SURYAROSN.NS",{"$nulls":12},{"$f":"IFERROR(VLOOKUP(ROWS($Z$2:Z3567),K3567:$L$6000,2,0),\"\")","v":""},{"$f":"IFERROR(VLOOKUP(ROWS($AA$2:AA3567),K3567:$M$6000,3,0),\"\")","v":""}]
[{"$nulls":10},{"$f":"IF(ISNUMBER(SEARCH($A$3,L3568)),MAX($K$1:K3567)+1,0)","v":0},"Suryaamba Spinning Mills Ltd","SURYAAMBA.BO",{"$nulls":12},{"$f":"IFERROR(VLOOKUP(ROWS($Z$2:Z3568),K3568:$L$6000,2,0),\"\")","v":""},{"$f":"IFERROR(VLOOKUP(ROWS($AA$2:AA3568),K3568:$M$6000,3,0),\"\")","v":""}]
[{"$nulls":10},{"$f":"IF(ISNUMBER(SEARCH($A$3,L3569)),MAX($K$1:K3568)+1,0)","v":0},"Suryachakra Power Corp Ltd","SURYACHAKRA.BO",{"$nulls":12},{"$f":"IFERROR(VLOOKUP(ROWS($Z$2:Z3569),K3569:$L$6000,2,0),\"\")","v":""},{"$f":"IFERROR(VLOOKUP(ROWS($AA$2:AA3569),K3569:$M$6000,3,0),\"\")","v":""}]
[{"$nulls":10},{"$f":"IF(ISNUMBER(SEARCH($A$3,L3570)),MAX($K$1:K3569)+1,0)","v":0},"Suryajyoti Spinning Mills Ltd","SURYAJOTS.BO",{"$nulls":12},{"$f":"IFERROR(VLOOKUP(ROWS($Z$2:Z3570),K3570:$L$6000,2,0),\"\")","v":""},{"$f":"IFERROR(VLOOKUP(ROWS($AA$2:AA3570),K3570:$M$6000,3,0),\"\")","v":""}]
[{"$nulls":10},{"$f":"IF(ISNUMBER(SEARCH($A$3,L3571)),MAX($K$1:K3570)+1,0)","v":0},"Suryajyoti Spinning Mills Ltd","SURYAJYOT.NS",{"$nulls":12},{"$f":"IFERROR(VLOOKUP(ROWS($Z$2:Z3571),K3571:$L$6000,2,0),\"\")","v":""},{"$f":"IFERROR(VLOOKUP(ROWS($AA$2:AA3571),K3571:$M$6000,3,0),\"\")","v":""}]
[{"$nulls":10},{"$f":"IF(ISNUMBER(SEARCH($A$3,L3572)),MAX($K$1:K3571)+1,0)","v":0},"Suryalakshmi Cotton Mills Ltd","SURYCOTM.BO",{"$nulls":12},{"$f":"IFERROR(VLOOKUP(ROWS($Z$2:Z3572),K3572:$L$6000,2,0),\"\")","v":""},{"$f":"IFERROR(VLOOKUP(ROWS($AA$2:AA3572),K3572:$M$6000,3,0),\"\")","v":""}]
[{"$nulls":10},{"$f":"IF(ISNUMBER(SEARCH($A$3,L3573)),MAX($K$1:K3572)+1,0)","v":0},"Suryalakshmi Cotton Mills Ltd","SURYALAXM.NS",{"$nulls":12},{"$f":"IFERROR(VLOOKUP(ROWS($Z$2:Z3573),K3573:$L$6000,2,0),\"\")","v":""},{"$f":"IFERROR(VLOOKUP(ROWS($AA$2:AA3573),K3573:$M$6000,3,0),\"\")","v":""}]
[{"$nulls":10},{"$f":"IF(ISNUMBER(SEARCH($A$3,L3574)),MAX($K$1:K3573)+1,0)","v":0},"Suryalata Spinning Mills Ltd","SURYALA.BO",{"$nulls":12},{"$f":"IFERROR(VLOOKUP(ROWS($Z$2:Z3574),K3574:$L$6000,2,0),\"\")","v":""},{"$f":"IFERROR(VLOOKUP(ROWS($AA$2:AA3574),K3574:$M$6000,3,0),\"\")","v":""}]
[{"$nulls":10},{"$f":"IF(ISNUMBER(SEARCH($A$3,L3575)),MAX($K$1:K3574)+1,0)","v":0},"Suryanagri Finlease Ltd","SURYNGRF.BO",{"$nulls":12},{"$f":"IFERROR(VLOOKUP(ROWS($Z$2:Z3575),K3575:$L$6000,2,0),\"\")","v":""},{"$f":"IFERROR(VLOOKUP(ROWS($AA$2:AA3575),K3575:$M$6000,3,0),\"\")","v":""}]
[{"$nulls":10},{"$f":"IF(ISNUMBER(SEARCH($A$3,L3576)),MAX($K$1:K3575)+1,0)","v":0},"Suryavanshi Spinning Mills Ltd","SURYVANSP.BO",{"$nulls":12},{"$f":"IFERROR(VLOOKUP(ROWS($Z$2:Z3576),K3576:$L$6000,2,0),\"\")","v":""},{"$f":"IFERROR(VLOOKUP(ROWS($AA$2:AA3576),K3576:$M$6000,3,0),\"\")","v":""}]
[{"$nulls":10},{"$f":"IF(ISNUMBER(SEARCH($A$3,L3577)),MAX($K$1:K3576)+1,0)","v":0},"Sutlej Textiles And Indus","SUTLEJTEX.BO",{"$nulls":12},{"$f":"IFERROR(VLOOKUP(ROWS($Z$2:Z3577),K3577:$L$6000,2,0),\"\")","v":""},{"$f":"IFERROR(VLOOKUP(ROWS($AA$2:AA3577),K3577:$M$6000,3,0),\"\")","v":""}]
[{"$nulls":10},{"$f":"IF(ISNUMBER(SEARCH($A$3,L3578)),MAX($K$1:K3577)+1,0)","v":0},"Sutlej Textiles And Indus","SUTLEJTEX.NS",{"$nulls":12},{"$f":"IFERROR(VLOOKUP(ROWS($Z$2:Z3578),K3578:$L$6000,2,0),\"\")","v":""},{"$f":"IFERROR(VLOOKUP(ROWS($AA$2:AA3578),K3578:$M$6000,3,0),\"\")","v":""}]
[{"$nulls":10},{"$f":"IF(ISNUMBER(SEARCH($A$3,L3579)),MAX($K$1:K3578)+1,0)","v":0},"Suven Life Sciences Ltd","SUVEN.BO",{"$nulls":12},{"$f":"IFERROR(VLOOKUP(ROWS($Z$2:Z3579),K3579:$L$6000,2,0),\"\")","v":""},{"$f":"IFERROR(VLOOKUP(ROWS($AA$2:AA3579),K3579:$M$6000,3,0),\"\")","v":""}]
[{"$nulls":10},{"$f":"IF(ISNUMBER(SEARCH($A$3,L3580)),MAX($K$1:K3579)+1,0)","v":0},"Suven Life Sciences Ltd","SUVEN.NS",{"$nulls":12},{"$f":"IFERROR(VLOOKUP(ROWS($Z$2:Z3580),K3580:$L$6000,2,0),\"\")","v":""},{"$f":"IFERROR(VLOOKUP(ROWS($AA$2:AA3580),K3580:$M$6000,3,0),\"\")","v":""}]
[{"$nulls":10},{"$f":"IF(ISNUMBER(SEARCH($A$3,L3581)),MAX($K$1:K3580)+1,0)","v":0},"Suzlon Energy Ltd","SUZLON.BO",{"$nulls":12},{"$f":"IFERROR(VLOOKUP(ROWS($Z$2:Z3581),K3581:$L$6000,2,0),\"\")","v":""},{"$f":"IFERROR(VLOOKUP(ROWS($AA$2:AA3581),K3581:$M$6000,3,0),\"\")","v":""}]
[{"$nulls":10},{"$f":"IF(ISNUMBER(SEARCH($A$3,L3582)),MAX($K$1:K3581)+1,0)","v":0},"Suzlon Energy Ltd","SUZLON.NS",{"$nulls":12},{"$f":"IFERROR(VLOOKUP(ROWS($Z$2:Z3582),K3582:$L$6000,2,0),\"\")","v":""},{"$f":"IFERROR(VLOOKUP(ROWS($AA$2:AA3582),K3582:$M$6000,3,0),\"\")","v":""}]
[{"$nulls":10},{"$f":"IF(ISNUMBER(SEARCH($A$3,L3583)),MAX($K$1:K3582)+1,0)","v":0},"Svam Software Ltd","SVAMSOF.BO",{"$nulls":12},{"$f":"IFERROR(VLOOKUP(ROWS($Z$2:Z3583),K3583:$L$6000,2,0),\"\")","v":""},{"$f":"IFERROR(VLOOKUP(ROWS($AA$2:AA3583),K3583:$M$6000,3,0),\"\")","v":""}]
[{"$nulls":10},{"$f":"IF(ISNUMBER(SEARCH($A$3,L3584)),MAX($K$1:K3583)+1,0)","v":0},"SVC Superchem Ltd","SVCSUPE.BO",{"$nulls":12},{"$f":"IFERROR(VLOOKUP(ROWS($Z$2:Z3584),K3584:$L$6000,2,0),\"\")","v":""},{"$f":"IFERROR(VLOOKUP(ROWS($AA$2:AA3584),K3584:$M$6000,3,0),\"\")","v":""}]
[{"$nulls":10},{"$f":"IF(ISNUMBER(SEARCH($A$3,L3585)),MAX($K$1:K3584)+1,0)","v":0},"SVP Global Ventures Ltd","SCENARIO.BO",{"$nulls":12},{"$f":"IFERROR(VLOOKUP(ROWS($Z$2:Z3585),K3585:$L$6000,2,0),\"\")","v":""},{"$f":"IFERROR(VLOOKUP(ROWS($AA$2:AA3585),K3585:$M$6000,3,0),\"\")","v":""}]
[{"$nulls":10},{"$f":"IF(ISNUMBER(SEARCH($A$3,L3586)),MAX($K$1:K3585)+1,0)","v":0},"SW Investments Ltd","LALPHOU.BO",{"$nulls":12},{"$f":"IFERROR(VLOOKUP(ROWS($Z$2:Z3586),K3586:$L$6000,2,0),\"\")","v":""},{"$f":"IFERROR(VLOOKUP(ROWS($AA$2:AA3586),K3586:$M$6000,3,0),\"\")","v":""}]
[{"$nulls":10},{"$f":"IF(ISNUMBER(SEARCH($A$3,L3587)),MAX($K$1:K3586)+1,0)","v":0},"Swaraj Engines Ltd","SWARAJENG.BO",{"$nulls":12},{"$f":"IFERROR(VLOOKUP(ROWS($Z$2:Z3587),K3587:$L$6000,2,0),\"\")","v":""},{"$f":"IFERROR(VLOOKUP(ROWS($AA$2:AA3587),K3587:$M$6000,3,0),\"\")","v":""}]
[{"$nulls":10},{"$f":"IF(ISNUMBER(SEARCH($A$3,L3588)),MAX($K$1:K3587)+1,0)","v":0},"Swaraj Engines Ltd","SWARAJENG.NS",{"$nulls":12},{"$f":"IFERROR(VLOOKUP(ROWS($Z$2:Z3588),K3588:$L$6000,2,0),\"\")","v":""},{"$f":"IFERROR(VLOOKUP(ROWS($AA$2:AA3588),K3588:$M$6000,3,0),\"\")","v":""}]
[{"$nulls":10},{"$f":"IF(ISNUMBER(SEARCH($A$3,L3589)),MAX($K$1:K3588)+1,0)","v":0},"Swarna Securities Ltd","SWRNASE.BO",{"$nulls":12},{"$f":"IFERROR(VLOOKUP(ROWS($Z$2:Z3589),K3589:$L$6000,2,0),\"\")","v":""},{"$f":"IFERROR(VLOOKUP(ROWS($AA$2:AA3589),K3589:$M$6000,3,0),\"\")","v":""}]
[{"$nulls":10},{"$f":"IF(ISNUMBER(SEARCH($A$3,L3590)),MAX($K$1:K3589)+1,0)","v":0},"Swarnajyothi Agrotech","OCTANT.BO",{"$nulls":12},{"$f":"IFERROR(VLOOKUP(ROWS($Z$2:Z3590),K3590:$L$6000,2,0),\"\")","v":""},{"$f":"IFERROR(VLOOKUP(ROWS($AA$2:AA3590),K3590:$M$6000,3,0),\"\")","v":""}]
[{"$nulls":10},{"$f":"IF(ISNUMBER(SEARCH($A$3,L3591)),MAX($K$1:K3590)+1,0)","v":0},"Swarnsarita Gems Ltd","SHYAMST.BO",{"$nulls":12},{"$f":"IFERROR(VLOOKUP(ROWS($Z$2:Z3591),K3591:$L$6000,2,0),\"\")","v":""},{"$f":"IFERROR(VLOOKUP(ROWS($AA$2:AA3591),K3591:$M$6000,3,0),\"\")","v":""}]
[{"$nulls":10},{"$f":"IF(ISNUMBER(SEARCH($A$3,L3592)),MAX($K$1:K3591)+1,0)","v":0},"Swasti Vinayaka","SVGEMS.BO",{"$nulls":12},{"$f":"IFERROR(VLOOKUP(ROWS($Z$2:Z3592),K3592:$L$6000,2,0),\"\")","v":""},{"$f":"IFERROR(VLOOKUP(ROWS($AA$2:AA3592),K3592:$M$6000,3,0),\"\")","v":""}]
[{"$nulls":10},{"$f":"IF(ISNUMBER(SEARCH($A$3,L3593)),MAX($K$1:K3592)+1,0)","v":0},"Swasti Vinayaka Synthetics Ltd","SWASTIVI.BO",{"$nulls":12},{"$f":"IFERROR(VLOOKUP(ROWS($Z$2:Z3593),K3593:$L$6000,2,0),\"\")","v":""},{"$f":"IFERROR(VLOOKUP(ROWS($AA$2:AA3593),K3593:$M$6000,3,0),\"\")","v":""}]
[{"$nulls":10},{"$f":"IF(ISNUMBER(SEARCH($A$3,L3594)),MAX($K$1:K3593)+1,0)","v":0},"Swastika Investsmart Ltd","SWASTIKA.BO",{"$nulls":12},{"$f":"IFERROR(VLOOKUP(ROWS($Z$2:Z3594),K3594:$L$6000,2,0),\"\")","v":""},{"$f":"IFERROR(VLOOKUP(ROWS($AA$2:AA3594),K3594:$M$6000,3,0),\"\")","v":""}]
[{"$nulls":10},{"$f":"IF(ISNUMBER(SEARCH($A$3,L3595)),MAX($K$1:K3594)+1,0)","v":0},"Swelect Energy Systems Ltd","NUMERICP.BO",{"$nulls":12},{"$f":"IFERROR(VLOOKUP(ROWS($Z$2:Z3595),K3595:$L$6000,2,0),\"\")","v":""},{"$f":"IFERROR(VLOOKUP(ROWS($AA$2:AA3595),K3595:$M$6000,3,0),\"\")","v":""}]
[{"$nulls":10},{"$f":"IF(ISNUMBER(SEARCH($A$3,L3596)),MAX($K$1:K3595)+1,0)","v":0},"Swelect Energy Systems Ltd","NUMERICPW.NS",{"$nulls":12},{"$f":"IFERROR(VLOOKUP(ROWS($Z$2:Z3596),K3596:$L$6000,2,0),\"\")","v":""},{"$f":"IFERROR(VLOOKUP(ROWS($AA$2:AA3596),K3596:$M$6000,3,0),\"\")","v":""}]
[{"$nulls":10},{"$f":"IF(ISNUMBER(SEARCH($A$3,L3597)),MAX($K$1:K3596)+1,0)","v":0},"Swiss Glascoat Equipments Ltd","SWISSGLA.BO",{"$nulls":12},{"$f":"IFERROR(VLOOKUP(ROWS($Z$2:Z3597),K3597:$L$6000,2,0),\"\")","v":""},{"$f":"IFERROR(VLOOKUP(ROWS($AA$2:AA3597),K3597:$M$6000,3,0),\"\")","v":""}]
[{"$nulls":10},{"$f":"IF(ISNUMBER(SEARCH($A$3,L3598)),MAX($K$1:K3597)+1,0)","v":0},"Switching Technologies Gu","SWITCHTE.BO",{"$nulls":12},{"$f":"IFERROR(VLOOKUP(ROWS($Z$2:Z3598),K3598:$L$6000,2,0),\"\")","v":""},{"$f":"IFERROR(VLOOKUP(ROWS($AA$2:AA3598),K3598:$M$6000,3,0),\"\")","v":""}]
[{"$nulls":10},{"$f":"IF(ISNUMBER(SEARCH($A$3,L3599)),MAX($K$1:K3598)+1,0)","v":0},"Sword-Edge Commercials Ltd","ZROTAMCO.BO",{"$nulls":12},{"$f":"IFERROR(VLOOKUP(ROWS($Z$2:Z3599),K3599:$L$6000,2,0),\"\")","v":""},{"$f":"IFERROR(VLOOKUP(ROWS($AA$2:AA3599),K3599:$M$6000,3,0),\"\")","v":""}]
[{"$nulls":10},{"$f":"IF(ISNUMBER(SEARCH($A$3,L3600)),MAX($K$1:K3599)+1,0)","v":0},"Sylph Technologies Ltd","SYLPH.BO",{"$nulls":12},{"$f":"IFERROR(VLOOKUP(ROWS($Z$2:Z3600),K3600:$L$6000,2,0),\"\")","v":""},{"$f":"IFERROR(VLOOKUP(ROWS($AA$2:AA3600),K3600:$M$6000,3,0),\"\")","v":""}]
[{"$nulls":10},{"$f":"IF(ISNUMBER(SEARCH($A$3,L3601)),MAX($K$1:K3600)+1,0)","v":0},"Syncom Formulation (India) Ltd","SYNCOM.BO",{"$nulls":12},{"$f":"IFERROR(VLOOKUP(ROWS($Z$2:Z3601),K3601:$L$6000,2,0),\"\")","v":""},{"$f":"IFERROR(VLOOKUP(ROWS($AA$2:AA3601),K3601:$M$6000,3,0),\"\")","v":""}]
[{"$nulls":10},{"$f":"IF(ISNUMBER(SEARCH($A$3,L3602)),MAX($K$1:K3601)+1,0)","v":0},"Syncom Healthcare Ltd","SYNCOMH.BO",{"$nulls":12},{"$f":"IFERROR(VLOOKUP(ROWS($Z$2:Z3602),K3602:$L$6000,2,0),\"\")","v":""},{"$f":"IFERROR(VLOOKUP(ROWS($AA$2:AA3602),K3602:$M$6000,3,0),\"\")","v":""}]
[{"$nulls":10},{"$f":"IF(ISNUMBER(SEARCH($A$3,L3603)),MAX($K$1:K3602)+1,0)","v":0},"Syncom Healthcare Ltd","SYNCOM.NS",{"$nulls":12},{"$f":"IFERROR(VLOOKUP(ROWS($Z$2:Z3603),K3603:$L$6000,2,0),\"\")","v":""},{"$f":"IFERROR(VLOOKUP(ROWS($AA$2:AA3603),K3603:$M$6000,3,0),\"\")","v":""}]
[{"$nulls":10},{"$f":"IF(ISNUMBER(SEARCH($A$3,L3604)),MAX($K$1:K3603)+1,0)","v":0},"Syndicate Bank","SYNDIBANK.BO",{"$nulls":12},{"$f":"IFERROR(VLOOKUP(ROWS($Z$2:Z3604),K3604:$L$6000,2,0),\"\")","v":""},{"$f":"IFERROR(VLOOKUP(ROWS($AA$2:AA3604),K3604:$M$6000,3,0),\"\")","v":""}]
[{"$nulls":10},{"$f":"IF(ISNUMBER(SEARCH($A$3,L3605)),MAX($K$1:K3604)+1,0)","v":0},"Syndicate Bank","SYNDIBANK.NS",{"$nulls":12},{"$f":"IFERROR(VLOOKUP(ROWS($Z$2:Z3605),K3605:$L$6000,2,0),\"\")","v":""},{"$f":"IFERROR(VLOOKUP(ROWS($AA$2:AA3605),K3605:$M$6000,3,0),\"\")","v":""}]
[{"$nulls":10},{"$f":"IF(ISNUMBER(SEARCH($A$3,L3606)),MAX($K$1:K3605)+1,0)","v":0},"Synergy Cosmetics (Exim) Ltd","JYOTICOS.BO",{"$nulls":12},{"$f":"IFERROR(VLOOKUP(ROWS($Z$2:Z3606),K3606:$L$6000,2,0),\"\")","v":""},{"$f":"IFERROR(VLOOKUP(ROWS($AA$2:AA3606),K3606:$M$6000,3,0),\"\")","v":""}]
[{"$nulls":10},{"$f":"IF(ISNUMBER(SEARCH($A$3,L3607)),MAX($K$1:K3606)+1,0)","v":0},"Synthiko Foils Ltd","SYNTHFO.BO",{"$nulls":12},{"$f":"IFERROR(VLOOKUP(ROWS($Z$2:Z3607),K3607:$L$6000,2,0),\"\")","v":""},{"$f":"IFERROR(VLOOKUP(ROWS($AA$2:AA3607),K3607:$M$6000,3,0),\"\")","v":""}]
[{"$nulls":10},{"$f":"IF(ISNUMBER(SEARCH($A$3,L3608)),MAX($K$1:K3607)+1,0)","v":0},"Syschem (India) Ltd","SYSCHEM.BO",{"$nulls":12},{"$f":"IFERROR(VLOOKUP(ROWS($Z$2:Z3608),K3608:$L$6000,2,0),\"\")","v":""},{"$f":"IFERROR(VLOOKUP(ROWS($AA$2:AA3608),K3608:$M$6000,3,0),\"\")","v":""}]
[{"$nulls":10},{"$f":"IF(ISNUMBER(SEARCH($A$3,L3609)),MAX($K$1:K3608)+1,0)","v":0},"Systematix Corporate Serv","SYSTMTXC.BO",{"$nulls":12},{"$f":"IFERROR(VLOOKUP(ROWS($Z$2:Z3609),K3609:$L$6000,2,0),\"\")","v":""},{"$f":"IFERROR(VLOOKUP(ROWS($AA$2:AA3609),K3609:$M$6000,3,0),\"\")","v":""}]
[{"$nulls":10},{"$f":"IF(ISNUMBER(SEARCH($A$3,L3610)),MAX($K$1:K3609)+1,0)","v":0},"T & I Global Ltd","TIGLOB.BO",{"$nulls":12},{"$f":"IFERROR(VLOOKUP(ROWS($Z$2:Z3610),K3610:$L$6000,2,0),\"\")","v":""},{"$f":"IFERROR(VLOOKUP(ROWS($AA$2:AA3610),K3610:$M$6000,3,0),\"\")","v":""}]
[{"$nulls":10},{"$f":"IF(ISNUMBER(SEARCH($A$3,L3611)),MAX($K$1:K3610)+1,0)","v":0},"T C M Ltd","TCMLMTD.BO",{"$nulls":12},{"$f":"IFERROR(VLOOKUP(ROWS($Z$2:Z3611),K3611:$L$6000,2,0),\"\")","v":""},{"$f":"IFERROR(VLOOKUP(ROWS($AA$2:AA3611),K3611:$M$6000,3,0),\"\")","v":""}]
[{"$nulls":10},{"$f":"IF(ISNUMBER(SEARCH($A$3,L3612)),MAX($K$1:K3611)+1,0)","v":0},"T T Ltd","TTL.BO",{"$nulls":12},{"$f":"IFERROR(VLOOKUP(ROWS($Z$2:Z3612),K3612:$L$6000,2,0),\"\")","v":""},{"$f":"IFERROR(VLOOKUP(ROWS($AA$2:AA3612),K3612:$M$6000,3,0),\"\")","v":""}]
[{"$nulls":10},{"$f":"IF(ISNUMBER(SEARCH($A$3,L3613)),MAX($K$1:K3612)+1,0)","v":0},"T T Ltd","TTL.NS",{"$nulls":12},{"$f":"IFERROR(VLOOKUP(ROWS($Z$2:Z3613),K3613:$L$6000,2,0),\"\")","v":""},{"$f":"IFERROR(VLOOKUP(ROWS($AA$2:AA3613),K3613:$M$6000,3,0),\"\")","v":""}]
[{"$nulls":10},{"$f":"IF(ISNUMBER(SEARCH($A$3,L3614)),MAX($K$1:K3613)+1,0)","v":0},"Tai Industries Ltd","TAIIND.BO",{"$nulls":12},{"$f":"IFERROR(VLOOKUP(ROWS($Z$2:Z3614),K3614:$L$6000,2,0),\"\")","v":""},{"$f":"IFERROR(VLOOKUP(ROWS($AA$2:AA3614),K3614:$M$6000,3,0),\"\")","v":""}]
[{"$nulls":10},{"$f":"IF(ISNUMBER(SEARCH($A$3,L3615)),MAX($K$1:K3614)+1,0)","v":0},"Tainwala Chemical and Pla","TAINWALA.BO",{"$nulls":12},{"$f":"IFERROR(VLOOKUP(ROWS($Z$2:Z3615),K3615:$L$6000,2,0),\"\")","v":""},{"$f":"IFERROR(VLOOKUP(ROWS($AA$2:AA3615),K3615:$M$6000,3,0),\"\")","v":""}]
[{"$nulls":10},{"$f":"IF(ISNUMBER(SEARCH($A$3,L3616)),MAX($K$1:K3615)+1,0)","v":0},"Tainwala Chemical and Pla","TAINWALCH.NS",{"$nulls":12},{"$f":"IFERROR(VLOOKUP(ROWS($Z$2:Z3616),K3616:$L$6000,2,0),\"\")","v":""},{"$f":"IFERROR(VLOOKUP(ROWS($AA$2:AA3616),K3616:$M$6000,3,0),\"\")","v":""}]
[{"$nulls":10},{"$f":"IF(ISNUMBER(SEARCH($A$3,L3617)),MAX($K$1:K3616)+1,0)","v":0},"Taj GVK Hotels & Resorts Ltd","TAJGVK.BO",{"$nulls":12},{"$f":"IFERROR(VLOOKUP(ROWS($Z$2:Z3617),K3617:$L$6000,2,0),\"\")","v":""},{"$f":"IFERROR(VLOOKUP(ROWS($AA$2:AA3617),K3617:$M$6000,3,0),\"\")","v":""}]
[{"$nulls":10},{"$f":"IF(ISNUMBER(SEARCH($A$3,L3618)),MAX($K$1:K3617)+1,0)","v":0},"Taj GVK Hotels & Resorts Ltd","TAJGVK.NS",{"$nulls":12},{"$f":"IFERROR(VLOOKUP(ROWS($Z$2:Z3618),K3618:$L$6000,2,0),\"\")","v":""},{"$f":"IFERROR(VLOOKUP(ROWS($AA$2:AA3618),K3618:$M$6000,3,0),\"\")","v":""}]
[{"$nulls":10},{"$f":"IF(ISNUMBER(SEARCH($A$3,L3619)),MAX($K$1:K3618)+1,0)","v":0},"Take Solutions Ltd","TAKE.BO",{"$nulls":12},{"$f":"IFERROR(VLOOKUP(ROWS($Z$2:Z3619),K3619:$L$6000,2,0),\"\")","v":""},{"$f":"IFERROR(VLOOKUP(ROWS($AA$2:AA3619),K3619:$M$6000,3,0),\"\")","v":""}]
[{"$nulls":10},{"$f":"IF(ISNUMBER(SEARCH($A$3,L3620)),MAX($K$1:K3619)+1,0)","v":0},"Take Solutions Ltd","TAKE.NS",{"$nulls":12},{"$f":"IFERROR(VLOOKUP(ROWS($Z$2:Z3620),K3620:$L$6000,2,0),\"\")","v":""},{"$f":"IFERROR(VLOOKUP(ROWS($AA$2:AA3620),K3620:$M$6000,3,0),\"\")","v":""}]
[{"$nulls":10},{"$f":"IF(ISNUMBER(SEARCH($A$3,L3621)),MAX($K$1:K3620)+1,0)","v":0},"Talbros Automotive Compon","TALBROSQ.BO",{"$nulls":12},{"$f":"IFERROR(VLOOKUP(ROWS($Z$2:Z3621),K3621:$L$6000,2,0),\"\")","v":""},{"$f":"IFERROR(VLOOKUP(ROWS($AA$2:AA3621),K3621:$M$6000,3,0),\"\")","v":""}]
[{"$nulls":10},{"$f":"IF(ISNUMBER(SEARCH($A$3,L3622)),MAX($K$1:K3621)+1,0)","v":0},"Talbros Automotive Compon","TALBROAUT.NS",{"$nulls":12},{"$f":"IFERROR(VLOOKUP(ROWS($Z$2:Z3622),K3622:$L$6000,2,0),\"\")","v":""},{"$f":"IFERROR(VLOOKUP(ROWS($AA$2:AA3622),K3622:$M$6000,3,0),\"\")","v":""}]
[{"$nulls":10},{"$f":"IF(ISNUMBER(SEARCH($A$3,L3623)),MAX($K$1:K3622)+1,0)","v":0},"Talwalkars Better Value F","TALWALKAR.BO",{"$nulls":12},{"$f":"IFERROR(VLOOKUP(ROWS($Z$2:Z3623),K3623:$L$6000,2,0),\"\")","v":""},{"$f":"IFERROR(VLOOKUP(ROWS($AA$2:AA3623),K3623:$M$6000,3,0),\"\")","v":""}]
[{"$nulls":10},{"$f":"IF(ISNUMBER(SEARCH($A$3,L3624)),MAX($K$1:K3623)+1,0)","v":0},"Tamboli Capital Ltd","TAMBOLI.BO",{"$nulls":12},{"$f":"IFERROR(VLOOKUP(ROWS($Z$2:Z3624),K3624:$L$6000,2,0),\"\")","v":""},{"$f":"IFERROR(VLOOKUP(ROWS($AA$2:AA3624),K3624:$M$6000,3,0),\"\")","v":""}]
[{"$nulls":10},{"$f":"IF(ISNUMBER(SEARCH($A$3,L3625)),MAX($K$1:K3624)+1,0)","v":0},"Tamil Nadu Newsprint & Pa","TNPL.BO",{"$nulls":12},{"$f":"IFERROR(VLOOKUP(ROWS($Z$2:Z3625),K3625:$L$6000,2,0),\"\")","v":""},{"$f":"IFERROR(VLOOKUP(ROWS($AA$2:AA3625),K3625:$M$6000,3,0),\"\")","v":""}]
[{"$nulls":10},{"$f":"IF(ISNUMBER(SEARCH($A$3,L3626)),MAX($K$1:K3625)+1,0)","v":0},"Tamil Nadu Newsprint & Pa","TNPL.NS",{"$nulls":12},{"$f":"IFERROR(VLOOKUP(ROWS($Z$2:Z3626),K3626:$L$6000,2,0),\"\")","v":""},{"$f":"IFERROR(VLOOKUP(ROWS($AA$2:AA3626),K3626:$M$6000,3,0),\"\")","v":""}]
[{"$nulls":10},{"$f":"IF(ISNUMBER(SEARCH($A$3,L3627)),MAX($K$1:K3626)+1,0)","v":0},"Tamilnadu Jai Bharath","TAMJAIM.BO",{"$nulls":12},{"$f":"IFERROR(VLOOKUP(ROWS($Z$2:Z3627),K3627:$L$6000,2,0),\"\")","v":""},{"$f":"IFERROR(VLOOKUP(ROWS($AA$2:AA3627),K3627:$M$6000,3,0),\"\")","v":""}]
[{"$nulls":10},{"$f":"IF(ISNUMBER(SEARCH($A$3,L3628)),MAX($K$1:K3627)+1,0)","v":0},"Tamilnadu Petroproducts Ltd","TNPETRO.BO",{"$nulls":12},{"$f":"IFERROR(VLOOKUP(ROWS($Z$2:Z3628),K3628:$L$6000,2,0),\"\")","v":""},{"$f":"IFERROR(VLOOKUP(ROWS($AA$2:AA3628),K3628:$M$6000,3,0),\"\")","v":""}]
[{"$nulls":10},{"$f":"IF(ISNUMBER(SEARCH($A$3,L3629)),MAX($K$1:K3628)+1,0)","v":0},"Tamilnadu Petroproducts Ltd","TNPETRO.NS",{"$nulls":12},{"$f":"IFERROR(VLOOKUP(ROWS($Z$2:Z3629),K3629:$L$6000,2,0),\"\")","v":""},{"$f":"IFERROR(VLOOKUP(ROWS($AA$2:AA3629),K3629:$M$6000,3,0),\"\")","v":""}]
[{"$nulls":10},{"$f":"IF(ISNUMBER(SEARCH($A$3,L3630)),MAX($K$1:K3629)+1,0)","v":0},"Tamilnadu Telecommunicati","TNTELE.BO",{"$nulls":12},{"$f":"IFERROR(VLOOKUP(ROWS($Z$2:Z3630),K3630:$L$6000,2,0),\"\")","v":""},{"$f":"IFERROR(VLOOKUP(ROWS($AA$2:AA3630),K3630:$M$6000,3,0),\"\")","v":""}]
[{"$nulls":10},{"$f":"IF(ISNUMBER(SEARCH($A$3,L3631)),MAX($K$1:K3630)+1,0)","v":0},"Tamilnadu Telecommunicati","TNTELE.NS",{"$nulls":12},{"$f":"IFERROR(VLOOKUP(ROWS($Z$2:Z3631),K3631:$L$6000,2,0),\"\")","v":""},{"$f":"IFERROR(VLOOKUP(ROWS($AA$2:AA3631),K3631:$M$6000,3,0),\"\")","v":""}]
[{"$nulls":10},{"$f":"IF(ISNUMBER(SEARCH($A$3,L3632)),MAX($K$1:K3631)+1,0)","v":0},"Taneja Aerospace & Aviati","TANAA.BO",{"$nulls":12},{"$f":"IFERROR(VLOOKUP(ROWS($Z$2:Z3632),K3632:$L$6000,2,0),\"\")","v":""},{"$f":"IFERROR(VLOOKUP(ROWS($AA$2:AA3632),K3632:$M$6000,3,0),\"\")","v":""}]
[{"$nulls":10},{"$f":"IF(ISNUMBER(SEARCH($A$3,L3633)),MAX($K$1:K3632)+1,0)","v":0},"TANFAC Industries Ltd","TANFAC.BO",{"$nulls":12},{"$f":"IFERROR(VLOOKUP(ROWS($Z$2:Z3633),K3633:$L$6000,2,0),\"\")","v":""},{"$f":"IFERROR(VLOOKUP(ROWS($AA$2:AA3633),K3633:$M$6000,3,0),\"\")","v":""}]
[{"$nulls":10},{"$f":"IF(ISNUMBER(SEARCH($A$3,L3634)),MAX($K$1:K3633)+1,0)","v":0},"Tanla Solutions Ltd","TANLA.BO",{"$nulls":12},{"$f":"IFERROR(VLOOKUP(ROWS($Z$2:Z3634),K3634:$L$6000,2,0),\"\")","v":""},{"$f":"IFERROR(VLOOKUP(ROWS($AA$2:AA3634),K3634:$M$6000,3,0),\"\")","v":""}]
[{"$nulls":10},{"$f":"IF(ISNUMBER(SEARCH($A$3,L3635)),MAX($K$1:K3634)+1,0)","v":0},"Tanla Solutions Ltd","TANLA.NS",{"$nulls":12},{"$f":"IFERROR(VLOOKUP(ROWS($Z$2:Z3635),K3635:$L$6000,2,0),\"\")","v":""},{"$f":"IFERROR(VLOOKUP(ROWS($AA$2:AA3635),K3635:$M$6000,3,0),\"\")","v":""}]
[{"$nulls":10},{"$f":"IF(ISNUMBER(SEARCH($A$3,L3636)),MAX($K$1:K3635)+1,0)","v":0},"Tantia Constructions Ltd","TANTIACON.BO",{"$nulls":12},{"$f":"IFERROR(VLOOKUP(ROWS($Z$2:Z3636),K3636:$L$6000,2,0),\"\")","v":""},{"$f":"IFERROR(VLOOKUP(ROWS($AA$2:AA3636),K3636:$M$6000,3,0),\"\")","v":""}]
[{"$nulls":10},{"$f":"IF(ISNUMBER(SEARCH($A$3,L3637)),MAX($K$1:K3636)+1,0)","v":0},"Tantia Constructions Ltd","TANTIACON.NS",{"$nulls":12},{"$f":"IFERROR(VLOOKUP(ROWS($Z$2:Z3637),K3637:$L$6000,2,0),\"\")","v":""},{"$f":"IFERROR(VLOOKUP(ROWS($AA$2:AA3637),K3637:$M$6000,3,0),\"\")","v":""}]
[{"$nulls":10},{"$f":"IF(ISNUMBER(SEARCH($A$3,L3638)),MAX($K$1:K3637)+1,0)","v":0},"Tarai Foods Ltd","TARAI.BO",{"$nulls":12},{"$f":"IFERROR(VLOOKUP(ROWS($Z$2:Z3638),K3638:$L$6000,2,0),\"\")","v":""},{"$f":"IFERROR(VLOOKUP(ROWS($AA$2:AA3638),K3638:$M$6000,3,0),\"\")","v":""}]
[{"$nulls":10},{"$f":"IF(ISNUMBER(SEARCH($A$3,L3639)),MAX($K$1:K3638)+1,0)","v":0},"Tarapur Transformers Ltd","TARAPURTL.BO",{"$nulls":12},{"$f":"IFERROR(VLOOKUP(ROWS($Z$2:Z3639),K3639:$L$6000,2,0),\"\")","v":""},{"$f":"IFERROR(VLOOKUP(ROWS($AA$2:AA3639),K3639:$M$6000,3,0),\"\")","v":""}]
[{"$nulls":10},{"$f":"IF(ISNUMBER(SEARCH($A$3,L3640)),MAX($K$1:K3639)+1,0)","v":0},"Tarmat Ltd","ROMAN.BO",{"$nulls":12},{"$f":"IFERROR(VLOOKUP(ROWS($Z$2:Z3640),K3640:$L$6000,2,0),\"\")","v":""},{"$f":"IFERROR(VLOOKUP(ROWS($AA$2:AA3640),K3640:$M$6000,3,0),\"\")","v":""}]
[{"$nulls":10},{"$f":"IF(ISNUMBER(SEARCH($A$3,L3641)),MAX($K$1:K3640)+1,0)","v":0},"Tarmat Ltd","ROMAN.NS",{"$nulls":12},{"$f":"IFERROR(VLOOKUP(ROWS($Z$2:Z3641),K3641:$L$6000,2,0),\"\")","v":""},{"$f":"IFERROR(VLOOKUP(ROWS($AA$2:AA3641),K3641:$M$6000,3,0),\"\")","v":""}]
[{"$nulls":10},{"$f":"IF(ISNUMBER(SEARCH($A$3,L3642)),MAX($K$1:K3641)+1,0)","v":0},"Tasty Bite Eatables Ltd","TASTYBIT.BO",{"$nulls":12},{"$f":"IFERROR(VLOOKUP(ROWS($Z$2:Z3642),K3642:$L$6000,2,0),\"\")","v":""},{"$f":"IFERROR(VLOOKUP(ROWS($AA$2:AA3642),K3642:$M$6000,3,0),\"\")","v":""}]
[{"$nulls":10},{"$f":"IF(ISNUMBER(SEARCH($A$3,L3643)),MAX($K$1:K3642)+1,0)","v":0},"Tata Chemicals Ltd","TATACHEM.BO",{"$nulls":12},{"$f":"IFERROR(VLOOKUP(ROWS($Z$2:Z3643),K3643:$L$6000,2,0),\"\")","v":""},{"$f":"IFERROR(VLOOKUP(ROWS($AA$2:AA3643),K3643:$M$6000,3,0),\"\")","v":""}]
[{"$nulls":10},{"$f":"IF(ISNUMBER(SEARCH($A$3,L3644)),MAX($K$1:K3643)+1,0)","v":0},"Tata Chemicals Ltd","TATACHEM.NS",{"$nulls":12},{"$f":"IFERROR(VLOOKUP(ROWS($Z$2:Z3644),K3644:$L$6000,2,0),\"\")","v":""},{"$f":"IFERROR(VLOOKUP(ROWS($AA$2:AA3644),K3644:$M$6000,3,0),\"\")","v":""}]
[{"$nulls":10},{"$f":"IF(ISNUMBER(SEARCH($A$3,L3645)),MAX($K$1:K3644)+1,0)","v":0},"Tata Coffee Ltd","TATACOFFEE.BO",{"$nulls":12},{"$f":"IFERROR(VLOOKUP(ROWS($Z$2:Z3645),K3645:$L$6000,2,0),\"\")","v":""},{"$f":"IFERROR(VLOOKUP(ROWS($AA$2:AA3645),K3645:$M$6000,3,0),\"\")","v":""}]
[{"$nulls":10},{"$f":"IF(ISNUMBER(SEARCH($A$3,L3646)),MAX($K$1:K3645)+1,0)","v":0},"Tata Coffee Ltd","TATACOFFE.NS",{"$nulls":12},{"$f":"IFERROR(VLOOKUP(ROWS($Z$2:Z3646),K3646:$L$6000,2,0),\"\")","v":""},{"$f":"IFERROR(VLOOKUP(ROWS($AA$2:AA3646),K3646:$M$6000,3,0),\"\")","v":""}]
[{"$nulls":10},{"$f":"IF(ISNUMBER(SEARCH($A$3,L3647)),MAX($K$1:K3646)+1,0)","v":0},"Tata Communications Ltd","TATACOMM.BO",{"$nulls":12},{"$f":"IFERROR(VLOOKUP(ROWS($Z$2:Z3647),K3647:$L$6000,2,0),\"\")","v":""},{"$f":"IFERROR(VLOOKUP(ROWS($AA$2:AA3647),K3647:$M$6000,3,0),\"\")","v":""}]
[{"$nulls":10},{"$f":"IF(ISNUMBER(SEARCH($A$3,L3648)),MAX($K$1:K3647)+1,0)","v":0},"Tata Communications Ltd","TATACOMM.NS",{"$nulls":12},{"$f":"IFERROR(VLOOKUP(ROWS($Z$2:Z3648),K3648:$L$6000,2,0),\"\")","v":""},{"$f":"IFERROR(VLOOKUP(ROWS($AA$2:AA3648),K3648:$M$6000,3,0),\"\")","v":""}]
[{"$nulls":10},{"$f":"IF(ISNUMBER(SEARCH($A$3,L3649)),MAX($K$1:K3648)+1,0)","v":0},"Tata Consultancy Services Ltd","TCS.BO",{"$nulls":12},{"$f":"IFERROR(VLOOKUP(ROWS($Z$2:Z3649),K3649:$L$6000,2,0),\"\")","v":""},{"$f":"IFERROR(VLOOKUP(ROWS($AA$2:AA3649),K3649:$M$6000,3,0),\"\")","v":""}]
[{"$nulls":10},{"$f":"IF(ISNUMBER(SEARCH($A$3,L3650)),MAX($K$1:K3649)+1,0)","v":0},"Tata Consultancy Services Ltd","TCS.NS",{"$nulls":12},{"$f":"IFERROR(VLOOKUP(ROWS($Z$2:Z3650),K3650:$L$6000,2,0),\"\")","v":""},{"$f":"IFERROR(VLOOKUP(ROWS($AA$2:AA3650),K3650:$M$6000,3,0),\"\")","v":""}]
[{"$nulls":10},{"$f":"IF(ISNUMBER(SEARCH($A$3,L3651)),MAX($K$1:K3650)+1,0)","v":0},"Tata Elxsi Ltd","TATAELXSI.BO",{"$nulls":12},{"$f":"IFERROR(VLOOKUP(ROWS($Z$2:Z3651),K3651:$L$6000,2,0),\"\")","v":""},{"$f":"IFERROR(VLOOKUP(ROWS($AA$2:AA3651),K3651:$M$6000,3,0),\"\")","v":""}]
[{"$nulls":10},{"$f":"IF(ISNUMBER(SEARCH($A$3,L3652)),MAX($K$1:K3651)+1,0)","v":0},"Tata Elxsi Ltd","TATAELXSI.NS",{"$nulls":12},{"$f":"IFERROR(VLOOKUP(ROWS($Z$2:Z3652),K3652:$L$6000,2,0),\"\")","v":""},{"$f":"IFERROR(VLOOKUP(ROWS($AA$2:AA3652),K3652:$M$6000,3,0),\"\")","v":""}]
[{"$nulls":10},{"$f":"IF(ISNUMBER(SEARCH($A$3,L3653)),MAX($K$1:K3652)+1,0)","v":0},"Tata Global Beverages Ltd","TATATEA.BO",{"$nulls":12},{"$f":"IFERROR(VLOOKUP(ROWS($Z$2:Z3653),K3653:$L$6000,2,0),\"\")","v":""},{"$f":"IFERROR(VLOOKUP(ROWS($AA$2:AA3653),K3653:$M$6000,3,0),\"\")","v":""}]
[{"$nulls":10},{"$f":"IF(ISNUMBER(SEARCH($A$3,L3654)),MAX($K$1:K3653)+1,0)","v":0},"Tata Global Beverages Ltd","TATAGLOBA.NS",{"$nulls":12},{"$f":"IFERROR(VLOOKUP(ROWS($Z$2:Z3654),K3654:$L$6000,2,0),\"\")","v":""},{"$f":"IFERROR(VLOOKUP(ROWS($AA$2:AA3654),K3654:$M$6000,3,0),\"\")","v":""}]
[{"$nulls":10},{"$f":"IF(ISNUMBER(SEARCH($A$3,L3655)),MAX($K$1:K3654)+1,0)","v":0},"Tata Investment Corp Ltd","TATAINVEST.BO",{"$nulls":12},{"$f":"IFERROR(VLOOKUP(ROWS($Z$2:Z3655),K3655:$L$6000,2,0),\"\")","v":""},{"$f":"IFERROR(VLOOKUP(ROWS($AA$2:AA3655),K3655:$M$6000,3,0),\"\")","v":""}]
[{"$nulls":10},{"$f":"IF(ISNUMBER(SEARCH($A$3,L3656)),MAX($K$1:K3655)+1,0)","v":0},"Tata Investment Corp Ltd","TATAINVES.NS",{"$nulls":12},{"$f":"IFERROR(VLOOKUP(ROWS($Z$2:Z3656),K3656:$L$6000,2,0),\"\")","v":""},{"$f":"IFERROR(VLOOKUP(ROWS($AA$2:AA3656),K3656:$M$6000,3,0),\"\")","v":""}]
[{"$nulls":10},{"$f":"IF(ISNUMBER(SEARCH($A$3,L3657)),MAX($K$1:K3656)+1,0)","v":0},"Tata Metaliks Ltd","TATAMETALI.BO",{"$nulls":12},{"$f":"IFERROR(VLOOKUP(ROWS($Z$2:Z3657),K3657:$L$6000,2,0),\"\")","v":""},{"$f":"IFERROR(VLOOKUP(ROWS($AA$2:AA3657),K3657:$M$6000,3,0),\"\")","v":""}]
[{"$nulls":10},{"$f":"IF(ISNUMBER(SEARCH($A$3,L3658)),MAX($K$1:K3657)+1,0)","v":0},"Tata Metaliks Ltd","TATAMETAL.NS",{"$nulls":12},{"$f":"IFERROR(VLOOKUP(ROWS($Z$2:Z3658),K3658:$L$6000,2,0),\"\")","v":""},{"$f":"IFERROR(VLOOKUP(ROWS($AA$2:AA3658),K3658:$M$6000,3,0),\"\")","v":""}]
[{"$nulls":10},{"$f":"IF(ISNUMBER(SEARCH($A$3,L3659)),MAX($K$1:K3658)+1,0)","v":0},"Tata Sponge Iron Ltd","TATASPONGE.BO",{"$nulls":12},{"$f":"IFERROR(VLOOKUP(ROWS($Z$2:Z3659),K3659:$L$6000,2,0),\"\")","v":""},{"$f":"IFERROR(VLOOKUP(ROWS($AA$2:AA3659),K3659:$M$6000,3,0),\"\")","v":""}]
[{"$nulls":10},{"$f":"IF(ISNUMBER(SEARCH($A$3,L3660)),MAX($K$1:K3659)+1,0)","v":0},"Tata Sponge Iron Ltd","TATASPONG.NS",{"$nulls":12},{"$f":"IFERROR(VLOOKUP(ROWS($Z$2:Z3660),K3660:$L$6000,2,0),\"\")","v":""},{"$f":"IFERROR(VLOOKUP(ROWS($AA$2:AA3660),K3660:$M$6000,3,0),\"\")","v":""}]
[{"$nulls":10},{"$f":"IF(ISNUMBER(SEARCH($A$3,L3661)),MAX($K$1:K3660)+1,0)","v":0},"Tata Steel Ltd","TATASTL.BO",{"$nulls":12},{"$f":"IFERROR(VLOOKUP(ROWS($Z$2:Z3661),K3661:$L$6000,2,0),\"\")","v":""},{"$f":"IFERROR(VLOOKUP(ROWS($AA$2:AA3661),K3661:$M$6000,3,0),\"\")","v":""}]
[{"$nulls":10},{"$f":"IF(ISNUMBER(SEARCH($A$3,L3662)),MAX($K$1:K3661)+1,0)","v":0},"Tata Steel Ltd","TATASTEEL.NS",{"$nulls":12},{"$f":"IFERROR(VLOOKUP(ROWS($Z$2:Z3662),K3662:$L$6000,2,0),\"\")","v":""},{"$f":"IFERROR(VLOOKUP(ROWS($AA$2:AA3662),K3662:$M$6000,3,0),\"\")","v":""}]
[{"$nulls":10},{"$f":"IF(ISNUMBER(SEARCH($A$3,L3663)),MAX($K$1:K3662)+1,0)","v":0},"Tata Teleservices (Mahara","TTML.BO",{"$nulls":12},{"$f":"IFERROR(VLOOKUP(ROWS($Z$2:Z3663),K3663:$L$6000,2,0),\"\")","v":""},{"$f":"IFERROR(VLOOKUP(ROWS($AA$2:AA3663),K3663:$M$6000,3,0),\"\")","v":""}]
[{"$nulls":10},{"$f":"IF(ISNUMBER(SEARCH($A$3,L3664)),MAX($K$1:K3663)+1,0)","v":0},"Tata Teleservices (Mahara","TTML.NS",{"$nulls":12},{"$f":"IFERROR(VLOOKUP(ROWS($Z$2:Z3664),K3664:$L$6000,2,0),\"\")","v":""},{"$f":"IFERROR(VLOOKUP(ROWS($AA$2:AA3664),K3664:$M$6000,3,0),\"\")","v":""}]
[{"$nulls":10},{"$f":"IF(ISNUMBER(SEARCH($A$3,L3665)),MAX($K$1:K3664)+1,0)","v":0},"Tatia Global Venture Ltd","TATIAGLOB.BO",{"$nulls":12},{"$f":"IFERROR(VLOOKUP(ROWS($Z$2:Z3665),K3665:$L$6000,2,0),\"\")","v":""},{"$f":"IFERROR(VLOOKUP(ROWS($AA$2:AA3665),K3665:$M$6000,3,0),\"\")","v":""}]
[{"$nulls":10},{"$f":"IF(ISNUMBER(SEARCH($A$3,L3666)),MAX($K$1:K3665)+1,0)","v":0},"Tavernier Resources Ltd","AVCOTEX.BO",{"$nulls":12},{"$f":"IFERROR(VLOOKUP(ROWS($Z$2:Z3666),K3666:$L$6000,2,0),\"\")","v":""},{"$f":"IFERROR(VLOOKUP(ROWS($AA$2:AA3666),K3666:$M$6000,3,0),\"\")","v":""}]
[{"$nulls":10},{"$f":"IF(ISNUMBER(SEARCH($A$3,L3667)),MAX($K$1:K3666)+1,0)","v":0},"Tayo Rolls Ltd","TATAYODO.BO",{"$nulls":12},{"$f":"IFERROR(VLOOKUP(ROWS($Z$2:Z3667),K3667:$L$6000,2,0),\"\")","v":""},{"$f":"IFERROR(VLOOKUP(ROWS($AA$2:AA3667),K3667:$M$6000,3,0),\"\")","v":""}]
[{"$nulls":10},{"$f":"IF(ISNUMBER(SEARCH($A$3,L3668)),MAX($K$1:K3667)+1,0)","v":0},"TCFC Finance Ltd","TCFCFINQ.BO",{"$nulls":12},{"$f":"IFERROR(VLOOKUP(ROWS($Z$2:Z3668),K3668:$L$6000,2,0),\"\")","v":""},{"$f":"IFERROR(VLOOKUP(ROWS($AA$2:AA3668),K3668:$M$6000,3,0),\"\")","v":""}]
[{"$nulls":10},{"$f":"IF(ISNUMBER(SEARCH($A$3,L3669)),MAX($K$1:K3668)+1,0)","v":0},"TCI Finance Ltd","TCIFIN.BO",{"$nulls":12},{"$f":"IFERROR(VLOOKUP(ROWS($Z$2:Z3669),K3669:$L$6000,2,0),\"\")","v":""},{"$f":"IFERROR(VLOOKUP(ROWS($AA$2:AA3669),K3669:$M$6000,3,0),\"\")","v":""}]
[{"$nulls":10},{"$f":"IF(ISNUMBER(SEARCH($A$3,L3670)),MAX($K$1:K3669)+1,0)","v":0},"TCI Finance Ltd","TCIFINANC.NS",{"$nulls":12},{"$f":"IFERROR(VLOOKUP(ROWS($Z$2:Z3670),K3670:$L$6000,2,0),\"\")","v":""},{"$f":"IFERROR(VLOOKUP(ROWS($AA$2:AA3670),K3670:$M$6000,3,0),\"\")","v":""}]
[{"$nulls":10},{"$f":"IF(ISNUMBER(SEARCH($A$3,L3671)),MAX($K$1:K3670)+1,0)","v":0},"TCI Industries Ltd","TCIIND.BO",{"$nulls":12},{"$f":"IFERROR(VLOOKUP(ROWS($Z$2:Z3671),K3671:$L$6000,2,0),\"\")","v":""},{"$f":"IFERROR(VLOOKUP(ROWS($AA$2:AA3671),K3671:$M$6000,3,0),\"\")","v":""}]
[{"$nulls":10},{"$f":"IF(ISNUMBER(SEARCH($A$3,L3672)),MAX($K$1:K3671)+1,0)","v":0},"TCPL Packaging Ltd","TCPLPACK.BO",{"$nulls":12},{"$f":"IFERROR(VLOOKUP(ROWS($Z$2:Z3672),K3672:$L$6000,2,0),\"\")","v":""},{"$f":"IFERROR(VLOOKUP(ROWS($AA$2:AA3672),K3672:$M$6000,3,0),\"\")","v":""}]
[{"$nulls":10},{"$f":"IF(ISNUMBER(SEARCH($A$3,L3673)),MAX($K$1:K3672)+1,0)","v":0},"Tech Mahindra Ltd","TECHM.BO",{"$nulls":12},{"$f":"IFERROR(VLOOKUP(ROWS($Z$2:Z3673),K3673:$L$6000,2,0),\"\")","v":""},{"$f":"IFERROR(VLOOKUP(ROWS($AA$2:AA3673),K3673:$M$6000,3,0),\"\")","v":""}]
[{"$nulls":10},{"$f":"IF(ISNUMBER(SEARCH($A$3,L3674)),MAX($K$1:K3673)+1,0)","v":0},"Tech Mahindra Ltd","TECHM.NS",{"$nulls":12},{"$f":"IFERROR(VLOOKUP(ROWS($Z$2:Z3674),K3674:$L$6000,2,0),\"\")","v":""},{"$f":"IFERROR(VLOOKUP(ROWS($AA$2:AA3674),K3674:$M$6000,3,0),\"\")","v":""}]
[{"$nulls":10},{"$f":"IF(ISNUMBER(SEARCH($A$3,L3675)),MAX($K$1:K3674)+1,0)","v":0},"Techno Electric","TECHNO.NS",{"$nulls":12},{"$f":"IFERROR(VLOOKUP(ROWS($Z$2:Z3675),K3675:$L$6000,2,0),\"\")","v":""},{"$f":"IFERROR(VLOOKUP(ROWS($AA$2:AA3675),K3675:$M$6000,3,0),\"\")","v":""}]
[{"$nulls":10},{"$f":"IF(ISNUMBER(SEARCH($A$3,L3676)),MAX($K$1:K3675)+1,0)","v":0},"Techno Forge Ltd","TECHFOR.BO",{"$nulls":12},{"$f":"IFERROR(VLOOKUP(ROWS($Z$2:Z3676),K3676:$L$6000,2,0),\"\")","v":""},{"$f":"IFERROR(VLOOKUP(ROWS($AA$2:AA3676),K3676:$M$6000,3,0),\"\")","v":""}]
[{"$nulls":10},{"$f":"IF(ISNUMBER(SEARCH($A$3,L3677)),MAX($K$1:K3676)+1,0)","v":0},"Technocraft Industries In","TIIL.BO",{"$nulls":12},{"$f":"IFERROR(VLOOKUP(ROWS($Z$2:Z3677),K3677:$L$6000,2,0),\"\")","v":""},{"$f":"IFERROR(VLOOKUP(ROWS($AA$2:AA3677),K3677:$M$6000,3,0),\"\")","v":""}]
[{"$nulls":10},{"$f":"IF(ISNUMBER(SEARCH($A$3,L3678)),MAX($K$1:K3677)+1,0)","v":0},"Technocraft Industries In","TIIL.NS",{"$nulls":12},{"$f":"IFERROR(VLOOKUP(ROWS($Z$2:Z3678),K3678:$L$6000,2,0),\"\")","v":""},{"$f":"IFERROR(VLOOKUP(ROWS($AA$2:AA3678),K3678:$M$6000,3,0),\"\")","v":""}]
[{"$nulls":10},{"$f":"IF(ISNUMBER(SEARCH($A$3,L3679)),MAX($K$1:K3678)+1,0)","v":0},"Technofab Engineering Ltd","TECHNOFAB.BO",{"$nulls":12},{"$f":"IFERROR(VLOOKUP(ROWS($Z$2:Z3679),K3679:$L$6000,2,0),\"\")","v":""},{"$f":"IFERROR(VLOOKUP(ROWS($AA$2:AA3679),K3679:$M$6000,3,0),\"\")","v":""}]
[{"$nulls":10},{"$f":"IF(ISNUMBER(SEARCH($A$3,L3680)),MAX($K$1:K3679)+1,0)","v":0},"TechNVision Ventures Ltd","SOLIXTEC.BO",{"$nulls":12},{"$f":"IFERROR(VLOOKUP(ROWS($Z$2:Z3680),K3680:$L$6000,2,0),\"\")","v":""},{"$f":"IFERROR(VLOOKUP(ROWS($AA$2:AA3680),K3680:$M$6000,3,0),\"\")","v":""}]
[{"$nulls":10},{"$f":"IF(ISNUMBER(SEARCH($A$3,L3681)),MAX($K$1:K3680)+1,0)","v":0},"Techtran Polylenses Ltd","TECPO.BO",{"$nulls":12},{"$f":"IFERROR(VLOOKUP(ROWS($Z$2:Z3681),K3681:$L$6000,2,0),\"\")","v":""},{"$f":"IFERROR(VLOOKUP(ROWS($AA$2:AA3681),K3681:$M$6000,3,0),\"\")","v":""}]
[{"$nulls":10},{"$f":"IF(ISNUMBER(SEARCH($A$3,L3682)),MAX($K$1:K3681)+1,0)","v":0},"Teesta Agro Industries Ltd","TEEAI.BO",{"$nulls":12},{"$f":"IFERROR(VLOOKUP(ROWS($Z$2:Z3682),K3682:$L$6000,2,0),\"\")","v":""},{"$f":"IFERROR(VLOOKUP(ROWS($AA$2:AA3682),K3682:$M$6000,3,0),\"\")","v":""}]
[{"$nulls":10},{"$f":"IF(ISNUMBER(SEARCH($A$3,L3683)),MAX($K$1:K3682)+1,0)","v":0},"Tera Software Ltd","TERASOFT.BO",{"$nulls":12},{"$f":"IFERROR(VLOOKUP(ROWS($Z$2:Z3683),K3683:$L$6000,2,0),\"\")","v":""},{"$f":"IFERROR(VLOOKUP(ROWS($AA$2:AA3683),K3683:$M$6000,3,0),\"\")","v":""}]
[{"$nulls":10},{"$f":"IF(ISNUMBER(SEARCH($A$3,L3684)),MAX($K$1:K3683)+1,0)","v":0},"Terai Tea Co Ltd","TERAI.BO",{"$nulls":12},{"$f":"IFERROR(VLOOKUP(ROWS($Z$2:Z3684),K3684:$L$6000,2,0),\"\")","v":""},{"$f":"IFERROR(VLOOKUP(ROWS($AA$2:AA3684),K3684:$M$6000,3,0),\"\")","v":""}]
[{"$nulls":10},{"$f":"IF(ISNUMBER(SEARCH($A$3,L3685)),MAX($K$1:K3684)+1,0)","v":0},"Texmaco Infrastructure","TEXMACO.BO",{"$nulls":12},{"$f":"IFERROR(VLOOKUP(ROWS($Z$2:Z3685),K3685:$L$6000,2,0),\"\")","v":""},{"$f":"IFERROR(VLOOKUP(ROWS($AA$2:AA3685),K3685:$M$6000,3,0),\"\")","v":""}]
[{"$nulls":10},{"$f":"IF(ISNUMBER(SEARCH($A$3,L3686)),MAX($K$1:K3685)+1,0)","v":0},"Texmaco Infrastructure","TEXMACOLT.NS",{"$nulls":12},{"$f":"IFERROR(VLOOKUP(ROWS($Z$2:Z3686),K3686:$L$6000,2,0),\"\")","v":""},{"$f":"IFERROR(VLOOKUP(ROWS($AA$2:AA3686),K3686:$M$6000,3,0),\"\")","v":""}]
[{"$nulls":10},{"$f":"IF(ISNUMBER(SEARCH($A$3,L3687)),MAX($K$1:K3686)+1,0)","v":0},"Texmo Pipes & Products Ltd","TEXMOPIPES.BO",{"$nulls":12},{"$f":"IFERROR(VLOOKUP(ROWS($Z$2:Z3687),K3687:$L$6000,2,0),\"\")","v":""},{"$f":"IFERROR(VLOOKUP(ROWS($AA$2:AA3687),K3687:$M$6000,3,0),\"\")","v":""}]
[{"$nulls":10},{"$f":"IF(ISNUMBER(SEARCH($A$3,L3688)),MAX($K$1:K3687)+1,0)","v":0},"Texmo Pipes & Products Ltd","TEXMOPIPE.NS",{"$nulls":12},{"$f":"IFERROR(VLOOKUP(ROWS($Z$2:Z3688),K3688:$L$6000,2,0),\"\")","v":""},{"$f":"IFERROR(VLOOKUP(ROWS($AA$2:AA3688),K3688:$M$6000,3,0),\"\")","v":""}]
[{"$nulls":10},{"$f":"IF(ISNUMBER(SEARCH($A$3,L3689)),MAX($K$1:K3688)+1,0)","v":0},"Texplast Industries Ltd","TEXPI.BO",{"$nulls":12},{"$f":"IFERROR(VLOOKUP(ROWS($Z$2:Z3689),K3689:$L$6000,2,0),\"\")","v":""},{"$f":"IFERROR(VLOOKUP(ROWS($AA$2:AA3689),K3689:$M$6000,3,0),\"\")","v":""}]
[{"$nulls":10},{"$f":"IF(ISNUMBER(SEARCH($A$3,L3690)),MAX($K$1:K3689)+1,0)","v":0},"TGB Banquets & Hotels Ltd","BHAGWATIHO.BO",{"$nulls":12},{"$f":"IFERROR(VLOOKUP(ROWS($Z$2:Z3690),K3690:$L$6000,2,0),\"\")","v":""},{"$f":"IFERROR(VLOOKUP(ROWS($AA$2:AA3690),K3690:$M$6000,3,0),\"\")","v":""}]
[{"$nulls":10},{"$f":"IF(ISNUMBER(SEARCH($A$3,L3691)),MAX($K$1:K3690)+1,0)","v":0},"TGB Banquets & Hotels Ltd","BHAGWATIH.NS",{"$nulls":12},{"$f":"IFERROR(VLOOKUP(ROWS($Z$2:Z3691),K3691:$L$6000,2,0),\"\")","v":""},{"$f":"IFERROR(VLOOKUP(ROWS($AA$2:AA3691),K3691:$M$6000,3,0),\"\")","v":""}]
[{"$nulls":10},{"$f":"IF(ISNUMBER(SEARCH($A$3,L3692)),MAX($K$1:K3691)+1,0)","v":0},"Thakkars Developers Ltd","THAKDEV.BO",{"$nulls":12},{"$f":"IFERROR(VLOOKUP(ROWS($Z$2:Z3692),K3692:$L$6000,2,0),\"\")","v":""},{"$f":"IFERROR(VLOOKUP(ROWS($AA$2:AA3692),K3692:$M$6000,3,0),\"\")","v":""}]
[{"$nulls":10},{"$f":"IF(ISNUMBER(SEARCH($A$3,L3693)),MAX($K$1:K3692)+1,0)","v":0},"Thambbi Modern Spinning M","THAMBBI.BO",{"$nulls":12},{"$f":"IFERROR(VLOOKUP(ROWS($Z$2:Z3693),K3693:$L$6000,2,0),\"\")","v":""},{"$f":"IFERROR(VLOOKUP(ROWS($AA$2:AA3693),K3693:$M$6000,3,0),\"\")","v":""}]
[{"$nulls":10},{"$f":"IF(ISNUMBER(SEARCH($A$3,L3694)),MAX($K$1:K3693)+1,0)","v":0},"Thana Electric Supply Co Ltd","THAES.BO",{"$nulls":12},{"$f":"IFERROR(VLOOKUP(ROWS($Z$2:Z3694),K3694:$L$6000,2,0),\"\")","v":""},{"$f":"IFERROR(VLOOKUP(ROWS($AA$2:AA3694),K3694:$M$6000,3,0),\"\")","v":""}]
[{"$nulls":10},{"$f":"IF(ISNUMBER(SEARCH($A$3,L3695)),MAX($K$1:K3694)+1,0)","v":0},"Thangamayil Jewellery Ltd","TMJL.BO",{"$nulls":12},{"$f":"IFERROR(VLOOKUP(ROWS($Z$2:Z3695),K3695:$L$6000,2,0),\"\")","v":""},{"$f":"IFERROR(VLOOKUP(ROWS($AA$2:AA3695),K3695:$M$6000,3,0),\"\")","v":""}]
[{"$nulls":10},{"$f":"IF(ISNUMBER(SEARCH($A$3,L3696)),MAX($K$1:K3695)+1,0)","v":0},"Thangamayil Jewellery Ltd","THANGAMAY.NS",{"$nulls":12},{"$f":"IFERROR(VLOOKUP(ROWS($Z$2:Z3696),K3696:$L$6000,2,0),\"\")","v":""},{"$f":"IFERROR(VLOOKUP(ROWS($AA$2:AA3696),K3696:$M$6000,3,0),\"\")","v":""}]
[{"$nulls":10},{"$f":"IF(ISNUMBER(SEARCH($A$3,L3697)),MAX($K$1:K3696)+1,0)","v":0},"The Rai Saheb","RAISHRCK.BO",{"$nulls":12},{"$f":"IFERROR(VLOOKUP(ROWS($Z$2:Z3697),K3697:$L$6000,2,0),\"\")","v":""},{"$f":"IFERROR(VLOOKUP(ROWS($AA$2:AA3697),K3697:$M$6000,3,0),\"\")","v":""}]
[{"$nulls":10},{"$f":"IF(ISNUMBER(SEARCH($A$3,L3698)),MAX($K$1:K3697)+1,0)","v":0},"The United Nilgiri Tea","UNITEDTEA.NS",{"$nulls":12},{"$f":"IFERROR(VLOOKUP(ROWS($Z$2:Z3698),K3698:$L$6000,2,0),\"\")","v":""},{"$f":"IFERROR(VLOOKUP(ROWS($AA$2:AA3698),K3698:$M$6000,3,0),\"\")","v":""}]
[{"$nulls":10},{"$f":"IF(ISNUMBER(SEARCH($A$3,L3699)),MAX($K$1:K3698)+1,0)","v":0},"Themis Medicare Ltd","THEMIS.BO",{"$nulls":12},{"$f":"IFERROR(VLOOKUP(ROWS($Z$2:Z3699),K3699:$L$6000,2,0),\"\")","v":""},{"$f":"IFERROR(VLOOKUP(ROWS($AA$2:AA3699),K3699:$M$6000,3,0),\"\")","v":""}]
[{"$nulls":10},{"$f":"IF(ISNUMBER(SEARCH($A$3,L3700)),MAX($K$1:K3699)+1,0)","v":0},"Themis Medicare Ltd","THEMISMED.NS",{"$nulls":12},{"$f":"IFERROR(VLOOKUP(ROWS($Z$2:Z3700),K3700:$L$6000,2,0),\"\")","v":""},{"$f":"IFERROR(VLOOKUP(ROWS($AA$2:AA3700),K3700:$M$6000,3,0),\"\")","v":""}]
[{"$nulls":10},{"$f":"IF(ISNUMBER(SEARCH($A$3,L3701)),MAX($K$1:K3700)+1,0)","v":0},"Thermax Ltd","THERMAX.BO",{"$nulls":12},{"$f":"IFERROR(VLOOKUP(ROWS($Z$2:Z3701),K3701:$L$6000,2,0),\"\")","v":""},{"$f":"IFERROR(VLOOKUP(ROWS($AA$2:AA3701),K3701:$M$6000,3,0),\"\")","v":""}]
[{"$nulls":10},{"$f":"IF(ISNUMBER(SEARCH($A$3,L3702)),MAX($K$1:K3701)+1,0)","v":0},"Thermax Ltd","THERMAX.NS",{"$nulls":12},{"$f":"IFERROR(VLOOKUP(ROWS($Z$2:Z3702),K3702:$L$6000,2,0),\"\")","v":""},{"$f":"IFERROR(VLOOKUP(ROWS($AA$2:AA3702),K3702:$M$6000,3,0),\"\")","v":""}]
[{"$nulls":10},{"$f":"IF(ISNUMBER(SEARCH($A$3,L3703)),MAX($K$1:K3702)+1,0)","v":0},"Thinksoft Global Services Ltd","THINKSOFT.BO",{"$nulls":12},{"$f":"IFERROR(VLOOKUP(ROWS($Z$2:Z3703),K3703:$L$6000,2,0),\"\")","v":""},{"$f":"IFERROR(VLOOKUP(ROWS($AA$2:AA3703),K3703:$M$6000,3,0),\"\")","v":""}]
[{"$nulls":10},{"$f":"IF(ISNUMBER(SEARCH($A$3,L3704)),MAX($K$1:K3703)+1,0)","v":0},"Thinksoft Global Services Ltd","THINKSOFT.NS",{"$nulls":12},{"$f":"IFERROR(VLOOKUP(ROWS($Z$2:Z3704),K3704:$L$6000,2,0),\"\")","v":""},{"$f":"IFERROR(VLOOKUP(ROWS($AA$2:AA3704),K3704:$M$6000,3,0),\"\")","v":""}]
[{"$nulls":10},{"$f":"IF(ISNUMBER(SEARCH($A$3,L3705)),MAX($K$1:K3704)+1,0)","v":0},"Thiru Arooran Sugars Ltd","THIRUSUG.BO",{"$nulls":12},{"$f":"IFERROR(VLOOKUP(ROWS($Z$2:Z3705),K3705:$L$6000,2,0),\"\")","v":""},{"$f":"IFERROR(VLOOKUP(ROWS($AA$2:AA3705),K3705:$M$6000,3,0),\"\")","v":""}]
[{"$nulls":10},{"$f":"IF(ISNUMBER(SEARCH($A$3,L3706)),MAX($K$1:K3705)+1,0)","v":0},"Thiru Arooran Sugars Ltd","THIRUSUGA.NS",{"$nulls":12},{"$f":"IFERROR(VLOOKUP(ROWS($Z$2:Z3706),K3706:$L$6000,2,0),\"\")","v":""},{"$f":"IFERROR(VLOOKUP(ROWS($AA$2:AA3706),K3706:$M$6000,3,0),\"\")","v":""}]
[{"$nulls":10},{"$f":"IF(ISNUMBER(SEARCH($A$3,L3707)),MAX($K$1:K3706)+1,0)","v":0},"Thirumalai Chemicals Ltd","THIRUMALAI.BO",{"$nulls":12},{"$f":"IFERROR(VLOOKUP(ROWS($Z$2:Z3707),K3707:$L$6000,2,0),\"\")","v":""},{"$f":"IFERROR(VLOOKUP(ROWS($AA$2:AA3707),K3707:$M$6000,3,0),\"\")","v":""}]
[{"$nulls":10},{"$f":"IF(ISNUMBER(SEARCH($A$3,L3708)),MAX($K$1:K3707)+1,0)","v":0},"Thirumalai Chemicals Ltd","TIRUMALCH.NS",{"$nulls":12},{"$f":"IFERROR(VLOOKUP(ROWS($Z$2:Z3708),K3708:$L$6000,2,0),\"\")","v":""},{"$f":"IFERROR(VLOOKUP(ROWS($AA$2:AA3708),K3708:$M$6000,3,0),\"\")","v":""}]
[{"$nulls":10},{"$f":"IF(ISNUMBER(SEARCH($A$3,L3709)),MAX($K$1:K3708)+1,0)","v":0},"Thomas Cook India Ltd","THOMASCOOK.BO",{"$nulls":12},{"$f":"IFERROR(VLOOKUP(ROWS($Z$2:Z3709),K3709:$L$6000,2,0),\"\")","v":""},{"$f":"IFERROR(VLOOKUP(ROWS($AA$2:AA3709),K3709:$M$6000,3,0),\"\")","v":""}]
[{"$nulls":10},{"$f":"IF(ISNUMBER(SEARCH($A$3,L3710)),MAX($K$1:K3709)+1,0)","v":0},"Thomas Cook India Ltd","THOMASCOO.NS",{"$nulls":12},{"$f":"IFERROR(VLOOKUP(ROWS($Z$2:Z3710),K3710:$L$6000,2,0),\"\")","v":""},{"$f":"IFERROR(VLOOKUP(ROWS($AA$2:AA3710),K3710:$M$6000,3,0),\"\")","v":""}]
[{"$nulls":10},{"$f":"IF(ISNUMBER(SEARCH($A$3,L3711)),MAX($K$1:K3710)+1,0)","v":0},"Tide Water Oil Co India Ltd","TIDEWAT.BO",{"$nulls":12},{"$f":"IFERROR(VLOOKUP(ROWS($Z$2:Z3711),K3711:$L$6000,2,0),\"\")","v":""},{"$f":"IFERROR(VLOOKUP(ROWS($AA$2:AA3711),K3711:$M$6000,3,0),\"\")","v":""}]
[{"$nulls":10},{"$f":"IF(ISNUMBER(SEARCH($A$3,L3712)),MAX($K$1:K3711)+1,0)","v":0},"Tide Water Oil Co India Ltd","TIDEWATER.NS",{"$nulls":12},{"$f":"IFERROR(VLOOKUP(ROWS($Z$2:Z3712),K3712:$L$6000,2,0),\"\")","v":""},{"$f":"IFERROR(VLOOKUP(ROWS($AA$2:AA3712),K3712:$M$6000,3,0),\"\")","v":""}]
[{"$nulls":10},{"$f":"IF(ISNUMBER(SEARCH($A$3,L3713)),MAX($K$1:K3712)+1,0)","v":0},"TIL Ltd","TIL.BO",{"$nulls":12},{"$f":"IFERROR(VLOOKUP(ROWS($Z$2:Z3713),K3713:$L$6000,2,0),\"\")","v":""},{"$f":"IFERROR(VLOOKUP(ROWS($AA$2:AA3713),K3713:$M$6000,3,0),\"\")","v":""}]
[{"$nulls":10},{"$f":"IF(ISNUMBER(SEARCH($A$3,L3714)),MAX($K$1:K3713)+1,0)","v":0},"TIL Ltd","TIL.NS",{"$nulls":12},{"$f":"IFERROR(VLOOKUP(ROWS($Z$2:Z3714),K3714:$L$6000,2,0),\"\")","v":""},{"$f":"IFERROR(VLOOKUP(ROWS($AA$2:AA3714),K3714:$M$6000,3,0),\"\")","v":""}]
[{"$nulls":10},{"$f":"IF(ISNUMBER(SEARCH($A$3,L3715)),MAX($K$1:K3714)+1,0)","v":0},"Tilaknagar Industries Ltd","TILAKIND.BO",{"$nulls":12},{"$f":"IFERROR(VLOOKUP(ROWS($Z$2:Z3715),K3715:$L$6000,2,0),\"\")","v":""},{"$f":"IFERROR(VLOOKUP(ROWS($AA$2:AA3715),K3715:$M$6000,3,0),\"\")","v":""}]
[{"$nulls":10},{"$f":"IF(ISNUMBER(SEARCH($A$3,L3716)),MAX($K$1:K3715)+1,0)","v":0},"Time Technoplast Ltd","TIMETECNO.BO",{"$nulls":12},{"$f":"IFERROR(VLOOKUP(ROWS($Z$2:Z3716),K3716:$L$6000,2,0),\"\")","v":""},{"$f":"IFERROR(VLOOKUP(ROWS($AA$2:AA3716),K3716:$M$6000,3,0),\"\")","v":""}]
[{"$nulls":10},{"$f":"IF(ISNUMBER(SEARCH($A$3,L3717)),MAX($K$1:K3716)+1,0)","v":0},"Time Technoplast Ltd","TIMETECHN.NS",{"$nulls":12},{"$f":"IFERROR(VLOOKUP(ROWS($Z$2:Z3717),K3717:$L$6000,2,0),\"\")","v":""},{"$f":"IFERROR(VLOOKUP(ROWS($AA$2:AA3717),K3717:$M$6000,3,0),\"\")","v":""}]
[{"$nulls":10},{"$f":"IF(ISNUMBER(SEARCH($A$3,L3718)),MAX($K$1:K3717)+1,0)","v":0},"Times Guaranty Ltd","TIMESGUR.BO",{"$nulls":12},{"$f":"IFERROR(VLOOKUP(ROWS($Z$2:Z3718),K3718:$L$6000,2,0),\"\")","v":""},{"$f":"IFERROR(VLOOKUP(ROWS($AA$2:AA3718),K3718:$M$6000,3,0),\"\")","v":""}]
[{"$nulls":10},{"$f":"IF(ISNUMBER(SEARCH($A$3,L3719)),MAX($K$1:K3718)+1,0)","v":0},"Times Guaranty Ltd","TIMESGTY.NS",{"$nulls":12},{"$f":"IFERROR(VLOOKUP(ROWS($Z$2:Z3719),K3719:$L$6000,2,0),\"\")","v":""},{"$f":"IFERROR(VLOOKUP(ROWS($AA$2:AA3719),K3719:$M$6000,3,0),\"\")","v":""}]
[{"$nulls":10},{"$f":"IF(ISNUMBER(SEARCH($A$3,L3720)),MAX($K$1:K3719)+1,0)","v":0},"Timex Group India Ltd","TIMEX.BO",{"$nulls":12},{"$f":"IFERROR(VLOOKUP(ROWS($Z$2:Z3720),K3720:$L$6000,2,0),\"\")","v":""},{"$f":"IFERROR(VLOOKUP(ROWS($AA$2:AA3720),K3720:$M$6000,3,0),\"\")","v":""}]
[{"$nulls":10},{"$f":"IF(ISNUMBER(SEARCH($A$3,L3721)),MAX($K$1:K3720)+1,0)","v":0},"Timken India Ltd","TIMKEN.BO",{"$nulls":12},{"$f":"IFERROR(VLOOKUP(ROWS($Z$2:Z3721),K3721:$L$6000,2,0),\"\")","v":""},{"$f":"IFERROR(VLOOKUP(ROWS($AA$2:AA3721),K3721:$M$6000,3,0),\"\")","v":""}]
[{"$nulls":10},{"$f":"IF(ISNUMBER(SEARCH($A$3,L3722)),MAX($K$1:K3721)+1,0)","v":0},"Timken India Ltd","TIMKEN.NS",{"$nulls":12},{"$f":"IFERROR(VLOOKUP(ROWS($Z$2:Z3722),K3722:$L$6000,2,0),\"\")","v":""},{"$f":"IFERROR(VLOOKUP(ROWS($AA$2:AA3722),K3722:$M$6000,3,0),\"\")","v":""}]
[{"$nulls":10},{"$f":"IF(ISNUMBER(SEARCH($A$3,L3723)),MAX($K$1:K3722)+1,0)","v":0},"Tinna Rubber","TINAOVER.BO",{"$nulls":12},{"$f":"IFERROR(VLOOKUP(ROWS($Z$2:Z3723),K3723:$L$6000,2,0),\"\")","v":""},{"$f":"IFERROR(VLOOKUP(ROWS($AA$2:AA3723),K3723:$M$6000,3,0),\"\")","v":""}]
[{"$nulls":10},{"$f":"IF(ISNUMBER(SEARCH($A$3,L3724)),MAX($K$1:K3723)+1,0)","v":0},"TIPS Industries Ltd","TIPS.BO",{"$nulls":12},{"$f":"IFERROR(VLOOKUP(ROWS($Z$2:Z3724),K3724:$L$6000,2,0),\"\")","v":""},{"$f":"IFERROR(VLOOKUP(ROWS($AA$2:AA3724),K3724:$M$6000,3,0),\"\")","v":""}]
[{"$nulls":10},{"$f":"IF(ISNUMBER(SEARCH($A$3,L3725)),MAX($K$1:K3724)+1,0)","v":0},"TIPS Industries Ltd","TIPSINDLT.NS",{"$nulls":12},{"$f":"IFERROR(VLOOKUP(ROWS($Z$2:Z3725),K3725:$L$6000,2,0),\"\")","v":""},{"$f":"IFERROR(VLOOKUP(ROWS($AA$2:AA3725),K3725:$M$6000,3,0),\"\")","v":""}]
[{"$nulls":10},{"$f":"IF(ISNUMBER(SEARCH($A$3,L3726)),MAX($K$1:K3725)+1,0)","v":0},"Tirupati Foam Ltd","TIRFOAM.BO",{"$nulls":12},{"$f":"IFERROR(VLOOKUP(ROWS($Z$2:Z3726),K3726:$L$6000,2,0),\"\")","v":""},{"$f":"IFERROR(VLOOKUP(ROWS($AA$2:AA3726),K3726:$M$6000,3,0),\"\")","v":""}]
[{"$nulls":10},{"$f":"IF(ISNUMBER(SEARCH($A$3,L3727)),MAX($K$1:K3726)+1,0)","v":0},"Tirupati Industries","TIRIN.BO",{"$nulls":12},{"$f":"IFERROR(VLOOKUP(ROWS($Z$2:Z3727),K3727:$L$6000,2,0),\"\")","v":""},{"$f":"IFERROR(VLOOKUP(ROWS($AA$2:AA3727),K3727:$M$6000,3,0),\"\")","v":""}]
[{"$nulls":10},{"$f":"IF(ISNUMBER(SEARCH($A$3,L3728)),MAX($K$1:K3727)+1,0)","v":0},"Tirupati Sargan Ltd","TIRSARJ.BO",{"$nulls":12},{"$f":"IFERROR(VLOOKUP(ROWS($Z$2:Z3728),K3728:$L$6000,2,0),\"\")","v":""},{"$f":"IFERROR(VLOOKUP(ROWS($AA$2:AA3728),K3728:$M$6000,3,0),\"\")","v":""}]
[{"$nulls":10},{"$f":"IF(ISNUMBER(SEARCH($A$3,L3729)),MAX($K$1:K3728)+1,0)","v":0},"Tirupati Starch","TIRUSTA.BO",{"$nulls":12},{"$f":"IFERROR(VLOOKUP(ROWS($Z$2:Z3729),K3729:$L$6000,2,0),\"\")","v":""},{"$f":"IFERROR(VLOOKUP(ROWS($AA$2:AA3729),K3729:$M$6000,3,0),\"\")","v":""}]
[{"$nulls":10},{"$f":"IF(ISNUMBER(SEARCH($A$3,L3730)),MAX($K$1:K3729)+1,0)","v":0},"Titagarh Wagons Ltd","TITAGARHWAG.BO",{"$nulls":12},{"$f":"IFERROR(VLOOKUP(ROWS($Z$2:Z3730),K3730:$L$6000,2,0),\"\")","v":""},{"$f":"IFERROR(VLOOKUP(ROWS($AA$2:AA3730),K3730:$M$6000,3,0),\"\")","v":""}]
[{"$nulls":10},{"$f":"IF(ISNUMBER(SEARCH($A$3,L3731)),MAX($K$1:K3730)+1,0)","v":0},"Titagarh Wagons Ltd","TWL.NS",{"$nulls":12},{"$f":"IFERROR(VLOOKUP(ROWS($Z$2:Z3731),K3731:$L$6000,2,0),\"\")","v":""},{"$f":"IFERROR(VLOOKUP(ROWS($AA$2:AA3731),K3731:$M$6000,3,0),\"\")","v":""}]
[{"$nulls":10},{"$f":"IF(ISNUMBER(SEARCH($A$3,L3732)),MAX($K$1:K3731)+1,0)","v":0},"Titan Bio-Tech Ltd","TITANBIO.BO",{"$nulls":12},{"$f":"IFERROR(VLOOKUP(ROWS($Z$2:Z3732),K3732:$L$6000,2,0),\"\")","v":""},{"$f":"IFERROR(VLOOKUP(ROWS($AA$2:AA3732),K3732:$M$6000,3,0),\"\")","v":""}]
[{"$nulls":10},{"$f":"IF(ISNUMBER(SEARCH($A$3,L3733)),MAX($K$1:K3732)+1,0)","v":0},"Titan Industries Ltd","TITAN.BO",{"$nulls":12},{"$f":"IFERROR(VLOOKUP(ROWS($Z$2:Z3733),K3733:$L$6000,2,0),\"\")","v":""},{"$f":"IFERROR(VLOOKUP(ROWS($AA$2:AA3733),K3733:$M$6000,3,0),\"\")","v":""}]
[{"$nulls":10},{"$f":"IF(ISNUMBER(SEARCH($A$3,L3734)),MAX($K$1:K3733)+1,0)","v":0},"Titan Securities Ltd","TITANSEC.BO",{"$nulls":12},{"$f":"IFERROR(VLOOKUP(ROWS($Z$2:Z3734),K3734:$L$6000,2,0),\"\")","v":""},{"$f":"IFERROR(VLOOKUP(ROWS($AA$2:AA3734),K3734:$M$6000,3,0),\"\")","v":""}]
[{"$nulls":10},{"$f":"IF(ISNUMBER(SEARCH($A$3,L3735)),MAX($K$1:K3734)+1,0)","v":0},"Tobu Enterprises Ltd","TOBUENT.BO",{"$nulls":12},{"$f":"IFERROR(VLOOKUP(ROWS($Z$2:Z3735),K3735:$L$6000,2,0),\"\")","v":""},{"$f":"IFERROR(VLOOKUP(ROWS($AA$2:AA3735),K3735:$M$6000,3,0),\"\")","v":""}]
[{"$nulls":10},{"$f":"IF(ISNUMBER(SEARCH($A$3,L3736)),MAX($K$1:K3735)+1,0)","v":0},"Todays Writing Products Ltd","TODAYS.BO",{"$nulls":12},{"$f":"IFERROR(VLOOKUP(ROWS($Z$2:Z3736),K3736:$L$6000,2,0),\"\")","v":""},{"$f":"IFERROR(VLOOKUP(ROWS($AA$2:AA3736),K3736:$M$6000,3,0),\"\")","v":""}]
[{"$nulls":10},{"$f":"IF(ISNUMBER(SEARCH($A$3,L3737)),MAX($K$1:K3736)+1,0)","v":0},"Todays Writing Products Ltd","TODAYS.NS",{"$nulls":12},{"$f":"IFERROR(VLOOKUP(ROWS($Z$2:Z3737),K3737:$L$6000,2,0),\"\")","v":""},{"$f":"IFERROR(VLOOKUP(ROWS($AA$2:AA3737),K3737:$M$6000,3,0),\"\")","v":""}]
[{"$nulls":10},{"$f":"IF(ISNUMBER(SEARCH($A$3,L3738)),MAX($K$1:K3737)+1,0)","v":0},"Tokyo Finance Ltd","TOKYOFIN.BO",{"$nulls":12},{"$f":"IFERROR(VLOOKUP(ROWS($Z$2:Z3738),K3738:$L$6000,2,0),\"\")","v":""},{"$f":"IFERROR(VLOOKUP(ROWS($AA$2:AA3738),K3738:$M$6000,3,0),\"\")","v":""}]
[{"$nulls":10},{"$f":"IF(ISNUMBER(SEARCH($A$3,L3739)),MAX($K$1:K3738)+1,0)","v":0},"Tokyo Plast International Ltd","TOKYOPLA.BO",{"$nulls":12},{"$f":"IFERROR(VLOOKUP(ROWS($Z$2:Z3739),K3739:$L$6000,2,0),\"\")","v":""},{"$f":"IFERROR(VLOOKUP(ROWS($AA$2:AA3739),K3739:$M$6000,3,0),\"\")","v":""}]
[{"$nulls":10},{"$f":"IF(ISNUMBER(SEARCH($A$3,L3740)),MAX($K$1:K3739)+1,0)","v":0},"Tokyo Plast International Ltd","TOKYOPLAS.NS",{"$nulls":12},{"$f":"IFERROR(VLOOKUP(ROWS($Z$2:Z3740),K3740:$L$6000,2,0),\"\")","v":""},{"$f":"IFERROR(VLOOKUP(ROWS($AA$2:AA3740),K3740:$M$6000,3,0),\"\")","v":""}]
[{"$nulls":10},{"$f":"IF(ISNUMBER(SEARCH($A$3,L3741)),MAX($K$1:K3740)+1,0)","v":0},"Torrent Pharmaceuticals Ltd","TORRENTPH.BO",{"$nulls":12},{"$f":"IFERROR(VLOOKUP(ROWS($Z$2:Z3741),K3741:$L$6000,2,0),\"\")","v":""},{"$f":"IFERROR(VLOOKUP(ROWS($AA$2:AA3741),K3741:$M$6000,3,0),\"\")","v":""}]
[{"$nulls":10},{"$f":"IF(ISNUMBER(SEARCH($A$3,L3742)),MAX($K$1:K3741)+1,0)","v":0},"Torrent Pharmaceuticals Ltd","TORNTPHAR.NS",{"$nulls":12},{"$f":"IFERROR(VLOOKUP(ROWS($Z$2:Z3742),K3742:$L$6000,2,0),\"\")","v":""},{"$f":"IFERROR(VLOOKUP(ROWS($AA$2:AA3742),K3742:$M$6000,3,0),\"\")","v":""}]
[{"$nulls":10},{"$f":"IF(ISNUMBER(SEARCH($A$3,L3743)),MAX($K$1:K3742)+1,0)","v":0},"Torrent Power Ltd","TORNTPOWR.BO",{"$nulls":12},{"$f":"IFERROR(VLOOKUP(ROWS($Z$2:Z3743),K3743:$L$6000,2,0),\"\")","v":""},{"$f":"IFERROR(VLOOKUP(ROWS($AA$2:AA3743),K3743:$M$6000,3,0),\"\")","v":""}]
[{"$nulls":10},{"$f":"IF(ISNUMBER(SEARCH($A$3,L3744)),MAX($K$1:K3743)+1,0)","v":0},"Torrent Power Ltd","TORNTPOWE.NS",{"$nulls":12},{"$f":"IFERROR(VLOOKUP(ROWS($Z$2:Z3744),K3744:$L$6000,2,0),\"\")","v":""},{"$f":"IFERROR(VLOOKUP(ROWS($AA$2:AA3744),K3744:$M$6000,3,0),\"\")","v":""}]
[{"$nulls":10},{"$f":"IF(ISNUMBER(SEARCH($A$3,L3745)),MAX($K$1:K3744)+1,0)","v":0},"Total Hospitality Ltd","TOTEX.BO",{"$nulls":12},{"$f":"IFERROR(VLOOKUP(ROWS($Z$2:Z3745),K3745:$L$6000,2,0),\"\")","v":""},{"$f":"IFERROR(VLOOKUP(ROWS($AA$2:AA3745),K3745:$M$6000,3,0),\"\")","v":""}]
[{"$nulls":10},{"$f":"IF(ISNUMBER(SEARCH($A$3,L3746)),MAX($K$1:K3745)+1,0)","v":0},"Tourism Finance of India","TFCIL.BO",{"$nulls":12},{"$f":"IFERROR(VLOOKUP(ROWS($Z$2:Z3746),K3746:$L$6000,2,0),\"\")","v":""},{"$f":"IFERROR(VLOOKUP(ROWS($AA$2:AA3746),K3746:$M$6000,3,0),\"\")","v":""}]
[{"$nulls":10},{"$f":"IF(ISNUMBER(SEARCH($A$3,L3747)),MAX($K$1:K3746)+1,0)","v":0},"Tourism Finance of India","TFCILTD.NS",{"$nulls":12},{"$f":"IFERROR(VLOOKUP(ROWS($Z$2:Z3747),K3747:$L$6000,2,0),\"\")","v":""},{"$f":"IFERROR(VLOOKUP(ROWS($AA$2:AA3747),K3747:$M$6000,3,0),\"\")","v":""}]
[{"$nulls":10},{"$f":"IF(ISNUMBER(SEARCH($A$3,L3748)),MAX($K$1:K3747)+1,0)","v":0},"TPL Plastech Ltd","TPLPLAST.BO",{"$nulls":12},{"$f":"IFERROR(VLOOKUP(ROWS($Z$2:Z3748),K3748:$L$6000,2,0),\"\")","v":""},{"$f":"IFERROR(VLOOKUP(ROWS($AA$2:AA3748),K3748:$M$6000,3,0),\"\")","v":""}]
[{"$nulls":10},{"$f":"IF(ISNUMBER(SEARCH($A$3,L3749)),MAX($K$1:K3748)+1,0)","v":0},"Trade Wings Ltd","TRADWIN.BO",{"$nulls":12},{"$f":"IFERROR(VLOOKUP(ROWS($Z$2:Z3749),K3749:$L$6000,2,0),\"\")","v":""},{"$f":"IFERROR(VLOOKUP(ROWS($AA$2:AA3749),K3749:$M$6000,3,0),\"\")","v":""}]
[{"$nulls":10},{"$f":"IF(ISNUMBER(SEARCH($A$3,L3750)),MAX($K$1:K3749)+1,0)","v":0},"Trans Asia Corp Ltd","TRANSASIA.BO",{"$nulls":12},{"$f":"IFERROR(VLOOKUP(ROWS($Z$2:Z3750),K3750:$L$6000,2,0),\"\")","v":""},{"$f":"IFERROR(VLOOKUP(ROWS($AA$2:AA3750),K3750:$M$6000,3,0),\"\")","v":""}]
[{"$nulls":10},{"$f":"IF(ISNUMBER(SEARCH($A$3,L3751)),MAX($K$1:K3750)+1,0)","v":0},"Transchem Ltd","TRANSCHE.BO",{"$nulls":12},{"$f":"IFERROR(VLOOKUP(ROWS($Z$2:Z3751),K3751:$L$6000,2,0),\"\")","v":""},{"$f":"IFERROR(VLOOKUP(ROWS($AA$2:AA3751),K3751:$M$6000,3,0),\"\")","v":""}]
[{"$nulls":10},{"$f":"IF(ISNUMBER(SEARCH($A$3,L3752)),MAX($K$1:K3751)+1,0)","v":0},"Transcorp International Ltd","TRANSCOR.BO",{"$nulls":12},{"$f":"IFERROR(VLOOKUP(ROWS($Z$2:Z3752),K3752:$L$6000,2,0),\"\")","v":""},{"$f":"IFERROR(VLOOKUP(ROWS($AA$2:AA3752),K3752:$M$6000,3,0),\"\")","v":""}]
[{"$nulls":10},{"$f":"IF(ISNUMBER(SEARCH($A$3,L3753)),MAX($K$1:K3752)+1,0)","v":0},"Transformers & Rectifiers","TRIL.BO",{"$nulls":12},{"$f":"IFERROR(VLOOKUP(ROWS($Z$2:Z3753),K3753:$L$6000,2,0),\"\")","v":""},{"$f":"IFERROR(VLOOKUP(ROWS($AA$2:AA3753),K3753:$M$6000,3,0),\"\")","v":""}]
[{"$nulls":10},{"$f":"IF(ISNUMBER(SEARCH($A$3,L3754)),MAX($K$1:K3753)+1,0)","v":0},"Transformers & Rectifiers","TRIL.NS",{"$nulls":12},{"$f":"IFERROR(VLOOKUP(ROWS($Z$2:Z3754),K3754:$L$6000,2,0),\"\")","v":""},{"$f":"IFERROR(VLOOKUP(ROWS($AA$2:AA3754),K3754:$M$6000,3,0),\"\")","v":""}]
[{"$nulls":10},{"$f":"IF(ISNUMBER(SEARCH($A$3,L3755)),MAX($K$1:K3754)+1,0)","v":0},"Trans-Freight Containers Ltd","TRANSFRE.BO",{"$nulls":12},{"$f":"IFERROR(VLOOKUP(ROWS($Z$2:Z3755),K3755:$L$6000,2,0),\"\")","v":""},{"$f":"IFERROR(VLOOKUP(ROWS($AA$2:AA3755),K3755:$M$6000,3,0),\"\")","v":""}]
[{"$nulls":10},{"$f":"IF(ISNUMBER(SEARCH($A$3,L3756)),MAX($K$1:K3755)+1,0)","v":0},"Transgene Biotek Ltd","TRABI.BO",{"$nulls":12},{"$f":"IFERROR(VLOOKUP(ROWS($Z$2:Z3756),K3756:$L$6000,2,0),\"\")","v":""},{"$f":"IFERROR(VLOOKUP(ROWS($AA$2:AA3756),K3756:$M$6000,3,0),\"\")","v":""}]
[{"$nulls":10},{"$f":"IF(ISNUMBER(SEARCH($A$3,L3757)),MAX($K$1:K3756)+1,0)","v":0},"Transpek Finance Ltd","TRANSPEKF.BO",{"$nulls":12},{"$f":"IFERROR(VLOOKUP(ROWS($Z$2:Z3757),K3757:$L$6000,2,0),\"\")","v":""},{"$f":"IFERROR(VLOOKUP(ROWS($AA$2:AA3757),K3757:$M$6000,3,0),\"\")","v":""}]
[{"$nulls":10},{"$f":"IF(ISNUMBER(SEARCH($A$3,L3758)),MAX($K$1:K3757)+1,0)","v":0},"Transpek Industry Ltd","TRANSPEK.BO",{"$nulls":12},{"$f":"IFERROR(VLOOKUP(ROWS($Z$2:Z3758),K3758:$L$6000,2,0),\"\")","v":""},{"$f":"IFERROR(VLOOKUP(ROWS($AA$2:AA3758),K3758:$M$6000,3,0),\"\")","v":""}]
[{"$nulls":10},{"$f":"IF(ISNUMBER(SEARCH($A$3,L3759)),MAX($K$1:K3758)+1,0)","v":0},"Transport Corp of India Ltd","TCI.BO",{"$nulls":12},{"$f":"IFERROR(VLOOKUP(ROWS($Z$2:Z3759),K3759:$L$6000,2,0),\"\")","v":""},{"$f":"IFERROR(VLOOKUP(ROWS($AA$2:AA3759),K3759:$M$6000,3,0),\"\")","v":""}]
[{"$nulls":10},{"$f":"IF(ISNUMBER(SEARCH($A$3,L3760)),MAX($K$1:K3759)+1,0)","v":0},"Transport Corp of India Ltd","TCI.NS",{"$nulls":12},{"$f":"IFERROR(VLOOKUP(ROWS($Z$2:Z3760),K3760:$L$6000,2,0),\"\")","v":""},{"$f":"IFERROR(VLOOKUP(ROWS($AA$2:AA3760),K3760:$M$6000,3,0),\"\")","v":""}]
[{"$nulls":10},{"$f":"IF(ISNUMBER(SEARCH($A$3,L3761)),MAX($K$1:K3760)+1,0)","v":0},"Transwarranty Finance Ltd","TFL.BO",{"$nulls":12},{"$f":"IFERROR(VLOOKUP(ROWS($Z$2:Z3761),K3761:$L$6000,2,0),\"\")","v":""},{"$f":"IFERROR(VLOOKUP(ROWS($AA$2:AA3761),K3761:$M$6000,3,0),\"\")","v":""}]
[{"$nulls":10},{"$f":"IF(ISNUMBER(SEARCH($A$3,L3762)),MAX($K$1:K3761)+1,0)","v":0},"Transwarranty Finance Ltd","TFL.NS",{"$nulls":12},{"$f":"IFERROR(VLOOKUP(ROWS($Z$2:Z3762),K3762:$L$6000,2,0),\"\")","v":""},{"$f":"IFERROR(VLOOKUP(ROWS($AA$2:AA3762),K3762:$M$6000,3,0),\"\")","v":""}]
[{"$nulls":10},{"$f":"IF(ISNUMBER(SEARCH($A$3,L3763)),MAX($K$1:K3762)+1,0)","v":0},"TRC Financial Services Ltd","TRCFIN.BO",{"$nulls":12},{"$f":"IFERROR(VLOOKUP(ROWS($Z$2:Z3763),K3763:$L$6000,2,0),\"\")","v":""},{"$f":"IFERROR(VLOOKUP(ROWS($AA$2:AA3763),K3763:$M$6000,3,0),\"\")","v":""}]
[{"$nulls":10},{"$f":"IF(ISNUMBER(SEARCH($A$3,L3764)),MAX($K$1:K3763)+1,0)","v":0},"Trend Electronics Ltd","TRENDELEC.BO",{"$nulls":12},{"$f":"IFERROR(VLOOKUP(ROWS($Z$2:Z3764),K3764:$L$6000,2,0),\"\")","v":""},{"$f":"IFERROR(VLOOKUP(ROWS($AA$2:AA3764),K3764:$M$6000,3,0),\"\")","v":""}]
[{"$nulls":10},{"$f":"IF(ISNUMBER(SEARCH($A$3,L3765)),MAX($K$1:K3764)+1,0)","v":0},"Trent Ltd","TRENT.BO",{"$nulls":12},{"$f":"IFERROR(VLOOKUP(ROWS($Z$2:Z3765),K3765:$L$6000,2,0),\"\")","v":""},{"$f":"IFERROR(VLOOKUP(ROWS($AA$2:AA3765),K3765:$M$6000,3,0),\"\")","v":""}]
[{"$nulls":10},{"$f":"IF(ISNUMBER(SEARCH($A$3,L3766)),MAX($K$1:K3765)+1,0)","v":0},"Trent Ltd","TRENT.NS",{"$nulls":12},{"$f":"IFERROR(VLOOKUP(ROWS($Z$2:Z3766),K3766:$L$6000,2,0),\"\")","v":""},{"$f":"IFERROR(VLOOKUP(ROWS($AA$2:AA3766),K3766:$M$6000,3,0),\"\")","v":""}]
[{"$nulls":10},{"$f":"IF(ISNUMBER(SEARCH($A$3,L3767)),MAX($K$1:K3766)+1,0)","v":0},"TRF Ltd","TRF.BO",{"$nulls":12},{"$f":"IFERROR(VLOOKUP(ROWS($Z$2:Z3767),K3767:$L$6000,2,0),\"\")","v":""},{"$f":"IFERROR(VLOOKUP(ROWS($AA$2:AA3767),K3767:$M$6000,3,0),\"\")","v":""}]
[{"$nulls":10},{"$f":"IF(ISNUMBER(SEARCH($A$3,L3768)),MAX($K$1:K3767)+1,0)","v":0},"Tribhuvan Housing Ltd","TRIBHSG.BO",{"$nulls":12},{"$f":"IFERROR(VLOOKUP(ROWS($Z$2:Z3768),K3768:$L$6000,2,0),\"\")","v":""},{"$f":"IFERROR(VLOOKUP(ROWS($AA$2:AA3768),K3768:$M$6000,3,0),\"\")","v":""}]
[{"$nulls":10},{"$f":"IF(ISNUMBER(SEARCH($A$3,L3769)),MAX($K$1:K3768)+1,0)","v":0},"Tricom Fruit Products Ltd","RIDS.BO",{"$nulls":12},{"$f":"IFERROR(VLOOKUP(ROWS($Z$2:Z3769),K3769:$L$6000,2,0),\"\")","v":""},{"$f":"IFERROR(VLOOKUP(ROWS($AA$2:AA3769),K3769:$M$6000,3,0),\"\")","v":""}]
[{"$nulls":10},{"$f":"IF(ISNUMBER(SEARCH($A$3,L3770)),MAX($K$1:K3769)+1,0)","v":0},"Tricom India Ltd","TRICOM.BO",{"$nulls":12},{"$f":"IFERROR(VLOOKUP(ROWS($Z$2:Z3770),K3770:$L$6000,2,0),\"\")","v":""},{"$f":"IFERROR(VLOOKUP(ROWS($AA$2:AA3770),K3770:$M$6000,3,0),\"\")","v":""}]
[{"$nulls":10},{"$f":"IF(ISNUMBER(SEARCH($A$3,L3771)),MAX($K$1:K3770)+1,0)","v":0},"Tricom India Ltd","TRICOM.NS",{"$nulls":12},{"$f":"IFERROR(VLOOKUP(ROWS($Z$2:Z3771),K3771:$L$6000,2,0),\"\")","v":""},{"$f":"IFERROR(VLOOKUP(ROWS($AA$2:AA3771),K3771:$M$6000,3,0),\"\")","v":""}]
[{"$nulls":10},{"$f":"IF(ISNUMBER(SEARCH($A$3,L3772)),MAX($K$1:K3771)+1,0)","v":0},"Trident Ltd","ABHIIND.BO",{"$nulls":12},{"$f":"IFERROR(VLOOKUP(ROWS($Z$2:Z3772),K3772:$L$6000,2,0),\"\")","v":""},{"$f":"IFERROR(VLOOKUP(ROWS($AA$2:AA3772),K3772:$M$6000,3,0),\"\")","v":""}]
[{"$nulls":10},{"$f":"IF(ISNUMBER(SEARCH($A$3,L3773)),MAX($K$1:K3772)+1,0)","v":0},"Trident Ltd","ABSHEKIND.NS",{"$nulls":12},{"$f":"IFERROR(VLOOKUP(ROWS($Z$2:Z3773),K3773:$L$6000,2,0),\"\")","v":""},{"$f":"IFERROR(VLOOKUP(ROWS($AA$2:AA3773),K3773:$M$6000,3,0),\"\")","v":""}]
[{"$nulls":10},{"$f":"IF(ISNUMBER(SEARCH($A$3,L3774)),MAX($K$1:K3773)+1,0)","v":0},"Trident Tools Ltd","MAGICUT.BO",{"$nulls":12},{"$f":"IFERROR(VLOOKUP(ROWS($Z$2:Z3774),K3774:$L$6000,2,0),\"\")","v":""},{"$f":"IFERROR(VLOOKUP(ROWS($AA$2:AA3774),K3774:$M$6000,3,0),\"\")","v":""}]
[{"$nulls":10},{"$f":"IF(ISNUMBER(SEARCH($A$3,L3775)),MAX($K$1:K3774)+1,0)","v":0},"Trigyn Technologies Ltd","TRIGYNTECH.BO",{"$nulls":12},{"$f":"IFERROR(VLOOKUP(ROWS($Z$2:Z3775),K3775:$L$6000,2,0),\"\")","v":""},{"$f":"IFERROR(VLOOKUP(ROWS($AA$2:AA3775),K3775:$M$6000,3,0),\"\")","v":""}]
[{"$nulls":10},{"$f":"IF(ISNUMBER(SEARCH($A$3,L3776)),MAX($K$1:K3775)+1,0)","v":0},"Trigyn Technologies Ltd","TRIGYN.NS",{"$nulls":12},{"$f":"IFERROR(VLOOKUP(ROWS($Z$2:Z3776),K3776:$L$6000,2,0),\"\")","v":""},{"$f":"IFERROR(VLOOKUP(ROWS($AA$2:AA3776),K3776:$M$6000,3,0),\"\")","v":""}]
[{"$nulls":10},{"$f":"IF(ISNUMBER(SEARCH($A$3,L3777)),MAX($K$1:K3776)+1,0)","v":0},"Trijal Industries Ltd","TRIJAL.BO",{"$nulls":12},{"$f":"IFERROR(VLOOKUP(ROWS($Z$2:Z3777),K3777:$L$6000,2,0),\"\")","v":""},{"$f":"IFERROR(VLOOKUP(ROWS($AA$2:AA3777),K3777:$M$6000,3,0),\"\")","v":""}]
[{"$nulls":10},{"$f":"IF(ISNUMBER(SEARCH($A$3,L3778)),MAX($K$1:K3777)+1,0)","v":0},"Trimurthi Drugs","TRIMURTHI.BO",{"$nulls":12},{"$f":"IFERROR(VLOOKUP(ROWS($Z$2:Z3778),K3778:$L$6000,2,0),\"\")","v":""},{"$f":"IFERROR(VLOOKUP(ROWS($AA$2:AA3778),K3778:$M$6000,3,0),\"\")","v":""}]
[{"$nulls":10},{"$f":"IF(ISNUMBER(SEARCH($A$3,L3779)),MAX($K$1:K3778)+1,0)","v":0},"Trinethra Infra Ventures Ltd","TRINETHRA.BO",{"$nulls":12},{"$f":"IFERROR(VLOOKUP(ROWS($Z$2:Z3779),K3779:$L$6000,2,0),\"\")","v":""},{"$f":"IFERROR(VLOOKUP(ROWS($AA$2:AA3779),K3779:$M$6000,3,0),\"\")","v":""}]
[{"$nulls":10},{"$f":"IF(ISNUMBER(SEARCH($A$3,L3780)),MAX($K$1:K3779)+1,0)","v":0},"Trinetra Cement Ltd","INDOZIN-B.BO",{"$nulls":12},{"$f":"IFERROR(VLOOKUP(ROWS($Z$2:Z3780),K3780:$L$6000,2,0),\"\")","v":""},{"$f":"IFERROR(VLOOKUP(ROWS($AA$2:AA3780),K3780:$M$6000,3,0),\"\")","v":""}]
[{"$nulls":10},{"$f":"IF(ISNUMBER(SEARCH($A$3,L3781)),MAX($K$1:K3780)+1,0)","v":0},"Trinity Tradelink Ltd","SHARPTR.BO",{"$nulls":12},{"$f":"IFERROR(VLOOKUP(ROWS($Z$2:Z3781),K3781:$L$6000,2,0),\"\")","v":""},{"$f":"IFERROR(VLOOKUP(ROWS($AA$2:AA3781),K3781:$M$6000,3,0),\"\")","v":""}]
[{"$nulls":10},{"$f":"IF(ISNUMBER(SEARCH($A$3,L3782)),MAX($K$1:K3781)+1,0)","v":0},"Trishakti Electonics","TRISHAKT.BO",{"$nulls":12},{"$f":"IFERROR(VLOOKUP(ROWS($Z$2:Z3782),K3782:$L$6000,2,0),\"\")","v":""},{"$f":"IFERROR(VLOOKUP(ROWS($AA$2:AA3782),K3782:$M$6000,3,0),\"\")","v":""}]
[{"$nulls":10},{"$f":"IF(ISNUMBER(SEARCH($A$3,L3783)),MAX($K$1:K3782)+1,0)","v":0},"Triton Corp Ltd","TRITON.BO",{"$nulls":12},{"$f":"IFERROR(VLOOKUP(ROWS($Z$2:Z3783),K3783:$L$6000,2,0),\"\")","v":""},{"$f":"IFERROR(VLOOKUP(ROWS($AA$2:AA3783),K3783:$M$6000,3,0),\"\")","v":""}]
[{"$nulls":10},{"$f":"IF(ISNUMBER(SEARCH($A$3,L3784)),MAX($K$1:K3783)+1,0)","v":0},"Triton Valves Ltd","TRITONV.BO",{"$nulls":12},{"$f":"IFERROR(VLOOKUP(ROWS($Z$2:Z3784),K3784:$L$6000,2,0),\"\")","v":""},{"$f":"IFERROR(VLOOKUP(ROWS($AA$2:AA3784),K3784:$M$6000,3,0),\"\")","v":""}]
[{"$nulls":10},{"$f":"IF(ISNUMBER(SEARCH($A$3,L3785)),MAX($K$1:K3784)+1,0)","v":0},"Triveni Engineering & Ind","TEIL.BO",{"$nulls":12},{"$f":"IFERROR(VLOOKUP(ROWS($Z$2:Z3785),K3785:$L$6000,2,0),\"\")","v":""},{"$f":"IFERROR(VLOOKUP(ROWS($AA$2:AA3785),K3785:$M$6000,3,0),\"\")","v":""}]
[{"$nulls":10},{"$f":"IF(ISNUMBER(SEARCH($A$3,L3786)),MAX($K$1:K3785)+1,0)","v":0},"Triveni Engineering & Ind","TRIVENI.NS",{"$nulls":12},{"$f":"IFERROR(VLOOKUP(ROWS($Z$2:Z3786),K3786:$L$6000,2,0),\"\")","v":""},{"$f":"IFERROR(VLOOKUP(ROWS($AA$2:AA3786),K3786:$M$6000,3,0),\"\")","v":""}]
[{"$nulls":10},{"$f":"IF(ISNUMBER(SEARCH($A$3,L3787)),MAX($K$1:K3786)+1,0)","v":0},"Triveni Glass Ltd","TRIVENIGQ.BO",{"$nulls":12},{"$f":"IFERROR(VLOOKUP(ROWS($Z$2:Z3787),K3787:$L$6000,2,0),\"\")","v":""},{"$f":"IFERROR(VLOOKUP(ROWS($AA$2:AA3787),K3787:$M$6000,3,0),\"\")","v":""}]
[{"$nulls":10},{"$f":"IF(ISNUMBER(SEARCH($A$3,L3788)),MAX($K$1:K3787)+1,0)","v":0},"TSL Industries Ltd","TSL.BO",{"$nulls":12},{"$f":"IFERROR(VLOOKUP(ROWS($Z$2:Z3788),K3788:$L$6000,2,0),\"\")","v":""},{"$f":"IFERROR(VLOOKUP(ROWS($AA$2:AA3788),K3788:$M$6000,3,0),\"\")","v":""}]
[{"$nulls":10},{"$f":"IF(ISNUMBER(SEARCH($A$3,L3789)),MAX($K$1:K3788)+1,0)","v":0},"TTK Healthcare Ltd","TTKHE.BO",{"$nulls":12},{"$f":"IFERROR(VLOOKUP(ROWS($Z$2:Z3789),K3789:$L$6000,2,0),\"\")","v":""},{"$f":"IFERROR(VLOOKUP(ROWS($AA$2:AA3789),K3789:$M$6000,3,0),\"\")","v":""}]
[{"$nulls":10},{"$f":"IF(ISNUMBER(SEARCH($A$3,L3790)),MAX($K$1:K3789)+1,0)","v":0},"TTK Prestige Ltd","TTKPRES.BO",{"$nulls":12},{"$f":"IFERROR(VLOOKUP(ROWS($Z$2:Z3790),K3790:$L$6000,2,0),\"\")","v":""},{"$f":"IFERROR(VLOOKUP(ROWS($AA$2:AA3790),K3790:$M$6000,3,0),\"\")","v":""}]
[{"$nulls":10},{"$f":"IF(ISNUMBER(SEARCH($A$3,L3791)),MAX($K$1:K3790)+1,0)","v":0},"TTK Prestige Ltd","TTKPRESTI.NS",{"$nulls":12},{"$f":"IFERROR(VLOOKUP(ROWS($Z$2:Z3791),K3791:$L$6000,2,0),\"\")","v":""},{"$f":"IFERROR(VLOOKUP(ROWS($AA$2:AA3791),K3791:$M$6000,3,0),\"\")","v":""}]
[{"$nulls":10},{"$f":"IF(ISNUMBER(SEARCH($A$3,L3792)),MAX($K$1:K3791)+1,0)","v":0},"Tube Investments Of India Ltd","TUBEINVEST.BO",{"$nulls":12},{"$f":"IFERROR(VLOOKUP(ROWS($Z$2:Z3792),K3792:$L$6000,2,0),\"\")","v":""},{"$f":"IFERROR(VLOOKUP(ROWS($AA$2:AA3792),K3792:$M$6000,3,0),\"\")","v":""}]
[{"$nulls":10},{"$f":"IF(ISNUMBER(SEARCH($A$3,L3793)),MAX($K$1:K3792)+1,0)","v":0},"Tube Investments Of India Ltd","TUBEINVES.NS",{"$nulls":12},{"$f":"IFERROR(VLOOKUP(ROWS($Z$2:Z3793),K3793:$L$6000,2,0),\"\")","v":""},{"$f":"IFERROR(VLOOKUP(ROWS($AA$2:AA3793),K3793:$M$6000,3,0),\"\")","v":""}]
[{"$nulls":10},{"$f":"IF(ISNUMBER(SEARCH($A$3,L3794)),MAX($K$1:K3793)+1,0)","v":0},"Tulip Star Hotels Ltd","TULIPSTA.BO",{"$nulls":12},{"$f":"IFERROR(VLOOKUP(ROWS($Z$2:Z3794),K3794:$L$6000,2,0),\"\")","v":""},{"$f":"IFERROR(VLOOKUP(ROWS($AA$2:AA3794),K3794:$M$6000,3,0),\"\")","v":""}]
[{"$nulls":10},{"$f":"IF(ISNUMBER(SEARCH($A$3,L3795)),MAX($K$1:K3794)+1,0)","v":0},"Tulip Telecom Ltd","TULIP.BO",{"$nulls":12},{"$f":"IFERROR(VLOOKUP(ROWS($Z$2:Z3795),K3795:$L$6000,2,0),\"\")","v":""},{"$f":"IFERROR(VLOOKUP(ROWS($AA$2:AA3795),K3795:$M$6000,3,0),\"\")","v":""}]
[{"$nulls":10},{"$f":"IF(ISNUMBER(SEARCH($A$3,L3796)),MAX($K$1:K3795)+1,0)","v":0},"Tulip Telecom Ltd","TULIP.NS",{"$nulls":12},{"$f":"IFERROR(VLOOKUP(ROWS($Z$2:Z3796),K3796:$L$6000,2,0),\"\")","v":""},{"$f":"IFERROR(VLOOKUP(ROWS($AA$2:AA3796),K3796:$M$6000,3,0),\"\")","v":""}]
[{"$nulls":10},{"$f":"IF(ISNUMBER(SEARCH($A$3,L3797)),MAX($K$1:K3796)+1,0)","v":0},"Tulive Developers Ltd","TULIVE.BO",{"$nulls":12},{"$f":"IFERROR(VLOOKUP(ROWS($Z$2:Z3797),K3797:$L$6000,2,0),\"\")","v":""},{"$f":"IFERROR(VLOOKUP(ROWS($AA$2:AA3797),K3797:$M$6000,3,0),\"\")","v":""}]
[{"$nulls":10},{"$f":"IF(ISNUMBER(SEARCH($A$3,L3798)),MAX($K$1:K3797)+1,0)","v":0},"Tulsi Extrusions Ltd","TULSI.BO",{"$nulls":12},{"$f":"IFERROR(VLOOKUP(ROWS($Z$2:Z3798),K3798:$L$6000,2,0),\"\")","v":""},{"$f":"IFERROR(VLOOKUP(ROWS($AA$2:AA3798),K3798:$M$6000,3,0),\"\")","v":""}]
[{"$nulls":10},{"$f":"IF(ISNUMBER(SEARCH($A$3,L3799)),MAX($K$1:K3798)+1,0)","v":0},"Tulsi Extrusions Ltd","TULSI.NS",{"$nulls":12},{"$f":"IFERROR(VLOOKUP(ROWS($Z$2:Z3799),K3799:$L$6000,2,0),\"\")","v":""},{"$f":"IFERROR(VLOOKUP(ROWS($AA$2:AA3799),K3799:$M$6000,3,0),\"\")","v":""}]
[{"$nulls":10},{"$f":"IF(ISNUMBER(SEARCH($A$3,L3800)),MAX($K$1:K3799)+1,0)","v":0},"Tulsyan Nec Ltd","TULSYAN.BO",{"$nulls":12},{"$f":"IFERROR(VLOOKUP(ROWS($Z$2:Z3800),K3800:$L$6000,2,0),\"\")","v":""},{"$f":"IFERROR(VLOOKUP(ROWS($AA$2:AA3800),K3800:$M$6000,3,0),\"\")","v":""}]
[{"$nulls":10},{"$f":"IF(ISNUMBER(SEARCH($A$3,L3801)),MAX($K$1:K3800)+1,0)","v":0},"Tuni Textile Mills Ltd","TUNITEX.BO",{"$nulls":12},{"$f":"IFERROR(VLOOKUP(ROWS($Z$2:Z3801),K3801:$L$6000,2,0),\"\")","v":""},{"$f":"IFERROR(VLOOKUP(ROWS($AA$2:AA3801),K3801:$M$6000,3,0),\"\")","v":""}]
[{"$nulls":10},{"$f":"IF(ISNUMBER(SEARCH($A$3,L3802)),MAX($K$1:K3801)+1,0)","v":0},"Tuticorin Alkali","TUTIALKA.BO",{"$nulls":12},{"$f":"IFERROR(VLOOKUP(ROWS($Z$2:Z3802),K3802:$L$6000,2,0),\"\")","v":""},{"$f":"IFERROR(VLOOKUP(ROWS($AA$2:AA3802),K3802:$M$6000,3,0),\"\")","v":""}]
[{"$nulls":10},{"$f":"IF(ISNUMBER(SEARCH($A$3,L3803)),MAX($K$1:K3802)+1,0)","v":0},"Tutis Technologies Ltd","TUTIS.BO",{"$nulls":12},{"$f":"IFERROR(VLOOKUP(ROWS($Z$2:Z3803),K3803:$L$6000,2,0),\"\")","v":""},{"$f":"IFERROR(VLOOKUP(ROWS($AA$2:AA3803),K3803:$M$6000,3,0),\"\")","v":""}]
[{"$nulls":10},{"$f":"IF(ISNUMBER(SEARCH($A$3,L3804)),MAX($K$1:K3803)+1,0)","v":0},"TV Today Network Ltd","TVTN.BO",{"$nulls":12},{"$f":"IFERROR(VLOOKUP(ROWS($Z$2:Z3804),K3804:$L$6000,2,0),\"\")","v":""},{"$f":"IFERROR(VLOOKUP(ROWS($AA$2:AA3804),K3804:$M$6000,3,0),\"\")","v":""}]
[{"$nulls":10},{"$f":"IF(ISNUMBER(SEARCH($A$3,L3805)),MAX($K$1:K3804)+1,0)","v":0},"TV Today Network Ltd","TVTODAY.NS",{"$nulls":12},{"$f":"IFERROR(VLOOKUP(ROWS($Z$2:Z3805),K3805:$L$6000,2,0),\"\")","v":""},{"$f":"IFERROR(VLOOKUP(ROWS($AA$2:AA3805),K3805:$M$6000,3,0),\"\")","v":""}]
[{"$nulls":10},{"$f":"IF(ISNUMBER(SEARCH($A$3,L3806)),MAX($K$1:K3805)+1,0)","v":0},"TV18 Broadcast Ltd","IBN18.BO",{"$nulls":12},{"$f":"IFERROR(VLOOKUP(ROWS($Z$2:Z3806),K3806:$L$6000,2,0),\"\")","v":""},{"$f":"IFERROR(VLOOKUP(ROWS($AA$2:AA3806),K3806:$M$6000,3,0),\"\")","v":""}]
[{"$nulls":10},{"$f":"IF(ISNUMBER(SEARCH($A$3,L3807)),MAX($K$1:K3806)+1,0)","v":0},"TV18 Broadcast Ltd","IBN18.NS",{"$nulls":12},{"$f":"IFERROR(VLOOKUP(ROWS($Z$2:Z3807),K3807:$L$6000,2,0),\"\")","v":""},{"$f":"IFERROR(VLOOKUP(ROWS($AA$2:AA3807),K3807:$M$6000,3,0),\"\")","v":""}]
[{"$nulls":10},{"$f":"IF(ISNUMBER(SEARCH($A$3,L3808)),MAX($K$1:K3807)+1,0)","v":0},"Tvs Electronics Ltd","TVSELEC.BO",{"$nulls":12},{"$f":"IFERROR(VLOOKUP(ROWS($Z$2:Z3808),K3808:$L$6000,2,0),\"\")","v":""},{"$f":"IFERROR(VLOOKUP(ROWS($AA$2:AA3808),K3808:$M$6000,3,0),\"\")","v":""}]
[{"$nulls":10},{"$f":"IF(ISNUMBER(SEARCH($A$3,L3809)),MAX($K$1:K3808)+1,0)","v":0},"Tvs Electronics Ltd","TVSELECT.NS",{"$nulls":12},{"$f":"IFERROR(VLOOKUP(ROWS($Z$2:Z3809),K3809:$L$6000,2,0),\"\")","v":""},{"$f":"IFERROR(VLOOKUP(ROWS($AA$2:AA3809),K3809:$M$6000,3,0),\"\")","v":""}]
[{"$nulls":10},{"$f":"IF(ISNUMBER(SEARCH($A$3,L3810)),MAX($K$1:K3809)+1,0)","v":0},"TVS Motor Co Ltd","TVSMOTOR.BO",{"$nulls":12},{"$f":"IFERROR(VLOOKUP(ROWS($Z$2:Z3810),K3810:$L$6000,2,0),\"\")","v":""},{"$f":"IFERROR(VLOOKUP(ROWS($AA$2:AA3810),K3810:$M$6000,3,0),\"\")","v":""}]
[{"$nulls":10},{"$f":"IF(ISNUMBER(SEARCH($A$3,L3811)),MAX($K$1:K3810)+1,0)","v":0},"TVS Motor Co Ltd","TVSMOTOR.NS",{"$nulls":12},{"$f":"IFERROR(VLOOKUP(ROWS($Z$2:Z3811),K3811:$L$6000,2,0),\"\")","v":""},{"$f":"IFERROR(VLOOKUP(ROWS($AA$2:AA3811),K3811:$M$6000,3,0),\"\")","v":""}]
[{"$nulls":10},{"$f":"IF(ISNUMBER(SEARCH($A$3,L3812)),MAX($K$1:K3811)+1,0)","v":0},"TVS Srichakra Ltd","TVSSRICHAK.BO",{"$nulls":12},{"$f":"IFERROR(VLOOKUP(ROWS($Z$2:Z3812),K3812:$L$6000,2,0),\"\")","v":""},{"$f":"IFERROR(VLOOKUP(ROWS($AA$2:AA3812),K3812:$M$6000,3,0),\"\")","v":""}]
[{"$nulls":10},{"$f":"IF(ISNUMBER(SEARCH($A$3,L3813)),MAX($K$1:K3812)+1,0)","v":0},"TVS Srichakra Ltd","TVSSRICHA.NS",{"$nulls":12},{"$f":"IFERROR(VLOOKUP(ROWS($Z$2:Z3813),K3813:$L$6000,2,0),\"\")","v":""},{"$f":"IFERROR(VLOOKUP(ROWS($AA$2:AA3813),K3813:$M$6000,3,0),\"\")","v":""}]
[{"$nulls":10},{"$f":"IF(ISNUMBER(SEARCH($A$3,L3814)),MAX($K$1:K3813)+1,0)","v":0},"Twilight Litaka Pharma Ltd","TWILITAKA.BO",{"$nulls":12},{"$f":"IFERROR(VLOOKUP(ROWS($Z$2:Z3814),K3814:$L$6000,2,0),\"\")","v":""},{"$f":"IFERROR(VLOOKUP(ROWS($AA$2:AA3814),K3814:$M$6000,3,0),\"\")","v":""}]
[{"$nulls":10},{"$f":"IF(ISNUMBER(SEARCH($A$3,L3815)),MAX($K$1:K3814)+1,0)","v":0},"Twinstar Industries Ltd","TWINSTAR.BO",{"$nulls":12},{"$f":"IFERROR(VLOOKUP(ROWS($Z$2:Z3815),K3815:$L$6000,2,0),\"\")","v":""},{"$f":"IFERROR(VLOOKUP(ROWS($AA$2:AA3815),K3815:$M$6000,3,0),\"\")","v":""}]
[{"$nulls":10},{"$f":"IF(ISNUMBER(SEARCH($A$3,L3816)),MAX($K$1:K3815)+1,0)","v":0},"Tyche Industries Ltd","TYCHE.BO",{"$nulls":12},{"$f":"IFERROR(VLOOKUP(ROWS($Z$2:Z3816),K3816:$L$6000,2,0),\"\")","v":""},{"$f":"IFERROR(VLOOKUP(ROWS($AA$2:AA3816),K3816:$M$6000,3,0),\"\")","v":""}]
[{"$nulls":10},{"$f":"IF(ISNUMBER(SEARCH($A$3,L3817)),MAX($K$1:K3816)+1,0)","v":0},"Tyroon Tea Co Ltd","TYROON.BO",{"$nulls":12},{"$f":"IFERROR(VLOOKUP(ROWS($Z$2:Z3817),K3817:$L$6000,2,0),\"\")","v":""},{"$f":"IFERROR(VLOOKUP(ROWS($AA$2:AA3817),K3817:$M$6000,3,0),\"\")","v":""}]
[{"$nulls":10},{"$f":"IF(ISNUMBER(SEARCH($A$3,L3818)),MAX($K$1:K3817)+1,0)","v":0},"U G Hotels & Resorts Ltd","UGHOR.BO",{"$nulls":12},{"$f":"IFERROR(VLOOKUP(ROWS($Z$2:Z3818),K3818:$L$6000,2,0),\"\")","v":""},{"$f":"IFERROR(VLOOKUP(ROWS($AA$2:AA3818),K3818:$M$6000,3,0),\"\")","v":""}]
[{"$nulls":10},{"$f":"IF(ISNUMBER(SEARCH($A$3,L3819)),MAX($K$1:K3818)+1,0)","v":0},"U T Ltd","UTLTD.BO",{"$nulls":12},{"$f":"IFERROR(VLOOKUP(ROWS($Z$2:Z3819),K3819:$L$6000,2,0),\"\")","v":""},{"$f":"IFERROR(VLOOKUP(ROWS($AA$2:AA3819),K3819:$M$6000,3,0),\"\")","v":""}]
[{"$nulls":10},{"$f":"IF(ISNUMBER(SEARCH($A$3,L3820)),MAX($K$1:K3819)+1,0)","v":0},"UB Engineering Ltd","UBENG.BO",{"$nulls":12},{"$f":"IFERROR(VLOOKUP(ROWS($Z$2:Z3820),K3820:$L$6000,2,0),\"\")","v":""},{"$f":"IFERROR(VLOOKUP(ROWS($AA$2:AA3820),K3820:$M$6000,3,0),\"\")","v":""}]
[{"$nulls":10},{"$f":"IF(ISNUMBER(SEARCH($A$3,L3821)),MAX($K$1:K3820)+1,0)","v":0},"UCAL Fuel Systems Ltd","UCALFUEL.BO",{"$nulls":12},{"$f":"IFERROR(VLOOKUP(ROWS($Z$2:Z3821),K3821:$L$6000,2,0),\"\")","v":""},{"$f":"IFERROR(VLOOKUP(ROWS($AA$2:AA3821),K3821:$M$6000,3,0),\"\")","v":""}]
[{"$nulls":10},{"$f":"IF(ISNUMBER(SEARCH($A$3,L3822)),MAX($K$1:K3821)+1,0)","v":0},"UCAL Fuel Systems Ltd","UCALFUEL.NS",{"$nulls":12},{"$f":"IFERROR(VLOOKUP(ROWS($Z$2:Z3822),K3822:$L$6000,2,0),\"\")","v":""},{"$f":"IFERROR(VLOOKUP(ROWS($AA$2:AA3822),K3822:$M$6000,3,0),\"\")","v":""}]
[{"$nulls":10},{"$f":"IF(ISNUMBER(SEARCH($A$3,L3823)),MAX($K$1:K3822)+1,0)","v":0},"UCO Bank","UCO.BO",{"$nulls":12},{"$f":"IFERROR(VLOOKUP(ROWS($Z$2:Z3823),K3823:$L$6000,2,0),\"\")","v":""},{"$f":"IFERROR(VLOOKUP(ROWS($AA$2:AA3823),K3823:$M$6000,3,0),\"\")","v":""}]
[{"$nulls":10},{"$f":"IF(ISNUMBER(SEARCH($A$3,L3824)),MAX($K$1:K3823)+1,0)","v":0},"UCO Bank","UCOBANK.NS",{"$nulls":12},{"$f":"IFERROR(VLOOKUP(ROWS($Z$2:Z3824),K3824:$L$6000,2,0),\"\")","v":""},{"$f":"IFERROR(VLOOKUP(ROWS($AA$2:AA3824),K3824:$M$6000,3,0),\"\")","v":""}]
[{"$nulls":10},{"$f":"IF(ISNUMBER(SEARCH($A$3,L3825)),MAX($K$1:K3824)+1,0)","v":0},"Uflex Ltd","UFLEX.BO",{"$nulls":12},{"$f":"IFERROR(VLOOKUP(ROWS($Z$2:Z3825),K3825:$L$6000,2,0),\"\")","v":""},{"$f":"IFERROR(VLOOKUP(ROWS($AA$2:AA3825),K3825:$M$6000,3,0),\"\")","v":""}]
[{"$nulls":10},{"$f":"IF(ISNUMBER(SEARCH($A$3,L3826)),MAX($K$1:K3825)+1,0)","v":0},"Uflex Ltd","UFLEX.NS",{"$nulls":12},{"$f":"IFERROR(VLOOKUP(ROWS($Z$2:Z3826),K3826:$L$6000,2,0),\"\")","v":""},{"$f":"IFERROR(VLOOKUP(ROWS($AA$2:AA3826),K3826:$M$6000,3,0),\"\")","v":""}]
[{"$nulls":10},{"$f":"IF(ISNUMBER(SEARCH($A$3,L3827)),MAX($K$1:K3826)+1,0)","v":0},"Ugar Sugar Works Ltd","UGAR.BO",{"$nulls":12},{"$f":"IFERROR(VLOOKUP(ROWS($Z$2:Z3827),K3827:$L$6000,2,0),\"\")","v":""},{"$f":"IFERROR(VLOOKUP(ROWS($AA$2:AA3827),K3827:$M$6000,3,0),\"\")","v":""}]
[{"$nulls":10},{"$f":"IF(ISNUMBER(SEARCH($A$3,L3828)),MAX($K$1:K3827)+1,0)","v":0},"Ultramarine & Pigments Ltd","ULTRAMAR.BO",{"$nulls":12},{"$f":"IFERROR(VLOOKUP(ROWS($Z$2:Z3828),K3828:$L$6000,2,0),\"\")","v":""},{"$f":"IFERROR(VLOOKUP(ROWS($AA$2:AA3828),K3828:$M$6000,3,0),\"\")","v":""}]
[{"$nulls":10},{"$f":"IF(ISNUMBER(SEARCH($A$3,L3829)),MAX($K$1:K3828)+1,0)","v":0},"UltraTech Cement Ltd","ULTRATECH.BO",{"$nulls":12},{"$f":"IFERROR(VLOOKUP(ROWS($Z$2:Z3829),K3829:$L$6000,2,0),\"\")","v":""},{"$f":"IFERROR(VLOOKUP(ROWS($AA$2:AA3829),K3829:$M$6000,3,0),\"\")","v":""}]
[{"$nulls":10},{"$f":"IF(ISNUMBER(SEARCH($A$3,L3830)),MAX($K$1:K3829)+1,0)","v":0},"UltraTech Cement Ltd","ULTRACEMC.NS",{"$nulls":12},{"$f":"IFERROR(VLOOKUP(ROWS($Z$2:Z3830),K3830:$L$6000,2,0),\"\")","v":""},{"$f":"IFERROR(VLOOKUP(ROWS($AA$2:AA3830),K3830:$M$6000,3,0),\"\")","v":""}]
[{"$nulls":10},{"$f":"IF(ISNUMBER(SEARCH($A$3,L3831)),MAX($K$1:K3830)+1,0)","v":0},"Umang Dairies Ltd","UMANGDAIR.BO",{"$nulls":12},{"$f":"IFERROR(VLOOKUP(ROWS($Z$2:Z3831),K3831:$L$6000,2,0),\"\")","v":""},{"$f":"IFERROR(VLOOKUP(ROWS($AA$2:AA3831),K3831:$M$6000,3,0),\"\")","v":""}]
[{"$nulls":10},{"$f":"IF(ISNUMBER(SEARCH($A$3,L3832)),MAX($K$1:K3831)+1,0)","v":0},"Uni-Abex Alloy Products Ltd","UNIABEXAL.BO",{"$nulls":12},{"$f":"IFERROR(VLOOKUP(ROWS($Z$2:Z3832),K3832:$L$6000,2,0),\"\")","v":""},{"$f":"IFERROR(VLOOKUP(ROWS($AA$2:AA3832),K3832:$M$6000,3,0),\"\")","v":""}]
[{"$nulls":10},{"$f":"IF(ISNUMBER(SEARCH($A$3,L3833)),MAX($K$1:K3832)+1,0)","v":0},"Unichem Laboratories Ltd","UNICHEMLAB.BO",{"$nulls":12},{"$f":"IFERROR(VLOOKUP(ROWS($Z$2:Z3833),K3833:$L$6000,2,0),\"\")","v":""},{"$f":"IFERROR(VLOOKUP(ROWS($AA$2:AA3833),K3833:$M$6000,3,0),\"\")","v":""}]
[{"$nulls":10},{"$f":"IF(ISNUMBER(SEARCH($A$3,L3834)),MAX($K$1:K3833)+1,0)","v":0},"Unimers India Ltd","UNIMERQ.BO",{"$nulls":12},{"$f":"IFERROR(VLOOKUP(ROWS($Z$2:Z3834),K3834:$L$6000,2,0),\"\")","v":""},{"$f":"IFERROR(VLOOKUP(ROWS($AA$2:AA3834),K3834:$M$6000,3,0),\"\")","v":""}]
[{"$nulls":10},{"$f":"IF(ISNUMBER(SEARCH($A$3,L3835)),MAX($K$1:K3834)+1,0)","v":0},"Unimin India Ltd","UNIMININ.BO",{"$nulls":12},{"$f":"IFERROR(VLOOKUP(ROWS($Z$2:Z3835),K3835:$L$6000,2,0),\"\")","v":""},{"$f":"IFERROR(VLOOKUP(ROWS($AA$2:AA3835),K3835:$M$6000,3,0),\"\")","v":""}]
[{"$nulls":10},{"$f":"IF(ISNUMBER(SEARCH($A$3,L3836)),MAX($K$1:K3835)+1,0)","v":0},"Union Bank of India","UNIONBANK.BO",{"$nulls":12},{"$f":"IFERROR(VLOOKUP(ROWS($Z$2:Z3836),K3836:$L$6000,2,0),\"\")","v":""},{"$f":"IFERROR(VLOOKUP(ROWS($AA$2:AA3836),K3836:$M$6000,3,0),\"\")","v":""}]
[{"$nulls":10},{"$f":"IF(ISNUMBER(SEARCH($A$3,L3837)),MAX($K$1:K3836)+1,0)","v":0},"Union Bank of India","UNIONBANK.NS",{"$nulls":12},{"$f":"IFERROR(VLOOKUP(ROWS($Z$2:Z3837),K3837:$L$6000,2,0),\"\")","v":""},{"$f":"IFERROR(VLOOKUP(ROWS($AA$2:AA3837),K3837:$M$6000,3,0),\"\")","v":""}]
[{"$nulls":10},{"$f":"IF(ISNUMBER(SEARCH($A$3,L3838)),MAX($K$1:K3837)+1,0)","v":0},"Uniphos Enterprises Ltd","UNIPHOS.BO",{"$nulls":12},{"$f":"IFERROR(VLOOKUP(ROWS($Z$2:Z3838),K3838:$L$6000,2,0),\"\")","v":""},{"$f":"IFERROR(VLOOKUP(ROWS($AA$2:AA3838),K3838:$M$6000,3,0),\"\")","v":""}]
[{"$nulls":10},{"$f":"IF(ISNUMBER(SEARCH($A$3,L3839)),MAX($K$1:K3838)+1,0)","v":0},"Uniphos Enterprises Ltd","UNIENTER.NS",{"$nulls":12},{"$f":"IFERROR(VLOOKUP(ROWS($Z$2:Z3839),K3839:$L$6000,2,0),\"\")","v":""},{"$f":"IFERROR(VLOOKUP(ROWS($AA$2:AA3839),K3839:$M$6000,3,0),\"\")","v":""}]
[{"$nulls":10},{"$f":"IF(ISNUMBER(SEARCH($A$3,L3840)),MAX($K$1:K3839)+1,0)","v":0},"Uniply Industries Ltd","UNIPLY.BO",{"$nulls":12},{"$f":"IFERROR(VLOOKUP(ROWS($Z$2:Z3840),K3840:$L$6000,2,0),\"\")","v":""},{"$f":"IFERROR(VLOOKUP(ROWS($AA$2:AA3840),K3840:$M$6000,3,0),\"\")","v":""}]
[{"$nulls":10},{"$f":"IF(ISNUMBER(SEARCH($A$3,L3841)),MAX($K$1:K3840)+1,0)","v":0},"Uniply Industries Ltd","UNIPLY.NS",{"$nulls":12},{"$f":"IFERROR(VLOOKUP(ROWS($Z$2:Z3841),K3841:$L$6000,2,0),\"\")","v":""},{"$f":"IFERROR(VLOOKUP(ROWS($AA$2:AA3841),K3841:$M$6000,3,0),\"\")","v":""}]
[{"$nulls":10},{"$f":"IF(ISNUMBER(SEARCH($A$3,L3842)),MAX($K$1:K3841)+1,0)","v":0},"Unique Organics Ltd","UNIQUEO.BO",{"$nulls":12},{"$f":"IFERROR(VLOOKUP(ROWS($Z$2:Z3842),K3842:$L$6000,2,0),\"\")","v":""},{"$f":"IFERROR(VLOOKUP(ROWS($AA$2:AA3842),K3842:$M$6000,3,0),\"\")","v":""}]
[{"$nulls":10},{"$f":"IF(ISNUMBER(SEARCH($A$3,L3843)),MAX($K$1:K3842)+1,0)","v":0},"Uniroyal Industries Ltd","UNIROYAL.BO",{"$nulls":12},{"$f":"IFERROR(VLOOKUP(ROWS($Z$2:Z3843),K3843:$L$6000,2,0),\"\")","v":""},{"$f":"IFERROR(VLOOKUP(ROWS($AA$2:AA3843),K3843:$M$6000,3,0),\"\")","v":""}]
[{"$nulls":10},{"$f":"IF(ISNUMBER(SEARCH($A$3,L3844)),MAX($K$1:K3843)+1,0)","v":0},"Uniroyal Marine Exports Ltd","UNRYLMA.BO",{"$nulls":12},{"$f":"IFERROR(VLOOKUP(ROWS($Z$2:Z3844),K3844:$L$6000,2,0),\"\")","v":""},{"$f":"IFERROR(VLOOKUP(ROWS($AA$2:AA3844),K3844:$M$6000,3,0),\"\")","v":""}]
[{"$nulls":10},{"$f":"IF(ISNUMBER(SEARCH($A$3,L3845)),MAX($K$1:K3844)+1,0)","v":0},"Unistar Multimedia Ltd","UNISTRMU.BO",{"$nulls":12},{"$f":"IFERROR(VLOOKUP(ROWS($Z$2:Z3845),K3845:$L$6000,2,0),\"\")","v":""},{"$f":"IFERROR(VLOOKUP(ROWS($AA$2:AA3845),K3845:$M$6000,3,0),\"\")","v":""}]
[{"$nulls":10},{"$f":"IF(ISNUMBER(SEARCH($A$3,L3846)),MAX($K$1:K3845)+1,0)","v":0},"Unisys Softwares & Holdin","UNISH.BO",{"$nulls":12},{"$f":"IFERROR(VLOOKUP(ROWS($Z$2:Z3846),K3846:$L$6000,2,0),\"\")","v":""},{"$f":"IFERROR(VLOOKUP(ROWS($AA$2:AA3846),K3846:$M$6000,3,0),\"\")","v":""}]
[{"$nulls":10},{"$f":"IF(ISNUMBER(SEARCH($A$3,L3847)),MAX($K$1:K3846)+1,0)","v":0},"Unitech International Ltd","UNITECH.BO",{"$nulls":12},{"$f":"IFERROR(VLOOKUP(ROWS($Z$2:Z3847),K3847:$L$6000,2,0),\"\")","v":""},{"$f":"IFERROR(VLOOKUP(ROWS($AA$2:AA3847),K3847:$M$6000,3,0),\"\")","v":""}]
[{"$nulls":10},{"$f":"IF(ISNUMBER(SEARCH($A$3,L3848)),MAX($K$1:K3847)+1,0)","v":0},"Unitech International Ltd","UNITINT.BO",{"$nulls":12},{"$f":"IFERROR(VLOOKUP(ROWS($Z$2:Z3848),K3848:$L$6000,2,0),\"\")","v":""},{"$f":"IFERROR(VLOOKUP(ROWS($AA$2:AA3848),K3848:$M$6000,3,0),\"\")","v":""}]
[{"$nulls":10},{"$f":"IF(ISNUMBER(SEARCH($A$3,L3849)),MAX($K$1:K3848)+1,0)","v":0},"Unitech International Ltd","UNITECH.NS",{"$nulls":12},{"$f":"IFERROR(VLOOKUP(ROWS($Z$2:Z3849),K3849:$L$6000,2,0),\"\")","v":""},{"$f":"IFERROR(VLOOKUP(ROWS($AA$2:AA3849),K3849:$M$6000,3,0),\"\")","v":""}]
[{"$nulls":10},{"$f":"IF(ISNUMBER(SEARCH($A$3,L3850)),MAX($K$1:K3849)+1,0)","v":0},"United Bank of India","UNITEDBNK.BO",{"$nulls":12},{"$f":"IFERROR(VLOOKUP(ROWS($Z$2:Z3850),K3850:$L$6000,2,0),\"\")","v":""},{"$f":"IFERROR(VLOOKUP(ROWS($AA$2:AA3850),K3850:$M$6000,3,0),\"\")","v":""}]
[{"$nulls":10},{"$f":"IF(ISNUMBER(SEARCH($A$3,L3851)),MAX($K$1:K3850)+1,0)","v":0},"United Breweries holdings","UBHOLDING.BO",{"$nulls":12},{"$f":"IFERROR(VLOOKUP(ROWS($Z$2:Z3851),K3851:$L$6000,2,0),\"\")","v":""},{"$f":"IFERROR(VLOOKUP(ROWS($AA$2:AA3851),K3851:$M$6000,3,0),\"\")","v":""}]
[{"$nulls":10},{"$f":"IF(ISNUMBER(SEARCH($A$3,L3852)),MAX($K$1:K3851)+1,0)","v":0},"United Breweries holdings","UBHOLDING.NS",{"$nulls":12},{"$f":"IFERROR(VLOOKUP(ROWS($Z$2:Z3852),K3852:$L$6000,2,0),\"\")","v":""},{"$f":"IFERROR(VLOOKUP(ROWS($AA$2:AA3852),K3852:$M$6000,3,0),\"\")","v":""}]
[{"$nulls":10},{"$f":"IF(ISNUMBER(SEARCH($A$3,L3853)),MAX($K$1:K3852)+1,0)","v":0},"United Breweries Ltd","UNITEDBREW.BO",{"$nulls":12},{"$f":"IFERROR(VLOOKUP(ROWS($Z$2:Z3853),K3853:$L$6000,2,0),\"\")","v":""},{"$f":"IFERROR(VLOOKUP(ROWS($AA$2:AA3853),K3853:$M$6000,3,0),\"\")","v":""}]
[{"$nulls":10},{"$f":"IF(ISNUMBER(SEARCH($A$3,L3854)),MAX($K$1:K3853)+1,0)","v":0},"United Breweries Ltd","UBL.NS",{"$nulls":12},{"$f":"IFERROR(VLOOKUP(ROWS($Z$2:Z3854),K3854:$L$6000,2,0),\"\")","v":""},{"$f":"IFERROR(VLOOKUP(ROWS($AA$2:AA3854),K3854:$M$6000,3,0),\"\")","v":""}]
[{"$nulls":10},{"$f":"IF(ISNUMBER(SEARCH($A$3,L3855)),MAX($K$1:K3854)+1,0)","v":0},"United Credit Ltd","UNITDCR.BO",{"$nulls":12},{"$f":"IFERROR(VLOOKUP(ROWS($Z$2:Z3855),K3855:$L$6000,2,0),\"\")","v":""},{"$f":"IFERROR(VLOOKUP(ROWS($AA$2:AA3855),K3855:$M$6000,3,0),\"\")","v":""}]
[{"$nulls":10},{"$f":"IF(ISNUMBER(SEARCH($A$3,L3856)),MAX($K$1:K3855)+1,0)","v":0},"United Drilling Tools Ltd","UNIDT.BO",{"$nulls":12},{"$f":"IFERROR(VLOOKUP(ROWS($Z$2:Z3856),K3856:$L$6000,2,0),\"\")","v":""},{"$f":"IFERROR(VLOOKUP(ROWS($AA$2:AA3856),K3856:$M$6000,3,0),\"\")","v":""}]
[{"$nulls":10},{"$f":"IF(ISNUMBER(SEARCH($A$3,L3857)),MAX($K$1:K3856)+1,0)","v":0},"United Interactive Ltd","NEEMTEK.BO",{"$nulls":12},{"$f":"IFERROR(VLOOKUP(ROWS($Z$2:Z3857),K3857:$L$6000,2,0),\"\")","v":""},{"$f":"IFERROR(VLOOKUP(ROWS($AA$2:AA3857),K3857:$M$6000,3,0),\"\")","v":""}]
[{"$nulls":10},{"$f":"IF(ISNUMBER(SEARCH($A$3,L3858)),MAX($K$1:K3857)+1,0)","v":0},"United Phosphorus Ltd","UNITEDPHOS.BO",{"$nulls":12},{"$f":"IFERROR(VLOOKUP(ROWS($Z$2:Z3858),K3858:$L$6000,2,0),\"\")","v":""},{"$f":"IFERROR(VLOOKUP(ROWS($AA$2:AA3858),K3858:$M$6000,3,0),\"\")","v":""}]
[{"$nulls":10},{"$f":"IF(ISNUMBER(SEARCH($A$3,L3859)),MAX($K$1:K3858)+1,0)","v":0},"United Phosphorus Ltd","UNIPHOS.NS",{"$nulls":12},{"$f":"IFERROR(VLOOKUP(ROWS($Z$2:Z3859),K3859:$L$6000,2,0),\"\")","v":""},{"$f":"IFERROR(VLOOKUP(ROWS($AA$2:AA3859),K3859:$M$6000,3,0),\"\")","v":""}]
[{"$nulls":10},{"$f":"IF(ISNUMBER(SEARCH($A$3,L3860)),MAX($K$1:K3859)+1,0)","v":0},"United Spirits Ltd","UNITDSPR.BO",{"$nulls":12},{"$f":"IFERROR(VLOOKUP(ROWS($Z$2:Z3860),K3860:$L$6000,2,0),\"\")","v":""},{"$f":"IFERROR(VLOOKUP(ROWS($AA$2:AA3860),K3860:$M$6000,3,0),\"\")","v":""}]
[{"$nulls":10},{"$f":"IF(ISNUMBER(SEARCH($A$3,L3861)),MAX($K$1:K3860)+1,0)","v":0},"United Textiles Ltd","UNITEDTE.BO",{"$nulls":12},{"$f":"IFERROR(VLOOKUP(ROWS($Z$2:Z3861),K3861:$L$6000,2,0),\"\")","v":""},{"$f":"IFERROR(VLOOKUP(ROWS($AA$2:AA3861),K3861:$M$6000,3,0),\"\")","v":""}]
[{"$nulls":10},{"$f":"IF(ISNUMBER(SEARCH($A$3,L3862)),MAX($K$1:K3861)+1,0)","v":0},"Uni-Tubes Ltd","UNITUBE.BO",{"$nulls":12},{"$f":"IFERROR(VLOOKUP(ROWS($Z$2:Z3862),K3862:$L$6000,2,0),\"\")","v":""},{"$f":"IFERROR(VLOOKUP(ROWS($AA$2:AA3862),K3862:$M$6000,3,0),\"\")","v":""}]
[{"$nulls":10},{"$f":"IF(ISNUMBER(SEARCH($A$3,L3863)),MAX($K$1:K3862)+1,0)","v":0},"Unity Infraprojects Ltd","UNITY.BO",{"$nulls":12},{"$f":"IFERROR(VLOOKUP(ROWS($Z$2:Z3863),K3863:$L$6000,2,0),\"\")","v":""},{"$f":"IFERROR(VLOOKUP(ROWS($AA$2:AA3863),K3863:$M$6000,3,0),\"\")","v":""}]
[{"$nulls":10},{"$f":"IF(ISNUMBER(SEARCH($A$3,L3864)),MAX($K$1:K3863)+1,0)","v":0},"Unity Infraprojects Ltd","UNITY.NS",{"$nulls":12},{"$f":"IFERROR(VLOOKUP(ROWS($Z$2:Z3864),K3864:$L$6000,2,0),\"\")","v":""},{"$f":"IFERROR(VLOOKUP(ROWS($AA$2:AA3864),K3864:$M$6000,3,0),\"\")","v":""}]
[{"$nulls":10},{"$f":"IF(ISNUMBER(SEARCH($A$3,L3865)),MAX($K$1:K3864)+1,0)","v":0},"Universal Arts Ltd","UNIVARTS.BO",{"$nulls":12},{"$f":"IFERROR(VLOOKUP(ROWS($Z$2:Z3865),K3865:$L$6000,2,0),\"\")","v":""},{"$f":"IFERROR(VLOOKUP(ROWS($AA$2:AA3865),K3865:$M$6000,3,0),\"\")","v":""}]
[{"$nulls":10},{"$f":"IF(ISNUMBER(SEARCH($A$3,L3866)),MAX($K$1:K3865)+1,0)","v":0},"Universal Cables Ltd","UNICABLE.BO",{"$nulls":12},{"$f":"IFERROR(VLOOKUP(ROWS($Z$2:Z3866),K3866:$L$6000,2,0),\"\")","v":""},{"$f":"IFERROR(VLOOKUP(ROWS($AA$2:AA3866),K3866:$M$6000,3,0),\"\")","v":""}]
[{"$nulls":10},{"$f":"IF(ISNUMBER(SEARCH($A$3,L3867)),MAX($K$1:K3866)+1,0)","v":0},"Universal Cables Ltd","UNIVCABLE.NS",{"$nulls":12},{"$f":"IFERROR(VLOOKUP(ROWS($Z$2:Z3867),K3867:$L$6000,2,0),\"\")","v":""},{"$f":"IFERROR(VLOOKUP(ROWS($AA$2:AA3867),K3867:$M$6000,3,0),\"\")","v":""}]
[{"$nulls":10},{"$f":"IF(ISNUMBER(SEARCH($A$3,L3868)),MAX($K$1:K3867)+1,0)","v":0},"Universal Office Automati","UNIOFFICE.BO",{"$nulls":12},{"$f":"IFERROR(VLOOKUP(ROWS($Z$2:Z3868),K3868:$L$6000,2,0),\"\")","v":""},{"$f":"IFERROR(VLOOKUP(ROWS($AA$2:AA3868),K3868:$M$6000,3,0),\"\")","v":""}]
[{"$nulls":10},{"$f":"IF(ISNUMBER(SEARCH($A$3,L3869)),MAX($K$1:K3868)+1,0)","v":0},"Universal Prime Aluminium Ltd","UNIVPRIM.BO",{"$nulls":12},{"$f":"IFERROR(VLOOKUP(ROWS($Z$2:Z3869),K3869:$L$6000,2,0),\"\")","v":""},{"$f":"IFERROR(VLOOKUP(ROWS($AA$2:AA3869),K3869:$M$6000,3,0),\"\")","v":""}]
[{"$nulls":10},{"$f":"IF(ISNUMBER(SEARCH($A$3,L3870)),MAX($K$1:K3869)+1,0)","v":0},"Universal Starch-Chem All","UNIVSTAR.BO",{"$nulls":12},{"$f":"IFERROR(VLOOKUP(ROWS($Z$2:Z3870),K3870:$L$6000,2,0),\"\")","v":""},{"$f":"IFERROR(VLOOKUP(ROWS($AA$2:AA3870),K3870:$M$6000,3,0),\"\")","v":""}]
[{"$nulls":10},{"$f":"IF(ISNUMBER(SEARCH($A$3,L3871)),MAX($K$1:K3870)+1,0)","v":0},"Uniworth Ltd","UNIWORTH.BO",{"$nulls":12},{"$f":"IFERROR(VLOOKUP(ROWS($Z$2:Z3871),K3871:$L$6000,2,0),\"\")","v":""},{"$f":"IFERROR(VLOOKUP(ROWS($AA$2:AA3871),K3871:$M$6000,3,0),\"\")","v":""}]
[{"$nulls":10},{"$f":"IF(ISNUMBER(SEARCH($A$3,L3872)),MAX($K$1:K3871)+1,0)","v":0},"Unjha Formulations Ltd","UNJHAFOR.BO",{"$nulls":12},{"$f":"IFERROR(VLOOKUP(ROWS($Z$2:Z3872),K3872:$L$6000,2,0),\"\")","v":""},{"$f":"IFERROR(VLOOKUP(ROWS($AA$2:AA3872),K3872:$M$6000,3,0),\"\")","v":""}]
[{"$nulls":10},{"$f":"IF(ISNUMBER(SEARCH($A$3,L3873)),MAX($K$1:K3872)+1,0)","v":0},"UP Hotels Ltd","UPHOT.BO",{"$nulls":12},{"$f":"IFERROR(VLOOKUP(ROWS($Z$2:Z3873),K3873:$L$6000,2,0),\"\")","v":""},{"$f":"IFERROR(VLOOKUP(ROWS($AA$2:AA3873),K3873:$M$6000,3,0),\"\")","v":""}]
[{"$nulls":10},{"$f":"IF(ISNUMBER(SEARCH($A$3,L3874)),MAX($K$1:K3873)+1,0)","v":0},"Upasana Finance Ltd","UPASAFN.BO",{"$nulls":12},{"$f":"IFERROR(VLOOKUP(ROWS($Z$2:Z3874),K3874:$L$6000,2,0),\"\")","v":""},{"$f":"IFERROR(VLOOKUP(ROWS($AA$2:AA3874),K3874:$M$6000,3,0),\"\")","v":""}]
[{"$nulls":10},{"$f":"IF(ISNUMBER(SEARCH($A$3,L3875)),MAX($K$1:K3874)+1,0)","v":0},"Upper Ganges Sugar & Indu","UPPERGA.BO",{"$nulls":12},{"$f":"IFERROR(VLOOKUP(ROWS($Z$2:Z3875),K3875:$L$6000,2,0),\"\")","v":""},{"$f":"IFERROR(VLOOKUP(ROWS($AA$2:AA3875),K3875:$M$6000,3,0),\"\")","v":""}]
[{"$nulls":10},{"$f":"IF(ISNUMBER(SEARCH($A$3,L3876)),MAX($K$1:K3875)+1,0)","v":0},"Upper Ganges Sugar & Indu","UPERGANGE.NS",{"$nulls":12},{"$f":"IFERROR(VLOOKUP(ROWS($Z$2:Z3876),K3876:$L$6000,2,0),\"\")","v":""},{"$f":"IFERROR(VLOOKUP(ROWS($AA$2:AA3876),K3876:$M$6000,3,0),\"\")","v":""}]
[{"$nulls":10},{"$f":"IF(ISNUMBER(SEARCH($A$3,L3877)),MAX($K$1:K3876)+1,0)","v":0},"Upsurge Investment","UPSURGE.BO",{"$nulls":12},{"$f":"IFERROR(VLOOKUP(ROWS($Z$2:Z3877),K3877:$L$6000,2,0),\"\")","v":""},{"$f":"IFERROR(VLOOKUP(ROWS($AA$2:AA3877),K3877:$M$6000,3,0),\"\")","v":""}]
[{"$nulls":10},{"$f":"IF(ISNUMBER(SEARCH($A$3,L3878)),MAX($K$1:K3877)+1,0)","v":0},"Urja Global Ltd","URJAGLOBA.BO",{"$nulls":12},{"$f":"IFERROR(VLOOKUP(ROWS($Z$2:Z3878),K3878:$L$6000,2,0),\"\")","v":""},{"$f":"IFERROR(VLOOKUP(ROWS($AA$2:AA3878),K3878:$M$6000,3,0),\"\")","v":""}]
[{"$nulls":10},{"$f":"IF(ISNUMBER(SEARCH($A$3,L3879)),MAX($K$1:K3878)+1,0)","v":0},"USG Tech Solutions Ltd","VNKSOFT.BO",{"$nulls":12},{"$f":"IFERROR(VLOOKUP(ROWS($Z$2:Z3879),K3879:$L$6000,2,0),\"\")","v":""},{"$f":"IFERROR(VLOOKUP(ROWS($AA$2:AA3879),K3879:$M$6000,3,0),\"\")","v":""}]
[{"$nulls":10},{"$f":"IF(ISNUMBER(SEARCH($A$3,L3880)),MAX($K$1:K3879)+1,0)","v":0},"Usha Martin Education","UMESL.BO",{"$nulls":12},{"$f":"IFERROR(VLOOKUP(ROWS($Z$2:Z3880),K3880:$L$6000,2,0),\"\")","v":""},{"$f":"IFERROR(VLOOKUP(ROWS($AA$2:AA3880),K3880:$M$6000,3,0),\"\")","v":""}]
[{"$nulls":10},{"$f":"IF(ISNUMBER(SEARCH($A$3,L3881)),MAX($K$1:K3880)+1,0)","v":0},"Usha Martin Education","UMESLTD.NS",{"$nulls":12},{"$f":"IFERROR(VLOOKUP(ROWS($Z$2:Z3881),K3881:$L$6000,2,0),\"\")","v":""},{"$f":"IFERROR(VLOOKUP(ROWS($AA$2:AA3881),K3881:$M$6000,3,0),\"\")","v":""}]
[{"$nulls":10},{"$f":"IF(ISNUMBER(SEARCH($A$3,L3882)),MAX($K$1:K3881)+1,0)","v":0},"Usha Martin Ltd","USHAMARTIN.BO",{"$nulls":12},{"$f":"IFERROR(VLOOKUP(ROWS($Z$2:Z3882),K3882:$L$6000,2,0),\"\")","v":""},{"$f":"IFERROR(VLOOKUP(ROWS($AA$2:AA3882),K3882:$M$6000,3,0),\"\")","v":""}]
[{"$nulls":10},{"$f":"IF(ISNUMBER(SEARCH($A$3,L3883)),MAX($K$1:K3882)+1,0)","v":0},"Usha Martin Ltd","USHAMART.NS",{"$nulls":12},{"$f":"IFERROR(VLOOKUP(ROWS($Z$2:Z3883),K3883:$L$6000,2,0),\"\")","v":""},{"$f":"IFERROR(VLOOKUP(ROWS($AA$2:AA3883),K3883:$M$6000,3,0),\"\")","v":""}]
[{"$nulls":10},{"$f":"IF(ISNUMBER(SEARCH($A$3,L3884)),MAX($K$1:K3883)+1,0)","v":0},"Ushakiran Finance Ltd","USHAKIRA.BO",{"$nulls":12},{"$f":"IFERROR(VLOOKUP(ROWS($Z$2:Z3884),K3884:$L$6000,2,0),\"\")","v":""},{"$f":"IFERROR(VLOOKUP(ROWS($AA$2:AA3884),K3884:$M$6000,3,0),\"\")","v":""}]
[{"$nulls":10},{"$f":"IF(ISNUMBER(SEARCH($A$3,L3885)),MAX($K$1:K3884)+1,0)","v":0},"Ushdev International Ltd","USHDI.BO",{"$nulls":12},{"$f":"IFERROR(VLOOKUP(ROWS($Z$2:Z3885),K3885:$L$6000,2,0),\"\")","v":""},{"$f":"IFERROR(VLOOKUP(ROWS($AA$2:AA3885),K3885:$M$6000,3,0),\"\")","v":""}]
[{"$nulls":10},{"$f":"IF(ISNUMBER(SEARCH($A$3,L3886)),MAX($K$1:K3885)+1,0)","v":0},"Usher Agro Ltd","USHER.BO",{"$nulls":12},{"$f":"IFERROR(VLOOKUP(ROWS($Z$2:Z3886),K3886:$L$6000,2,0),\"\")","v":""},{"$f":"IFERROR(VLOOKUP(ROWS($AA$2:AA3886),K3886:$M$6000,3,0),\"\")","v":""}]
[{"$nulls":10},{"$f":"IF(ISNUMBER(SEARCH($A$3,L3887)),MAX($K$1:K3886)+1,0)","v":0},"Uttam Galva Steels Ltd","UTTAMSTEEL.BO",{"$nulls":12},{"$f":"IFERROR(VLOOKUP(ROWS($Z$2:Z3887),K3887:$L$6000,2,0),\"\")","v":""},{"$f":"IFERROR(VLOOKUP(ROWS($AA$2:AA3887),K3887:$M$6000,3,0),\"\")","v":""}]
[{"$nulls":10},{"$f":"IF(ISNUMBER(SEARCH($A$3,L3888)),MAX($K$1:K3887)+1,0)","v":0},"Uttam Galva Steels Ltd","UTTAMSTL.NS",{"$nulls":12},{"$f":"IFERROR(VLOOKUP(ROWS($Z$2:Z3888),K3888:$L$6000,2,0),\"\")","v":""},{"$f":"IFERROR(VLOOKUP(ROWS($AA$2:AA3888),K3888:$M$6000,3,0),\"\")","v":""}]
[{"$nulls":10},{"$f":"IF(ISNUMBER(SEARCH($A$3,L3889)),MAX($K$1:K3888)+1,0)","v":0},"Uttam Sugar Mills Ltd","UTTAMSUGR.BO",{"$nulls":12},{"$f":"IFERROR(VLOOKUP(ROWS($Z$2:Z3889),K3889:$L$6000,2,0),\"\")","v":""},{"$f":"IFERROR(VLOOKUP(ROWS($AA$2:AA3889),K3889:$M$6000,3,0),\"\")","v":""}]
[{"$nulls":10},{"$f":"IF(ISNUMBER(SEARCH($A$3,L3890)),MAX($K$1:K3889)+1,0)","v":0},"Uttam Sugar Mills Ltd","UTTAMSUGA.NS",{"$nulls":12},{"$f":"IFERROR(VLOOKUP(ROWS($Z$2:Z3890),K3890:$L$6000,2,0),\"\")","v":""},{"$f":"IFERROR(VLOOKUP(ROWS($AA$2:AA3890),K3890:$M$6000,3,0),\"\")","v":""}]
[{"$nulls":10},{"$f":"IF(ISNUMBER(SEARCH($A$3,L3891)),MAX($K$1:K3890)+1,0)","v":0},"Uttam Value Steels Ltd","LLOYDSTEEL.BO",{"$nulls":12},{"$f":"IFERROR(VLOOKUP(ROWS($Z$2:Z3891),K3891:$L$6000,2,0),\"\")","v":""},{"$f":"IFERROR(VLOOKUP(ROWS($AA$2:AA3891),K3891:$M$6000,3,0),\"\")","v":""}]
[{"$nulls":10},{"$f":"IF(ISNUMBER(SEARCH($A$3,L3892)),MAX($K$1:K3891)+1,0)","v":0},"Uttam Value Steels Ltd","LLOYDSTEE.NS",{"$nulls":12},{"$f":"IFERROR(VLOOKUP(ROWS($Z$2:Z3892),K3892:$L$6000,2,0),\"\")","v":""},{"$f":"IFERROR(VLOOKUP(ROWS($AA$2:AA3892),K3892:$M$6000,3,0),\"\")","v":""}]
[{"$nulls":10},{"$f":"IF(ISNUMBER(SEARCH($A$3,L3893)),MAX($K$1:K3892)+1,0)","v":0},"UV Boards Ltd","UVBOARDS.BO",{"$nulls":12},{"$f":"IFERROR(VLOOKUP(ROWS($Z$2:Z3893),K3893:$L$6000,2,0),\"\")","v":""},{"$f":"IFERROR(VLOOKUP(ROWS($AA$2:AA3893),K3893:$M$6000,3,0),\"\")","v":""}]
[{"$nulls":10},{"$f":"IF(ISNUMBER(SEARCH($A$3,L3894)),MAX($K$1:K3893)+1,0)","v":0},"V B Desai Financial","VBDESAI.BO",{"$nulls":12},{"$f":"IFERROR(VLOOKUP(ROWS($Z$2:Z3894),K3894:$L$6000,2,0),\"\")","v":""},{"$f":"IFERROR(VLOOKUP(ROWS($AA$2:AA3894),K3894:$M$6000,3,0),\"\")","v":""}]
[{"$nulls":10},{"$f":"IF(ISNUMBER(SEARCH($A$3,L3895)),MAX($K$1:K3894)+1,0)","v":0},"V R Woodart Ltd","VRWODAR.BO",{"$nulls":12},{"$f":"IFERROR(VLOOKUP(ROWS($Z$2:Z3895),K3895:$L$6000,2,0),\"\")","v":""},{"$f":"IFERROR(VLOOKUP(ROWS($AA$2:AA3895),K3895:$M$6000,3,0),\"\")","v":""}]
[{"$nulls":10},{"$f":"IF(ISNUMBER(SEARCH($A$3,L3896)),MAX($K$1:K3895)+1,0)","v":0},"V2 Retail Ltd","VISHALRET.BO",{"$nulls":12},{"$f":"IFERROR(VLOOKUP(ROWS($Z$2:Z3896),K3896:$L$6000,2,0),\"\")","v":""},{"$f":"IFERROR(VLOOKUP(ROWS($AA$2:AA3896),K3896:$M$6000,3,0),\"\")","v":""}]
[{"$nulls":10},{"$f":"IF(ISNUMBER(SEARCH($A$3,L3897)),MAX($K$1:K3896)+1,0)","v":0},"V2 Retail Ltd","VISHALRET.NS",{"$nulls":12},{"$f":"IFERROR(VLOOKUP(ROWS($Z$2:Z3897),K3897:$L$6000,2,0),\"\")","v":""},{"$f":"IFERROR(VLOOKUP(ROWS($AA$2:AA3897),K3897:$M$6000,3,0),\"\")","v":""}]
[{"$nulls":10},{"$f":"IF(ISNUMBER(SEARCH($A$3,L3898)),MAX($K$1:K3897)+1,0)","v":0},"Vadilal Enterprises Ltd","VADILENT.BO",{"$nulls":12},{"$f":"IFERROR(VLOOKUP(ROWS($Z$2:Z3898),K3898:$L$6000,2,0),\"\")","v":""},{"$f":"IFERROR(VLOOKUP(ROWS($AA$2:AA3898),K3898:$M$6000,3,0),\"\")","v":""}]
[{"$nulls":10},{"$f":"IF(ISNUMBER(SEARCH($A$3,L3899)),MAX($K$1:K3898)+1,0)","v":0},"Vadilal Industries Ltd","VADILINDQ.BO",{"$nulls":12},{"$f":"IFERROR(VLOOKUP(ROWS($Z$2:Z3899),K3899:$L$6000,2,0),\"\")","v":""},{"$f":"IFERROR(VLOOKUP(ROWS($AA$2:AA3899),K3899:$M$6000,3,0),\"\")","v":""}]
[{"$nulls":10},{"$f":"IF(ISNUMBER(SEARCH($A$3,L3900)),MAX($K$1:K3899)+1,0)","v":0},"Vaibhav Global Ltd","VAIBHAVG.BO",{"$nulls":12},{"$f":"IFERROR(VLOOKUP(ROWS($Z$2:Z3900),K3900:$L$6000,2,0),\"\")","v":""},{"$f":"IFERROR(VLOOKUP(ROWS($AA$2:AA3900),K3900:$M$6000,3,0),\"\")","v":""}]
[{"$nulls":10},{"$f":"IF(ISNUMBER(SEARCH($A$3,L3901)),MAX($K$1:K3900)+1,0)","v":0},"Vaishnavi Gold Ltd","MASTER.BO",{"$nulls":12},{"$f":"IFERROR(VLOOKUP(ROWS($Z$2:Z3901),K3901:$L$6000,2,0),\"\")","v":""},{"$f":"IFERROR(VLOOKUP(ROWS($AA$2:AA3901),K3901:$M$6000,3,0),\"\")","v":""}]
[{"$nulls":10},{"$f":"IF(ISNUMBER(SEARCH($A$3,L3902)),MAX($K$1:K3901)+1,0)","v":0},"Vaishno Cement Co Ltd","VAICC.BO",{"$nulls":12},{"$f":"IFERROR(VLOOKUP(ROWS($Z$2:Z3902),K3902:$L$6000,2,0),\"\")","v":""},{"$f":"IFERROR(VLOOKUP(ROWS($AA$2:AA3902),K3902:$M$6000,3,0),\"\")","v":""}]
[{"$nulls":10},{"$f":"IF(ISNUMBER(SEARCH($A$3,L3903)),MAX($K$1:K3902)+1,0)","v":0},"Valecha Engineering Ltd","VALECHEN.BO",{"$nulls":12},{"$f":"IFERROR(VLOOKUP(ROWS($Z$2:Z3903),K3903:$L$6000,2,0),\"\")","v":""},{"$f":"IFERROR(VLOOKUP(ROWS($AA$2:AA3903),K3903:$M$6000,3,0),\"\")","v":""}]
[{"$nulls":10},{"$f":"IF(ISNUMBER(SEARCH($A$3,L3904)),MAX($K$1:K3903)+1,0)","v":0},"Valecha Engineering Ltd","VALECHAEN.NS",{"$nulls":12},{"$f":"IFERROR(VLOOKUP(ROWS($Z$2:Z3904),K3904:$L$6000,2,0),\"\")","v":""},{"$f":"IFERROR(VLOOKUP(ROWS($AA$2:AA3904),K3904:$M$6000,3,0),\"\")","v":""}]
[{"$nulls":10},{"$f":"IF(ISNUMBER(SEARCH($A$3,L3905)),MAX($K$1:K3904)+1,0)","v":0},"Valiant Communications Ltd","VALIANT.BO",{"$nulls":12},{"$f":"IFERROR(VLOOKUP(ROWS($Z$2:Z3905),K3905:$L$6000,2,0),\"\")","v":""},{"$f":"IFERROR(VLOOKUP(ROWS($AA$2:AA3905),K3905:$M$6000,3,0),\"\")","v":""}]
[{"$nulls":10},{"$f":"IF(ISNUMBER(SEARCH($A$3,L3906)),MAX($K$1:K3905)+1,0)","v":0},"Vallabh Steels Ltd","VALLABHSQ.BO",{"$nulls":12},{"$f":"IFERROR(VLOOKUP(ROWS($Z$2:Z3906),K3906:$L$6000,2,0),\"\")","v":""},{"$f":"IFERROR(VLOOKUP(ROWS($AA$2:AA3906),K3906:$M$6000,3,0),\"\")","v":""}]
[{"$nulls":10},{"$f":"IF(ISNUMBER(SEARCH($A$3,L3907)),MAX($K$1:K3906)+1,0)","v":0},"Valson Industries Ltd","VALSONQ.BO",{"$nulls":12},{"$f":"IFERROR(VLOOKUP(ROWS($Z$2:Z3907),K3907:$L$6000,2,0),\"\")","v":""},{"$f":"IFERROR(VLOOKUP(ROWS($AA$2:AA3907),K3907:$M$6000,3,0),\"\")","v":""}]
[{"$nulls":10},{"$f":"IF(ISNUMBER(SEARCH($A$3,L3908)),MAX($K$1:K3907)+1,0)","v":0},"Value Industries Ltd","VALUEINDU.BO",{"$nulls":12},{"$f":"IFERROR(VLOOKUP(ROWS($Z$2:Z3908),K3908:$L$6000,2,0),\"\")","v":""},{"$f":"IFERROR(VLOOKUP(ROWS($AA$2:AA3908),K3908:$M$6000,3,0),\"\")","v":""}]
[{"$nulls":10},{"$f":"IF(ISNUMBER(SEARCH($A$3,L3909)),MAX($K$1:K3908)+1,0)","v":0},"Value Industries Ltd","VALUEIND.NS",{"$nulls":12},{"$f":"IFERROR(VLOOKUP(ROWS($Z$2:Z3909),K3909:$L$6000,2,0),\"\")","v":""},{"$f":"IFERROR(VLOOKUP(ROWS($AA$2:AA3909),K3909:$M$6000,3,0),\"\")","v":""}]
[{"$nulls":10},{"$f":"IF(ISNUMBER(SEARCH($A$3,L3910)),MAX($K$1:K3909)+1,0)","v":0},"Valuemart Info Technologi","VALUEMART.BO",{"$nulls":12},{"$f":"IFERROR(VLOOKUP(ROWS($Z$2:Z3910),K3910:$L$6000,2,0),\"\")","v":""},{"$f":"IFERROR(VLOOKUP(ROWS($AA$2:AA3910),K3910:$M$6000,3,0),\"\")","v":""}]
[{"$nulls":10},{"$f":"IF(ISNUMBER(SEARCH($A$3,L3911)),MAX($K$1:K3910)+1,0)","v":0},"Valuemart Retail Solutions Ltd","RESPROINF.BO",{"$nulls":12},{"$f":"IFERROR(VLOOKUP(ROWS($Z$2:Z3911),K3911:$L$6000,2,0),\"\")","v":""},{"$f":"IFERROR(VLOOKUP(ROWS($AA$2:AA3911),K3911:$M$6000,3,0),\"\")","v":""}]
[{"$nulls":10},{"$f":"IF(ISNUMBER(SEARCH($A$3,L3912)),MAX($K$1:K3911)+1,0)","v":0},"Vama Industries Ltd","VAMA.BO",{"$nulls":12},{"$f":"IFERROR(VLOOKUP(ROWS($Z$2:Z3912),K3912:$L$6000,2,0),\"\")","v":""},{"$f":"IFERROR(VLOOKUP(ROWS($AA$2:AA3912),K3912:$M$6000,3,0),\"\")","v":""}]
[{"$nulls":10},{"$f":"IF(ISNUMBER(SEARCH($A$3,L3913)),MAX($K$1:K3912)+1,0)","v":0},"Vamshi Rubber Ltd","VAMSHIRU.BO",{"$nulls":12},{"$f":"IFERROR(VLOOKUP(ROWS($Z$2:Z3913),K3913:$L$6000,2,0),\"\")","v":""},{"$f":"IFERROR(VLOOKUP(ROWS($AA$2:AA3913),K3913:$M$6000,3,0),\"\")","v":""}]
[{"$nulls":10},{"$f":"IF(ISNUMBER(SEARCH($A$3,L3914)),MAX($K$1:K3913)+1,0)","v":0},"Vantage Corporate Services Ltd","VANTAGE.BO",{"$nulls":12},{"$f":"IFERROR(VLOOKUP(ROWS($Z$2:Z3914),K3914:$L$6000,2,0),\"\")","v":""},{"$f":"IFERROR(VLOOKUP(ROWS($AA$2:AA3914),K3914:$M$6000,3,0),\"\")","v":""}]
[{"$nulls":10},{"$f":"IF(ISNUMBER(SEARCH($A$3,L3915)),MAX($K$1:K3914)+1,0)","v":0},"Vapi Paper Mills Ltd","VAPIPPR.BO",{"$nulls":12},{"$f":"IFERROR(VLOOKUP(ROWS($Z$2:Z3915),K3915:$L$6000,2,0),\"\")","v":""},{"$f":"IFERROR(VLOOKUP(ROWS($AA$2:AA3915),K3915:$M$6000,3,0),\"\")","v":""}]
[{"$nulls":10},{"$f":"IF(ISNUMBER(SEARCH($A$3,L3916)),MAX($K$1:K3915)+1,0)","v":0},"Vardhman Acrylics Ltd","VARDHACRL.NS",{"$nulls":12},{"$f":"IFERROR(VLOOKUP(ROWS($Z$2:Z3916),K3916:$L$6000,2,0),\"\")","v":""},{"$f":"IFERROR(VLOOKUP(ROWS($AA$2:AA3916),K3916:$M$6000,3,0),\"\")","v":""}]
[{"$nulls":10},{"$f":"IF(ISNUMBER(SEARCH($A$3,L3917)),MAX($K$1:K3916)+1,0)","v":0},"Vardhman Concrete Ltd","STREIND.BO",{"$nulls":12},{"$f":"IFERROR(VLOOKUP(ROWS($Z$2:Z3917),K3917:$L$6000,2,0),\"\")","v":""},{"$f":"IFERROR(VLOOKUP(ROWS($AA$2:AA3917),K3917:$M$6000,3,0),\"\")","v":""}]
[{"$nulls":10},{"$f":"IF(ISNUMBER(SEARCH($A$3,L3918)),MAX($K$1:K3917)+1,0)","v":0},"Vardhman Holdings Ltd","VARDHMNH.BO",{"$nulls":12},{"$f":"IFERROR(VLOOKUP(ROWS($Z$2:Z3918),K3918:$L$6000,2,0),\"\")","v":""},{"$f":"IFERROR(VLOOKUP(ROWS($AA$2:AA3918),K3918:$M$6000,3,0),\"\")","v":""}]
[{"$nulls":10},{"$f":"IF(ISNUMBER(SEARCH($A$3,L3919)),MAX($K$1:K3918)+1,0)","v":0},"Vardhman Holdings Ltd","VHL.NS",{"$nulls":12},{"$f":"IFERROR(VLOOKUP(ROWS($Z$2:Z3919),K3919:$L$6000,2,0),\"\")","v":""},{"$f":"IFERROR(VLOOKUP(ROWS($AA$2:AA3919),K3919:$M$6000,3,0),\"\")","v":""}]
[{"$nulls":10},{"$f":"IF(ISNUMBER(SEARCH($A$3,L3920)),MAX($K$1:K3919)+1,0)","v":0},"Vardhman Industries Ltd","VARDHINDQ.BO",{"$nulls":12},{"$f":"IFERROR(VLOOKUP(ROWS($Z$2:Z3920),K3920:$L$6000,2,0),\"\")","v":""},{"$f":"IFERROR(VLOOKUP(ROWS($AA$2:AA3920),K3920:$M$6000,3,0),\"\")","v":""}]
[{"$nulls":10},{"$f":"IF(ISNUMBER(SEARCH($A$3,L3921)),MAX($K$1:K3920)+1,0)","v":0},"Vardhman Laboratories Ltd","VARDHCH.BO",{"$nulls":12},{"$f":"IFERROR(VLOOKUP(ROWS($Z$2:Z3921),K3921:$L$6000,2,0),\"\")","v":""},{"$f":"IFERROR(VLOOKUP(ROWS($AA$2:AA3921),K3921:$M$6000,3,0),\"\")","v":""}]
[{"$nulls":10},{"$f":"IF(ISNUMBER(SEARCH($A$3,L3922)),MAX($K$1:K3921)+1,0)","v":0},"Vardhman Polytex Ltd","VARDHMNPOLY.BO",{"$nulls":12},{"$f":"IFERROR(VLOOKUP(ROWS($Z$2:Z3922),K3922:$L$6000,2,0),\"\")","v":""},{"$f":"IFERROR(VLOOKUP(ROWS($AA$2:AA3922),K3922:$M$6000,3,0),\"\")","v":""}]
[{"$nulls":10},{"$f":"IF(ISNUMBER(SEARCH($A$3,L3923)),MAX($K$1:K3922)+1,0)","v":0},"Vardhman Polytex Ltd","VARDMNPOL.NS",{"$nulls":12},{"$f":"IFERROR(VLOOKUP(ROWS($Z$2:Z3923),K3923:$L$6000,2,0),\"\")","v":""},{"$f":"IFERROR(VLOOKUP(ROWS($AA$2:AA3923),K3923:$M$6000,3,0),\"\")","v":""}]
[{"$nulls":10},{"$f":"IF(ISNUMBER(SEARCH($A$3,L3924)),MAX($K$1:K3923)+1,0)","v":0},"Vardhman Textiles Ltd","VARDHTEXT.BO",{"$nulls":12},{"$f":"IFERROR(VLOOKUP(ROWS($Z$2:Z3924),K3924:$L$6000,2,0),\"\")","v":""},{"$f":"IFERROR(VLOOKUP(ROWS($AA$2:AA3924),K3924:$M$6000,3,0),\"\")","v":""}]
[{"$nulls":10},{"$f":"IF(ISNUMBER(SEARCH($A$3,L3925)),MAX($K$1:K3924)+1,0)","v":0},"Vardhman Textiles Ltd","VTL.NS",{"$nulls":12},{"$f":"IFERROR(VLOOKUP(ROWS($Z$2:Z3925),K3925:$L$6000,2,0),\"\")","v":""},{"$f":"IFERROR(VLOOKUP(ROWS($AA$2:AA3925),K3925:$M$6000,3,0),\"\")","v":""}]
[{"$nulls":10},{"$f":"IF(ISNUMBER(SEARCH($A$3,L3926)),MAX($K$1:K3925)+1,0)","v":0},"Varun Industries Ltd","VARUN.BO",{"$nulls":12},{"$f":"IFERROR(VLOOKUP(ROWS($Z$2:Z3926),K3926:$L$6000,2,0),\"\")","v":""},{"$f":"IFERROR(VLOOKUP(ROWS($AA$2:AA3926),K3926:$M$6000,3,0),\"\")","v":""}]
[{"$nulls":10},{"$f":"IF(ISNUMBER(SEARCH($A$3,L3927)),MAX($K$1:K3926)+1,0)","v":0},"Varun Industries Ltd","VARUN.NS",{"$nulls":12},{"$f":"IFERROR(VLOOKUP(ROWS($Z$2:Z3927),K3927:$L$6000,2,0),\"\")","v":""},{"$f":"IFERROR(VLOOKUP(ROWS($AA$2:AA3927),K3927:$M$6000,3,0),\"\")","v":""}]
[{"$nulls":10},{"$f":"IF(ISNUMBER(SEARCH($A$3,L3928)),MAX($K$1:K3927)+1,0)","v":0},"Varun Shipping Co Ltd","VARUNSHIP.BO",{"$nulls":12},{"$f":"IFERROR(VLOOKUP(ROWS($Z$2:Z3928),K3928:$L$6000,2,0),\"\")","v":""},{"$f":"IFERROR(VLOOKUP(ROWS($AA$2:AA3928),K3928:$M$6000,3,0),\"\")","v":""}]
[{"$nulls":10},{"$f":"IF(ISNUMBER(SEARCH($A$3,L3929)),MAX($K$1:K3928)+1,0)","v":0},"Varun Shipping Co Ltd","VARUNSHIP.NS",{"$nulls":12},{"$f":"IFERROR(VLOOKUP(ROWS($Z$2:Z3929),K3929:$L$6000,2,0),\"\")","v":""},{"$f":"IFERROR(VLOOKUP(ROWS($AA$2:AA3929),K3929:$M$6000,3,0),\"\")","v":""}]
[{"$nulls":10},{"$f":"IF(ISNUMBER(SEARCH($A$3,L3930)),MAX($K$1:K3929)+1,0)","v":0},"Vas Infrastructure Ltd","VASINFRA.BO",{"$nulls":12},{"$f":"IFERROR(VLOOKUP(ROWS($Z$2:Z3930),K3930:$L$6000,2,0),\"\")","v":""},{"$f":"IFERROR(VLOOKUP(ROWS($AA$2:AA3930),K3930:$M$6000,3,0),\"\")","v":""}]
[{"$nulls":10},{"$f":"IF(ISNUMBER(SEARCH($A$3,L3931)),MAX($K$1:K3930)+1,0)","v":0},"Vascon Engineers Ltd","VASCON.BO",{"$nulls":12},{"$f":"IFERROR(VLOOKUP(ROWS($Z$2:Z3931),K3931:$L$6000,2,0),\"\")","v":""},{"$f":"IFERROR(VLOOKUP(ROWS($AA$2:AA3931),K3931:$M$6000,3,0),\"\")","v":""}]
[{"$nulls":10},{"$f":"IF(ISNUMBER(SEARCH($A$3,L3932)),MAX($K$1:K3931)+1,0)","v":0},"Vascon Engineers Ltd","VASCONEQ.NS",{"$nulls":12},{"$f":"IFERROR(VLOOKUP(ROWS($Z$2:Z3932),K3932:$L$6000,2,0),\"\")","v":""},{"$f":"IFERROR(VLOOKUP(ROWS($AA$2:AA3932),K3932:$M$6000,3,0),\"\")","v":""}]
[{"$nulls":10},{"$f":"IF(ISNUMBER(SEARCH($A$3,L3933)),MAX($K$1:K3932)+1,0)","v":0},"Vax Housing Finance Corp Ltd","VAXHS.BO",{"$nulls":12},{"$f":"IFERROR(VLOOKUP(ROWS($Z$2:Z3933),K3933:$L$6000,2,0),\"\")","v":""},{"$f":"IFERROR(VLOOKUP(ROWS($AA$2:AA3933),K3933:$M$6000,3,0),\"\")","v":""}]
[{"$nulls":10},{"$f":"IF(ISNUMBER(SEARCH($A$3,L3934)),MAX($K$1:K3933)+1,0)","v":0},"VBC Ferro Alloys Ltd","VBCFERROQ.BO",{"$nulls":12},{"$f":"IFERROR(VLOOKUP(ROWS($Z$2:Z3934),K3934:$L$6000,2,0),\"\")","v":""},{"$f":"IFERROR(VLOOKUP(ROWS($AA$2:AA3934),K3934:$M$6000,3,0),\"\")","v":""}]
[{"$nulls":10},{"$f":"IF(ISNUMBER(SEARCH($A$3,L3935)),MAX($K$1:K3934)+1,0)","v":0},"VCCL Ltd","VCCLLTD.BO",{"$nulls":12},{"$f":"IFERROR(VLOOKUP(ROWS($Z$2:Z3935),K3935:$L$6000,2,0),\"\")","v":""},{"$f":"IFERROR(VLOOKUP(ROWS($AA$2:AA3935),K3935:$M$6000,3,0),\"\")","v":""}]
[{"$nulls":10},{"$f":"IF(ISNUMBER(SEARCH($A$3,L3936)),MAX($K$1:K3935)+1,0)","v":0},"VCK Capital Market Servic","VCKCAP.BO",{"$nulls":12},{"$f":"IFERROR(VLOOKUP(ROWS($Z$2:Z3936),K3936:$L$6000,2,0),\"\")","v":""},{"$f":"IFERROR(VLOOKUP(ROWS($AA$2:AA3936),K3936:$M$6000,3,0),\"\")","v":""}]
[{"$nulls":10},{"$f":"IF(ISNUMBER(SEARCH($A$3,L3937)),MAX($K$1:K3936)+1,0)","v":0},"Vedavaag Systems Ltd","SARK.BO",{"$nulls":12},{"$f":"IFERROR(VLOOKUP(ROWS($Z$2:Z3937),K3937:$L$6000,2,0),\"\")","v":""},{"$f":"IFERROR(VLOOKUP(ROWS($AA$2:AA3937),K3937:$M$6000,3,0),\"\")","v":""}]
[{"$nulls":10},{"$f":"IF(ISNUMBER(SEARCH($A$3,L3938)),MAX($K$1:K3937)+1,0)","v":0},"Veejay Lakshmi","VJLAXMIE.BO",{"$nulls":12},{"$f":"IFERROR(VLOOKUP(ROWS($Z$2:Z3938),K3938:$L$6000,2,0),\"\")","v":""},{"$f":"IFERROR(VLOOKUP(ROWS($AA$2:AA3938),K3938:$M$6000,3,0),\"\")","v":""}]
[{"$nulls":10},{"$f":"IF(ISNUMBER(SEARCH($A$3,L3939)),MAX($K$1:K3938)+1,0)","v":0},"Veer Energy & Infrastruct","VEERENRGY.BO",{"$nulls":12},{"$f":"IFERROR(VLOOKUP(ROWS($Z$2:Z3939),K3939:$L$6000,2,0),\"\")","v":""},{"$f":"IFERROR(VLOOKUP(ROWS($AA$2:AA3939),K3939:$M$6000,3,0),\"\")","v":""}]
[{"$nulls":10},{"$f":"IF(ISNUMBER(SEARCH($A$3,L3940)),MAX($K$1:K3939)+1,0)","v":0},"Veerhealth Care Ltd","NIYATI.BO",{"$nulls":12},{"$f":"IFERROR(VLOOKUP(ROWS($Z$2:Z3940),K3940:$L$6000,2,0),\"\")","v":""},{"$f":"IFERROR(VLOOKUP(ROWS($AA$2:AA3940),K3940:$M$6000,3,0),\"\")","v":""}]
[{"$nulls":10},{"$f":"IF(ISNUMBER(SEARCH($A$3,L3941)),MAX($K$1:K3940)+1,0)","v":0},"Velan Hotels Ltd","VELHO.BO",{"$nulls":12},{"$f":"IFERROR(VLOOKUP(ROWS($Z$2:Z3941),K3941:$L$6000,2,0),\"\")","v":""},{"$f":"IFERROR(VLOOKUP(ROWS($AA$2:AA3941),K3941:$M$6000,3,0),\"\")","v":""}]
[{"$nulls":10},{"$f":"IF(ISNUMBER(SEARCH($A$3,L3942)),MAX($K$1:K3941)+1,0)","v":0},"Veljan Denison Ltd","VELJAN.BO",{"$nulls":12},{"$f":"IFERROR(VLOOKUP(ROWS($Z$2:Z3942),K3942:$L$6000,2,0),\"\")","v":""},{"$f":"IFERROR(VLOOKUP(ROWS($AA$2:AA3942),K3942:$M$6000,3,0),\"\")","v":""}]
[{"$nulls":10},{"$f":"IF(ISNUMBER(SEARCH($A$3,L3943)),MAX($K$1:K3942)+1,0)","v":0},"Venkat Pharma Ltd","VENKPHR.BO",{"$nulls":12},{"$f":"IFERROR(VLOOKUP(ROWS($Z$2:Z3943),K3943:$L$6000,2,0),\"\")","v":""},{"$f":"IFERROR(VLOOKUP(ROWS($AA$2:AA3943),K3943:$M$6000,3,0),\"\")","v":""}]
[{"$nulls":10},{"$f":"IF(ISNUMBER(SEARCH($A$3,L3944)),MAX($K$1:K3943)+1,0)","v":0},"Venkys India Ltd","VENKYS.BO",{"$nulls":12},{"$f":"IFERROR(VLOOKUP(ROWS($Z$2:Z3944),K3944:$L$6000,2,0),\"\")","v":""},{"$f":"IFERROR(VLOOKUP(ROWS($AA$2:AA3944),K3944:$M$6000,3,0),\"\")","v":""}]
[{"$nulls":10},{"$f":"IF(ISNUMBER(SEARCH($A$3,L3945)),MAX($K$1:K3944)+1,0)","v":0},"Venkys India Ltd","VENKEYS.NS",{"$nulls":12},{"$f":"IFERROR(VLOOKUP(ROWS($Z$2:Z3945),K3945:$L$6000,2,0),\"\")","v":""},{"$f":"IFERROR(VLOOKUP(ROWS($AA$2:AA3945),K3945:$M$6000,3,0),\"\")","v":""}]
[{"$nulls":10},{"$f":"IF(ISNUMBER(SEARCH($A$3,L3946)),MAX($K$1:K3945)+1,0)","v":0},"Venlon Enterprises Ltd","VENLONENT.BO",{"$nulls":12},{"$f":"IFERROR(VLOOKUP(ROWS($Z$2:Z3946),K3946:$L$6000,2,0),\"\")","v":""},{"$f":"IFERROR(VLOOKUP(ROWS($AA$2:AA3946),K3946:$M$6000,3,0),\"\")","v":""}]
[{"$nulls":10},{"$f":"IF(ISNUMBER(SEARCH($A$3,L3947)),MAX($K$1:K3946)+1,0)","v":0},"Venus Remedies Ltd","VENRE.BO",{"$nulls":12},{"$f":"IFERROR(VLOOKUP(ROWS($Z$2:Z3947),K3947:$L$6000,2,0),\"\")","v":""},{"$f":"IFERROR(VLOOKUP(ROWS($AA$2:AA3947),K3947:$M$6000,3,0),\"\")","v":""}]
[{"$nulls":10},{"$f":"IF(ISNUMBER(SEARCH($A$3,L3948)),MAX($K$1:K3947)+1,0)","v":0},"Venus Remedies Ltd","VENUSREM.NS",{"$nulls":12},{"$f":"IFERROR(VLOOKUP(ROWS($Z$2:Z3948),K3948:$L$6000,2,0),\"\")","v":""},{"$f":"IFERROR(VLOOKUP(ROWS($AA$2:AA3948),K3948:$M$6000,3,0),\"\")","v":""}]
[{"$nulls":10},{"$f":"IF(ISNUMBER(SEARCH($A$3,L3949)),MAX($K$1:K3948)+1,0)","v":0},"Venus Universal Ltd","VENUSUNI.BO",{"$nulls":12},{"$f":"IFERROR(VLOOKUP(ROWS($Z$2:Z3949),K3949:$L$6000,2,0),\"\")","v":""},{"$f":"IFERROR(VLOOKUP(ROWS($AA$2:AA3949),K3949:$M$6000,3,0),\"\")","v":""}]
[{"$nulls":10},{"$f":"IF(ISNUMBER(SEARCH($A$3,L3950)),MAX($K$1:K3949)+1,0)","v":0},"Venus Ventures Ltd","VENUSVENT.BO",{"$nulls":12},{"$f":"IFERROR(VLOOKUP(ROWS($Z$2:Z3950),K3950:$L$6000,2,0),\"\")","v":""},{"$f":"IFERROR(VLOOKUP(ROWS($AA$2:AA3950),K3950:$M$6000,3,0),\"\")","v":""}]
[{"$nulls":10},{"$f":"IF(ISNUMBER(SEARCH($A$3,L3951)),MAX($K$1:K3950)+1,0)","v":0},"Veritas (India) Ltd","VERITAS.BO",{"$nulls":12},{"$f":"IFERROR(VLOOKUP(ROWS($Z$2:Z3951),K3951:$L$6000,2,0),\"\")","v":""},{"$f":"IFERROR(VLOOKUP(ROWS($AA$2:AA3951),K3951:$M$6000,3,0),\"\")","v":""}]
[{"$nulls":10},{"$f":"IF(ISNUMBER(SEARCH($A$3,L3952)),MAX($K$1:K3951)+1,0)","v":0},"Vertex Securities Limited","VERTEX.BO",{"$nulls":12},{"$f":"IFERROR(VLOOKUP(ROWS($Z$2:Z3952),K3952:$L$6000,2,0),\"\")","v":""},{"$f":"IFERROR(VLOOKUP(ROWS($AA$2:AA3952),K3952:$M$6000,3,0),\"\")","v":""}]
[{"$nulls":10},{"$f":"IF(ISNUMBER(SEARCH($A$3,L3953)),MAX($K$1:K3952)+1,0)","v":0},"Vertex Spinning Ltd","VERTEXSPG.BO",{"$nulls":12},{"$f":"IFERROR(VLOOKUP(ROWS($Z$2:Z3953),K3953:$L$6000,2,0),\"\")","v":""},{"$f":"IFERROR(VLOOKUP(ROWS($AA$2:AA3953),K3953:$M$6000,3,0),\"\")","v":""}]
[{"$nulls":10},{"$f":"IF(ISNUMBER(SEARCH($A$3,L3954)),MAX($K$1:K3953)+1,0)","v":0},"Vertical Industries Ltd","LAMANSG.BO",{"$nulls":12},{"$f":"IFERROR(VLOOKUP(ROWS($Z$2:Z3954),K3954:$L$6000,2,0),\"\")","v":""},{"$f":"IFERROR(VLOOKUP(ROWS($AA$2:AA3954),K3954:$M$6000,3,0),\"\")","v":""}]
[{"$nulls":10},{"$f":"IF(ISNUMBER(SEARCH($A$3,L3955)),MAX($K$1:K3954)+1,0)","v":0},"Vesuvius India Ltd","VESUVIUS.BO",{"$nulls":12},{"$f":"IFERROR(VLOOKUP(ROWS($Z$2:Z3955),K3955:$L$6000,2,0),\"\")","v":""},{"$f":"IFERROR(VLOOKUP(ROWS($AA$2:AA3955),K3955:$M$6000,3,0),\"\")","v":""}]
[{"$nulls":10},{"$f":"IF(ISNUMBER(SEARCH($A$3,L3956)),MAX($K$1:K3955)+1,0)","v":0},"Vesuvius India Ltd","VESUVIUS.NS",{"$nulls":12},{"$f":"IFERROR(VLOOKUP(ROWS($Z$2:Z3956),K3956:$L$6000,2,0),\"\")","v":""},{"$f":"IFERROR(VLOOKUP(ROWS($AA$2:AA3956),K3956:$M$6000,3,0),\"\")","v":""}]
[{"$nulls":10},{"$f":"IF(ISNUMBER(SEARCH($A$3,L3957)),MAX($K$1:K3956)+1,0)","v":0},"V-Guard Industries Ltd","VGUARD.BO",{"$nulls":12},{"$f":"IFERROR(VLOOKUP(ROWS($Z$2:Z3957),K3957:$L$6000,2,0),\"\")","v":""},{"$f":"IFERROR(VLOOKUP(ROWS($AA$2:AA3957),K3957:$M$6000,3,0),\"\")","v":""}]
[{"$nulls":10},{"$f":"IF(ISNUMBER(SEARCH($A$3,L3958)),MAX($K$1:K3957)+1,0)","v":0},"V-Guard Industries Ltd","VGUARD.NS",{"$nulls":12},{"$f":"IFERROR(VLOOKUP(ROWS($Z$2:Z3958),K3958:$L$6000,2,0),\"\")","v":""},{"$f":"IFERROR(VLOOKUP(ROWS($AA$2:AA3958),K3958:$M$6000,3,0),\"\")","v":""}]
[{"$nulls":10},{"$f":"IF(ISNUMBER(SEARCH($A$3,L3959)),MAX($K$1:K3958)+1,0)","v":0},"Viceroy Hotels Ltd","VICEHOT.BO",{"$nulls":12},{"$f":"IFERROR(VLOOKUP(ROWS($Z$2:Z3959),K3959:$L$6000,2,0),\"\")","v":""},{"$f":"IFERROR(VLOOKUP(ROWS($AA$2:AA3959),K3959:$M$6000,3,0),\"\")","v":""}]
[{"$nulls":10},{"$f":"IF(ISNUMBER(SEARCH($A$3,L3960)),MAX($K$1:K3959)+1,0)","v":0},"Viceroy Hotels Ltd","VICEROY.NS",{"$nulls":12},{"$f":"IFERROR(VLOOKUP(ROWS($Z$2:Z3960),K3960:$L$6000,2,0),\"\")","v":""},{"$f":"IFERROR(VLOOKUP(ROWS($AA$2:AA3960),K3960:$M$6000,3,0),\"\")","v":""}]
[{"$nulls":10},{"$f":"IF(ISNUMBER(SEARCH($A$3,L3961)),MAX($K$1:K3960)+1,0)","v":0},"Victoria Mills Ltd","VICTMILL.BO",{"$nulls":12},{"$f":"IFERROR(VLOOKUP(ROWS($Z$2:Z3961),K3961:$L$6000,2,0),\"\")","v":""},{"$f":"IFERROR(VLOOKUP(ROWS($AA$2:AA3961),K3961:$M$6000,3,0),\"\")","v":""}]
[{"$nulls":10},{"$f":"IF(ISNUMBER(SEARCH($A$3,L3962)),MAX($K$1:K3961)+1,0)","v":0},"Videocon Industries Ltd","VIDEOCON.BO",{"$nulls":12},{"$f":"IFERROR(VLOOKUP(ROWS($Z$2:Z3962),K3962:$L$6000,2,0),\"\")","v":""},{"$f":"IFERROR(VLOOKUP(ROWS($AA$2:AA3962),K3962:$M$6000,3,0),\"\")","v":""}]
[{"$nulls":10},{"$f":"IF(ISNUMBER(SEARCH($A$3,L3963)),MAX($K$1:K3962)+1,0)","v":0},"Videocon Industries Ltd","VIDEOIND.NS",{"$nulls":12},{"$f":"IFERROR(VLOOKUP(ROWS($Z$2:Z3963),K3963:$L$6000,2,0),\"\")","v":""},{"$f":"IFERROR(VLOOKUP(ROWS($AA$2:AA3963),K3963:$M$6000,3,0),\"\")","v":""}]
[{"$nulls":10},{"$f":"IF(ISNUMBER(SEARCH($A$3,L3964)),MAX($K$1:K3963)+1,0)","v":0},"Vidhi Dyestuffs","VIDHIDYE.BO",{"$nulls":12},{"$f":"IFERROR(VLOOKUP(ROWS($Z$2:Z3964),K3964:$L$6000,2,0),\"\")","v":""},{"$f":"IFERROR(VLOOKUP(ROWS($AA$2:AA3964),K3964:$M$6000,3,0),\"\")","v":""}]
[{"$nulls":10},{"$f":"IF(ISNUMBER(SEARCH($A$3,L3965)),MAX($K$1:K3964)+1,0)","v":0},"Vijay Shanthi Builders Ltd","VIJSHAN.BO",{"$nulls":12},{"$f":"IFERROR(VLOOKUP(ROWS($Z$2:Z3965),K3965:$L$6000,2,0),\"\")","v":""},{"$f":"IFERROR(VLOOKUP(ROWS($AA$2:AA3965),K3965:$M$6000,3,0),\"\")","v":""}]
[{"$nulls":10},{"$f":"IF(ISNUMBER(SEARCH($A$3,L3966)),MAX($K$1:K3965)+1,0)","v":0},"Vijay Shanthi Builders Ltd","VIJSHAN.NS",{"$nulls":12},{"$f":"IFERROR(VLOOKUP(ROWS($Z$2:Z3966),K3966:$L$6000,2,0),\"\")","v":""},{"$f":"IFERROR(VLOOKUP(ROWS($AA$2:AA3966),K3966:$M$6000,3,0),\"\")","v":""}]
[{"$nulls":10},{"$f":"IF(ISNUMBER(SEARCH($A$3,L3967)),MAX($K$1:K3966)+1,0)","v":0},"Vijay Solvex Ltd","VIJSOLX.BO",{"$nulls":12},{"$f":"IFERROR(VLOOKUP(ROWS($Z$2:Z3967),K3967:$L$6000,2,0),\"\")","v":""},{"$f":"IFERROR(VLOOKUP(ROWS($AA$2:AA3967),K3967:$M$6000,3,0),\"\")","v":""}]
[{"$nulls":10},{"$f":"IF(ISNUMBER(SEARCH($A$3,L3968)),MAX($K$1:K3967)+1,0)","v":0},"Vijay Textiles Limited","VIJAYTX.BO",{"$nulls":12},{"$f":"IFERROR(VLOOKUP(ROWS($Z$2:Z3968),K3968:$L$6000,2,0),\"\")","v":""},{"$f":"IFERROR(VLOOKUP(ROWS($AA$2:AA3968),K3968:$M$6000,3,0),\"\")","v":""}]
[{"$nulls":10},{"$f":"IF(ISNUMBER(SEARCH($A$3,L3969)),MAX($K$1:K3968)+1,0)","v":0},"Vijaya Bank","VIJAYABANK.BO",{"$nulls":12},{"$f":"IFERROR(VLOOKUP(ROWS($Z$2:Z3969),K3969:$L$6000,2,0),\"\")","v":""},{"$f":"IFERROR(VLOOKUP(ROWS($AA$2:AA3969),K3969:$M$6000,3,0),\"\")","v":""}]
[{"$nulls":10},{"$f":"IF(ISNUMBER(SEARCH($A$3,L3970)),MAX($K$1:K3969)+1,0)","v":0},"Vijaya Bank","VIJAYABAN.NS",{"$nulls":12},{"$f":"IFERROR(VLOOKUP(ROWS($Z$2:Z3970),K3970:$L$6000,2,0),\"\")","v":""},{"$f":"IFERROR(VLOOKUP(ROWS($AA$2:AA3970),K3970:$M$6000,3,0),\"\")","v":""}]
[{"$nulls":10},{"$f":"IF(ISNUMBER(SEARCH($A$3,L3971)),MAX($K$1:K3970)+1,0)","v":0},"Vikalp Securities Ltd","VIKALPS.BO",{"$nulls":12},{"$f":"IFERROR(VLOOKUP(ROWS($Z$2:Z3971),K3971:$L$6000,2,0),\"\")","v":""},{"$f":"IFERROR(VLOOKUP(ROWS($AA$2:AA3971),K3971:$M$6000,3,0),\"\")","v":""}]
[{"$nulls":10},{"$f":"IF(ISNUMBER(SEARCH($A$3,L3972)),MAX($K$1:K3971)+1,0)","v":0},"Vikas Granaries Ltd","VIKASGRAN.BO",{"$nulls":12},{"$f":"IFERROR(VLOOKUP(ROWS($Z$2:Z3972),K3972:$L$6000,2,0),\"\")","v":""},{"$f":"IFERROR(VLOOKUP(ROWS($AA$2:AA3972),K3972:$M$6000,3,0),\"\")","v":""}]
[{"$nulls":10},{"$f":"IF(ISNUMBER(SEARCH($A$3,L3973)),MAX($K$1:K3972)+1,0)","v":0},"Vikas WSP Ltd","VIKASWSP.BO",{"$nulls":12},{"$f":"IFERROR(VLOOKUP(ROWS($Z$2:Z3973),K3973:$L$6000,2,0),\"\")","v":""},{"$f":"IFERROR(VLOOKUP(ROWS($AA$2:AA3973),K3973:$M$6000,3,0),\"\")","v":""}]
[{"$nulls":10},{"$f":"IF(ISNUMBER(SEARCH($A$3,L3974)),MAX($K$1:K3973)+1,0)","v":0},"Vikram Thermo (India) Ltd","VIKRAMTH.BO",{"$nulls":12},{"$f":"IFERROR(VLOOKUP(ROWS($Z$2:Z3974),K3974:$L$6000,2,0),\"\")","v":""},{"$f":"IFERROR(VLOOKUP(ROWS($AA$2:AA3974),K3974:$M$6000,3,0),\"\")","v":""}]
[{"$nulls":10},{"$f":"IF(ISNUMBER(SEARCH($A$3,L3975)),MAX($K$1:K3974)+1,0)","v":0},"Vimal Oil & Foods Ltd","VIMALOILQ.BO",{"$nulls":12},{"$f":"IFERROR(VLOOKUP(ROWS($Z$2:Z3975),K3975:$L$6000,2,0),\"\")","v":""},{"$f":"IFERROR(VLOOKUP(ROWS($AA$2:AA3975),K3975:$M$6000,3,0),\"\")","v":""}]
[{"$nulls":10},{"$f":"IF(ISNUMBER(SEARCH($A$3,L3976)),MAX($K$1:K3975)+1,0)","v":0},"Vimta Labs Ltd","VIMTA.BO",{"$nulls":12},{"$f":"IFERROR(VLOOKUP(ROWS($Z$2:Z3976),K3976:$L$6000,2,0),\"\")","v":""},{"$f":"IFERROR(VLOOKUP(ROWS($AA$2:AA3976),K3976:$M$6000,3,0),\"\")","v":""}]
[{"$nulls":10},{"$f":"IF(ISNUMBER(SEARCH($A$3,L3977)),MAX($K$1:K3976)+1,0)","v":0},"Vimta Labs Ltd","VIMTALABS.NS",{"$nulls":12},{"$f":"IFERROR(VLOOKUP(ROWS($Z$2:Z3977),K3977:$L$6000,2,0),\"\")","v":""},{"$f":"IFERROR(VLOOKUP(ROWS($AA$2:AA3977),K3977:$M$6000,3,0),\"\")","v":""}]
[{"$nulls":10},{"$f":"IF(ISNUMBER(SEARCH($A$3,L3978)),MAX($K$1:K3977)+1,0)","v":0},"Vinati Organics Ltd","VINATIOR.BO",{"$nulls":12},{"$f":"IFERROR(VLOOKUP(ROWS($Z$2:Z3978),K3978:$L$6000,2,0),\"\")","v":""},{"$f":"IFERROR(VLOOKUP(ROWS($AA$2:AA3978),K3978:$M$6000,3,0),\"\")","v":""}]
[{"$nulls":10},{"$f":"IF(ISNUMBER(SEARCH($A$3,L3979)),MAX($K$1:K3978)+1,0)","v":0},"Vindhya Telelinks Ltd","VINDHYAT.BO",{"$nulls":12},{"$f":"IFERROR(VLOOKUP(ROWS($Z$2:Z3979),K3979:$L$6000,2,0),\"\")","v":""},{"$f":"IFERROR(VLOOKUP(ROWS($AA$2:AA3979),K3979:$M$6000,3,0),\"\")","v":""}]
[{"$nulls":10},{"$f":"IF(ISNUMBER(SEARCH($A$3,L3980)),MAX($K$1:K3979)+1,0)","v":0},"Vindhya Telelinks Ltd","VINDHYATE.NS",{"$nulls":12},{"$f":"IFERROR(VLOOKUP(ROWS($Z$2:Z3980),K3980:$L$6000,2,0),\"\")","v":""},{"$f":"IFERROR(VLOOKUP(ROWS($AA$2:AA3980),K3980:$M$6000,3,0),\"\")","v":""}]
[{"$nulls":10},{"$f":"IF(ISNUMBER(SEARCH($A$3,L3981)),MAX($K$1:K3980)+1,0)","v":0},"Vintage Securities Ltd","VINTAGES.BO",{"$nulls":12},{"$f":"IFERROR(VLOOKUP(ROWS($Z$2:Z3981),K3981:$L$6000,2,0),\"\")","v":""},{"$f":"IFERROR(VLOOKUP(ROWS($AA$2:AA3981),K3981:$M$6000,3,0),\"\")","v":""}]
[{"$nulls":10},{"$f":"IF(ISNUMBER(SEARCH($A$3,L3982)),MAX($K$1:K3981)+1,0)","v":0},"Vintron Informatics Ltd","VINTRON.BO",{"$nulls":12},{"$f":"IFERROR(VLOOKUP(ROWS($Z$2:Z3982),K3982:$L$6000,2,0),\"\")","v":""},{"$f":"IFERROR(VLOOKUP(ROWS($AA$2:AA3982),K3982:$M$6000,3,0),\"\")","v":""}]
[{"$nulls":10},{"$f":"IF(ISNUMBER(SEARCH($A$3,L3983)),MAX($K$1:K3982)+1,0)","v":0},"Vinyl Chemicals (India) Ltd","VINYL.BO",{"$nulls":12},{"$f":"IFERROR(VLOOKUP(ROWS($Z$2:Z3983),K3983:$L$6000,2,0),\"\")","v":""},{"$f":"IFERROR(VLOOKUP(ROWS($AA$2:AA3983),K3983:$M$6000,3,0),\"\")","v":""}]
[{"$nulls":10},{"$f":"IF(ISNUMBER(SEARCH($A$3,L3984)),MAX($K$1:K3983)+1,0)","v":0},"Vinyl Chemicals (India) Ltd","VINYLINDI.NS",{"$nulls":12},{"$f":"IFERROR(VLOOKUP(ROWS($Z$2:Z3984),K3984:$L$6000,2,0),\"\")","v":""},{"$f":"IFERROR(VLOOKUP(ROWS($AA$2:AA3984),K3984:$M$6000,3,0),\"\")","v":""}]
[{"$nulls":10},{"$f":"IF(ISNUMBER(SEARCH($A$3,L3985)),MAX($K$1:K3984)+1,0)","v":0},"Vinyoflex Ltd","VINYOFL.BO",{"$nulls":12},{"$f":"IFERROR(VLOOKUP(ROWS($Z$2:Z3985),K3985:$L$6000,2,0),\"\")","v":""},{"$f":"IFERROR(VLOOKUP(ROWS($AA$2:AA3985),K3985:$M$6000,3,0),\"\")","v":""}]
[{"$nulls":10},{"$f":"IF(ISNUMBER(SEARCH($A$3,L3986)),MAX($K$1:K3985)+1,0)","v":0},"Vippy Spinpro Ltd","VIPPYSP.BO",{"$nulls":12},{"$f":"IFERROR(VLOOKUP(ROWS($Z$2:Z3986),K3986:$L$6000,2,0),\"\")","v":""},{"$f":"IFERROR(VLOOKUP(ROWS($AA$2:AA3986),K3986:$M$6000,3,0),\"\")","v":""}]
[{"$nulls":10},{"$f":"IF(ISNUMBER(SEARCH($A$3,L3987)),MAX($K$1:K3986)+1,0)","v":0},"Vipul Dye-Chem Ltd","VIPULDYE.BO",{"$nulls":12},{"$f":"IFERROR(VLOOKUP(ROWS($Z$2:Z3987),K3987:$L$6000,2,0),\"\")","v":""},{"$f":"IFERROR(VLOOKUP(ROWS($AA$2:AA3987),K3987:$M$6000,3,0),\"\")","v":""}]
[{"$nulls":10},{"$f":"IF(ISNUMBER(SEARCH($A$3,L3988)),MAX($K$1:K3987)+1,0)","v":0},"Vipul Ltd","VIPUL.BO",{"$nulls":12},{"$f":"IFERROR(VLOOKUP(ROWS($Z$2:Z3988),K3988:$L$6000,2,0),\"\")","v":""},{"$f":"IFERROR(VLOOKUP(ROWS($AA$2:AA3988),K3988:$M$6000,3,0),\"\")","v":""}]
[{"$nulls":10},{"$f":"IF(ISNUMBER(SEARCH($A$3,L3989)),MAX($K$1:K3988)+1,0)","v":0},"Virat Crane Industries Ltd","VIRATCRA.BO",{"$nulls":12},{"$f":"IFERROR(VLOOKUP(ROWS($Z$2:Z3989),K3989:$L$6000,2,0),\"\")","v":""},{"$f":"IFERROR(VLOOKUP(ROWS($AA$2:AA3989),K3989:$M$6000,3,0),\"\")","v":""}]
[{"$nulls":10},{"$f":"IF(ISNUMBER(SEARCH($A$3,L3990)),MAX($K$1:K3989)+1,0)","v":0},"Virat Industries Ltd","VIRAT.BO",{"$nulls":12},{"$f":"IFERROR(VLOOKUP(ROWS($Z$2:Z3990),K3990:$L$6000,2,0),\"\")","v":""},{"$f":"IFERROR(VLOOKUP(ROWS($AA$2:AA3990),K3990:$M$6000,3,0),\"\")","v":""}]
[{"$nulls":10},{"$f":"IF(ISNUMBER(SEARCH($A$3,L3991)),MAX($K$1:K3990)+1,0)","v":0},"Virinchi Technologies Ltd","VIRNICHIQ.BO",{"$nulls":12},{"$f":"IFERROR(VLOOKUP(ROWS($Z$2:Z3991),K3991:$L$6000,2,0),\"\")","v":""},{"$f":"IFERROR(VLOOKUP(ROWS($AA$2:AA3991),K3991:$M$6000,3,0),\"\")","v":""}]
[{"$nulls":10},{"$f":"IF(ISNUMBER(SEARCH($A$3,L3992)),MAX($K$1:K3991)+1,0)","v":0},"Virtualsoft Systems Ltd","VIRTUALS.BO",{"$nulls":12},{"$f":"IFERROR(VLOOKUP(ROWS($Z$2:Z3992),K3992:$L$6000,2,0),\"\")","v":""},{"$f":"IFERROR(VLOOKUP(ROWS($AA$2:AA3992),K3992:$M$6000,3,0),\"\")","v":""}]
[{"$nulls":10},{"$f":"IF(ISNUMBER(SEARCH($A$3,L3993)),MAX($K$1:K3992)+1,0)","v":0},"Visa Steel Ltd","VISASTEEL.BO",{"$nulls":12},{"$f":"IFERROR(VLOOKUP(ROWS($Z$2:Z3993),K3993:$L$6000,2,0),\"\")","v":""},{"$f":"IFERROR(VLOOKUP(ROWS($AA$2:AA3993),K3993:$M$6000,3,0),\"\")","v":""}]
[{"$nulls":10},{"$f":"IF(ISNUMBER(SEARCH($A$3,L3994)),MAX($K$1:K3993)+1,0)","v":0},"Visa Steel Ltd","VISASTEEL.NS",{"$nulls":12},{"$f":"IFERROR(VLOOKUP(ROWS($Z$2:Z3994),K3994:$L$6000,2,0),\"\")","v":""},{"$f":"IFERROR(VLOOKUP(ROWS($AA$2:AA3994),K3994:$M$6000,3,0),\"\")","v":""}]
[{"$nulls":10},{"$f":"IF(ISNUMBER(SEARCH($A$3,L3995)),MAX($K$1:K3994)+1,0)","v":0},"Visagar Financial Services Ltd","INCAFIN.BO",{"$nulls":12},{"$f":"IFERROR(VLOOKUP(ROWS($Z$2:Z3995),K3995:$L$6000,2,0),\"\")","v":""},{"$f":"IFERROR(VLOOKUP(ROWS($AA$2:AA3995),K3995:$M$6000,3,0),\"\")","v":""}]
[{"$nulls":10},{"$f":"IF(ISNUMBER(SEARCH($A$3,L3996)),MAX($K$1:K3995)+1,0)","v":0},"Visagar Polytex Ltd","VIVIDHA.BO",{"$nulls":12},{"$f":"IFERROR(VLOOKUP(ROWS($Z$2:Z3996),K3996:$L$6000,2,0),\"\")","v":""},{"$f":"IFERROR(VLOOKUP(ROWS($AA$2:AA3996),K3996:$M$6000,3,0),\"\")","v":""}]
[{"$nulls":10},{"$f":"IF(ISNUMBER(SEARCH($A$3,L3997)),MAX($K$1:K3996)+1,0)","v":0},"Visaka Industries Ltd","VISAKA.BO",{"$nulls":12},{"$f":"IFERROR(VLOOKUP(ROWS($Z$2:Z3997),K3997:$L$6000,2,0),\"\")","v":""},{"$f":"IFERROR(VLOOKUP(ROWS($AA$2:AA3997),K3997:$M$6000,3,0),\"\")","v":""}]
[{"$nulls":10},{"$f":"IF(ISNUMBER(SEARCH($A$3,L3998)),MAX($K$1:K3997)+1,0)","v":0},"Visaka Industries Ltd","VISAKAIND.NS",{"$nulls":12},{"$f":"IFERROR(VLOOKUP(ROWS($Z$2:Z3998),K3998:$L$6000,2,0),\"\")","v":""},{"$f":"IFERROR(VLOOKUP(ROWS($AA$2:AA3998),K3998:$M$6000,3,0),\"\")","v":""}]
[{"$nulls":10},{"$f":"IF(ISNUMBER(SEARCH($A$3,L3999)),MAX($K$1:K3998)+1,0)","v":0},"Vishal Malleables Ltd","VISHMEL.BO",{"$nulls":12},{"$f":"IFERROR(VLOOKUP(ROWS($Z$2:Z3999),K3999:$L$6000,2,0),\"\")","v":""},{"$f":"IFERROR(VLOOKUP(ROWS($AA$2:AA3999),K3999:$M$6000,3,0),\"\")","v":""}]
[{"$nulls":10},{"$f":"IF(ISNUMBER(SEARCH($A$3,L4000)),MAX($K$1:K3999)+1,0)","v":0},"Vishnu Chemicals Ltd","VISHNU.BO",{"$nulls":12},{"$f":"IFERROR(VLOOKUP(ROWS($Z$2:Z4000),K4000:$L$6000,2,0),\"\")","v":""},{"$f":"IFERROR(VLOOKUP(ROWS($AA$2:AA4000),K4000:$M$6000,3,0),\"\")","v":""}]
[{"$nulls":10},{"$f":"IF(ISNUMBER(SEARCH($A$3,L4001)),MAX($K$1:K4000)+1,0)","v":0},"Vishvas Projects Ltd","MEFCOM.BO",{"$nulls":12},{"$f":"IFERROR(VLOOKUP(ROWS($Z$2:Z4001),K4001:$L$6000,2,0),\"\")","v":""},{"$f":"IFERROR(VLOOKUP(ROWS($AA$2:AA4001),K4001:$M$6000,3,0),\"\")","v":""}]
[{"$nulls":10},{"$f":"IF(ISNUMBER(SEARCH($A$3,L4002)),MAX($K$1:K4001)+1,0)","v":0},"Vishwamitra Financial","BLBLNIN.BO",{"$nulls":12},{"$f":"IFERROR(VLOOKUP(ROWS($Z$2:Z4002),K4002:$L$6000,2,0),\"\")","v":""},{"$f":"IFERROR(VLOOKUP(ROWS($AA$2:AA4002),K4002:$M$6000,3,0),\"\")","v":""}]
[{"$nulls":10},{"$f":"IF(ISNUMBER(SEARCH($A$3,L4003)),MAX($K$1:K4002)+1,0)","v":0},"Vision Cinemas Ltd","VISION.BO",{"$nulls":12},{"$f":"IFERROR(VLOOKUP(ROWS($Z$2:Z4003),K4003:$L$6000,2,0),\"\")","v":""},{"$f":"IFERROR(VLOOKUP(ROWS($AA$2:AA4003),K4003:$M$6000,3,0),\"\")","v":""}]
[{"$nulls":10},{"$f":"IF(ISNUMBER(SEARCH($A$3,L4004)),MAX($K$1:K4003)+1,0)","v":0},"Vision Corp Ltd","VISIONCO.BO",{"$nulls":12},{"$f":"IFERROR(VLOOKUP(ROWS($Z$2:Z4004),K4004:$L$6000,2,0),\"\")","v":""},{"$f":"IFERROR(VLOOKUP(ROWS($AA$2:AA4004),K4004:$M$6000,3,0),\"\")","v":""}]
[{"$nulls":10},{"$f":"IF(ISNUMBER(SEARCH($A$3,L4005)),MAX($K$1:K4004)+1,0)","v":0},"Vista Pharmaceuticals Ltd","VISTAPH.BO",{"$nulls":12},{"$f":"IFERROR(VLOOKUP(ROWS($Z$2:Z4005),K4005:$L$6000,2,0),\"\")","v":""},{"$f":"IFERROR(VLOOKUP(ROWS($AA$2:AA4005),K4005:$M$6000,3,0),\"\")","v":""}]
[{"$nulls":10},{"$f":"IF(ISNUMBER(SEARCH($A$3,L4006)),MAX($K$1:K4005)+1,0)","v":0},"Visu International Ltd","VISUINTL.BO",{"$nulls":12},{"$f":"IFERROR(VLOOKUP(ROWS($Z$2:Z4006),K4006:$L$6000,2,0),\"\")","v":""},{"$f":"IFERROR(VLOOKUP(ROWS($AA$2:AA4006),K4006:$M$6000,3,0),\"\")","v":""}]
[{"$nulls":10},{"$f":"IF(ISNUMBER(SEARCH($A$3,L4007)),MAX($K$1:K4006)+1,0)","v":0},"Visu International Ltd","VISUINTL.NS",{"$nulls":12},{"$f":"IFERROR(VLOOKUP(ROWS($Z$2:Z4007),K4007:$L$6000,2,0),\"\")","v":""},{"$f":"IFERROR(VLOOKUP(ROWS($AA$2:AA4007),K4007:$M$6000,3,0),\"\")","v":""}]
[{"$nulls":10},{"$f":"IF(ISNUMBER(SEARCH($A$3,L4008)),MAX($K$1:K4007)+1,0)","v":0},"Vivid Global Industries Ltd","VIVIDIND.BO",{"$nulls":12},{"$f":"IFERROR(VLOOKUP(ROWS($Z$2:Z4008),K4008:$L$6000,2,0),\"\")","v":""},{"$f":"IFERROR(VLOOKUP(ROWS($AA$2:AA4008),K4008:$M$6000,3,0),\"\")","v":""}]
[{"$nulls":10},{"$f":"IF(ISNUMBER(SEARCH($A$3,L4009)),MAX($K$1:K4008)+1,0)","v":0},"Vivimed Labs Ltd","VIVIMEDLABS.BO",{"$nulls":12},{"$f":"IFERROR(VLOOKUP(ROWS($Z$2:Z4009),K4009:$L$6000,2,0),\"\")","v":""},{"$f":"IFERROR(VLOOKUP(ROWS($AA$2:AA4009),K4009:$M$6000,3,0),\"\")","v":""}]
[{"$nulls":10},{"$f":"IF(ISNUMBER(SEARCH($A$3,L4010)),MAX($K$1:K4009)+1,0)","v":0},"Vivimed Labs Ltd","VIVIMEDLA.NS",{"$nulls":12},{"$f":"IFERROR(VLOOKUP(ROWS($Z$2:Z4010),K4010:$L$6000,2,0),\"\")","v":""},{"$f":"IFERROR(VLOOKUP(ROWS($AA$2:AA4010),K4010:$M$6000,3,0),\"\")","v":""}]
[{"$nulls":10},{"$f":"IF(ISNUMBER(SEARCH($A$3,L4011)),MAX($K$1:K4010)+1,0)","v":0},"Vjil Consulting Ltd","VJIL.BO",{"$nulls":12},{"$f":"IFERROR(VLOOKUP(ROWS($Z$2:Z4011),K4011:$L$6000,2,0),\"\")","v":""},{"$f":"IFERROR(VLOOKUP(ROWS($AA$2:AA4011),K4011:$M$6000,3,0),\"\")","v":""}]
[{"$nulls":10},{"$f":"IF(ISNUMBER(SEARCH($A$3,L4012)),MAX($K$1:K4011)+1,0)","v":0},"VJTF Eduservices Ltd","ARTHEON.BO",{"$nulls":12},{"$f":"IFERROR(VLOOKUP(ROWS($Z$2:Z4012),K4012:$L$6000,2,0),\"\")","v":""},{"$f":"IFERROR(VLOOKUP(ROWS($AA$2:AA4012),K4012:$M$6000,3,0),\"\")","v":""}]
[{"$nulls":10},{"$f":"IF(ISNUMBER(SEARCH($A$3,L4013)),MAX($K$1:K4012)+1,0)","v":0},"VLS Finance Ltd","VLSFIN.BO",{"$nulls":12},{"$f":"IFERROR(VLOOKUP(ROWS($Z$2:Z4013),K4013:$L$6000,2,0),\"\")","v":""},{"$f":"IFERROR(VLOOKUP(ROWS($AA$2:AA4013),K4013:$M$6000,3,0),\"\")","v":""}]
[{"$nulls":10},{"$f":"IF(ISNUMBER(SEARCH($A$3,L4014)),MAX($K$1:K4013)+1,0)","v":0},"VLS Finance Ltd","VLSFINANC.NS",{"$nulls":12},{"$f":"IFERROR(VLOOKUP(ROWS($Z$2:Z4014),K4014:$L$6000,2,0),\"\")","v":""},{"$f":"IFERROR(VLOOKUP(ROWS($AA$2:AA4014),K4014:$M$6000,3,0),\"\")","v":""}]
[{"$nulls":10},{"$f":"IF(ISNUMBER(SEARCH($A$3,L4015)),MAX($K$1:K4014)+1,0)","v":0},"Voith Paper Fabrics India Ltd","VOITHPAPR.BO",{"$nulls":12},{"$f":"IFERROR(VLOOKUP(ROWS($Z$2:Z4015),K4015:$L$6000,2,0),\"\")","v":""},{"$f":"IFERROR(VLOOKUP(ROWS($AA$2:AA4015),K4015:$M$6000,3,0),\"\")","v":""}]
[{"$nulls":10},{"$f":"IF(ISNUMBER(SEARCH($A$3,L4016)),MAX($K$1:K4015)+1,0)","v":0},"Volant Textile Mills Ltd","VOLTM.BO",{"$nulls":12},{"$f":"IFERROR(VLOOKUP(ROWS($Z$2:Z4016),K4016:$L$6000,2,0),\"\")","v":""},{"$f":"IFERROR(VLOOKUP(ROWS($AA$2:AA4016),K4016:$M$6000,3,0),\"\")","v":""}]
[{"$nulls":10},{"$f":"IF(ISNUMBER(SEARCH($A$3,L4017)),MAX($K$1:K4016)+1,0)","v":0},"Voltamp Transformers Ltd","VOLTAMP.BO",{"$nulls":12},{"$f":"IFERROR(VLOOKUP(ROWS($Z$2:Z4017),K4017:$L$6000,2,0),\"\")","v":""},{"$f":"IFERROR(VLOOKUP(ROWS($AA$2:AA4017),K4017:$M$6000,3,0),\"\")","v":""}]
[{"$nulls":10},{"$f":"IF(ISNUMBER(SEARCH($A$3,L4018)),MAX($K$1:K4017)+1,0)","v":0},"Voltamp Transformers Ltd","VOLTAMP.NS",{"$nulls":12},{"$f":"IFERROR(VLOOKUP(ROWS($Z$2:Z4018),K4018:$L$6000,2,0),\"\")","v":""},{"$f":"IFERROR(VLOOKUP(ROWS($AA$2:AA4018),K4018:$M$6000,3,0),\"\")","v":""}]
[{"$nulls":10},{"$f":"IF(ISNUMBER(SEARCH($A$3,L4019)),MAX($K$1:K4018)+1,0)","v":0},"Voltas Ltd","VOLTAS.BO",{"$nulls":12},{"$f":"IFERROR(VLOOKUP(ROWS($Z$2:Z4019),K4019:$L$6000,2,0),\"\")","v":""},{"$f":"IFERROR(VLOOKUP(ROWS($AA$2:AA4019),K4019:$M$6000,3,0),\"\")","v":""}]
[{"$nulls":10},{"$f":"IF(ISNUMBER(SEARCH($A$3,L4020)),MAX($K$1:K4019)+1,0)","v":0},"Voltas Ltd","VOLTAS.NS",{"$nulls":12},{"$f":"IFERROR(VLOOKUP(ROWS($Z$2:Z4020),K4020:$L$6000,2,0),\"\")","v":""},{"$f":"IFERROR(VLOOKUP(ROWS($AA$2:AA4020),K4020:$M$6000,3,0),\"\")","v":""}]
[{"$nulls":10},{"$f":"IF(ISNUMBER(SEARCH($A$3,L4021)),MAX($K$1:K4020)+1,0)","v":0},"VSF Projects Ltd","VSFPROJ.BO",{"$nulls":12},{"$f":"IFERROR(VLOOKUP(ROWS($Z$2:Z4021),K4021:$L$6000,2,0),\"\")","v":""},{"$f":"IFERROR(VLOOKUP(ROWS($AA$2:AA4021),K4021:$M$6000,3,0),\"\")","v":""}]
[{"$nulls":10},{"$f":"IF(ISNUMBER(SEARCH($A$3,L4022)),MAX($K$1:K4021)+1,0)","v":0},"VST Industries Ltd","VST.BO",{"$nulls":12},{"$f":"IFERROR(VLOOKUP(ROWS($Z$2:Z4022),K4022:$L$6000,2,0),\"\")","v":""},{"$f":"IFERROR(VLOOKUP(ROWS($AA$2:AA4022),K4022:$M$6000,3,0),\"\")","v":""}]
[{"$nulls":10},{"$f":"IF(ISNUMBER(SEARCH($A$3,L4023)),MAX($K$1:K4022)+1,0)","v":0},"VST Industries Ltd","VSTIND.NS",{"$nulls":12},{"$f":"IFERROR(VLOOKUP(ROWS($Z$2:Z4023),K4023:$L$6000,2,0),\"\")","v":""},{"$f":"IFERROR(VLOOKUP(ROWS($AA$2:AA4023),K4023:$M$6000,3,0),\"\")","v":""}]
[{"$nulls":10},{"$f":"IF(ISNUMBER(SEARCH($A$3,L4024)),MAX($K$1:K4023)+1,0)","v":0},"VST Tillers Tractors Ltd","VSTTILL.BO",{"$nulls":12},{"$f":"IFERROR(VLOOKUP(ROWS($Z$2:Z4024),K4024:$L$6000,2,0),\"\")","v":""},{"$f":"IFERROR(VLOOKUP(ROWS($AA$2:AA4024),K4024:$M$6000,3,0),\"\")","v":""}]
[{"$nulls":10},{"$f":"IF(ISNUMBER(SEARCH($A$3,L4025)),MAX($K$1:K4024)+1,0)","v":0},"VTM Limited","VTM.BO",{"$nulls":12},{"$f":"IFERROR(VLOOKUP(ROWS($Z$2:Z4025),K4025:$L$6000,2,0),\"\")","v":""},{"$f":"IFERROR(VLOOKUP(ROWS($AA$2:AA4025),K4025:$M$6000,3,0),\"\")","v":""}]
[{"$nulls":10},{"$f":"IF(ISNUMBER(SEARCH($A$3,L4026)),MAX($K$1:K4025)+1,0)","v":0},"VTX Industries Ltd","VTX.BO",{"$nulls":12},{"$f":"IFERROR(VLOOKUP(ROWS($Z$2:Z4026),K4026:$L$6000,2,0),\"\")","v":""},{"$f":"IFERROR(VLOOKUP(ROWS($AA$2:AA4026),K4026:$M$6000,3,0),\"\")","v":""}]
[{"$nulls":10},{"$f":"IF(ISNUMBER(SEARCH($A$3,L4027)),MAX($K$1:K4026)+1,0)","v":0},"Vulcan Engineers Ltd","VULCANEN.BO",{"$nulls":12},{"$f":"IFERROR(VLOOKUP(ROWS($Z$2:Z4027),K4027:$L$6000,2,0),\"\")","v":""},{"$f":"IFERROR(VLOOKUP(ROWS($AA$2:AA4027),K4027:$M$6000,3,0),\"\")","v":""}]
[{"$nulls":10},{"$f":"IF(ISNUMBER(SEARCH($A$3,L4028)),MAX($K$1:K4027)+1,0)","v":0},"VXL Instruments Ltd","VXLINS.BO",{"$nulls":12},{"$f":"IFERROR(VLOOKUP(ROWS($Z$2:Z4028),K4028:$L$6000,2,0),\"\")","v":""},{"$f":"IFERROR(VLOOKUP(ROWS($AA$2:AA4028),K4028:$M$6000,3,0),\"\")","v":""}]
[{"$nulls":10},{"$f":"IF(ISNUMBER(SEARCH($A$3,L4029)),MAX($K$1:K4028)+1,0)","v":0},"Vyapar Industries Ltd","VYAPAR.BO",{"$nulls":12},{"$f":"IFERROR(VLOOKUP(ROWS($Z$2:Z4029),K4029:$L$6000,2,0),\"\")","v":""},{"$f":"IFERROR(VLOOKUP(ROWS($AA$2:AA4029),K4029:$M$6000,3,0),\"\")","v":""}]
[{"$nulls":10},{"$f":"IF(ISNUMBER(SEARCH($A$3,L4030)),MAX($K$1:K4029)+1,0)","v":0},"Vybra Automet Ltd","VYVRAUT.BO",{"$nulls":12},{"$f":"IFERROR(VLOOKUP(ROWS($Z$2:Z4030),K4030:$L$6000,2,0),\"\")","v":""},{"$f":"IFERROR(VLOOKUP(ROWS($AA$2:AA4030),K4030:$M$6000,3,0),\"\")","v":""}]
[{"$nulls":10},{"$f":"IF(ISNUMBER(SEARCH($A$3,L4031)),MAX($K$1:K4030)+1,0)","v":0},"W H Brady & Co Ltd","WHBRADY.BO",{"$nulls":12},{"$f":"IFERROR(VLOOKUP(ROWS($Z$2:Z4031),K4031:$L$6000,2,0),\"\")","v":""},{"$f":"IFERROR(VLOOKUP(ROWS($AA$2:AA4031),K4031:$M$6000,3,0),\"\")","v":""}]
[{"$nulls":10},{"$f":"IF(ISNUMBER(SEARCH($A$3,L4032)),MAX($K$1:K4031)+1,0)","v":0},"W S Industries (I) Ltd","WSIND.BO",{"$nulls":12},{"$f":"IFERROR(VLOOKUP(ROWS($Z$2:Z4032),K4032:$L$6000,2,0),\"\")","v":""},{"$f":"IFERROR(VLOOKUP(ROWS($AA$2:AA4032),K4032:$M$6000,3,0),\"\")","v":""}]
[{"$nulls":10},{"$f":"IF(ISNUMBER(SEARCH($A$3,L4033)),MAX($K$1:K4032)+1,0)","v":0},"W S Industries (I) Ltd","WSI.NS",{"$nulls":12},{"$f":"IFERROR(VLOOKUP(ROWS($Z$2:Z4033),K4033:$L$6000,2,0),\"\")","v":""},{"$f":"IFERROR(VLOOKUP(ROWS($AA$2:AA4033),K4033:$M$6000,3,0),\"\")","v":""}]
[{"$nulls":10},{"$f":"IF(ISNUMBER(SEARCH($A$3,L4034)),MAX($K$1:K4033)+1,0)","v":0},"WABCO India Ltd","WABCOTVS.BO",{"$nulls":12},{"$f":"IFERROR(VLOOKUP(ROWS($Z$2:Z4034),K4034:$L$6000,2,0),\"\")","v":""},{"$f":"IFERROR(VLOOKUP(ROWS($AA$2:AA4034),K4034:$M$6000,3,0),\"\")","v":""}]
[{"$nulls":10},{"$f":"IF(ISNUMBER(SEARCH($A$3,L4035)),MAX($K$1:K4034)+1,0)","v":0},"WABCO India Ltd","WABCO-TVS.NS",{"$nulls":12},{"$f":"IFERROR(VLOOKUP(ROWS($Z$2:Z4035),K4035:$L$6000,2,0),\"\")","v":""},{"$f":"IFERROR(VLOOKUP(ROWS($AA$2:AA4035),K4035:$M$6000,3,0),\"\")","v":""}]
[{"$nulls":10},{"$f":"IF(ISNUMBER(SEARCH($A$3,L4036)),MAX($K$1:K4035)+1,0)","v":0},"Wadala Commodities Ltd","WADALACOM.BO",{"$nulls":12},{"$f":"IFERROR(VLOOKUP(ROWS($Z$2:Z4036),K4036:$L$6000,2,0),\"\")","v":""},{"$f":"IFERROR(VLOOKUP(ROWS($AA$2:AA4036),K4036:$M$6000,3,0),\"\")","v":""}]
[{"$nulls":10},{"$f":"IF(ISNUMBER(SEARCH($A$3,L4037)),MAX($K$1:K4036)+1,0)","v":0},"Wagend Infra Venture Ltd","AGRLHOL.BO",{"$nulls":12},{"$f":"IFERROR(VLOOKUP(ROWS($Z$2:Z4037),K4037:$L$6000,2,0),\"\")","v":""},{"$f":"IFERROR(VLOOKUP(ROWS($AA$2:AA4037),K4037:$M$6000,3,0),\"\")","v":""}]
[{"$nulls":10},{"$f":"IF(ISNUMBER(SEARCH($A$3,L4038)),MAX($K$1:K4037)+1,0)","v":0},"Walchand Peoplefirst Ltd","WALCHPF.BO",{"$nulls":12},{"$f":"IFERROR(VLOOKUP(ROWS($Z$2:Z4038),K4038:$L$6000,2,0),\"\")","v":""},{"$f":"IFERROR(VLOOKUP(ROWS($AA$2:AA4038),K4038:$M$6000,3,0),\"\")","v":""}]
[{"$nulls":10},{"$f":"IF(ISNUMBER(SEARCH($A$3,L4039)),MAX($K$1:K4038)+1,0)","v":0},"Walchandnagar Industries Ltd","WALCHANI.BO",{"$nulls":12},{"$f":"IFERROR(VLOOKUP(ROWS($Z$2:Z4039),K4039:$L$6000,2,0),\"\")","v":""},{"$f":"IFERROR(VLOOKUP(ROWS($AA$2:AA4039),K4039:$M$6000,3,0),\"\")","v":""}]
[{"$nulls":10},{"$f":"IF(ISNUMBER(SEARCH($A$3,L4040)),MAX($K$1:K4039)+1,0)","v":0},"Walchandnagar Industries Ltd","WALCHANNA.NS",{"$nulls":12},{"$f":"IFERROR(VLOOKUP(ROWS($Z$2:Z4040),K4040:$L$6000,2,0),\"\")","v":""},{"$f":"IFERROR(VLOOKUP(ROWS($AA$2:AA4040),K4040:$M$6000,3,0),\"\")","v":""}]
[{"$nulls":10},{"$f":"IF(ISNUMBER(SEARCH($A$3,L4041)),MAX($K$1:K4040)+1,0)","v":0},"Wall Street Finance Ltd","WSFIN.BO",{"$nulls":12},{"$f":"IFERROR(VLOOKUP(ROWS($Z$2:Z4041),K4041:$L$6000,2,0),\"\")","v":""},{"$f":"IFERROR(VLOOKUP(ROWS($AA$2:AA4041),K4041:$M$6000,3,0),\"\")","v":""}]
[{"$nulls":10},{"$f":"IF(ISNUMBER(SEARCH($A$3,L4042)),MAX($K$1:K4041)+1,0)","v":0},"Wallfort Financial Servic","WALLFORT.BO",{"$nulls":12},{"$f":"IFERROR(VLOOKUP(ROWS($Z$2:Z4042),K4042:$L$6000,2,0),\"\")","v":""},{"$f":"IFERROR(VLOOKUP(ROWS($AA$2:AA4042),K4042:$M$6000,3,0),\"\")","v":""}]
[{"$nulls":10},{"$f":"IF(ISNUMBER(SEARCH($A$3,L4043)),MAX($K$1:K4042)+1,0)","v":0},"Wanbury Ltd","WANBURY.BO",{"$nulls":12},{"$f":"IFERROR(VLOOKUP(ROWS($Z$2:Z4043),K4043:$L$6000,2,0),\"\")","v":""},{"$f":"IFERROR(VLOOKUP(ROWS($AA$2:AA4043),K4043:$M$6000,3,0),\"\")","v":""}]
[{"$nulls":10},{"$f":"IF(ISNUMBER(SEARCH($A$3,L4044)),MAX($K$1:K4043)+1,0)","v":0},"Wanbury Ltd","WANBURY.NS",{"$nulls":12},{"$f":"IFERROR(VLOOKUP(ROWS($Z$2:Z4044),K4044:$L$6000,2,0),\"\")","v":""},{"$f":"IFERROR(VLOOKUP(ROWS($AA$2:AA4044),K4044:$M$6000,3,0),\"\")","v":""}]
[{"$nulls":10},{"$f":"IF(ISNUMBER(SEARCH($A$3,L4045)),MAX($K$1:K4044)+1,0)","v":0},"Warner Multimedia Ltd","WARNER.BO",{"$nulls":12},{"$f":"IFERROR(VLOOKUP(ROWS($Z$2:Z4045),K4045:$L$6000,2,0),\"\")","v":""},{"$f":"IFERROR(VLOOKUP(ROWS($AA$2:AA4045),K4045:$M$6000,3,0),\"\")","v":""}]
[{"$nulls":10},{"$f":"IF(ISNUMBER(SEARCH($A$3,L4046)),MAX($K$1:K4045)+1,0)","v":0},"Warren Tea Ltd","WARRENT.BO",{"$nulls":12},{"$f":"IFERROR(VLOOKUP(ROWS($Z$2:Z4046),K4046:$L$6000,2,0),\"\")","v":""},{"$f":"IFERROR(VLOOKUP(ROWS($AA$2:AA4046),K4046:$M$6000,3,0),\"\")","v":""}]
[{"$nulls":10},{"$f":"IF(ISNUMBER(SEARCH($A$3,L4047)),MAX($K$1:K4046)+1,0)","v":0},"Waterbase Limited","WATER.BO",{"$nulls":12},{"$f":"IFERROR(VLOOKUP(ROWS($Z$2:Z4047),K4047:$L$6000,2,0),\"\")","v":""},{"$f":"IFERROR(VLOOKUP(ROWS($AA$2:AA4047),K4047:$M$6000,3,0),\"\")","v":""}]
[{"$nulls":10},{"$f":"IF(ISNUMBER(SEARCH($A$3,L4048)),MAX($K$1:K4047)+1,0)","v":0},"Websol Energy System Ltd","WEBSOL.BO",{"$nulls":12},{"$f":"IFERROR(VLOOKUP(ROWS($Z$2:Z4048),K4048:$L$6000,2,0),\"\")","v":""},{"$f":"IFERROR(VLOOKUP(ROWS($AA$2:AA4048),K4048:$M$6000,3,0),\"\")","v":""}]
[{"$nulls":10},{"$f":"IF(ISNUMBER(SEARCH($A$3,L4049)),MAX($K$1:K4048)+1,0)","v":0},"Websol Energy System Ltd","WEBELSOLA.NS",{"$nulls":12},{"$f":"IFERROR(VLOOKUP(ROWS($Z$2:Z4049),K4049:$L$6000,2,0),\"\")","v":""},{"$f":"IFERROR(VLOOKUP(ROWS($AA$2:AA4049),K4049:$M$6000,3,0),\"\")","v":""}]
[{"$nulls":10},{"$f":"IF(ISNUMBER(SEARCH($A$3,L4050)),MAX($K$1:K4049)+1,0)","v":0},"Weizmann Ltd","WEIZMAN.BO",{"$nulls":12},{"$f":"IFERROR(VLOOKUP(ROWS($Z$2:Z4050),K4050:$L$6000,2,0),\"\")","v":""},{"$f":"IFERROR(VLOOKUP(ROWS($AA$2:AA4050),K4050:$M$6000,3,0),\"\")","v":""}]
[{"$nulls":10},{"$f":"IF(ISNUMBER(SEARCH($A$3,L4051)),MAX($K$1:K4050)+1,0)","v":0},"Weizmann Ltd","WEIZMANIN.NS",{"$nulls":12},{"$f":"IFERROR(VLOOKUP(ROWS($Z$2:Z4051),K4051:$L$6000,2,0),\"\")","v":""},{"$f":"IFERROR(VLOOKUP(ROWS($AA$2:AA4051),K4051:$M$6000,3,0),\"\")","v":""}]
[{"$nulls":10},{"$f":"IF(ISNUMBER(SEARCH($A$3,L4052)),MAX($K$1:K4051)+1,0)","v":0},"Welcast Steels Ltd","ZWELCAST.BO",{"$nulls":12},{"$f":"IFERROR(VLOOKUP(ROWS($Z$2:Z4052),K4052:$L$6000,2,0),\"\")","v":""},{"$f":"IFERROR(VLOOKUP(ROWS($AA$2:AA4052),K4052:$M$6000,3,0),\"\")","v":""}]
[{"$nulls":10},{"$f":"IF(ISNUMBER(SEARCH($A$3,L4053)),MAX($K$1:K4052)+1,0)","v":0},"Welcure Drugs & Pharmaceu","WELCURE.BO",{"$nulls":12},{"$f":"IFERROR(VLOOKUP(ROWS($Z$2:Z4053),K4053:$L$6000,2,0),\"\")","v":""},{"$f":"IFERROR(VLOOKUP(ROWS($AA$2:AA4053),K4053:$M$6000,3,0),\"\")","v":""}]
[{"$nulls":10},{"$f":"IF(ISNUMBER(SEARCH($A$3,L4054)),MAX($K$1:K4053)+1,0)","v":0},"Wellness Noni Ltd","RGNSECO.BO",{"$nulls":12},{"$f":"IFERROR(VLOOKUP(ROWS($Z$2:Z4054),K4054:$L$6000,2,0),\"\")","v":""},{"$f":"IFERROR(VLOOKUP(ROWS($AA$2:AA4054),K4054:$M$6000,3,0),\"\")","v":""}]
[{"$nulls":10},{"$f":"IF(ISNUMBER(SEARCH($A$3,L4055)),MAX($K$1:K4054)+1,0)","v":0},"Welspun Corp Ltd","WELSPUNGUJR.BO",{"$nulls":12},{"$f":"IFERROR(VLOOKUP(ROWS($Z$2:Z4055),K4055:$L$6000,2,0),\"\")","v":""},{"$f":"IFERROR(VLOOKUP(ROWS($AA$2:AA4055),K4055:$M$6000,3,0),\"\")","v":""}]
[{"$nulls":10},{"$f":"IF(ISNUMBER(SEARCH($A$3,L4056)),MAX($K$1:K4055)+1,0)","v":0},"Welspun Corp Ltd","WELCORP.NS",{"$nulls":12},{"$f":"IFERROR(VLOOKUP(ROWS($Z$2:Z4056),K4056:$L$6000,2,0),\"\")","v":""},{"$f":"IFERROR(VLOOKUP(ROWS($AA$2:AA4056),K4056:$M$6000,3,0),\"\")","v":""}]
[{"$nulls":10},{"$f":"IF(ISNUMBER(SEARCH($A$3,L4057)),MAX($K$1:K4056)+1,0)","v":0},"Welspun India Ltd","WELSPUNIND.BO",{"$nulls":12},{"$f":"IFERROR(VLOOKUP(ROWS($Z$2:Z4057),K4057:$L$6000,2,0),\"\")","v":""},{"$f":"IFERROR(VLOOKUP(ROWS($AA$2:AA4057),K4057:$M$6000,3,0),\"\")","v":""}]
[{"$nulls":10},{"$f":"IF(ISNUMBER(SEARCH($A$3,L4058)),MAX($K$1:K4057)+1,0)","v":0},"Welspun India Ltd","WELSPUNIN.NS",{"$nulls":12},{"$f":"IFERROR(VLOOKUP(ROWS($Z$2:Z4058),K4058:$L$6000,2,0),\"\")","v":""},{"$f":"IFERROR(VLOOKUP(ROWS($AA$2:AA4058),K4058:$M$6000,3,0),\"\")","v":""}]
[{"$nulls":10},{"$f":"IF(ISNUMBER(SEARCH($A$3,L4059)),MAX($K$1:K4058)+1,0)","v":0},"Welspun Projects Ltd","MSKPRO.BO",{"$nulls":12},{"$f":"IFERROR(VLOOKUP(ROWS($Z$2:Z4059),K4059:$L$6000,2,0),\"\")","v":""},{"$f":"IFERROR(VLOOKUP(ROWS($AA$2:AA4059),K4059:$M$6000,3,0),\"\")","v":""}]
[{"$nulls":10},{"$f":"IF(ISNUMBER(SEARCH($A$3,L4060)),MAX($K$1:K4059)+1,0)","v":0},"Welspun Projects Ltd","MSKPROJ.NS",{"$nulls":12},{"$f":"IFERROR(VLOOKUP(ROWS($Z$2:Z4060),K4060:$L$6000,2,0),\"\")","v":""},{"$f":"IFERROR(VLOOKUP(ROWS($AA$2:AA4060),K4060:$M$6000,3,0),\"\")","v":""}]
[{"$nulls":10},{"$f":"IF(ISNUMBER(SEARCH($A$3,L4061)),MAX($K$1:K4060)+1,0)","v":0},"Welspun Syntex Ltd","WELSPSY.BO",{"$nulls":12},{"$f":"IFERROR(VLOOKUP(ROWS($Z$2:Z4061),K4061:$L$6000,2,0),\"\")","v":""},{"$f":"IFERROR(VLOOKUP(ROWS($AA$2:AA4061),K4061:$M$6000,3,0),\"\")","v":""}]
[{"$nulls":10},{"$f":"IF(ISNUMBER(SEARCH($A$3,L4062)),MAX($K$1:K4061)+1,0)","v":0},"Welterman International Ltd","WELTI.BO",{"$nulls":12},{"$f":"IFERROR(VLOOKUP(ROWS($Z$2:Z4062),K4062:$L$6000,2,0),\"\")","v":""},{"$f":"IFERROR(VLOOKUP(ROWS($AA$2:AA4062),K4062:$M$6000,3,0),\"\")","v":""}]
[{"$nulls":10},{"$f":"IF(ISNUMBER(SEARCH($A$3,L4063)),MAX($K$1:K4062)+1,0)","v":0},"Wendt (India) Ltd","WENDT.BO",{"$nulls":12},{"$f":"IFERROR(VLOOKUP(ROWS($Z$2:Z4063),K4063:$L$6000,2,0),\"\")","v":""},{"$f":"IFERROR(VLOOKUP(ROWS($AA$2:AA4063),K4063:$M$6000,3,0),\"\")","v":""}]
[{"$nulls":10},{"$f":"IF(ISNUMBER(SEARCH($A$3,L4064)),MAX($K$1:K4063)+1,0)","v":0},"Wendt (India) Ltd","WENDT.NS",{"$nulls":12},{"$f":"IFERROR(VLOOKUP(ROWS($Z$2:Z4064),K4064:$L$6000,2,0),\"\")","v":""},{"$f":"IFERROR(VLOOKUP(ROWS($AA$2:AA4064),K4064:$M$6000,3,0),\"\")","v":""}]
[{"$nulls":10},{"$f":"IF(ISNUMBER(SEARCH($A$3,L4065)),MAX($K$1:K4064)+1,0)","v":0},"Western India Shipyard Ltd","WESTE.BO",{"$nulls":12},{"$f":"IFERROR(VLOOKUP(ROWS($Z$2:Z4065),K4065:$L$6000,2,0),\"\")","v":""},{"$f":"IFERROR(VLOOKUP(ROWS($AA$2:AA4065),K4065:$M$6000,3,0),\"\")","v":""}]
[{"$nulls":10},{"$f":"IF(ISNUMBER(SEARCH($A$3,L4066)),MAX($K$1:K4065)+1,0)","v":0},"Westlife Development Ltd","DHANPRAYG.BO",{"$nulls":12},{"$f":"IFERROR(VLOOKUP(ROWS($Z$2:Z4066),K4066:$L$6000,2,0),\"\")","v":""},{"$f":"IFERROR(VLOOKUP(ROWS($AA$2:AA4066),K4066:$M$6000,3,0),\"\")","v":""}]
[{"$nulls":10},{"$f":"IF(ISNUMBER(SEARCH($A$3,L4067)),MAX($K$1:K4066)+1,0)","v":0},"Wheels India Ltd","WHEELS.BO",{"$nulls":12},{"$f":"IFERROR(VLOOKUP(ROWS($Z$2:Z4067),K4067:$L$6000,2,0),\"\")","v":""},{"$f":"IFERROR(VLOOKUP(ROWS($AA$2:AA4067),K4067:$M$6000,3,0),\"\")","v":""}]
[{"$nulls":10},{"$f":"IF(ISNUMBER(SEARCH($A$3,L4068)),MAX($K$1:K4067)+1,0)","v":0},"Wheels India Ltd","WHEELS.NS",{"$nulls":12},{"$f":"IFERROR(VLOOKUP(ROWS($Z$2:Z4068),K4068:$L$6000,2,0),\"\")","v":""},{"$f":"IFERROR(VLOOKUP(ROWS($AA$2:AA4068),K4068:$M$6000,3,0),\"\")","v":""}]
[{"$nulls":10},{"$f":"IF(ISNUMBER(SEARCH($A$3,L4069)),MAX($K$1:K4068)+1,0)","v":0},"Whirlpool of India Ltd","WHIRLPOOL.BO",{"$nulls":12},{"$f":"IFERROR(VLOOKUP(ROWS($Z$2:Z4069),K4069:$L$6000,2,0),\"\")","v":""},{"$f":"IFERROR(VLOOKUP(ROWS($AA$2:AA4069),K4069:$M$6000,3,0),\"\")","v":""}]
[{"$nulls":10},{"$f":"IF(ISNUMBER(SEARCH($A$3,L4070)),MAX($K$1:K4069)+1,0)","v":0},"White Diamond Industries Ltd","WHITEDIA.BO",{"$nulls":12},{"$f":"IFERROR(VLOOKUP(ROWS($Z$2:Z4070),K4070:$L$6000,2,0),\"\")","v":""},{"$f":"IFERROR(VLOOKUP(ROWS($AA$2:AA4070),K4070:$M$6000,3,0),\"\")","v":""}]
[{"$nulls":10},{"$f":"IF(ISNUMBER(SEARCH($A$3,L4071)),MAX($K$1:K4070)+1,0)","v":0},"Williamson Financial Serv","WILLIMFI.BO",{"$nulls":12},{"$f":"IFERROR(VLOOKUP(ROWS($Z$2:Z4071),K4071:$L$6000,2,0),\"\")","v":""},{"$f":"IFERROR(VLOOKUP(ROWS($AA$2:AA4071),K4071:$M$6000,3,0),\"\")","v":""}]
[{"$nulls":10},{"$f":"IF(ISNUMBER(SEARCH($A$3,L4072)),MAX($K$1:K4071)+1,0)","v":0},"Williamson Magor & Company Ltd","WILLMOGR.BO",{"$nulls":12},{"$f":"IFERROR(VLOOKUP(ROWS($Z$2:Z4072),K4072:$L$6000,2,0),\"\")","v":""},{"$f":"IFERROR(VLOOKUP(ROWS($AA$2:AA4072),K4072:$M$6000,3,0),\"\")","v":""}]
[{"$nulls":10},{"$f":"IF(ISNUMBER(SEARCH($A$3,L4073)),MAX($K$1:K4072)+1,0)","v":0},"Williamson Magor & Company Ltd","WILLAMAGO.NS",{"$nulls":12},{"$f":"IFERROR(VLOOKUP(ROWS($Z$2:Z4073),K4073:$L$6000,2,0),\"\")","v":""},{"$f":"IFERROR(VLOOKUP(ROWS($AA$2:AA4073),K4073:$M$6000,3,0),\"\")","v":""}]
[{"$nulls":10},{"$f":"IF(ISNUMBER(SEARCH($A$3,L4074)),MAX($K$1:K4073)+1,0)","v":0},"Wim Plast Ltd","WIMPLAS.BO",{"$nulls":12},{"$f":"IFERROR(VLOOKUP(ROWS($Z$2:Z4074),K4074:$L$6000,2,0),\"\")","v":""},{"$f":"IFERROR(VLOOKUP(ROWS($AA$2:AA4074),K4074:$M$6000,3,0),\"\")","v":""}]
[{"$nulls":10},{"$f":"IF(ISNUMBER(SEARCH($A$3,L4075)),MAX($K$1:K4074)+1,0)","v":0},"Windsor Machines Ltd","WINDSOR.BO",{"$nulls":12},{"$f":"IFERROR(VLOOKUP(ROWS($Z$2:Z4075),K4075:$L$6000,2,0),\"\")","v":""},{"$f":"IFERROR(VLOOKUP(ROWS($AA$2:AA4075),K4075:$M$6000,3,0),\"\")","v":""}]
[{"$nulls":10},{"$f":"IF(ISNUMBER(SEARCH($A$3,L4076)),MAX($K$1:K4075)+1,0)","v":0},"Winsome Breweries Ltd","WINSOMBR.BO",{"$nulls":12},{"$f":"IFERROR(VLOOKUP(ROWS($Z$2:Z4076),K4076:$L$6000,2,0),\"\")","v":""},{"$f":"IFERROR(VLOOKUP(ROWS($AA$2:AA4076),K4076:$M$6000,3,0),\"\")","v":""}]
[{"$nulls":10},{"$f":"IF(ISNUMBER(SEARCH($A$3,L4077)),MAX($K$1:K4076)+1,0)","v":0},"Winsome Diamonds","SURAJDIAMO.BO",{"$nulls":12},{"$f":"IFERROR(VLOOKUP(ROWS($Z$2:Z4077),K4077:$L$6000,2,0),\"\")","v":""},{"$f":"IFERROR(VLOOKUP(ROWS($AA$2:AA4077),K4077:$M$6000,3,0),\"\")","v":""}]
[{"$nulls":10},{"$f":"IF(ISNUMBER(SEARCH($A$3,L4078)),MAX($K$1:K4077)+1,0)","v":0},"Winsome Diamonds","SURAJDIAM.NS",{"$nulls":12},{"$f":"IFERROR(VLOOKUP(ROWS($Z$2:Z4078),K4078:$L$6000,2,0),\"\")","v":""},{"$f":"IFERROR(VLOOKUP(ROWS($AA$2:AA4078),K4078:$M$6000,3,0),\"\")","v":""}]
[{"$nulls":10},{"$f":"IF(ISNUMBER(SEARCH($A$3,L4079)),MAX($K$1:K4078)+1,0)","v":0},"Winsome Textile","WINSOMTX.BO",{"$nulls":12},{"$f":"IFERROR(VLOOKUP(ROWS($Z$2:Z4079),K4079:$L$6000,2,0),\"\")","v":""},{"$f":"IFERROR(VLOOKUP(ROWS($AA$2:AA4079),K4079:$M$6000,3,0),\"\")","v":""}]
[{"$nulls":10},{"$f":"IF(ISNUMBER(SEARCH($A$3,L4080)),MAX($K$1:K4079)+1,0)","v":0},"Winsome Yarns Ltd","WINSOMY.BO",{"$nulls":12},{"$f":"IFERROR(VLOOKUP(ROWS($Z$2:Z4080),K4080:$L$6000,2,0),\"\")","v":""},{"$f":"IFERROR(VLOOKUP(ROWS($AA$2:AA4080),K4080:$M$6000,3,0),\"\")","v":""}]
[{"$nulls":10},{"$f":"IF(ISNUMBER(SEARCH($A$3,L4081)),MAX($K$1:K4080)+1,0)","v":0},"Winsome Yarns Ltd","WINSOMYAR.NS",{"$nulls":12},{"$f":"IFERROR(VLOOKUP(ROWS($Z$2:Z4081),K4081:$L$6000,2,0),\"\")","v":""},{"$f":"IFERROR(VLOOKUP(ROWS($AA$2:AA4081),K4081:$M$6000,3,0),\"\")","v":""}]
[{"$nulls":10},{"$f":"IF(ISNUMBER(SEARCH($A$3,L4082)),MAX($K$1:K4081)+1,0)","v":0},"Wintac Ltd","WINTAC.BO",{"$nulls":12},{"$f":"IFERROR(VLOOKUP(ROWS($Z$2:Z4082),K4082:$L$6000,2,0),\"\")","v":""},{"$f":"IFERROR(VLOOKUP(ROWS($AA$2:AA4082),K4082:$M$6000,3,0),\"\")","v":""}]
[{"$nulls":10},{"$f":"IF(ISNUMBER(SEARCH($A$3,L4083)),MAX($K$1:K4082)+1,0)","v":0},"Wipro Ltd","WIPRO.BO",{"$nulls":12},{"$f":"IFERROR(VLOOKUP(ROWS($Z$2:Z4083),K4083:$L$6000,2,0),\"\")","v":""},{"$f":"IFERROR(VLOOKUP(ROWS($AA$2:AA4083),K4083:$M$6000,3,0),\"\")","v":""}]
[{"$nulls":10},{"$f":"IF(ISNUMBER(SEARCH($A$3,L4084)),MAX($K$1:K4083)+1,0)","v":0},"Wipro Ltd","WIPRO.NS",{"$nulls":12},{"$f":"IFERROR(VLOOKUP(ROWS($Z$2:Z4084),K4084:$L$6000,2,0),\"\")","v":""},{"$f":"IFERROR(VLOOKUP(ROWS($AA$2:AA4084),K4084:$M$6000,3,0),\"\")","v":""}]
[{"$nulls":10},{"$f":"IF(ISNUMBER(SEARCH($A$3,L4085)),MAX($K$1:K4084)+1,0)","v":0},"Wires And Fabriks (SA) Ltd","WIREFABR.BO",{"$nulls":12},{"$f":"IFERROR(VLOOKUP(ROWS($Z$2:Z4085),K4085:$L$6000,2,0),\"\")","v":""},{"$f":"IFERROR(VLOOKUP(ROWS($AA$2:AA4085),K4085:$M$6000,3,0),\"\")","v":""}]
[{"$nulls":10},{"$f":"IF(ISNUMBER(SEARCH($A$3,L4086)),MAX($K$1:K4085)+1,0)","v":0},"Wisec Global Ltd","WISEC.BO",{"$nulls":12},{"$f":"IFERROR(VLOOKUP(ROWS($Z$2:Z4086),K4086:$L$6000,2,0),\"\")","v":""},{"$f":"IFERROR(VLOOKUP(ROWS($AA$2:AA4086),K4086:$M$6000,3,0),\"\")","v":""}]
[{"$nulls":10},{"$f":"IF(ISNUMBER(SEARCH($A$3,L4087)),MAX($K$1:K4086)+1,0)","v":0},"Wockhardt Ltd","WOCKHARDT.BO",{"$nulls":12},{"$f":"IFERROR(VLOOKUP(ROWS($Z$2:Z4087),K4087:$L$6000,2,0),\"\")","v":""},{"$f":"IFERROR(VLOOKUP(ROWS($AA$2:AA4087),K4087:$M$6000,3,0),\"\")","v":""}]
[{"$nulls":10},{"$f":"IF(ISNUMBER(SEARCH($A$3,L4088)),MAX($K$1:K4087)+1,0)","v":0},"Wockhardt Ltd","WOCKPHARM.NS",{"$nulls":12},{"$f":"IFERROR(VLOOKUP(ROWS($Z$2:Z4088),K4088:$L$6000,2,0),\"\")","v":""},{"$f":"IFERROR(VLOOKUP(ROWS($AA$2:AA4088),K4088:$M$6000,3,0),\"\")","v":""}]
[{"$nulls":10},{"$f":"IF(ISNUMBER(SEARCH($A$3,L4089)),MAX($K$1:K4088)+1,0)","v":0},"Worldwide Leather Exports Ltd","WWLEATH.BO",{"$nulls":12},{"$f":"IFERROR(VLOOKUP(ROWS($Z$2:Z4089),K4089:$L$6000,2,0),\"\")","v":""},{"$f":"IFERROR(VLOOKUP(ROWS($AA$2:AA4089),K4089:$M$6000,3,0),\"\")","v":""}]
[{"$nulls":10},{"$f":"IF(ISNUMBER(SEARCH($A$3,L4090)),MAX($K$1:K4089)+1,0)","v":0},"WPIL Ltd","WPIL.BO",{"$nulls":12},{"$f":"IFERROR(VLOOKUP(ROWS($Z$2:Z4090),K4090:$L$6000,2,0),\"\")","v":""},{"$f":"IFERROR(VLOOKUP(ROWS($AA$2:AA4090),K4090:$M$6000,3,0),\"\")","v":""}]
[{"$nulls":10},{"$f":"IF(ISNUMBER(SEARCH($A$3,L4091)),MAX($K$1:K4090)+1,0)","v":0},"Wyeth Ltd","WYETH.BO",{"$nulls":12},{"$f":"IFERROR(VLOOKUP(ROWS($Z$2:Z4091),K4091:$L$6000,2,0),\"\")","v":""},{"$f":"IFERROR(VLOOKUP(ROWS($AA$2:AA4091),K4091:$M$6000,3,0),\"\")","v":""}]
[{"$nulls":10},{"$f":"IF(ISNUMBER(SEARCH($A$3,L4092)),MAX($K$1:K4091)+1,0)","v":0},"Wyeth Ltd","WYETH.NS",{"$nulls":12},{"$f":"IFERROR(VLOOKUP(ROWS($Z$2:Z4092),K4092:$L$6000,2,0),\"\")","v":""},{"$f":"IFERROR(VLOOKUP(ROWS($AA$2:AA4092),K4092:$M$6000,3,0),\"\")","v":""}]
[{"$nulls":10},{"$f":"IF(ISNUMBER(SEARCH($A$3,L4093)),MAX($K$1:K4092)+1,0)","v":0},"Xchanging Solution Ltd","CAMBRIDGE.BO",{"$nulls":12},{"$f":"IFERROR(VLOOKUP(ROWS($Z$2:Z4093),K4093:$L$6000,2,0),\"\")","v":""},{"$f":"IFERROR(VLOOKUP(ROWS($AA$2:AA4093),K4093:$M$6000,3,0),\"\")","v":""}]
[{"$nulls":10},{"$f":"IF(ISNUMBER(SEARCH($A$3,L4094)),MAX($K$1:K4093)+1,0)","v":0},"Xchanging Solution Ltd","CAMBRIDGE.NS",{"$nulls":12},{"$f":"IFERROR(VLOOKUP(ROWS($Z$2:Z4094),K4094:$L$6000,2,0),\"\")","v":""},{"$f":"IFERROR(VLOOKUP(ROWS($AA$2:AA4094),K4094:$M$6000,3,0),\"\")","v":""}]
[{"$nulls":10},{"$f":"IF(ISNUMBER(SEARCH($A$3,L4095)),MAX($K$1:K4094)+1,0)","v":0},"XL Energy Ltd","XLTELENE.BO",{"$nulls":12},{"$f":"IFERROR(VLOOKUP(ROWS($Z$2:Z4095),K4095:$L$6000,2,0),\"\")","v":""},{"$f":"IFERROR(VLOOKUP(ROWS($AA$2:AA4095),K4095:$M$6000,3,0),\"\")","v":""}]
[{"$nulls":10},{"$f":"IF(ISNUMBER(SEARCH($A$3,L4096)),MAX($K$1:K4095)+1,0)","v":0},"XL Energy Ltd","XLTELENE.NS",{"$nulls":12},{"$f":"IFERROR(VLOOKUP(ROWS($Z$2:Z4096),K4096:$L$6000,2,0),\"\")","v":""},{"$f":"IFERROR(VLOOKUP(ROWS($AA$2:AA4096),K4096:$M$6000,3,0),\"\")","v":""}]
[{"$nulls":10},{"$f":"IF(ISNUMBER(SEARCH($A$3,L4097)),MAX($K$1:K4096)+1,0)","v":0},"Xpro India Ltd","XPRO.BO",{"$nulls":12},{"$f":"IFERROR(VLOOKUP(ROWS($Z$2:Z4097),K4097:$L$6000,2,0),\"\")","v":""},{"$f":"IFERROR(VLOOKUP(ROWS($AA$2:AA4097),K4097:$M$6000,3,0),\"\")","v":""}]
[{"$nulls":10},{"$f":"IF(ISNUMBER(SEARCH($A$3,L4098)),MAX($K$1:K4097)+1,0)","v":0},"Xpro India Ltd","XPROINDIA.NS",{"$nulls":12},{"$f":"IFERROR(VLOOKUP(ROWS($Z$2:Z4098),K4098:$L$6000,2,0),\"\")","v":""},{"$f":"IFERROR(VLOOKUP(ROWS($AA$2:AA4098),K4098:$M$6000,3,0),\"\")","v":""}]
[{"$nulls":10},{"$f":"IF(ISNUMBER(SEARCH($A$3,L4099)),MAX($K$1:K4098)+1,0)","v":0},"Yantra Natural Resources Ltd","SHGANESH.BO",{"$nulls":12},{"$f":"IFERROR(VLOOKUP(ROWS($Z$2:Z4099),K4099:$L$6000,2,0),\"\")","v":""},{"$f":"IFERROR(VLOOKUP(ROWS($AA$2:AA4099),K4099:$M$6000,3,0),\"\")","v":""}]
[{"$nulls":10},{"$f":"IF(ISNUMBER(SEARCH($A$3,L4100)),MAX($K$1:K4099)+1,0)","v":0},"Yarn Syndicate Ltd","YARNSYN.BO",{"$nulls":12},{"$f":"IFERROR(VLOOKUP(ROWS($Z$2:Z4100),K4100:$L$6000,2,0),\"\")","v":""},{"$f":"IFERROR(VLOOKUP(ROWS($AA$2:AA4100),K4100:$M$6000,3,0),\"\")","v":""}]
[{"$nulls":10},{"$f":"IF(ISNUMBER(SEARCH($A$3,L4101)),MAX($K$1:K4100)+1,0)","v":0},"Yash Management","YASHMGM.BO",{"$nulls":12},{"$f":"IFERROR(VLOOKUP(ROWS($Z$2:Z4101),K4101:$L$6000,2,0),\"\")","v":""},{"$f":"IFERROR(VLOOKUP(ROWS($AA$2:AA4101),K4101:$M$6000,3,0),\"\")","v":""}]
[{"$nulls":10},{"$f":"IF(ISNUMBER(SEARCH($A$3,L4102)),MAX($K$1:K4101)+1,0)","v":0},"Yash Papers Ltd","YASHPPR.BO",{"$nulls":12},{"$f":"IFERROR(VLOOKUP(ROWS($Z$2:Z4102),K4102:$L$6000,2,0),\"\")","v":""},{"$f":"IFERROR(VLOOKUP(ROWS($AA$2:AA4102),K4102:$M$6000,3,0),\"\")","v":""}]
[{"$nulls":10},{"$f":"IF(ISNUMBER(SEARCH($A$3,L4103)),MAX($K$1:K4102)+1,0)","v":0},"Yashraj Containeurs Ltd","YASHRAJC.BO",{"$nulls":12},{"$f":"IFERROR(VLOOKUP(ROWS($Z$2:Z4103),K4103:$L$6000,2,0),\"\")","v":""},{"$f":"IFERROR(VLOOKUP(ROWS($AA$2:AA4103),K4103:$M$6000,3,0),\"\")","v":""}]
[{"$nulls":10},{"$f":"IF(ISNUMBER(SEARCH($A$3,L4104)),MAX($K$1:K4103)+1,0)","v":0},"Yes Bank Ltd","YESBANK.BO",{"$nulls":12},{"$f":"IFERROR(VLOOKUP(ROWS($Z$2:Z4104),K4104:$L$6000,2,0),\"\")","v":""},{"$f":"IFERROR(VLOOKUP(ROWS($AA$2:AA4104),K4104:$M$6000,3,0),\"\")","v":""}]
[{"$nulls":10},{"$f":"IF(ISNUMBER(SEARCH($A$3,L4105)),MAX($K$1:K4104)+1,0)","v":0},"Yes Bank Ltd","YESBANK.NS",{"$nulls":12},{"$f":"IFERROR(VLOOKUP(ROWS($Z$2:Z4105),K4105:$L$6000,2,0),\"\")","v":""},{"$f":"IFERROR(VLOOKUP(ROWS($AA$2:AA4105),K4105:$M$6000,3,0),\"\")","v":""}]
[{"$nulls":10},{"$f":"IF(ISNUMBER(SEARCH($A$3,L4106)),MAX($K$1:K4105)+1,0)","v":0},"Yogi Infra Projects Ltd","YOGISUNG.BO",{"$nulls":12},{"$f":"IFERROR(VLOOKUP(ROWS($Z$2:Z4106),K4106:$L$6000,2,0),\"\")","v":""},{"$f":"IFERROR(VLOOKUP(ROWS($AA$2:AA4106),K4106:$M$6000,3,0),\"\")","v":""}]
[{"$nulls":10},{"$f":"IF(ISNUMBER(SEARCH($A$3,L4107)),MAX($K$1:K4106)+1,0)","v":0},"Yuken India Ltd","YUKEN.BO",{"$nulls":12},{"$f":"IFERROR(VLOOKUP(ROWS($Z$2:Z4107),K4107:$L$6000,2,0),\"\")","v":""},{"$f":"IFERROR(VLOOKUP(ROWS($AA$2:AA4107),K4107:$M$6000,3,0),\"\")","v":""}]
[{"$nulls":10},{"$f":"IF(ISNUMBER(SEARCH($A$3,L4108)),MAX($K$1:K4107)+1,0)","v":0},"Yuvraaj Hygiene Products Ltd","INTENSIV.BO",{"$nulls":12},{"$f":"IFERROR(VLOOKUP(ROWS($Z$2:Z4108),K4108:$L$6000,2,0),\"\")","v":""},{"$f":"IFERROR(VLOOKUP(ROWS($AA$2:AA4108),K4108:$M$6000,3,0),\"\")","v":""}]
[{"$nulls":10},{"$f":"IF(ISNUMBER(SEARCH($A$3,L4109)),MAX($K$1:K4108)+1,0)","v":0},"Zandu Realty Ltd","ZANDUREAL.BO",{"$nulls":12},{"$f":"IFERROR(VLOOKUP(ROWS($Z$2:Z4109),K4109:$L$6000,2,0),\"\")","v":""},{"$f":"IFERROR(VLOOKUP(ROWS($AA$2:AA4109),K4109:$M$6000,3,0),\"\")","v":""}]
[{"$nulls":10},{"$f":"IF(ISNUMBER(SEARCH($A$3,L4110)),MAX($K$1:K4109)+1,0)","v":0},"Zandu Realty Ltd","ZANDUREAL.NS",{"$nulls":12},{"$f":"IFERROR(VLOOKUP(ROWS($Z$2:Z4110),K4110:$L$6000,2,0),\"\")","v":""},{"$f":"IFERROR(VLOOKUP(ROWS($AA$2:AA4110),K4110:$M$6000,3,0),\"\")","v":""}]
[{"$nulls":10},{"$f":"IF(ISNUMBER(SEARCH($A$3,L4111)),MAX($K$1:K4110)+1,0)","v":0},"Zee Enterainment","ZEEENTER.BO",{"$nulls":12},{"$f":"IFERROR(VLOOKUP(ROWS($Z$2:Z4111),K4111:$L$6000,2,0),\"\")","v":""},{"$f":"IFERROR(VLOOKUP(ROWS($AA$2:AA4111),K4111:$M$6000,3,0),\"\")","v":""}]
[{"$nulls":10},{"$f":"IF(ISNUMBER(SEARCH($A$3,L4112)),MAX($K$1:K4111)+1,0)","v":0},"Zee Enterainment","ZEEL.NS",{"$nulls":12},{"$f":"IFERROR(VLOOKUP(ROWS($Z$2:Z4112),K4112:$L$6000,2,0),\"\")","v":""},{"$f":"IFERROR(VLOOKUP(ROWS($AA$2:AA4112),K4112:$M$6000,3,0),\"\")","v":""}]
[{"$nulls":10},{"$f":"IF(ISNUMBER(SEARCH($A$3,L4113)),MAX($K$1:K4112)+1,0)","v":0},"Zee Media Corp Ltd","ZEENEWS.BO",{"$nulls":12},{"$f":"IFERROR(VLOOKUP(ROWS($Z$2:Z4113),K4113:$L$6000,2,0),\"\")","v":""},{"$f":"IFERROR(VLOOKUP(ROWS($AA$2:AA4113),K4113:$M$6000,3,0),\"\")","v":""}]
[{"$nulls":10},{"$f":"IF(ISNUMBER(SEARCH($A$3,L4114)),MAX($K$1:K4113)+1,0)","v":0},"Zee Media Corp Ltd","ZEENEWS.NS",{"$nulls":12},{"$f":"IFERROR(VLOOKUP(ROWS($Z$2:Z4114),K4114:$L$6000,2,0),\"\")","v":""},{"$f":"IFERROR(VLOOKUP(ROWS($AA$2:AA4114),K4114:$M$6000,3,0),\"\")","v":""}]
[{"$nulls":10},{"$f":"IF(ISNUMBER(SEARCH($A$3,L4115)),MAX($K$1:K4114)+1,0)","v":0},"Zen Technologies Ltd","ZENTEC.BO",{"$nulls":12},{"$f":"IFERROR(VLOOKUP(ROWS($Z$2:Z4115),K4115:$L$6000,2,0),\"\")","v":""},{"$f":"IFERROR(VLOOKUP(ROWS($AA$2:AA4115),K4115:$M$6000,3,0),\"\")","v":""}]
[{"$nulls":10},{"$f":"IF(ISNUMBER(SEARCH($A$3,L4116)),MAX($K$1:K4115)+1,0)","v":0},"Zenith Birla (India) Ltd","ZENITH.BO",{"$nulls":12},{"$f":"IFERROR(VLOOKUP(ROWS($Z$2:Z4116),K4116:$L$6000,2,0),\"\")","v":""},{"$f":"IFERROR(VLOOKUP(ROWS($AA$2:AA4116),K4116:$M$6000,3,0),\"\")","v":""}]
[{"$nulls":10},{"$f":"IF(ISNUMBER(SEARCH($A$3,L4117)),MAX($K$1:K4116)+1,0)","v":0},"Zenith Birla (India) Ltd","ZENITHBIR.NS",{"$nulls":12},{"$f":"IFERROR(VLOOKUP(ROWS($Z$2:Z4117),K4117:$L$6000,2,0),\"\")","v":""},{"$f":"IFERROR(VLOOKUP(ROWS($AA$2:AA4117),K4117:$M$6000,3,0),\"\")","v":""}]
[{"$nulls":10},{"$f":"IF(ISNUMBER(SEARCH($A$3,L4118)),MAX($K$1:K4117)+1,0)","v":0},"Zenith Computers Ltd","ZENITCOM.BO",{"$nulls":12},{"$f":"IFERROR(VLOOKUP(ROWS($Z$2:Z4118),K4118:$L$6000,2,0),\"\")","v":""},{"$f":"IFERROR(VLOOKUP(ROWS($AA$2:AA4118),K4118:$M$6000,3,0),\"\")","v":""}]
[{"$nulls":10},{"$f":"IF(ISNUMBER(SEARCH($A$3,L4119)),MAX($K$1:K4118)+1,0)","v":0},"Zenith Computers Ltd","ZENITHCOM.NS",{"$nulls":12},{"$f":"IFERROR(VLOOKUP(ROWS($Z$2:Z4119),K4119:$L$6000,2,0),\"\")","v":""},{"$f":"IFERROR(VLOOKUP(ROWS($AA$2:AA4119),K4119:$M$6000,3,0),\"\")","v":""}]
[{"$nulls":10},{"$f":"IF(ISNUMBER(SEARCH($A$3,L4120)),MAX($K$1:K4119)+1,0)","v":0},"Zenith Exports Ltd","ZENITHEX.BO",{"$nulls":12},{"$f":"IFERROR(VLOOKUP(ROWS($Z$2:Z4120),K4120:$L$6000,2,0),\"\")","v":""},{"$f":"IFERROR(VLOOKUP(ROWS($AA$2:AA4120),K4120:$M$6000,3,0),\"\")","v":""}]
[{"$nulls":10},{"$f":"IF(ISNUMBER(SEARCH($A$3,L4121)),MAX($K$1:K4120)+1,0)","v":0},"Zenith Exports Ltd","ZENITHEXP.NS",{"$nulls":12},{"$f":"IFERROR(VLOOKUP(ROWS($Z$2:Z4121),K4121:$L$6000,2,0),\"\")","v":""},{"$f":"IFERROR(VLOOKUP(ROWS($AA$2:AA4121),K4121:$M$6000,3,0),\"\")","v":""}]
[{"$nulls":10},{"$f":"IF(ISNUMBER(SEARCH($A$3,L4122)),MAX($K$1:K4121)+1,0)","v":0},"Zenith Fibres Ltd","ZENIFIB.BO",{"$nulls":12},{"$f":"IFERROR(VLOOKUP(ROWS($Z$2:Z4122),K4122:$L$6000,2,0),\"\")","v":""},{"$f":"IFERROR(VLOOKUP(ROWS($AA$2:AA4122),K4122:$M$6000,3,0),\"\")","v":""}]
[{"$nulls":10},{"$f":"IF(ISNUMBER(SEARCH($A$3,L4123)),MAX($K$1:K4122)+1,0)","v":0},"Zenith Healthcare Ltd","ZENITHHE.BO",{"$nulls":12},{"$f":"IFERROR(VLOOKUP(ROWS($Z$2:Z4123),K4123:$L$6000,2,0),\"\")","v":""},{"$f":"IFERROR(VLOOKUP(ROWS($AA$2:AA4123),K4123:$M$6000,3,0),\"\")","v":""}]
[{"$nulls":10},{"$f":"IF(ISNUMBER(SEARCH($A$3,L4124)),MAX($K$1:K4123)+1,0)","v":0},"Zenith Infotech Ltd","ZENITHIN.BO",{"$nulls":12},{"$f":"IFERROR(VLOOKUP(ROWS($Z$2:Z4124),K4124:$L$6000,2,0),\"\")","v":""},{"$f":"IFERROR(VLOOKUP(ROWS($AA$2:AA4124),K4124:$M$6000,3,0),\"\")","v":""}]
[{"$nulls":10},{"$f":"IF(ISNUMBER(SEARCH($A$3,L4125)),MAX($K$1:K4124)+1,0)","v":0},"Zenith Infotech Ltd","ZENITHINF.NS",{"$nulls":12},{"$f":"IFERROR(VLOOKUP(ROWS($Z$2:Z4125),K4125:$L$6000,2,0),\"\")","v":""},{"$f":"IFERROR(VLOOKUP(ROWS($AA$2:AA4125),K4125:$M$6000,3,0),\"\")","v":""}]
[{"$nulls":10},{"$f":"IF(ISNUMBER(SEARCH($A$3,L4126)),MAX($K$1:K4125)+1,0)","v":0},"Zenotech Laboratories Ltd","ZENOTECH.BO",{"$nulls":12},{"$f":"IFERROR(VLOOKUP(ROWS($Z$2:Z4126),K4126:$L$6000,2,0),\"\")","v":""},{"$f":"IFERROR(VLOOKUP(ROWS($AA$2:AA4126),K4126:$M$6000,3,0),\"\")","v":""}]
[{"$nulls":10},{"$f":"IF(ISNUMBER(SEARCH($A$3,L4127)),MAX($K$1:K4126)+1,0)","v":0},"Zensar Technologies Ltd","ZENSAR.BO",{"$nulls":12},{"$f":"IFERROR(VLOOKUP(ROWS($Z$2:Z4127),K4127:$L$6000,2,0),\"\")","v":""},{"$f":"IFERROR(VLOOKUP(ROWS($AA$2:AA4127),K4127:$M$6000,3,0),\"\")","v":""}]
[{"$nulls":10},{"$f":"IF(ISNUMBER(SEARCH($A$3,L4128)),MAX($K$1:K4127)+1,0)","v":0},"Zensar Technologies Ltd","ZENSARTEC.NS",{"$nulls":12},{"$f":"IFERROR(VLOOKUP(ROWS($Z$2:Z4128),K4128:$L$6000,2,0),\"\")","v":""},{"$f":"IFERROR(VLOOKUP(ROWS($AA$2:AA4128),K4128:$M$6000,3,0),\"\")","v":""}]
[{"$nulls":10},{"$f":"IF(ISNUMBER(SEARCH($A$3,L4129)),MAX($K$1:K4128)+1,0)","v":0},"ZF Steering Gear (India) Ltd","ZFSTEER.BO",{"$nulls":12},{"$f":"IFERROR(VLOOKUP(ROWS($Z$2:Z4129),K4129:$L$6000,2,0),\"\")","v":""},{"$f":"IFERROR(VLOOKUP(ROWS($AA$2:AA4129),K4129:$M$6000,3,0),\"\")","v":""}]
[{"$nulls":10},{"$f":"IF(ISNUMBER(SEARCH($A$3,L4130)),MAX($K$1:K4129)+1,0)","v":0},"Zicom Electronic Security","ZICOM.BO",{"$nulls":12},{"$f":"IFERROR(VLOOKUP(ROWS($Z$2:Z4130),K4130:$L$6000,2,0),\"\")","v":""},{"$f":"IFERROR(VLOOKUP(ROWS($AA$2:AA4130),K4130:$M$6000,3,0),\"\")","v":""}]
[{"$nulls":10},{"$f":"IF(ISNUMBER(SEARCH($A$3,L4131)),MAX($K$1:K4130)+1,0)","v":0},"Zicom Electronic Security","ZICOM.NS",{"$nulls":12},{"$f":"IFERROR(VLOOKUP(ROWS($Z$2:Z4131),K4131:$L$6000,2,0),\"\")","v":""},{"$f":"IFERROR(VLOOKUP(ROWS($AA$2:AA4131),K4131:$M$6000,3,0),\"\")","v":""}]
[{"$nulls":10},{"$f":"IF(ISNUMBER(SEARCH($A$3,L4132)),MAX($K$1:K4131)+1,0)","v":0},"Zodiac Clothing Co Ltd","ZODIAC.BO",{"$nulls":12},{"$f":"IFERROR(VLOOKUP(ROWS($Z$2:Z4132),K4132:$L$6000,2,0),\"\")","v":""},{"$f":"IFERROR(VLOOKUP(ROWS($AA$2:AA4132),K4132:$M$6000,3,0),\"\")","v":""}]
[{"$nulls":10},{"$f":"IF(ISNUMBER(SEARCH($A$3,L4133)),MAX($K$1:K4132)+1,0)","v":0},"Zodiac Clothing Co Ltd","ZODIACLOT.NS",{"$nulls":12},{"$f":"IFERROR(VLOOKUP(ROWS($Z$2:Z4133),K4133:$L$6000,2,0),\"\")","v":""},{"$f":"IFERROR(VLOOKUP(ROWS($AA$2:AA4133),K4133:$M$6000,3,0),\"\")","v":""}]
[{"$nulls":10},{"$f":"IF(ISNUMBER(SEARCH($A$3,L4134)),MAX($K$1:K4133)+1,0)","v":0},"Zodiac JRD- MKJ Ltd","ZODIACJR.BO",{"$nulls":12},{"$f":"IFERROR(VLOOKUP(ROWS($Z$2:Z4134),K4134:$L$6000,2,0),\"\")","v":""},{"$f":"IFERROR(VLOOKUP(ROWS($AA$2:AA4134),K4134:$M$6000,3,0),\"\")","v":""}]
[{"$nulls":10},{"$f":"IF(ISNUMBER(SEARCH($A$3,L4135)),MAX($K$1:K4134)+1,0)","v":0},"Zodiac JRD- MKJ Ltd","ZODJRDMKJ.NS",{"$nulls":12},{"$f":"IFERROR(VLOOKUP(ROWS($Z$2:Z4135),K4135:$L$6000,2,0),\"\")","v":""},{"$f":"IFERROR(VLOOKUP(ROWS($AA$2:AA4135),K4135:$M$6000,3,0),\"\")","v":""}]
[{"$nulls":10},{"$f":"IF(ISNUMBER(SEARCH($A$3,L4136)),MAX($K$1:K4135)+1,0)","v":0},"Zuari Global Ltd","ZUARIIND.BO",{"$nulls":12},{"$f":"IFERROR(VLOOKUP(ROWS($Z$2:Z4136),K4136:$L$6000,2,0),\"\")","v":""},{"$f":"IFERROR(VLOOKUP(ROWS($AA$2:AA4136),K4136:$M$6000,3,0),\"\")","v":""}]
[{"$nulls":10},{"$f":"IF(ISNUMBER(SEARCH($A$3,L4137)),MAX($K$1:K4136)+1,0)","v":0},"Zuari Global Ltd","ZUARIAGRO.NS",{"$nulls":12},{"$f":"IFERROR(VLOOKUP(ROWS($Z$2:Z4137),K4137:$L$6000,2,0),\"\")","v":""},{"$f":"IFERROR(VLOOKUP(ROWS($AA$2:AA4137),K4137:$M$6000,3,0),\"\")","v":""}]
[{"$nulls":10},{"$f":"IF(ISNUMBER(SEARCH($A$3,L4138)),MAX($K$1:K4137)+1,0)","v":0},"Zydus Wellness Ltd","ZYDUSWELL.BO",{"$nulls":12},{"$f":"IFERROR(VLOOKUP(ROWS($Z$2:Z4138),K4138:$L$6000,2,0),\"\")","v":""},{"$f":"IFERROR(VLOOKUP(ROWS($AA$2:AA4138),K4138:$M$6000,3,0),\"\")","v":""}]
[{"$nulls":10},{"$f":"IF(ISNUMBER(SEARCH($A$3,L4139)),MAX($K$1:K4138)+1,0)","v":0},{"$nulls":14},{"$f":"IFERROR(VLOOKUP(ROWS($Z$2:Z4139),K4139:$L$6000,2,0),\"\")","v":""},{"$f":"IFERROR(VLOOKUP(ROWS($AA$2:AA4139),K4139:$M$6000,3,0),\"\")","v":""}]
[{"$nulls":10},{"$f":"IF(ISNUMBER(SEARCH($A$3,L4140)),MAX($K$1:K4139)+1,0)","v":0},{"$nulls":14},{"$f":"IFERROR(VLOOKUP(ROWS($Z$2:Z4140),K4140:$L$6000,2,0),\"\")","v":""},{"$f":"IFERROR(VLOOKUP(ROWS($AA$2:AA4140),K4140:$M$6000,3,0),\"\")","v":""}]
[{"$nulls":10},{"$f":"IF(ISNUMBER(SEARCH($A$3,L4141)),MAX($K$1:K4140)+1,0)","v":0},{"$nulls":14},{"$f":"IFERROR(VLOOKUP(ROWS($Z$2:Z4141),K4141:$L$6000,2,0),\"\")","v":""},{"$f":"IFERROR(VLOOKUP(ROWS($AA$2:AA4141),K4141:$M$6000,3,0),\"\")","v":""}]
[{"$nulls":10},{"$f":"IF(ISNUMBER(SEARCH($A$3,L4142)),MAX($K$1:K4141)+1,0)","v":0},{"$nulls":14},{"$f":"IFERROR(VLOOKUP(ROWS($Z$2:Z4142),K4142:$L$6000,2,0),\"\")","v":""},{"$f":"IFERROR(VLOOKUP(ROWS($AA$2:AA4142),K4142:$M$6000,3,0),\"\")","v":""}]
[{"$nulls":10},{"$f":"IF(ISNUMBER(SEARCH($A$3,L4143)),MAX($K$1:K4142)+1,0)","v":0},{"$nulls":14},{"$f":"IFERROR(VLOOKUP(ROWS($Z$2:Z4143),K4143:$L$6000,2,0),\"\")","v":""},{"$f":"IFERROR(VLOOKUP(ROWS($AA$2:AA4143),K4143:$M$6000,3,0),\"\")","v":""}]
[{"$nulls":10},{"$f":"IF(ISNUMBER(SEARCH($A$3,L4144)),MAX($K$1:K4143)+1,0)","v":0},{"$nulls":14},{"$f":"IFERROR(VLOOKUP(ROWS($Z$2:Z4144),K4144:$L$6000,2,0),\"\")","v":""},{"$f":"IFERROR(VLOOKUP(ROWS($AA$2:AA4144),K4144:$M$6000,3,0),\"\")","v":""}]
[{"$nulls":10},{"$f":"IF(ISNUMBER(SEARCH($A$3,L4145)),MAX($K$1:K4144)+1,0)","v":0},{"$nulls":14},{"$f":"IFERROR(VLOOKUP(ROWS($Z$2:Z4145),K4145:$L$6000,2,0),\"\")","v":""},{"$f":"IFERROR(VLOOKUP(ROWS($AA$2:AA4145),K4145:$M$6000,3,0),\"\")","v":""}]
[{"$nulls":10},{"$f":"IF(ISNUMBER(SEARCH($A$3,L4146)),MAX($K$1:K4145)+1,0)","v":0},{"$nulls":14},{"$f":"IFERROR(VLOOKUP(ROWS($Z$2:Z4146),K4146:$L$6000,2,0),\"\")","v":""},{"$f":"IFERROR(VLOOKUP(ROWS($AA$2:AA4146),K4146:$M$6000,3,0),\"\")","v":""}]
[{"$nulls":10},{"$f":"IF(ISNUMBER(SEARCH($A$3,L4147)),MAX($K$1:K4146)+1,0)","v":0},{"$nulls":14},{"$f":"IFERROR(VLOOKUP(ROWS($Z$2:Z4147),K4147:$L$6000,2,0),\"\")","v":""},{"$f":"IFERROR(VLOOKUP(ROWS($AA$2:AA4147),K4147:$M$6000,3,0),\"\")","v":""}]
[{"$nulls":10},{"$f":"IF(ISNUMBER(SEARCH($A$3,L4148)),MAX($K$1:K4147)+1,0)","v":0},{"$nulls":14},{"$f":"IFERROR(VLOOKUP(ROWS($Z$2:Z4148),K4148:$L$6000,2,0),\"\")","v":""},{"$f":"IFERROR(VLOOKUP(ROWS($AA$2:AA4148),K4148:$M$6000,3,0),\"\")","v":""}]
[{"$nulls":10},{"$f":"IF(ISNUMBER(SEARCH($A$3,L4149)),MAX($K$1:K4148)+1,0)","v":0},{"$nulls":14},{"$f":"IFERROR(VLOOKUP(ROWS($Z$2:Z4149),K4149:$L$6000,2,0),\"\")","v":""},{"$f":"IFERROR(VLOOKUP(ROWS($AA$2:AA4149),K4149:$M$6000,3,0),\"\")","v":""}]
[{"$nulls":10},{"$f":"IF(ISNUMBER(SEARCH($A$3,L4150)),MAX($K$1:K4149)+1,0)","v":0},{"$nulls":14},{"$f":"IFERROR(VLOOKUP(ROWS($Z$2:Z4150),K4150:$L$6000,2,0),\"\")","v":""},{"$f":"IFERROR(VLOOKUP(ROWS($AA$2:AA4150),K4150:$M$6000,3,0),\"\")","v":""}]
[{"$nulls":10},{"$f":"IF(ISNUMBER(SEARCH($A$3,L4151)),MAX($K$1:K4150)+1,0)","v":0},{"$nulls":14},{"$f":"IFERROR(VLOOKUP(ROWS($Z$2:Z4151),K4151:$L$6000,2,0),\"\")","v":""},{"$f":"IFERROR(VLOOKUP(ROWS($AA$2:AA4151),K4151:$M$6000,3,0),\"\")","v":""}]
[{"$nulls":10},{"$f":"IF(ISNUMBER(SEARCH($A$3,L4152)),MAX($K$1:K4151)+1,0)","v":0},{"$nulls":14},{"$f":"IFERROR(VLOOKUP(ROWS($Z$2:Z4152),K4152:$L$6000,2,0),\"\")","v":""},{"$f":"IFERROR(VLOOKUP(ROWS($AA$2:AA4152),K4152:$M$6000,3,0),\"\")","v":""}]
[{"$nulls":10},{"$f":"IF(ISNUMBER(SEARCH($A$3,L4153)),MAX($K$1:K4152)+1,0)","v":0},{"$nulls":14},{"$f":"IFERROR(VLOOKUP(ROWS($Z$2:Z4153),K4153:$L$6000,2,0),\"\")","v":""},{"$f":"IFERROR(VLOOKUP(ROWS($AA$2:AA4153),K4153:$M$6000,3,0),\"\")","v":""}]
[{"$nulls":10},{"$f":"IF(ISNUMBER(SEARCH($A$3,L4154)),MAX($K$1:K4153)+1,0)","v":0},{"$nulls":14},{"$f":"IFERROR(VLOOKUP(ROWS($Z$2:Z4154),K4154:$L$6000,2,0),\"\")","v":""},{"$f":"IFERROR(VLOOKUP(ROWS($AA$2:AA4154),K4154:$M$6000,3,0),\"\")","v":""}]
[{"$nulls":10},{"$f":"IF(ISNUMBER(SEARCH($A$3,L4155)),MAX($K$1:K4154)+1,0)","v":0},{"$nulls":14},{"$f":"IFERROR(VLOOKUP(ROWS($Z$2:Z4155),K4155:$L$6000,2,0),\"\")","v":""},{"$f":"IFERROR(VLOOKUP(ROWS($AA$2:AA4155),K4155:$M$6000,3,0),\"\")","v":""}]
[{"$nulls":10},{"$f":"IF(ISNUMBER(SEARCH($A$3,L4156)),MAX($K$1:K4155)+1,0)","v":0},{"$nulls":14},{"$f":"IFERROR(VLOOKUP(ROWS($Z$2:Z4156),K4156:$L$6000,2,0),\"\")","v":""},{"$f":"IFERROR(VLOOKUP(ROWS($AA$2:AA4156),K4156:$M$6000,3,0),\"\")","v":""}]
[{"$nulls":10},{"$f":"IF(ISNUMBER(SEARCH($A$3,L4157)),MAX($K$1:K4156)+1,0)","v":0},{"$nulls":14},{"$f":"IFERROR(VLOOKUP(ROWS($Z$2:Z4157),K4157:$L$6000,2,0),\"\")","v":""},{"$f":"IFERROR(VLOOKUP(ROWS($AA$2:AA4157),K4157:$M$6000,3,0),\"\")","v":""}]
[{"$nulls":10},{"$f":"IF(ISNUMBER(SEARCH($A$3,L4158)),MAX($K$1:K4157)+1,0)","v":0},{"$nulls":14},{"$f":"IFERROR(VLOOKUP(ROWS($Z$2:Z4158),K4158:$L$6000,2,0),\"\")","v":""},{"$f":"IFERROR(VLOOKUP(ROWS($AA$2:AA4158),K4158:$M$6000,3,0),\"\")","v":""}]
[{"$nulls":10},{"$f":"IF(ISNUMBER(SEARCH($A$3,L4159)),MAX($K$1:K4158)+1,0)","v":0},{"$nulls":14},{"$f":"IFERROR(VLOOKUP(ROWS($Z$2:Z4159),K4159:$L$6000,2,0),\"\")","v":""},{"$f":"IFERROR(VLOOKUP(ROWS($AA$2:AA4159),K4159:$M$6000,3,0),\"\")","v":""}]
[{"$nulls":10},{"$f":"IF(ISNUMBER(SEARCH($A$3,L4160)),MAX($K$1:K4159)+1,0)","v":0},{"$nulls":14},{"$f":"IFERROR(VLOOKUP(ROWS($Z$2:Z4160),K4160:$L$6000,2,0),\"\")","v":""},{"$f":"IFERROR(VLOOKUP(ROWS($AA$2:AA4160),K4160:$M$6000,3,0),\"\")","v":""}]
[{"$nulls":10},{"$f":"IF(ISNUMBER(SEARCH($A$3,L4161)),MAX($K$1:K4160)+1,0)","v":0},{"$nulls":14},{"$f":"IFERROR(VLOOKUP(ROWS($Z$2:Z4161),K4161:$L$6000,2,0),\"\")","v":""},{"$f":"IFERROR(VLOOKUP(ROWS($AA$2:AA4161),K4161:$M$6000,3,0),\"\")","v":""}]
[{"$nulls":10},{"$f":"IF(ISNUMBER(SEARCH($A$3,L4162)),MAX($K$1:K4161)+1,0)","v":0},{"$nulls":14},{"$f":"IFERROR(VLOOKUP(ROWS($Z$2:Z4162),K4162:$L$6000,2,0),\"\")","v":""},{"$f":"IFERROR(VLOOKUP(ROWS($AA$2:AA4162),K4162:$M$6000,3,0),\"\")","v":""}]
[{"$nulls":10},{"$f":"IF(ISNUMBER(SEARCH($A$3,L4163)),MAX($K$1:K4162)+1,0)","v":0},{"$nulls":14},{"$f":"IFERROR(VLOOKUP(ROWS($Z$2:Z4163),K4163:$L$6000,2,0),\"\")","v":""},{"$f":"IFERROR(VLOOKUP(ROWS($AA$2:AA4163),K4163:$M$6000,3,0),\"\")","v":""}]
[{"$nulls":10},{"$f":"IF(ISNUMBER(SEARCH($A$3,L4164)),MAX($K$1:K4163)+1,0)","v":0},{"$nulls":14},{"$f":"IFERROR(VLOOKUP(ROWS($Z$2:Z4164),K4164:$L$6000,2,0),\"\")","v":""},{"$f":"IFERROR(VLOOKUP(ROWS($AA$2:AA4164),K4164:$M$6000,3,0),\"\")","v":""}]
[{"$nulls":10},{"$f":"IF(ISNUMBER(SEARCH($A$3,L4165)),MAX($K$1:K4164)+1,0)","v":0},{"$nulls":14},{"$f":"IFERROR(VLOOKUP(ROWS($Z$2:Z4165),K4165:$L$6000,2,0),\"\")","v":""},{"$f":"IFERROR(VLOOKUP(ROWS($AA$2:AA4165),K4165:$M$6000,3,0),\"\")","v":""}]
[{"$nulls":10},{"$f":"IF(ISNUMBER(SEARCH($A$3,L4166)),MAX($K$1:K4165)+1,0)","v":0},{"$nulls":14},{"$f":"IFERROR(VLOOKUP(ROWS($Z$2:Z4166),K4166:$L$6000,2,0),\"\")","v":""},{"$f":"IFERROR(VLOOKUP(ROWS($AA$2:AA4166),K4166:$M$6000,3,0),\"\")","v":""}]
[{"$nulls":10},{"$f":"IF(ISNUMBER(SEARCH($A$3,L4167)),MAX($K$1:K4166)+1,0)","v":0},{"$nulls":14},{"$f":"IFERROR(VLOOKUP(ROWS($Z$2:Z4167),K4167:$L$6000,2,0),\"\")","v":""},{"$f":"IFERROR(VLOOKUP(ROWS($AA$2:AA4167),K4167:$M$6000,3,0),\"\")","v":""}]
[{"$nulls":10},{"$f":"IF(ISNUMBER(SEARCH($A$3,L4168)),MAX($K$1:K4167)+1,0)","v":0},{"$nulls":14},{"$f":"IFERROR(VLOOKUP(ROWS($Z$2:Z4168),K4168:$L$6000,2,0),\"\")","v":""},{"$f":"IFERROR(VLOOKUP(ROWS($AA$2:AA4168),K4168:$M$6000,3,0),\"\")","v":""}]
[{"$nulls":10},{"$f":"IF(ISNUMBER(SEARCH($A$3,L4169)),MAX($K$1:K4168)+1,0)","v":0},{"$nulls":14},{"$f":"IFERROR(VLOOKUP(ROWS($Z$2:Z4169),K4169:$L$6000,2,0),\"\")","v":""},{"$f":"IFERROR(VLOOKUP(ROWS($AA$2:AA4169),K4169:$M$6000,3,0),\"\")","v":""}]
[{"$nulls":10},{"$f":"IF(ISNUMBER(SEARCH($A$3,L4170)),MAX($K$1:K4169)+1,0)","v":0},{"$nulls":14},{"$f":"IFERROR(VLOOKUP(ROWS($Z$2:Z4170),K4170:$L$6000,2,0),\"\")","v":""},{"$f":"IFERROR(VLOOKUP(ROWS($AA$2:AA4170),K4170:$M$6000,3,0),\"\")","v":""}]
[{"$nulls":10},{"$f":"IF(ISNUMBER(SEARCH($A$3,L4171)),MAX($K$1:K4170)+1,0)","v":0},{"$nulls":14},{"$f":"IFERROR(VLOOKUP(ROWS($Z$2:Z4171),K4171:$L$6000,2,0),\"\")","v":""},{"$f":"IFERROR(VLOOKUP(ROWS($AA$2:AA4171),K4171:$M$6000,3,0),\"\")","v":""}]
[{"$nulls":10},{"$f":"IF(ISNUMBER(SEARCH($A$3,L4172)),MAX($K$1:K4171)+1,0)","v":0},{"$nulls":14},{"$f":"IFERROR(VLOOKUP(ROWS($Z$2:Z4172),K4172:$L$6000,2,0),\"\")","v":""},{"$f":"IFERROR(VLOOKUP(ROWS($AA$2:AA4172),K4172:$M$6000,3,0),\"\")","v":""}]
[{"$nulls":10},{"$f":"IF(ISNUMBER(SEARCH($A$3,L4173)),MAX($K$1:K4172)+1,0)","v":0},{"$nulls":14},{"$f":"IFERROR(VLOOKUP(ROWS($Z$2:Z4173),K4173:$L$6000,2,0),\"\")","v":""},{"$f":"IFERROR(VLOOKUP(ROWS($AA$2:AA4173),K4173:$M$6000,3,0),\"\")","v":""}]
[{"$nulls":10},{"$f":"IF(ISNUMBER(SEARCH($A$3,L4174)),MAX($K$1:K4173)+1,0)","v":0},{"$nulls":14},{"$f":"IFERROR(VLOOKUP(ROWS($Z$2:Z4174),K4174:$L$6000,2,0),\"\")","v":""},{"$f":"IFERROR(VLOOKUP(ROWS($AA$2:AA4174),K4174:$M$6000,3,0),\"\")","v":""}]
[{"$nulls":10},{"$f":"IF(ISNUMBER(SEARCH($A$3,L4175)),MAX($K$1:K4174)+1,0)","v":0},{"$nulls":14},{"$f":"IFERROR(VLOOKUP(ROWS($Z$2:Z4175),K4175:$L$6000,2,0),\"\")","v":""},{"$f":"IFERROR(VLOOKUP(ROWS($AA$2:AA4175),K4175:$M$6000,3,0),\"\")","v":""}]
[{"$nulls":10},{"$f":"IF(ISNUMBER(SEARCH($A$3,L4176)),MAX($K$1:K4175)+1,0)","v":0},{"$nulls":14},{"$f":"IFERROR(VLOOKUP(ROWS($Z$2:Z4176),K4176:$L$6000,2,0),\"\")","v":""},{"$f":"IFERROR(VLOOKUP(ROWS($AA$2:AA4176),K4176:$M$6000,3,0),\"\")","v":""}]
[{"$nulls":10},{"$f":"IF(ISNUMBER(SEARCH($A$3,L4177)),MAX($K$1:K4176)+1,0)","v":0},{"$nulls":14},{"$f":"IFERROR(VLOOKUP(ROWS($Z$2:Z4177),K4177:$L$6000,2,0),\"\")","v":""},{"$f":"IFERROR(VLOOKUP(ROWS($AA$2:AA4177),K4177:$M$6000,3,0),\"\")","v":""}]
[{"$nulls":10},{"$f":"IF(ISNUMBER(SEARCH($A$3,L4178)),MAX($K$1:K4177)+1,0)","v":0},{"$nulls":14},{"$f":"IFERROR(VLOOKUP(ROWS($Z$2:Z4178),K4178:$L$6000,2,0),\"\")","v":""},{"$f":"IFERROR(VLOOKUP(ROWS($AA$2:AA4178),K4178:$M$6000,3,0),\"\")","v":""}]
[{"$nulls":10},{"$f":"IF(ISNUMBER(SEARCH($A$3,L4179)),MAX($K$1:K4178)+1,0)","v":0},{"$nulls":14},{"$f":"IFERROR(VLOOKUP(ROWS($Z$2:Z4179),K4179:$L$6000,2,0),\"\")","v":""},{"$f":"IFERROR(VLOOKUP(ROWS($AA$2:AA4179),K4179:$M$6000,3,0),\"\")","v":""}]
[{"$nulls":10},{"$f":"IF(ISNUMBER(SEARCH($A$3,L4180)),MAX($K$1:K4179)+1,0)","v":0},{"$nulls":14},{"$f":"IFERROR(VLOOKUP(ROWS($Z$2:Z4180),K4180:$L$6000,2,0),\"\")","v":""},{"$f":"IFERROR(VLOOKUP(ROWS($AA$2:AA4180),K4180:$M$6000,3,0),\"\")","v":""}]
[{"$nulls":10},{"$f":"IF(ISNUMBER(SEARCH($A$3,L4181)),MAX($K$1:K4180)+1,0)","v":0},{"$nulls":14},{"$f":"IFERROR(VLOOKUP(ROWS($Z$2:Z4181),K4181:$L$6000,2,0),\"\")","v":""},{"$f":"IFERROR(VLOOKUP(ROWS($AA$2:AA4181),K4181:$M$6000,3,0),\"\")","v":""}]
[{"$nulls":10},{"$f":"IF(ISNUMBER(SEARCH($A$3,L4182)),MAX($K$1:K4181)+1,0)","v":0},{"$nulls":14},{"$f":"IFERROR(VLOOKUP(ROWS($Z$2:Z4182),K4182:$L$6000,2,0),\"\")","v":""},{"$f":"IFERROR(VLOOKUP(ROWS($AA$2:AA4182),K4182:$M$6000,3,0),\"\")","v":""}]
[{"$nulls":10},{"$f":"IF(ISNUMBER(SEARCH($A$3,L4183)),MAX($K$1:K4182)+1,0)","v":0},{"$nulls":14},{"$f":"IFERROR(VLOOKUP(ROWS($Z$2:Z4183),K4183:$L$6000,2,0),\"\")","v":""},{"$f":"IFERROR(VLOOKUP(ROWS($AA$2:AA4183),K4183:$M$6000,3,0),\"\")","v":""}]
[{"$nulls":10},{"$f":"IF(ISNUMBER(SEARCH($A$3,L4184)),MAX($K$1:K4183)+1,0)","v":0},{"$nulls":14},{"$f":"IFERROR(VLOOKUP(ROWS($Z$2:Z4184),K4184:$L$6000,2,0),\"\")","v":""},{"$f":"IFERROR(VLOOKUP(ROWS($AA$2:AA4184),K4184:$M$6000,3,0),\"\")","v":""}]
[{"$nulls":10},{"$f":"IF(ISNUMBER(SEARCH($A$3,L4185)),MAX($K$1:K4184)+1,0)","v":0},{"$nulls":14},{"$f":"IFERROR(VLOOKUP(ROWS($Z$2:Z4185),K4185:$L$6000,2,0),\"\")","v":""},{"$f":"IFERROR(VLOOKUP(ROWS($AA$2:AA4185),K4185:$M$6000,3,0),\"\")","v":""}]
[{"$nulls":10},{"$f":"IF(ISNUMBER(SEARCH($A$3,L4186)),MAX($K$1:K4185)+1,0)","v":0},{"$nulls":14},{"$f":"IFERROR(VLOOKUP(ROWS($Z$2:Z4186),K4186:$L$6000,2,0),\"\")","v":""},{"$f":"IFERROR(VLOOKUP(ROWS($AA$2:AA4186),K4186:$M$6000,3,0),\"\")","v":""}]
[{"$nulls":10},{"$f":"IF(ISNUMBER(SEARCH($A$3,L4187)),MAX($K$1:K4186)+1,0)","v":0},{"$nulls":14},{"$f":"IFERROR(VLOOKUP(ROWS($Z$2:Z4187),K4187:$L$6000,2,0),\"\")","v":""},{"$f":"IFERROR(VLOOKUP(ROWS($AA$2:AA4187),K4187:$M$6000,3,0),\"\")","v":""}]
[{"$nulls":10},{"$f":"IF(ISNUMBER(SEARCH($A$3,L4188)),MAX($K$1:K4187)+1,0)","v":0},{"$nulls":14},{"$f":"IFERROR(VLOOKUP(ROWS($Z$2:Z4188),K4188:$L$6000,2,0),\"\")","v":""},{"$f":"IFERROR(VLOOKUP(ROWS($AA$2:AA4188),K4188:$M$6000,3,0),\"\")","v":""}]
[{"$nulls":10},{"$f":"IF(ISNUMBER(SEARCH($A$3,L4189)),MAX($K$1:K4188)+1,0)","v":0},{"$nulls":14},{"$f":"IFERROR(VLOOKUP(ROWS($Z$2:Z4189),K4189:$L$6000,2,0),\"\")","v":""},{"$f":"IFERROR(VLOOKUP(ROWS($AA$2:AA4189),K4189:$M$6000,3,0),\"\")","v":""}]
[{"$nulls":10},{"$f":"IF(ISNUMBER(SEARCH($A$3,L4190)),MAX($K$1:K4189)+1,0)","v":0},{"$nulls":14},{"$f":"IFERROR(VLOOKUP(ROWS($Z$2:Z4190),K4190:$L$6000,2,0),\"\")","v":""},{"$f":"IFERROR(VLOOKUP(ROWS($AA$2:AA4190),K4190:$M$6000,3,0),\"\")","v":""}]
[{"$nulls":10},{"$f":"IF(ISNUMBER(SEARCH($A$3,L4191)),MAX($K$1:K4190)+1,0)","v":0},{"$nulls":14},{"$f":"IFERROR(VLOOKUP(ROWS($Z$2:Z4191),K4191:$L$6000,2,0),\"\")","v":""},{"$f":"IFERROR(VLOOKUP(ROWS($AA$2:AA4191),K4191:$M$6000,3,0),\"\")","v":""}]
[{"$nulls":10},{"$f":"IF(ISNUMBER(SEARCH($A$3,L4192)),MAX($K$1:K4191)+1,0)","v":0},{"$nulls":14},{"$f":"IFERROR(VLOOKUP(ROWS($Z$2:Z4192),K4192:$L$6000,2,0),\"\")","v":""},{"$f":"IFERROR(VLOOKUP(ROWS($AA$2:AA4192),K4192:$M$6000,3,0),\"\")","v":""}]
[{"$nulls":10},{"$f":"IF(ISNUMBER(SEARCH($A$3,L4193)),MAX($K$1:K4192)+1,0)","v":0},{"$nulls":14},{"$f":"IFERROR(VLOOKUP(ROWS($Z$2:Z4193),K4193:$L$6000,2,0),\"\")","v":""},{"$f":"IFERROR(VLOOKUP(ROWS($AA$2:AA4193),K4193:$M$6000,3,0),\"\")","v":""}]
[{"$nulls":10},{"$f":"IF(ISNUMBER(SEARCH($A$3,L4194)),MAX($K$1:K4193)+1,0)","v":0},{"$nulls":14},{"$f":"IFERROR(VLOOKUP(ROWS($Z$2:Z4194),K4194:$L$6000,2,0),\"\")","v":""},{"$f":"IFERROR(VLOOKUP(ROWS($AA$2:AA4194),K4194:$M$6000,3,0),\"\")","v":""}]
[{"$nulls":10},{"$f":"IF(ISNUMBER(SEARCH($A$3,L4195)),MAX($K$1:K4194)+1,0)","v":0},{"$nulls":14},{"$f":"IFERROR(VLOOKUP(ROWS($Z$2:Z4195),K4195:$L$6000,2,0),\"\")","v":""},{"$f":"IFERROR(VLOOKUP(ROWS($AA$2:AA4195),K4195:$M$6000,3,0),\"\")","v":""}]
[{"$nulls":10},{"$f":"IF(ISNUMBER(SEARCH($A$3,L4196)),MAX($K$1:K4195)+1,0)","v":0},{"$nulls":14},{"$f":"IFERROR(VLOOKUP(ROWS($Z$2:Z4196),K4196:$L$6000,2,0),\"\")","v":""},{"$f":"IFERROR(VLOOKUP(ROWS($AA$2:AA4196),K4196:$M$6000,3,0),\"\")","v":""}]
[{"$nulls":10},{"$f":"IF(ISNUMBER(SEARCH($A$3,L4197)),MAX($K$1:K4196)+1,0)","v":0},{"$nulls":14},{"$f":"IFERROR(VLOOKUP(ROWS($Z$2:Z4197),K4197:$L$6000,2,0),\"\")","v":""},{"$f":"IFERROR(VLOOKUP(ROWS($AA$2:AA4197),K4197:$M$6000,3,0),\"\")","v":""}]
[{"$nulls":10},{"$f":"IF(ISNUMBER(SEARCH($A$3,L4198)),MAX($K$1:K4197)+1,0)","v":0},{"$nulls":14},{"$f":"IFERROR(VLOOKUP(ROWS($Z$2:Z4198),K4198:$L$6000,2,0),\"\")","v":""},{"$f":"IFERROR(VLOOKUP(ROWS($AA$2:AA4198),K4198:$M$6000,3,0),\"\")","v":""}]
[{"$nulls":10},{"$f":"IF(ISNUMBER(SEARCH($A$3,L4199)),MAX($K$1:K4198)+1,0)","v":0},{"$nulls":14},{"$f":"IFERROR(VLOOKUP(ROWS($Z$2:Z4199),K4199:$L$6000,2,0),\"\")","v":""},{"$f":"IFERROR(VLOOKUP(ROWS($AA$2:AA4199),K4199:$M$6000,3,0),\"\")","v":""}]
[{"$nulls":10},{"$f":"IF(ISNUMBER(SEARCH($A$3,L4200)),MAX($K$1:K4199)+1,0)","v":0},{"$nulls":14},{"$f":"IFERROR(VLOOKUP(ROWS($Z$2:Z4200),K4200:$L$6000,2,0),\"\")","v":""},{"$f":"IFERROR(VLOOKUP(ROWS($AA$2:AA4200),K4200:$M$6000,3,0),\"\")","v":""}]
[{"$nulls":10},{"$f":"IF(ISNUMBER(SEARCH($A$3,L4201)),MAX($K$1:K4200)+1,0)","v":0},{"$nulls":14},{"$f":"IFERROR(VLOOKUP(ROWS($Z$2:Z4201),K4201:$L$6000,2,0),\"\")","v":""},{"$f":"IFERROR(VLOOKUP(ROWS($AA$2:AA4201),K4201:$M$6000,3,0),\"\")","v":""}]
[{"$nulls":10},{"$f":"IF(ISNUMBER(SEARCH($A$3,L4202)),MAX($K$1:K4201)+1,0)","v":0},{"$nulls":14},{"$f":"IFERROR(VLOOKUP(ROWS($Z$2:Z4202),K4202:$L$6000,2,0),\"\")","v":""},{"$f":"IFERROR(VLOOKUP(ROWS($AA$2:AA4202),K4202:$M$6000,3,0),\"\")","v":""}]
[{"$nulls":10},{"$f":"IF(ISNUMBER(SEARCH($A$3,L4203)),MAX($K$1:K4202)+1,0)","v":0},{"$nulls":14},{"$f":"IFERROR(VLOOKUP(ROWS($Z$2:Z4203),K4203:$L$6000,2,0),\"\")","v":""},{"$f":"IFERROR(VLOOKUP(ROWS($AA$2:AA4203),K4203:$M$6000,3,0),\"\")","v":""}]
[{"$nulls":10},{"$f":"IF(ISNUMBER(SEARCH($A$3,L4204)),MAX($K$1:K4203)+1,0)","v":0},{"$nulls":14},{"$f":"IFERROR(VLOOKUP(ROWS($Z$2:Z4204),K4204:$L$6000,2,0),\"\")","v":""},{"$f":"IFERROR(VLOOKUP(ROWS($AA$2:AA4204),K4204:$M$6000,3,0),\"\")","v":""}]
[{"$nulls":10},{"$f":"IF(ISNUMBER(SEARCH($A$3,L4205)),MAX($K$1:K4204)+1,0)","v":0},{"$nulls":14},{"$f":"IFERROR(VLOOKUP(ROWS($Z$2:Z4205),K4205:$L$6000,2,0),\"\")","v":""},{"$f":"IFERROR(VLOOKUP(ROWS($AA$2:AA4205),K4205:$M$6000,3,0),\"\")","v":""}]
[{"$nulls":10},{"$f":"IF(ISNUMBER(SEARCH($A$3,L4206)),MAX($K$1:K4205)+1,0)","v":0},{"$nulls":14},{"$f":"IFERROR(VLOOKUP(ROWS($Z$2:Z4206),K4206:$L$6000,2,0),\"\")","v":""},{"$f":"IFERROR(VLOOKUP(ROWS($AA$2:AA4206),K4206:$M$6000,3,0),\"\")","v":""}]
[{"$nulls":10},{"$f":"IF(ISNUMBER(SEARCH($A$3,L4207)),MAX($K$1:K4206)+1,0)","v":0},{"$nulls":14},{"$f":"IFERROR(VLOOKUP(ROWS($Z$2:Z4207),K4207:$L$6000,2,0),\"\")","v":""},{"$f":"IFERROR(VLOOKUP(ROWS($AA$2:AA4207),K4207:$M$6000,3,0),\"\")","v":""}]
[{"$nulls":10},{"$f":"IF(ISNUMBER(SEARCH($A$3,L4208)),MAX($K$1:K4207)+1,0)","v":0},{"$nulls":14},{"$f":"IFERROR(VLOOKUP(ROWS($Z$2:Z4208),K4208:$L$6000,2,0),\"\")","v":""},{"$f":"IFERROR(VLOOKUP(ROWS($AA$2:AA4208),K4208:$M$6000,3,0),\"\")","v":""}]
[{"$nulls":10},{"$f":"IF(ISNUMBER(SEARCH($A$3,L4209)),MAX($K$1:K4208)+1,0)","v":0},{"$nulls":14},{"$f":"IFERROR(VLOOKUP(ROWS($Z$2:Z4209),K4209:$L$6000,2,0),\"\")","v":""},{"$f":"IFERROR(VLOOKUP(ROWS($AA$2:AA4209),K4209:$M$6000,3,0),\"\")","v":""}]
[{"$nulls":10},{"$f":"IF(ISNUMBER(SEARCH($A$3,L4210)),MAX($K$1:K4209)+1,0)","v":0},{"$nulls":14},{"$f":"IFERROR(VLOOKUP(ROWS($Z$2:Z4210),K4210:$L$6000,2,0),\"\")","v":""},{"$f":"IFERROR(VLOOKUP(ROWS($AA$2:AA4210),K4210:$M$6000,3,0),\"\")","v":""}]
[{"$nulls":10},{"$f":"IF(ISNUMBER(SEARCH($A$3,L4211)),MAX($K$1:K4210)+1,0)","v":0},{"$nulls":14},{"$f":"IFERROR(VLOOKUP(ROWS($Z$2:Z4211),K4211:$L$6000,2,0),\"\")","v":""},{"$f":"IFERROR(VLOOKUP(ROWS($AA$2:AA4211),K4211:$M$6000,3,0),\"\")","v":""}]
[{"$nulls":10},{"$f":"IF(ISNUMBER(SEARCH($A$3,L4212)),MAX($K$1:K4211)+1,0)","v":0},{"$nulls":14},{"$f":"IFERROR(VLOOKUP(ROWS($Z$2:Z4212),K4212:$L$6000,2,0),\"\")","v":""},{"$f":"IFERROR(VLOOKUP(ROWS($AA$2:AA4212),K4212:$M$6000,3,0),\"\")","v":""}]
[{"$nulls":10},{"$f":"IF(ISNUMBER(SEARCH($A$3,L4213)),MAX($K$1:K4212)+1,0)","v":0},{"$nulls":14},{"$f":"IFERROR(VLOOKUP(ROWS($Z$2:Z4213),K4213:$L$6000,2,0),\"\")","v":""},{"$f":"IFERROR(VLOOKUP(ROWS($AA$2:AA4213),K4213:$M$6000,3,0),\"\")","v":""}]
[{"$nulls":10},{"$f":"IF(ISNUMBER(SEARCH($A$3,L4214)),MAX($K$1:K4213)+1,0)","v":0},{"$nulls":14},{"$f":"IFERROR(VLOOKUP(ROWS($Z$2:Z4214),K4214:$L$6000,2,0),\"\")","v":""},{"$f":"IFERROR(VLOOKUP(ROWS($AA$2:AA4214),K4214:$M$6000,3,0),\"\")","v":""}]
[{"$nulls":10},{"$f":"IF(ISNUMBER(SEARCH($A$3,L4215)),MAX($K$1:K4214)+1,0)","v":0},{"$nulls":14},{"$f":"IFERROR(VLOOKUP(ROWS($Z$2:Z4215),K4215:$L$6000,2,0),\"\")","v":""},{"$f":"IFERROR(VLOOKUP(ROWS($AA$2:AA4215),K4215:$M$6000,3,0),\"\")","v":""}]
[{"$nulls":10},{"$f":"IF(ISNUMBER(SEARCH($A$3,L4216)),MAX($K$1:K4215)+1,0)","v":0},{"$nulls":14},{"$f":"IFERROR(VLOOKUP(ROWS($Z$2:Z4216),K4216:$L$6000,2,0),\"\")","v":""},{"$f":"IFERROR(VLOOKUP(ROWS($AA$2:AA4216),K4216:$M$6000,3,0),\"\")","v":""}]
[{"$nulls":10},{"$f":"IF(ISNUMBER(SEARCH($A$3,L4217)),MAX($K$1:K4216)+1,0)","v":0},{"$nulls":14},{"$f":"IFERROR(VLOOKUP(ROWS($Z$2:Z4217),K4217:$L$6000,2,0),\"\")","v":""},{"$f":"IFERROR(VLOOKUP(ROWS($AA$2:AA4217),K4217:$M$6000,3,0),\"\")","v":""}]
[{"$nulls":10},{"$f":"IF(ISNUMBER(SEARCH($A$3,L4218)),MAX($K$1:K4217)+1,0)","v":0},{"$nulls":14},{"$f":"IFERROR(VLOOKUP(ROWS($Z$2:Z4218),K4218:$L$6000,2,0),\"\")","v":""},{"$f":"IFERROR(VLOOKUP(ROWS($AA$2:AA4218),K4218:$M$6000,3,0),\"\")","v":""}]
[{"$nulls":10},{"$f":"IF(ISNUMBER(SEARCH($A$3,L4219)),MAX($K$1:K4218)+1,0)","v":0},{"$nulls":14},{"$f":"IFERROR(VLOOKUP(ROWS($Z$2:Z4219),K4219:$L$6000,2,0),\"\")","v":""},{"$f":"IFERROR(VLOOKUP(ROWS($AA$2:AA4219),K4219:$M$6000,3,0),\"\")","v":""}]
[{"$nulls":10},{"$f":"IF(ISNUMBER(SEARCH($A$3,L4220)),MAX($K$1:K4219)+1,0)","v":0},{"$nulls":14},{"$f":"IFERROR(VLOOKUP(ROWS($Z$2:Z4220),K4220:$L$6000,2,0),\"\")","v":""},{"$f":"IFERROR(VLOOKUP(ROWS($AA$2:AA4220),K4220:$M$6000,3,0),\"\")","v":""}]
[{"$nulls":10},{"$f":"IF(ISNUMBER(SEARCH($A$3,L4221)),MAX($K$1:K4220)+1,0)","v":0},{"$nulls":14},{"$f":"IFERROR(VLOOKUP(ROWS($Z$2:Z4221),K4221:$L$6000,2,0),\"\")","v":""},{"$f":"IFERROR(VLOOKUP(ROWS($AA$2:AA4221),K4221:$M$6000,3,0),\"\")","v":""}]
[{"$nulls":10},{"$f":"IF(ISNUMBER(SEARCH($A$3,L4222)),MAX($K$1:K4221)+1,0)","v":0},{"$nulls":14},{"$f":"IFERROR(VLOOKUP(ROWS($Z$2:Z4222),K4222:$L$6000,2,0),\"\")","v":""},{"$f":"IFERROR(VLOOKUP(ROWS($AA$2:AA4222),K4222:$M$6000,3,0),\"\")","v":""}]
[{"$nulls":10},{"$f":"IF(ISNUMBER(SEARCH($A$3,L4223)),MAX($K$1:K4222)+1,0)","v":0},{"$nulls":14},{"$f":"IFERROR(VLOOKUP(ROWS($Z$2:Z4223),K4223:$L$6000,2,0),\"\")","v":""},{"$f":"IFERROR(VLOOKUP(ROWS($AA$2:AA4223),K4223:$M$6000,3,0),\"\")","v":""}]
[{"$nulls":10},{"$f":"IF(ISNUMBER(SEARCH($A$3,L4224)),MAX($K$1:K4223)+1,0)","v":0},{"$nulls":14},{"$f":"IFERROR(VLOOKUP(ROWS($Z$2:Z4224),K4224:$L$6000,2,0),\"\")","v":""},{"$f":"IFERROR(VLOOKUP(ROWS($AA$2:AA4224),K4224:$M$6000,3,0),\"\")","v":""}]
[{"$nulls":10},{"$f":"IF(ISNUMBER(SEARCH($A$3,L4225)),MAX($K$1:K4224)+1,0)","v":0},{"$nulls":14},{"$f":"IFERROR(VLOOKUP(ROWS($Z$2:Z4225),K4225:$L$6000,2,0),\"\")","v":""},{"$f":"IFERROR(VLOOKUP(ROWS($AA$2:AA4225),K4225:$M$6000,3,0),\"\")","v":""}]
[{"$nulls":10},{"$f":"IF(ISNUMBER(SEARCH($A$3,L4226)),MAX($K$1:K4225)+1,0)","v":0},{"$nulls":14},{"$f":"IFERROR(VLOOKUP(ROWS($Z$2:Z4226),K4226:$L$6000,2,0),\"\")","v":""},{"$f":"IFERROR(VLOOKUP(ROWS($AA$2:AA4226),K4226:$M$6000,3,0),\"\")","v":""}]
[{"$nulls":10},{"$f":"IF(ISNUMBER(SEARCH($A$3,L4227)),MAX($K$1:K4226)+1,0)","v":0},{"$nulls":14},{"$f":"IFERROR(VLOOKUP(ROWS($Z$2:Z4227),K4227:$L$6000,2,0),\"\")","v":""},{"$f":"IFERROR(VLOOKUP(ROWS($AA$2:AA4227),K4227:$M$6000,3,0),\"\")","v":""}]
[{"$nulls":10},{"$f":"IF(ISNUMBER(SEARCH($A$3,L4228)),MAX($K$1:K4227)+1,0)","v":0},{"$nulls":14},{"$f":"IFERROR(VLOOKUP(ROWS($Z$2:Z4228),K4228:$L$6000,2,0),\"\")","v":""},{"$f":"IFERROR(VLOOKUP(ROWS($AA$2:AA4228),K4228:$M$6000,3,0),\"\")","v":""}]
[{"$nulls":10},{"$f":"IF(ISNUMBER(SEARCH($A$3,L4229)),MAX($K$1:K4228)+1,0)","v":0},{"$nulls":14},{"$f":"IFERROR(VLOOKUP(ROWS($Z$2:Z4229),K4229:$L$6000,2,0),\"\")","v":""},{"$f":"IFERROR(VLOOKUP(ROWS($AA$2:AA4229),K4229:$M$6000,3,0),\"\")","v":""}]
[{"$nulls":10},{"$f":"IF(ISNUMBER(SEARCH($A$3,L4230)),MAX($K$1:K4229)+1,0)","v":0},{"$nulls":14},{"$f":"IFERROR(VLOOKUP(ROWS($Z$2:Z4230),K4230:$L$6000,2,0),\"\")","v":""},{"$f":"IFERROR(VLOOKUP(ROWS($AA$2:AA4230),K4230:$M$6000,3,0),\"\")","v":""}]
[{"$nulls":10},{"$f":"IF(ISNUMBER(SEARCH($A$3,L4231)),MAX($K$1:K4230)+1,0)","v":0},{"$nulls":14},{"$f":"IFERROR(VLOOKUP(ROWS($Z$2:Z4231),K4231:$L$6000,2,0),\"\")","v":""},{"$f":"IFERROR(VLOOKUP(ROWS($AA$2:AA4231),K4231:$M$6000,3,0),\"\")","v":""}]
[{"$nulls":10},{"$f":"IF(ISNUMBER(SEARCH($A$3,L4232)),MAX($K$1:K4231)+1,0)","v":0},{"$nulls":14},{"$f":"IFERROR(VLOOKUP(ROWS($Z$2:Z4232),K4232:$L$6000,2,0),\"\")","v":""},{"$f":"IFERROR(VLOOKUP(ROWS($AA$2:AA4232),K4232:$M$6000,3,0),\"\")","v":""}]
[{"$nulls":10},{"$f":"IF(ISNUMBER(SEARCH($A$3,L4233)),MAX($K$1:K4232)+1,0)","v":0},{"$nulls":14},{"$f":"IFERROR(VLOOKUP(ROWS($Z$2:Z4233),K4233:$L$6000,2,0),\"\")","v":""},{"$f":"IFERROR(VLOOKUP(ROWS($AA$2:AA4233),K4233:$M$6000,3,0),\"\")","v":""}]
[{"$nulls":10},{"$f":"IF(ISNUMBER(SEARCH($A$3,L4234)),MAX($K$1:K4233)+1,0)","v":0},{"$nulls":14},{"$f":"IFERROR(VLOOKUP(ROWS($Z$2:Z4234),K4234:$L$6000,2,0),\"\")","v":""},{"$f":"IFERROR(VLOOKUP(ROWS($AA$2:AA4234),K4234:$M$6000,3,0),\"\")","v":""}]
[{"$nulls":10},{"$f":"IF(ISNUMBER(SEARCH($A$3,L4235)),MAX($K$1:K4234)+1,0)","v":0},{"$nulls":14},{"$f":"IFERROR(VLOOKUP(ROWS($Z$2:Z4235),K4235:$L$6000,2,0),\"\")","v":""},{"$f":"IFERROR(VLOOKUP(ROWS($AA$2:AA4235),K4235:$M$6000,3,0),\"\")","v":""}]
[{"$nulls":10},{"$f":"IF(ISNUMBER(SEARCH($A$3,L4236)),MAX($K$1:K4235)+1,0)","v":0},{"$nulls":14},{"$f":"IFERROR(VLOOKUP(ROWS($Z$2:Z4236),K4236:$L$6000,2,0),\"\")","v":""},{"$f":"IFERROR(VLOOKUP(ROWS($AA$2:AA4236),K4236:$M$6000,3,0),\"\")","v":""}]
[{"$nulls":10},{"$f":"IF(ISNUMBER(SEARCH($A$3,L4237)),MAX($K$1:K4236)+1,0)","v":0},{"$nulls":14},{"$f":"IFERROR(VLOOKUP(ROWS($Z$2:Z4237),K4237:$L$6000,2,0),\"\")","v":""},{"$f":"IFERROR(VLOOKUP(ROWS($AA$2:AA4237),K4237:$M$6000,3,0),\"\")","v":""}]
[{"$nulls":10},{"$f":"IF(ISNUMBER(SEARCH($A$3,L4238)),MAX($K$1:K4237)+1,0)","v":0},{"$nulls":14},{"$f":"IFERROR(VLOOKUP(ROWS($Z$2:Z4238),K4238:$L$6000,2,0),\"\")","v":""},{"$f":"IFERROR(VLOOKUP(ROWS($AA$2:AA4238),K4238:$M$6000,3,0),\"\")","v":""}]
[{"$nulls":10},{"$f":"IF(ISNUMBER(SEARCH($A$3,L4239)),MAX($K$1:K4238)+1,0)","v":0},{"$nulls":14},{"$f":"IFERROR(VLOOKUP(ROWS($Z$2:Z4239),K4239:$L$6000,2,0),\"\")","v":""},{"$f":"IFERROR(VLOOKUP(ROWS($AA$2:AA4239),K4239:$M$6000,3,0),\"\")","v":""}]
[{"$nulls":10},{"$f":"IF(ISNUMBER(SEARCH($A$3,L4240)),MAX($K$1:K4239)+1,0)","v":0},{"$nulls":14},{"$f":"IFERROR(VLOOKUP(ROWS($Z$2:Z4240),K4240:$L$6000,2,0),\"\")","v":""},{"$f":"IFERROR(VLOOKUP(ROWS($AA$2:AA4240),K4240:$M$6000,3,0),\"\")","v":""}]
[{"$nulls":10},{"$f":"IF(ISNUMBER(SEARCH($A$3,L4241)),MAX($K$1:K4240)+1,0)","v":0},{"$nulls":14},{"$f":"IFERROR(VLOOKUP(ROWS($Z$2:Z4241),K4241:$L$6000,2,0),\"\")","v":""},{"$f":"IFERROR(VLOOKUP(ROWS($AA$2:AA4241),K4241:$M$6000,3,0),\"\")","v":""}]
[{"$nulls":10},{"$f":"IF(ISNUMBER(SEARCH($A$3,L4242)),MAX($K$1:K4241)+1,0)","v":0},{"$nulls":14},{"$f":"IFERROR(VLOOKUP(ROWS($Z$2:Z4242),K4242:$L$6000,2,0),\"\")","v":""},{"$f":"IFERROR(VLOOKUP(ROWS($AA$2:AA4242),K4242:$M$6000,3,0),\"\")","v":""}]
[{"$nulls":10},{"$f":"IF(ISNUMBER(SEARCH($A$3,L4243)),MAX($K$1:K4242)+1,0)","v":0},{"$nulls":14},{"$f":"IFERROR(VLOOKUP(ROWS($Z$2:Z4243),K4243:$L$6000,2,0),\"\")","v":""},{"$f":"IFERROR(VLOOKUP(ROWS($AA$2:AA4243),K4243:$M$6000,3,0),\"\")","v":""}]
[{"$nulls":10},{"$f":"IF(ISNUMBER(SEARCH($A$3,L4244)),MAX($K$1:K4243)+1,0)","v":0},{"$nulls":14},{"$f":"IFERROR(VLOOKUP(ROWS($Z$2:Z4244),K4244:$L$6000,2,0),\"\")","v":""},{"$f":"IFERROR(VLOOKUP(ROWS($AA$2:AA4244),K4244:$M$6000,3,0),\"\")","v":""}]
[{"$nulls":10},{"$f":"IF(ISNUMBER(SEARCH($A$3,L4245)),MAX($K$1:K4244)+1,0)","v":0},{"$nulls":14},{"$f":"IFERROR(VLOOKUP(ROWS($Z$2:Z4245),K4245:$L$6000,2,0),\"\")","v":""},{"$f":"IFERROR(VLOOKUP(ROWS($AA$2:AA4245),K4245:$M$6000,3,0),\"\")","v":""}]
[{"$nulls":10},{"$f":"IF(ISNUMBER(SEARCH($A$3,L4246)),MAX($K$1:K4245)+1,0)","v":0},{"$nulls":14},{"$f":"IFERROR(VLOOKUP(ROWS($Z$2:Z4246),K4246:$L$6000,2,0),\"\")","v":""},{"$f":"IFERROR(VLOOKUP(ROWS($AA$2:AA4246),K4246:$M$6000,3,0),\"\")","v":""}]
[{"$nulls":10},{"$f":"IF(ISNUMBER(SEARCH($A$3,L4247)),MAX($K$1:K4246)+1,0)","v":0},{"$nulls":14},{"$f":"IFERROR(VLOOKUP(ROWS($Z$2:Z4247),K4247:$L$6000,2,0),\"\")","v":""},{"$f":"IFERROR(VLOOKUP(ROWS($AA$2:AA4247),K4247:$M$6000,3,0),\"\")","v":""}]
[{"$nulls":10},{"$f":"IF(ISNUMBER(SEARCH($A$3,L4248)),MAX($K$1:K4247)+1,0)","v":0},{"$nulls":14},{"$f":"IFERROR(VLOOKUP(ROWS($Z$2:Z4248),K4248:$L$6000,2,0),\"\")","v":""},{"$f":"IFERROR(VLOOKUP(ROWS($AA$2:AA4248),K4248:$M$6000,3,0),\"\")","v":""}]
[{"$nulls":10},{"$f":"IF(ISNUMBER(SEARCH($A$3,L4249)),MAX($K$1:K4248)+1,0)","v":0},{"$nulls":14},{"$f":"IFERROR(VLOOKUP(ROWS($Z$2:Z4249),K4249:$L$6000,2,0),\"\")","v":""},{"$f":"IFERROR(VLOOKUP(ROWS($AA$2:AA4249),K4249:$M$6000,3,0),\"\")","v":""}]
[{"$nulls":10},{"$f":"IF(ISNUMBER(SEARCH($A$3,L4250)),MAX($K$1:K4249)+1,0)","v":0},{"$nulls":14},{"$f":"IFERROR(VLOOKUP(ROWS($Z$2:Z4250),K4250:$L$6000,2,0),\"\")","v":""},{"$f":"IFERROR(VLOOKUP(ROWS($AA$2:AA4250),K4250:$M$6000,3,0),\"\")","v":""}]
[{"$nulls":10},{"$f":"IF(ISNUMBER(SEARCH($A$3,L4251)),MAX($K$1:K4250)+1,0)","v":0},{"$nulls":14},{"$f":"IFERROR(VLOOKUP(ROWS($Z$2:Z4251),K4251:$L$6000,2,0),\"\")","v":""},{"$f":"IFERROR(VLOOKUP(ROWS($AA$2:AA4251),K4251:$M$6000,3,0),\"\")","v":""}]
[{"$nulls":10},{"$f":"IF(ISNUMBER(SEARCH($A$3,L4252)),MAX($K$1:K4251)+1,0)","v":0},{"$nulls":14},{"$f":"IFERROR(VLOOKUP(ROWS($Z$2:Z4252),K4252:$L$6000,2,0),\"\")","v":""},{"$f":"IFERROR(VLOOKUP(ROWS($AA$2:AA4252),K4252:$M$6000,3,0),\"\")","v":""}]
[{"$nulls":10},{"$f":"IF(ISNUMBER(SEARCH($A$3,L4253)),MAX($K$1:K4252)+1,0)","v":0},{"$nulls":14},{"$f":"IFERROR(VLOOKUP(ROWS($Z$2:Z4253),K4253:$L$6000,2,0),\"\")","v":""},{"$f":"IFERROR(VLOOKUP(ROWS($AA$2:AA4253),K4253:$M$6000,3,0),\"\")","v":""}]
[{"$nulls":10},{"$f":"IF(ISNUMBER(SEARCH($A$3,L4254)),MAX($K$1:K4253)+1,0)","v":0},{"$nulls":14},{"$f":"IFERROR(VLOOKUP(ROWS($Z$2:Z4254),K4254:$L$6000,2,0),\"\")","v":""},{"$f":"IFERROR(VLOOKUP(ROWS($AA$2:AA4254),K4254:$M$6000,3,0),\"\")","v":""}]
[{"$nulls":10},{"$f":"IF(ISNUMBER(SEARCH($A$3,L4255)),MAX($K$1:K4254)+1,0)","v":0},{"$nulls":14},{"$f":"IFERROR(VLOOKUP(ROWS($Z$2:Z4255),K4255:$L$6000,2,0),\"\")","v":""},{"$f":"IFERROR(VLOOKUP(ROWS($AA$2:AA4255),K4255:$M$6000,3,0),\"\")","v":""}]
[{"$nulls":10},{"$f":"IF(ISNUMBER(SEARCH($A$3,L4256)),MAX($K$1:K4255)+1,0)","v":0},{"$nulls":14},{"$f":"IFERROR(VLOOKUP(ROWS($Z$2:Z4256),K4256:$L$6000,2,0),\"\")","v":""},{"$f":"IFERROR(VLOOKUP(ROWS($AA$2:AA4256),K4256:$M$6000,3,0),\"\")","v":""}]
[{"$nulls":10},{"$f":"IF(ISNUMBER(SEARCH($A$3,L4257)),MAX($K$1:K4256)+1,0)","v":0},{"$nulls":14},{"$f":"IFERROR(VLOOKUP(ROWS($Z$2:Z4257),K4257:$L$6000,2,0),\"\")","v":""},{"$f":"IFERROR(VLOOKUP(ROWS($AA$2:AA4257),K4257:$M$6000,3,0),\"\")","v":""}]
[{"$nulls":10},{"$f":"IF(ISNUMBER(SEARCH($A$3,L4258)),MAX($K$1:K4257)+1,0)","v":0},{"$nulls":14},{"$f":"IFERROR(VLOOKUP(ROWS($Z$2:Z4258),K4258:$L$6000,2,0),\"\")","v":""},{"$f":"IFERROR(VLOOKUP(ROWS($AA$2:AA4258),K4258:$M$6000,3,0),\"\")","v":""}]
[{"$nulls":10},{"$f":"IF(ISNUMBER(SEARCH($A$3,L4259)),MAX($K$1:K4258)+1,0)","v":0},{"$nulls":14},{"$f":"IFERROR(VLOOKUP(ROWS($Z$2:Z4259),K4259:$L$6000,2,0),\"\")","v":""},{"$f":"IFERROR(VLOOKUP(ROWS($AA$2:AA4259),K4259:$M$6000,3,0),\"\")","v":""}]
[{"$nulls":10},{"$f":"IF(ISNUMBER(SEARCH($A$3,L4260)),MAX($K$1:K4259)+1,0)","v":0},{"$nulls":14},{"$f":"IFERROR(VLOOKUP(ROWS($Z$2:Z4260),K4260:$L$6000,2,0),\"\")","v":""},{"$f":"IFERROR(VLOOKUP(ROWS($AA$2:AA4260),K4260:$M$6000,3,0),\"\")","v":""}]
[{"$nulls":10},{"$f":"IF(ISNUMBER(SEARCH($A$3,L4261)),MAX($K$1:K4260)+1,0)","v":0},{"$nulls":14},{"$f":"IFERROR(VLOOKUP(ROWS($Z$2:Z4261),K4261:$L$6000,2,0),\"\")","v":""},{"$f":"IFERROR(VLOOKUP(ROWS($AA$2:AA4261),K4261:$M$6000,3,0),\"\")","v":""}]
[{"$nulls":10},{"$f":"IF(ISNUMBER(SEARCH($A$3,L4262)),MAX($K$1:K4261)+1,0)","v":0},{"$nulls":14},{"$f":"IFERROR(VLOOKUP(ROWS($Z$2:Z4262),K4262:$L$6000,2,0),\"\")","v":""},{"$f":"IFERROR(VLOOKUP(ROWS($AA$2:AA4262),K4262:$M$6000,3,0),\"\")","v":""}]
[{"$nulls":10},{"$f":"IF(ISNUMBER(SEARCH($A$3,L4263)),MAX($K$1:K4262)+1,0)","v":0},{"$nulls":14},{"$f":"IFERROR(VLOOKUP(ROWS($Z$2:Z4263),K4263:$L$6000,2,0),\"\")","v":""},{"$f":"IFERROR(VLOOKUP(ROWS($AA$2:AA4263),K4263:$M$6000,3,0),\"\")","v":""}]
[{"$nulls":10},{"$f":"IF(ISNUMBER(SEARCH($A$3,L4264)),MAX($K$1:K4263)+1,0)","v":0},{"$nulls":14},{"$f":"IFERROR(VLOOKUP(ROWS($Z$2:Z4264),K4264:$L$6000,2,0),\"\")","v":""},{"$f":"IFERROR(VLOOKUP(ROWS($AA$2:AA4264),K4264:$M$6000,3,0),\"\")","v":""}]
[{"$nulls":10},{"$f":"IF(ISNUMBER(SEARCH($A$3,L4265)),MAX($K$1:K4264)+1,0)","v":0},{"$nulls":14},{"$f":"IFERROR(VLOOKUP(ROWS($Z$2:Z4265),K4265:$L$6000,2,0),\"\")","v":""},{"$f":"IFERROR(VLOOKUP(ROWS($AA$2:AA4265),K4265:$M$6000,3,0),\"\")","v":""}]
[{"$nulls":10},{"$f":"IF(ISNUMBER(SEARCH($A$3,L4266)),MAX($K$1:K4265)+1,0)","v":0},{"$nulls":14},{"$f":"IFERROR(VLOOKUP(ROWS($Z$2:Z4266),K4266:$L$6000,2,0),\"\")","v":""},{"$f":"IFERROR(VLOOKUP(ROWS($AA$2:AA4266),K4266:$M$6000,3,0),\"\")","v":""}]
[{"$nulls":10},{"$f":"IF(ISNUMBER(SEARCH($A$3,L4267)),MAX($K$1:K4266)+1,0)","v":0},{"$nulls":14},{"$f":"IFERROR(VLOOKUP(ROWS($Z$2:Z4267),K4267:$L$6000,2,0),\"\")","v":""},{"$f":"IFERROR(VLOOKUP(ROWS($AA$2:AA4267),K4267:$M$6000,3,0),\"\")","v":""}]
[{"$nulls":10},{"$f":"IF(ISNUMBER(SEARCH($A$3,L4268)),MAX($K$1:K4267)+1,0)","v":0},{"$nulls":14},{"$f":"IFERROR(VLOOKUP(ROWS($Z$2:Z4268),K4268:$L$6000,2,0),\"\")","v":""},{"$f":"IFERROR(VLOOKUP(ROWS($AA$2:AA4268),K4268:$M$6000,3,0),\"\")","v":""}]
[{"$nulls":10},{"$f":"IF(ISNUMBER(SEARCH($A$3,L4269)),MAX($K$1:K4268)+1,0)","v":0},{"$nulls":14},{"$f":"IFERROR(VLOOKUP(ROWS($Z$2:Z4269),K4269:$L$6000,2,0),\"\")","v":""},{"$f":"IFERROR(VLOOKUP(ROWS($AA$2:AA4269),K4269:$M$6000,3,0),\"\")","v":""}]
[{"$nulls":10},{"$f":"IF(ISNUMBER(SEARCH($A$3,L4270)),MAX($K$1:K4269)+1,0)","v":0},{"$nulls":14},{"$f":"IFERROR(VLOOKUP(ROWS($Z$2:Z4270),K4270:$L$6000,2,0),\"\")","v":""},{"$f":"IFERROR(VLOOKUP(ROWS($AA$2:AA4270),K4270:$M$6000,3,0),\"\")","v":""}]
[{"$nulls":10},{"$f":"IF(ISNUMBER(SEARCH($A$3,L4271)),MAX($K$1:K4270)+1,0)","v":0},{"$nulls":14},{"$f":"IFERROR(VLOOKUP(ROWS($Z$2:Z4271),K4271:$L$6000,2,0),\"\")","v":""},{"$f":"IFERROR(VLOOKUP(ROWS($AA$2:AA4271),K4271:$M$6000,3,0),\"\")","v":""}]
[{"$nulls":10},{"$f":"IF(ISNUMBER(SEARCH($A$3,L4272)),MAX($K$1:K4271)+1,0)","v":0},{"$nulls":14},{"$f":"IFERROR(VLOOKUP(ROWS($Z$2:Z4272),K4272:$L$6000,2,0),\"\")","v":""},{"$f":"IFERROR(VLOOKUP(ROWS($AA$2:AA4272),K4272:$M$6000,3,0),\"\")","v":""}]
[{"$nulls":10},{"$f":"IF(ISNUMBER(SEARCH($A$3,L4273)),MAX($K$1:K4272)+1,0)","v":0},{"$nulls":14},{"$f":"IFERROR(VLOOKUP(ROWS($Z$2:Z4273),K4273:$L$6000,2,0),\"\")","v":""},{"$f":"IFERROR(VLOOKUP(ROWS($AA$2:AA4273),K4273:$M$6000,3,0),\"\")","v":""}]
[{"$nulls":10},{"$f":"IF(ISNUMBER(SEARCH($A$3,L4274)),MAX($K$1:K4273)+1,0)","v":0},{"$nulls":14},{"$f":"IFERROR(VLOOKUP(ROWS($Z$2:Z4274),K4274:$L$6000,2,0),\"\")","v":""},{"$f":"IFERROR(VLOOKUP(ROWS($AA$2:AA4274),K4274:$M$6000,3,0),\"\")","v":""}]
[{"$nulls":10},{"$f":"IF(ISNUMBER(SEARCH($A$3,L4275)),MAX($K$1:K4274)+1,0)","v":0},{"$nulls":14},{"$f":"IFERROR(VLOOKUP(ROWS($Z$2:Z4275),K4275:$L$6000,2,0),\"\")","v":""},{"$f":"IFERROR(VLOOKUP(ROWS($AA$2:AA4275),K4275:$M$6000,3,0),\"\")","v":""}]
[{"$nulls":10},{"$f":"IF(ISNUMBER(SEARCH($A$3,L4276)),MAX($K$1:K4275)+1,0)","v":0},{"$nulls":14},{"$f":"IFERROR(VLOOKUP(ROWS($Z$2:Z4276),K4276:$L$6000,2,0),\"\")","v":""},{"$f":"IFERROR(VLOOKUP(ROWS($AA$2:AA4276),K4276:$M$6000,3,0),\"\")","v":""}]
[{"$nulls":10},{"$f":"IF(ISNUMBER(SEARCH($A$3,L4277)),MAX($K$1:K4276)+1,0)","v":0},{"$nulls":14},{"$f":"IFERROR(VLOOKUP(ROWS($Z$2:Z4277),K4277:$L$6000,2,0),\"\")","v":""},{"$f":"IFERROR(VLOOKUP(ROWS($AA$2:AA4277),K4277:$M$6000,3,0),\"\")","v":""}]
[{"$nulls":10},{"$f":"IF(ISNUMBER(SEARCH($A$3,L4278)),MAX($K$1:K4277)+1,0)","v":0},{"$nulls":14},{"$f":"IFERROR(VLOOKUP(ROWS($Z$2:Z4278),K4278:$L$6000,2,0),\"\")","v":""},{"$f":"IFERROR(VLOOKUP(ROWS($AA$2:AA4278),K4278:$M$6000,3,0),\"\")","v":""}]
[{"$nulls":10},{"$f":"IF(ISNUMBER(SEARCH($A$3,L4279)),MAX($K$1:K4278)+1,0)","v":0},{"$nulls":14},{"$f":"IFERROR(VLOOKUP(ROWS($Z$2:Z4279),K4279:$L$6000,2,0),\"\")","v":""},{"$f":"IFERROR(VLOOKUP(ROWS($AA$2:AA4279),K4279:$M$6000,3,0),\"\")","v":""}]
[{"$nulls":10},{"$f":"IF(ISNUMBER(SEARCH($A$3,L4280)),MAX($K$1:K4279)+1,0)","v":0},{"$nulls":14},{"$f":"IFERROR(VLOOKUP(ROWS($Z$2:Z4280),K4280:$L$6000,2,0),\"\")","v":""},{"$f":"IFERROR(VLOOKUP(ROWS($AA$2:AA4280),K4280:$M$6000,3,0),\"\")","v":""}]
[{"$nulls":10},{"$f":"IF(ISNUMBER(SEARCH($A$3,L4281)),MAX($K$1:K4280)+1,0)","v":0},{"$nulls":14},{"$f":"IFERROR(VLOOKUP(ROWS($Z$2:Z4281),K4281:$L$6000,2,0),\"\")","v":""},{"$f":"IFERROR(VLOOKUP(ROWS($AA$2:AA4281),K4281:$M$6000,3,0),\"\")","v":""}]
[{"$nulls":10},{"$f":"IF(ISNUMBER(SEARCH($A$3,L4282)),MAX($K$1:K4281)+1,0)","v":0},{"$nulls":14},{"$f":"IFERROR(VLOOKUP(ROWS($Z$2:Z4282),K4282:$L$6000,2,0),\"\")","v":""},{"$f":"IFERROR(VLOOKUP(ROWS($AA$2:AA4282),K4282:$M$6000,3,0),\"\")","v":""}]
[{"$nulls":10},{"$f":"IF(ISNUMBER(SEARCH($A$3,L4283)),MAX($K$1:K4282)+1,0)","v":0},{"$nulls":14},{"$f":"IFERROR(VLOOKUP(ROWS($Z$2:Z4283),K4283:$L$6000,2,0),\"\")","v":""},{"$f":"IFERROR(VLOOKUP(ROWS($AA$2:AA4283),K4283:$M$6000,3,0),\"\")","v":""}]
[{"$nulls":10},{"$f":"IF(ISNUMBER(SEARCH($A$3,L4284)),MAX($K$1:K4283)+1,0)","v":0},{"$nulls":14},{"$f":"IFERROR(VLOOKUP(ROWS($Z$2:Z4284),K4284:$L$6000,2,0),\"\")","v":""},{"$f":"IFERROR(VLOOKUP(ROWS($AA$2:AA4284),K4284:$M$6000,3,0),\"\")","v":""}]
[{"$nulls":10},{"$f":"IF(ISNUMBER(SEARCH($A$3,L4285)),MAX($K$1:K4284)+1,0)","v":0},{"$nulls":14},{"$f":"IFERROR(VLOOKUP(ROWS($Z$2:Z4285),K4285:$L$6000,2,0),\"\")","v":""},{"$f":"IFERROR(VLOOKUP(ROWS($AA$2:AA4285),K4285:$M$6000,3,0),\"\")","v":""}]
[{"$nulls":10},{"$f":"IF(ISNUMBER(SEARCH($A$3,L4286)),MAX($K$1:K4285)+1,0)","v":0},{"$nulls":14},{"$f":"IFERROR(VLOOKUP(ROWS($Z$2:Z4286),K4286:$L$6000,2,0),\"\")","v":""},{"$f":"IFERROR(VLOOKUP(ROWS($AA$2:AA4286),K4286:$M$6000,3,0),\"\")","v":""}]
[{"$nulls":10},{"$f":"IF(ISNUMBER(SEARCH($A$3,L4287)),MAX($K$1:K4286)+1,0)","v":0},{"$nulls":14},{"$f":"IFERROR(VLOOKUP(ROWS($Z$2:Z4287),K4287:$L$6000,2,0),\"\")","v":""},{"$f":"IFERROR(VLOOKUP(ROWS($AA$2:AA4287),K4287:$M$6000,3,0),\"\")","v":""}]
[{"$nulls":10},{"$f":"IF(ISNUMBER(SEARCH($A$3,L4288)),MAX($K$1:K4287)+1,0)","v":0},{"$nulls":14},{"$f":"IFERROR(VLOOKUP(ROWS($Z$2:Z4288),K4288:$L$6000,2,0),\"\")","v":""},{"$f":"IFERROR(VLOOKUP(ROWS($AA$2:AA4288),K4288:$M$6000,3,0),\"\")","v":""}]
[{"$nulls":10},{"$f":"IF(ISNUMBER(SEARCH($A$3,L4289)),MAX($K$1:K4288)+1,0)","v":0},{"$nulls":14},{"$f":"IFERROR(VLOOKUP(ROWS($Z$2:Z4289),K4289:$L$6000,2,0),\"\")","v":""},{"$f":"IFERROR(VLOOKUP(ROWS($AA$2:AA4289),K4289:$M$6000,3,0),\"\")","v":""}]
[{"$nulls":10},{"$f":"IF(ISNUMBER(SEARCH($A$3,L4290)),MAX($K$1:K4289)+1,0)","v":0},{"$nulls":14},{"$f":"IFERROR(VLOOKUP(ROWS($Z$2:Z4290),K4290:$L$6000,2,0),\"\")","v":""},{"$f":"IFERROR(VLOOKUP(ROWS($AA$2:AA4290),K4290:$M$6000,3,0),\"\")","v":""}]
[{"$nulls":10},{"$f":"IF(ISNUMBER(SEARCH($A$3,L4291)),MAX($K$1:K4290)+1,0)","v":0},{"$nulls":14},{"$f":"IFERROR(VLOOKUP(ROWS($Z$2:Z4291),K4291:$L$6000,2,0),\"\")","v":""},{"$f":"IFERROR(VLOOKUP(ROWS($AA$2:AA4291),K4291:$M$6000,3,0),\"\")","v":""}]
[{"$nulls":10},{"$f":"IF(ISNUMBER(SEARCH($A$3,L4292)),MAX($K$1:K4291)+1,0)","v":0},{"$nulls":14},{"$f":"IFERROR(VLOOKUP(ROWS($Z$2:Z4292),K4292:$L$6000,2,0),\"\")","v":""},{"$f":"IFERROR(VLOOKUP(ROWS($AA$2:AA4292),K4292:$M$6000,3,0),\"\")","v":""}]
[{"$nulls":10},{"$f":"IF(ISNUMBER(SEARCH($A$3,L4293)),MAX($K$1:K4292)+1,0)","v":0},{"$nulls":14},{"$f":"IFERROR(VLOOKUP(ROWS($Z$2:Z4293),K4293:$L$6000,2,0),\"\")","v":""},{"$f":"IFERROR(VLOOKUP(ROWS($AA$2:AA4293),K4293:$M$6000,3,0),\"\")","v":""}]
[{"$nulls":10},{"$f":"IF(ISNUMBER(SEARCH($A$3,L4294)),MAX($K$1:K4293)+1,0)","v":0},{"$nulls":14},{"$f":"IFERROR(VLOOKUP(ROWS($Z$2:Z4294),K4294:$L$6000,2,0),\"\")","v":""},{"$f":"IFERROR(VLOOKUP(ROWS($AA$2:AA4294),K4294:$M$6000,3,0),\"\")","v":""}]
[{"$nulls":10},{"$f":"IF(ISNUMBER(SEARCH($A$3,L4295)),MAX($K$1:K4294)+1,0)","v":0},{"$nulls":14},{"$f":"IFERROR(VLOOKUP(ROWS($Z$2:Z4295),K4295:$L$6000,2,0),\"\")","v":""},{"$f":"IFERROR(VLOOKUP(ROWS($AA$2:AA4295),K4295:$M$6000,3,0),\"\")","v":""}]
[{"$nulls":10},{"$f":"IF(ISNUMBER(SEARCH($A$3,L4296)),MAX($K$1:K4295)+1,0)","v":0},{"$nulls":14},{"$f":"IFERROR(VLOOKUP(ROWS($Z$2:Z4296),K4296:$L$6000,2,0),\"\")","v":""},{"$f":"IFERROR(VLOOKUP(ROWS($AA$2:AA4296),K4296:$M$6000,3,0),\"\")","v":""}]
[{"$nulls":10},{"$f":"IF(ISNUMBER(SEARCH($A$3,L4297)),MAX($K$1:K4296)+1,0)","v":0},{"$nulls":14},{"$f":"IFERROR(VLOOKUP(ROWS($Z$2:Z4297),K4297:$L$6000,2,0),\"\")","v":""},{"$f":"IFERROR(VLOOKUP(ROWS($AA$2:AA4297),K4297:$M$6000,3,0),\"\")","v":""}]
[{"$nulls":10},{"$f":"IF(ISNUMBER(SEARCH($A$3,L4298)),MAX($K$1:K4297)+1,0)","v":0},{"$nulls":14},{"$f":"IFERROR(VLOOKUP(ROWS($Z$2:Z4298),K4298:$L$6000,2,0),\"\")","v":""},{"$f":"IFERROR(VLOOKUP(ROWS($AA$2:AA4298),K4298:$M$6000,3,0),\"\")","v":""}]
[{"$nulls":10},{"$f":"IF(ISNUMBER(SEARCH($A$3,L4299)),MAX($K$1:K4298)+1,0)","v":0},{"$nulls":14},{"$f":"IFERROR(VLOOKUP(ROWS($Z$2:Z4299),K4299:$L$6000,2,0),\"\")","v":""},{"$f":"IFERROR(VLOOKUP(ROWS($AA$2:AA4299),K4299:$M$6000,3,0),\"\")","v":""}]
[{"$nulls":10},{"$f":"IF(ISNUMBER(SEARCH($A$3,L4300)),MAX($K$1:K4299)+1,0)","v":0},{"$nulls":14},{"$f":"IFERROR(VLOOKUP(ROWS($Z$2:Z4300),K4300:$L$6000,2,0),\"\")","v":""},{"$f":"IFERROR(VLOOKUP(ROWS($AA$2:AA4300),K4300:$M$6000,3,0),\"\")","v":""}]
[{"$nulls":10},{"$f":"IF(ISNUMBER(SEARCH($A$3,L4301)),MAX($K$1:K4300)+1,0)","v":0},{"$nulls":14},{"$f":"IFERROR(VLOOKUP(ROWS($Z$2:Z4301),K4301:$L$6000,2,0),\"\")","v":""},{"$f":"IFERROR(VLOOKUP(ROWS($AA$2:AA4301),K4301:$M$6000,3,0),\"\")","v":""}]
[{"$nulls":10},{"$f":"IF(ISNUMBER(SEARCH($A$3,L4302)),MAX($K$1:K4301)+1,0)","v":0},{"$nulls":14},{"$f":"IFERROR(VLOOKUP(ROWS($Z$2:Z4302),K4302:$L$6000,2,0),\"\")","v":""},{"$f":"IFERROR(VLOOKUP(ROWS($AA$2:AA4302),K4302:$M$6000,3,0),\"\")","v":""}]
[{"$nulls":10},{"$f":"IF(ISNUMBER(SEARCH($A$3,L4303)),MAX($K$1:K4302)+1,0)","v":0},{"$nulls":14},{"$f":"IFERROR(VLOOKUP(ROWS($Z$2:Z4303),K4303:$L$6000,2,0),\"\")","v":""},{"$f":"IFERROR(VLOOKUP(ROWS($AA$2:AA4303),K4303:$M$6000,3,0),\"\")","v":""}]
[{"$nulls":10},{"$f":"IF(ISNUMBER(SEARCH($A$3,L4304)),MAX($K$1:K4303)+1,0)","v":0},{"$nulls":14},{"$f":"IFERROR(VLOOKUP(ROWS($Z$2:Z4304),K4304:$L$6000,2,0),\"\")","v":""},{"$f":"IFERROR(VLOOKUP(ROWS($AA$2:AA4304),K4304:$M$6000,3,0),\"\")","v":""}]
[{"$nulls":10},{"$f":"IF(ISNUMBER(SEARCH($A$3,L4305)),MAX($K$1:K4304)+1,0)","v":0},{"$nulls":14},{"$f":"IFERROR(VLOOKUP(ROWS($Z$2:Z4305),K4305:$L$6000,2,0),\"\")","v":""},{"$f":"IFERROR(VLOOKUP(ROWS($AA$2:AA4305),K4305:$M$6000,3,0),\"\")","v":""}]
[{"$nulls":10},{"$f":"IF(ISNUMBER(SEARCH($A$3,L4306)),MAX($K$1:K4305)+1,0)","v":0},{"$nulls":14},{"$f":"IFERROR(VLOOKUP(ROWS($Z$2:Z4306),K4306:$L$6000,2,0),\"\")","v":""},{"$f":"IFERROR(VLOOKUP(ROWS($AA$2:AA4306),K4306:$M$6000,3,0),\"\")","v":""}]
[{"$nulls":10},{"$f":"IF(ISNUMBER(SEARCH($A$3,L4307)),MAX($K$1:K4306)+1,0)","v":0},{"$nulls":14},{"$f":"IFERROR(VLOOKUP(ROWS($Z$2:Z4307),K4307:$L$6000,2,0),\"\")","v":""},{"$f":"IFERROR(VLOOKUP(ROWS($AA$2:AA4307),K4307:$M$6000,3,0),\"\")","v":""}]
[{"$nulls":10},{"$f":"IF(ISNUMBER(SEARCH($A$3,L4308)),MAX($K$1:K4307)+1,0)","v":0},{"$nulls":14},{"$f":"IFERROR(VLOOKUP(ROWS($Z$2:Z4308),K4308:$L$6000,2,0),\"\")","v":""},{"$f":"IFERROR(VLOOKUP(ROWS($AA$2:AA4308),K4308:$M$6000,3,0),\"\")","v":""}]
[{"$nulls":10},{"$f":"IF(ISNUMBER(SEARCH($A$3,L4309)),MAX($K$1:K4308)+1,0)","v":0},{"$nulls":14},{"$f":"IFERROR(VLOOKUP(ROWS($Z$2:Z4309),K4309:$L$6000,2,0),\"\")","v":""},{"$f":"IFERROR(VLOOKUP(ROWS($AA$2:AA4309),K4309:$M$6000,3,0),\"\")","v":""}]
[{"$nulls":10},{"$f":"IF(ISNUMBER(SEARCH($A$3,L4310)),MAX($K$1:K4309)+1,0)","v":0},{"$nulls":14},{"$f":"IFERROR(VLOOKUP(ROWS($Z$2:Z4310),K4310:$L$6000,2,0),\"\")","v":""},{"$f":"IFERROR(VLOOKUP(ROWS($AA$2:AA4310),K4310:$M$6000,3,0),\"\")","v":""}]
[{"$nulls":10},{"$f":"IF(ISNUMBER(SEARCH($A$3,L4311)),MAX($K$1:K4310)+1,0)","v":0},{"$nulls":14},{"$f":"IFERROR(VLOOKUP(ROWS($Z$2:Z4311),K4311:$L$6000,2,0),\"\")","v":""},{"$f":"IFERROR(VLOOKUP(ROWS($AA$2:AA4311),K4311:$M$6000,3,0),\"\")","v":""}]
[{"$nulls":10},{"$f":"IF(ISNUMBER(SEARCH($A$3,L4312)),MAX($K$1:K4311)+1,0)","v":0},{"$nulls":14},{"$f":"IFERROR(VLOOKUP(ROWS($Z$2:Z4312),K4312:$L$6000,2,0),\"\")","v":""},{"$f":"IFERROR(VLOOKUP(ROWS($AA$2:AA4312),K4312:$M$6000,3,0),\"\")","v":""}]
[{"$nulls":10},{"$f":"IF(ISNUMBER(SEARCH($A$3,L4313)),MAX($K$1:K4312)+1,0)","v":0},{"$nulls":14},{"$f":"IFERROR(VLOOKUP(ROWS($Z$2:Z4313),K4313:$L$6000,2,0),\"\")","v":""},{"$f":"IFERROR(VLOOKUP(ROWS($AA$2:AA4313),K4313:$M$6000,3,0),\"\")","v":""}]
[{"$nulls":10},{"$f":"IF(ISNUMBER(SEARCH($A$3,L4314)),MAX($K$1:K4313)+1,0)","v":0},{"$nulls":14},{"$f":"IFERROR(VLOOKUP(ROWS($Z$2:Z4314),K4314:$L$6000,2,0),\"\")","v":""},{"$f":"IFERROR(VLOOKUP(ROWS($AA$2:AA4314),K4314:$M$6000,3,0),\"\")","v":""}]
[{"$nulls":10},{"$f":"IF(ISNUMBER(SEARCH($A$3,L4315)),MAX($K$1:K4314)+1,0)","v":0},{"$nulls":14},{"$f":"IFERROR(VLOOKUP(ROWS($Z$2:Z4315),K4315:$L$6000,2,0),\"\")","v":""},{"$f":"IFERROR(VLOOKUP(ROWS($AA$2:AA4315),K4315:$M$6000,3,0),\"\")","v":""}]
[{"$nulls":10},{"$f":"IF(ISNUMBER(SEARCH($A$3,L4316)),MAX($K$1:K4315)+1,0)","v":0},{"$nulls":14},{"$f":"IFERROR(VLOOKUP(ROWS($Z$2:Z4316),K4316:$L$6000,2,0),\"\")","v":""},{"$f":"IFERROR(VLOOKUP(ROWS($AA$2:AA4316),K4316:$M$6000,3,0),\"\")","v":""}]
[{"$nulls":10},{"$f":"IF(ISNUMBER(SEARCH($A$3,L4317)),MAX($K$1:K4316)+1,0)","v":0},{"$nulls":14},{"$f":"IFERROR(VLOOKUP(ROWS($Z$2:Z4317),K4317:$L$6000,2,0),\"\")","v":""},{"$f":"IFERROR(VLOOKUP(ROWS($AA$2:AA4317),K4317:$M$6000,3,0),\"\")","v":""}]
[{"$nulls":10},{"$f":"IF(ISNUMBER(SEARCH($A$3,L4318)),MAX($K$1:K4317)+1,0)","v":0},{"$nulls":14},{"$f":"IFERROR(VLOOKUP(ROWS($Z$2:Z4318),K4318:$L$6000,2,0),\"\")","v":""},{"$f":"IFERROR(VLOOKUP(ROWS($AA$2:AA4318),K4318:$M$6000,3,0),\"\")","v":""}]
[{"$nulls":10},{"$f":"IF(ISNUMBER(SEARCH($A$3,L4319)),MAX($K$1:K4318)+1,0)","v":0},{"$nulls":14},{"$f":"IFERROR(VLOOKUP(ROWS($Z$2:Z4319),K4319:$L$6000,2,0),\"\")","v":""},{"$f":"IFERROR(VLOOKUP(ROWS($AA$2:AA4319),K4319:$M$6000,3,0),\"\")","v":""}]
[{"$nulls":10},{"$f":"IF(ISNUMBER(SEARCH($A$3,L4320)),MAX($K$1:K4319)+1,0)","v":0},{"$nulls":14},{"$f":"IFERROR(VLOOKUP(ROWS($Z$2:Z4320),K4320:$L$6000,2,0),\"\")","v":""},{"$f":"IFERROR(VLOOKUP(ROWS($AA$2:AA4320),K4320:$M$6000,3,0),\"\")","v":""}]
[{"$nulls":10},{"$f":"IF(ISNUMBER(SEARCH($A$3,L4321)),MAX($K$1:K4320)+1,0)","v":0},{"$nulls":14},{"$f":"IFERROR(VLOOKUP(ROWS($Z$2:Z4321),K4321:$L$6000,2,0),\"\")","v":""},{"$f":"IFERROR(VLOOKUP(ROWS($AA$2:AA4321),K4321:$M$6000,3,0),\"\")","v":""}]
[{"$nulls":10},{"$f":"IF(ISNUMBER(SEARCH($A$3,L4322)),MAX($K$1:K4321)+1,0)","v":0},{"$nulls":14},{"$f":"IFERROR(VLOOKUP(ROWS($Z$2:Z4322),K4322:$L$6000,2,0),\"\")","v":""},{"$f":"IFERROR(VLOOKUP(ROWS($AA$2:AA4322),K4322:$M$6000,3,0),\"\")","v":""}]
[{"$nulls":10},{"$f":"IF(ISNUMBER(SEARCH($A$3,L4323)),MAX($K$1:K4322)+1,0)","v":0},{"$nulls":14},{"$f":"IFERROR(VLOOKUP(ROWS($Z$2:Z4323),K4323:$L$6000,2,0),\"\")","v":""},{"$f":"IFERROR(VLOOKUP(ROWS($AA$2:AA4323),K4323:$M$6000,3,0),\"\")","v":""}]
[{"$nulls":10},{"$f":"IF(ISNUMBER(SEARCH($A$3,L4324)),MAX($K$1:K4323)+1,0)","v":0},{"$nulls":14},{"$f":"IFERROR(VLOOKUP(ROWS($Z$2:Z4324),K4324:$L$6000,2,0),\"\")","v":""},{"$f":"IFERROR(VLOOKUP(ROWS($AA$2:AA4324),K4324:$M$6000,3,0),\"\")","v":""}]
[{"$nulls":10},{"$f":"IF(ISNUMBER(SEARCH($A$3,L4325)),MAX($K$1:K4324)+1,0)","v":0},{"$nulls":14},{"$f":"IFERROR(VLOOKUP(ROWS($Z$2:Z4325),K4325:$L$6000,2,0),\"\")","v":""},{"$f":"IFERROR(VLOOKUP(ROWS($AA$2:AA4325),K4325:$M$6000,3,0),\"\")","v":""}]
[{"$nulls":10},{"$f":"IF(ISNUMBER(SEARCH($A$3,L4326)),MAX($K$1:K4325)+1,0)","v":0},{"$nulls":14},{"$f":"IFERROR(VLOOKUP(ROWS($Z$2:Z4326),K4326:$L$6000,2,0),\"\")","v":""},{"$f":"IFERROR(VLOOKUP(ROWS($AA$2:AA4326),K4326:$M$6000,3,0),\"\")","v":""}]
[{"$nulls":10},{"$f":"IF(ISNUMBER(SEARCH($A$3,L4327)),MAX($K$1:K4326)+1,0)","v":0},{"$nulls":14},{"$f":"IFERROR(VLOOKUP(ROWS($Z$2:Z4327),K4327:$L$6000,2,0),\"\")","v":""},{"$f":"IFERROR(VLOOKUP(ROWS($AA$2:AA4327),K4327:$M$6000,3,0),\"\")","v":""}]
[{"$nulls":10},{"$f":"IF(ISNUMBER(SEARCH($A$3,L4328)),MAX($K$1:K4327)+1,0)","v":0},{"$nulls":14},{"$f":"IFERROR(VLOOKUP(ROWS($Z$2:Z4328),K4328:$L$6000,2,0),\"\")","v":""},{"$f":"IFERROR(VLOOKUP(ROWS($AA$2:AA4328),K4328:$M$6000,3,0),\"\")","v":""}]
[{"$nulls":10},{"$f":"IF(ISNUMBER(SEARCH($A$3,L4329)),MAX($K$1:K4328)+1,0)","v":0},{"$nulls":14},{"$f":"IFERROR(VLOOKUP(ROWS($Z$2:Z4329),K4329:$L$6000,2,0),\"\")","v":""},{"$f":"IFERROR(VLOOKUP(ROWS($AA$2:AA4329),K4329:$M$6000,3,0),\"\")","v":""}]
[{"$nulls":10},{"$f":"IF(ISNUMBER(SEARCH($A$3,L4330)),MAX($K$1:K4329)+1,0)","v":0},{"$nulls":14},{"$f":"IFERROR(VLOOKUP(ROWS($Z$2:Z4330),K4330:$L$6000,2,0),\"\")","v":""},{"$f":"IFERROR(VLOOKUP(ROWS($AA$2:AA4330),K4330:$M$6000,3,0),\"\")","v":""}]
[{"$nulls":10},{"$f":"IF(ISNUMBER(SEARCH($A$3,L4331)),MAX($K$1:K4330)+1,0)","v":0},{"$nulls":14},{"$f":"IFERROR(VLOOKUP(ROWS($Z$2:Z4331),K4331:$L$6000,2,0),\"\")","v":""},{"$f":"IFERROR(VLOOKUP(ROWS($AA$2:AA4331),K4331:$M$6000,3,0),\"\")","v":""}]
[{"$nulls":10},{"$f":"IF(ISNUMBER(SEARCH($A$3,L4332)),MAX($K$1:K4331)+1,0)","v":0},{"$nulls":14},{"$f":"IFERROR(VLOOKUP(ROWS($Z$2:Z4332),K4332:$L$6000,2,0),\"\")","v":""},{"$f":"IFERROR(VLOOKUP(ROWS($AA$2:AA4332),K4332:$M$6000,3,0),\"\")","v":""}]
[{"$nulls":10},{"$f":"IF(ISNUMBER(SEARCH($A$3,L4333)),MAX($K$1:K4332)+1,0)","v":0},{"$nulls":14},{"$f":"IFERROR(VLOOKUP(ROWS($Z$2:Z4333),K4333:$L$6000,2,0),\"\")","v":""},{"$f":"IFERROR(VLOOKUP(ROWS($AA$2:AA4333),K4333:$M$6000,3,0),\"\")","v":""}]
[{"$nulls":10},{"$f":"IF(ISNUMBER(SEARCH($A$3,L4334)),MAX($K$1:K4333)+1,0)","v":0},{"$nulls":14},{"$f":"IFERROR(VLOOKUP(ROWS($Z$2:Z4334),K4334:$L$6000,2,0),\"\")","v":""},{"$f":"IFERROR(VLOOKUP(ROWS($AA$2:AA4334),K4334:$M$6000,3,0),\"\")","v":""}]
[{"$nulls":10},{"$f":"IF(ISNUMBER(SEARCH($A$3,L4335)),MAX($K$1:K4334)+1,0)","v":0},{"$nulls":14},{"$f":"IFERROR(VLOOKUP(ROWS($Z$2:Z4335),K4335:$L$6000,2,0),\"\")","v":""},{"$f":"IFERROR(VLOOKUP(ROWS($AA$2:AA4335),K4335:$M$6000,3,0),\"\")","v":""}]
[{"$nulls":10},{"$f":"IF(ISNUMBER(SEARCH($A$3,L4336)),MAX($K$1:K4335)+1,0)","v":0},{"$nulls":14},{"$f":"IFERROR(VLOOKUP(ROWS($Z$2:Z4336),K4336:$L$6000,2,0),\"\")","v":""},{"$f":"IFERROR(VLOOKUP(ROWS($AA$2:AA4336),K4336:$M$6000,3,0),\"\")","v":""}]
[{"$nulls":10},{"$f":"IF(ISNUMBER(SEARCH($A$3,L4337)),MAX($K$1:K4336)+1,0)","v":0},{"$nulls":14},{"$f":"IFERROR(VLOOKUP(ROWS($Z$2:Z4337),K4337:$L$6000,2,0),\"\")","v":""},{"$f":"IFERROR(VLOOKUP(ROWS($AA$2:AA4337),K4337:$M$6000,3,0),\"\")","v":""}]
[{"$nulls":10},{"$f":"IF(ISNUMBER(SEARCH($A$3,L4338)),MAX($K$1:K4337)+1,0)","v":0},{"$nulls":14},{"$f":"IFERROR(VLOOKUP(ROWS($Z$2:Z4338),K4338:$L$6000,2,0),\"\")","v":""},{"$f":"IFERROR(VLOOKUP(ROWS($AA$2:AA4338),K4338:$M$6000,3,0),\"\")","v":""}]
[{"$nulls":10},{"$f":"IF(ISNUMBER(SEARCH($A$3,L4339)),MAX($K$1:K4338)+1,0)","v":0},{"$nulls":14},{"$f":"IFERROR(VLOOKUP(ROWS($Z$2:Z4339),K4339:$L$6000,2,0),\"\")","v":""},{"$f":"IFERROR(VLOOKUP(ROWS($AA$2:AA4339),K4339:$M$6000,3,0),\"\")","v":""}]
[{"$nulls":10},{"$f":"IF(ISNUMBER(SEARCH($A$3,L4340)),MAX($K$1:K4339)+1,0)","v":0},{"$nulls":14},{"$f":"IFERROR(VLOOKUP(ROWS($Z$2:Z4340),K4340:$L$6000,2,0),\"\")","v":""},{"$f":"IFERROR(VLOOKUP(ROWS($AA$2:AA4340),K4340:$M$6000,3,0),\"\")","v":""}]
[{"$nulls":10},{"$f":"IF(ISNUMBER(SEARCH($A$3,L4341)),MAX($K$1:K4340)+1,0)","v":0},{"$nulls":14},{"$f":"IFERROR(VLOOKUP(ROWS($Z$2:Z4341),K4341:$L$6000,2,0),\"\")","v":""},{"$f":"IFERROR(VLOOKUP(ROWS($AA$2:AA4341),K4341:$M$6000,3,0),\"\")","v":""}]
[{"$nulls":10},{"$f":"IF(ISNUMBER(SEARCH($A$3,L4342)),MAX($K$1:K4341)+1,0)","v":0},{"$nulls":14},{"$f":"IFERROR(VLOOKUP(ROWS($Z$2:Z4342),K4342:$L$6000,2,0),\"\")","v":""},{"$f":"IFERROR(VLOOKUP(ROWS($AA$2:AA4342),K4342:$M$6000,3,0),\"\")","v":""}]
[{"$nulls":10},{"$f":"IF(ISNUMBER(SEARCH($A$3,L4343)),MAX($K$1:K4342)+1,0)","v":0},{"$nulls":14},{"$f":"IFERROR(VLOOKUP(ROWS($Z$2:Z4343),K4343:$L$6000,2,0),\"\")","v":""},{"$f":"IFERROR(VLOOKUP(ROWS($AA$2:AA4343),K4343:$M$6000,3,0),\"\")","v":""}]
[{"$nulls":10},{"$f":"IF(ISNUMBER(SEARCH($A$3,L4344)),MAX($K$1:K4343)+1,0)","v":0},{"$nulls":14},{"$f":"IFERROR(VLOOKUP(ROWS($Z$2:Z4344),K4344:$L$6000,2,0),\"\")","v":""},{"$f":"IFERROR(VLOOKUP(ROWS($AA$2:AA4344),K4344:$M$6000,3,0),\"\")","v":""}]
[{"$nulls":10},{"$f":"IF(ISNUMBER(SEARCH($A$3,L4345)),MAX($K$1:K4344)+1,0)","v":0},{"$nulls":14},{"$f":"IFERROR(VLOOKUP(ROWS($Z$2:Z4345),K4345:$L$6000,2,0),\"\")","v":""},{"$f":"IFERROR(VLOOKUP(ROWS($AA$2:AA4345),K4345:$M$6000,3,0),\"\")","v":""}]
[{"$nulls":10},{"$f":"IF(ISNUMBER(SEARCH($A$3,L4346)),MAX($K$1:K4345)+1,0)","v":0},{"$nulls":14},{"$f":"IFERROR(VLOOKUP(ROWS($Z$2:Z4346),K4346:$L$6000,2,0),\"\")","v":""},{"$f":"IFERROR(VLOOKUP(ROWS($AA$2:AA4346),K4346:$M$6000,3,0),\"\")","v":""}]
[{"$nulls":10},{"$f":"IF(ISNUMBER(SEARCH($A$3,L4347)),MAX($K$1:K4346)+1,0)","v":0},{"$nulls":14},{"$f":"IFERROR(VLOOKUP(ROWS($Z$2:Z4347),K4347:$L$6000,2,0),\"\")","v":""},{"$f":"IFERROR(VLOOKUP(ROWS($AA$2:AA4347),K4347:$M$6000,3,0),\"\")","v":""}]
[{"$nulls":10},{"$f":"IF(ISNUMBER(SEARCH($A$3,L4348)),MAX($K$1:K4347)+1,0)","v":0},{"$nulls":14},{"$f":"IFERROR(VLOOKUP(ROWS($Z$2:Z4348),K4348:$L$6000,2,0),\"\")","v":""},{"$f":"IFERROR(VLOOKUP(ROWS($AA$2:AA4348),K4348:$M$6000,3,0),\"\")","v":""}]
[{"$nulls":10},{"$f":"IF(ISNUMBER(SEARCH($A$3,L4349)),MAX($K$1:K4348)+1,0)","v":0},{"$nulls":14},{"$f":"IFERROR(VLOOKUP(ROWS($Z$2:Z4349),K4349:$L$6000,2,0),\"\")","v":""},{"$f":"IFERROR(VLOOKUP(ROWS($AA$2:AA4349),K4349:$M$6000,3,0),\"\")","v":""}]
[{"$nulls":10},{"$f":"IF(ISNUMBER(SEARCH($A$3,L4350)),MAX($K$1:K4349)+1,0)","v":0},{"$nulls":14},{"$f":"IFERROR(VLOOKUP(ROWS($Z$2:Z4350),K4350:$L$6000,2,0),\"\")","v":""},{"$f":"IFERROR(VLOOKUP(ROWS($AA$2:AA4350),K4350:$M$6000,3,0),\"\")","v":""}]
[{"$nulls":10},{"$f":"IF(ISNUMBER(SEARCH($A$3,L4351)),MAX($K$1:K4350)+1,0)","v":0},{"$nulls":14},{"$f":"IFERROR(VLOOKUP(ROWS($Z$2:Z4351),K4351:$L$6000,2,0),\"\")","v":""},{"$f":"IFERROR(VLOOKUP(ROWS($AA$2:AA4351),K4351:$M$6000,3,0),\"\")","v":""}]
[{"$nulls":10},{"$f":"IF(ISNUMBER(SEARCH($A$3,L4352)),MAX($K$1:K4351)+1,0)","v":0},{"$nulls":14},{"$f":"IFERROR(VLOOKUP(ROWS($Z$2:Z4352),K4352:$L$6000,2,0),\"\")","v":""},{"$f":"IFERROR(VLOOKUP(ROWS($AA$2:AA4352),K4352:$M$6000,3,0),\"\")","v":""}]
[{"$nulls":10},{"$f":"IF(ISNUMBER(SEARCH($A$3,L4353)),MAX($K$1:K4352)+1,0)","v":0},{"$nulls":14},{"$f":"IFERROR(VLOOKUP(ROWS($Z$2:Z4353),K4353:$L$6000,2,0),\"\")","v":""},{"$f":"IFERROR(VLOOKUP(ROWS($AA$2:AA4353),K4353:$M$6000,3,0),\"\")","v":""}]
[{"$nulls":10},{"$f":"IF(ISNUMBER(SEARCH($A$3,L4354)),MAX($K$1:K4353)+1,0)","v":0},{"$nulls":14},{"$f":"IFERROR(VLOOKUP(ROWS($Z$2:Z4354),K4354:$L$6000,2,0),\"\")","v":""},{"$f":"IFERROR(VLOOKUP(ROWS($AA$2:AA4354),K4354:$M$6000,3,0),\"\")","v":""}]
[{"$nulls":10},{"$f":"IF(ISNUMBER(SEARCH($A$3,L4355)),MAX($K$1:K4354)+1,0)","v":0},{"$nulls":14},{"$f":"IFERROR(VLOOKUP(ROWS($Z$2:Z4355),K4355:$L$6000,2,0),\"\")","v":""},{"$f":"IFERROR(VLOOKUP(ROWS($AA$2:AA4355),K4355:$M$6000,3,0),\"\")","v":""}]
[{"$nulls":10},{"$f":"IF(ISNUMBER(SEARCH($A$3,L4356)),MAX($K$1:K4355)+1,0)","v":0},{"$nulls":14},{"$f":"IFERROR(VLOOKUP(ROWS($Z$2:Z4356),K4356:$L$6000,2,0),\"\")","v":""},{"$f":"IFERROR(VLOOKUP(ROWS($AA$2:AA4356),K4356:$M$6000,3,0),\"\")","v":""}]
[{"$nulls":10},{"$f":"IF(ISNUMBER(SEARCH($A$3,L4357)),MAX($K$1:K4356)+1,0)","v":0},{"$nulls":14},{"$f":"IFERROR(VLOOKUP(ROWS($Z$2:Z4357),K4357:$L$6000,2,0),\"\")","v":""},{"$f":"IFERROR(VLOOKUP(ROWS($AA$2:AA4357),K4357:$M$6000,3,0),\"\")","v":""}]
[{"$nulls":10},{"$f":"IF(ISNUMBER(SEARCH($A$3,L4358)),MAX($K$1:K4357)+1,0)","v":0},{"$nulls":14},{"$f":"IFERROR(VLOOKUP(ROWS($Z$2:Z4358),K4358:$L$6000,2,0),\"\")","v":""},{"$f":"IFERROR(VLOOKUP(ROWS($AA$2:AA4358),K4358:$M$6000,3,0),\"\")","v":""}]
[{"$nulls":10},{"$f":"IF(ISNUMBER(SEARCH($A$3,L4359)),MAX($K$1:K4358)+1,0)","v":0},{"$nulls":14},{"$f":"IFERROR(VLOOKUP(ROWS($Z$2:Z4359),K4359:$L$6000,2,0),\"\")","v":""},{"$f":"IFERROR(VLOOKUP(ROWS($AA$2:AA4359),K4359:$M$6000,3,0),\"\")","v":""}]
[{"$nulls":10},{"$f":"IF(ISNUMBER(SEARCH($A$3,L4360)),MAX($K$1:K4359)+1,0)","v":0},{"$nulls":14},{"$f":"IFERROR(VLOOKUP(ROWS($Z$2:Z4360),K4360:$L$6000,2,0),\"\")","v":""},{"$f":"IFERROR(VLOOKUP(ROWS($AA$2:AA4360),K4360:$M$6000,3,0),\"\")","v":""}]
[{"$nulls":10},{"$f":"IF(ISNUMBER(SEARCH($A$3,L4361)),MAX($K$1:K4360)+1,0)","v":0},{"$nulls":14},{"$f":"IFERROR(VLOOKUP(ROWS($Z$2:Z4361),K4361:$L$6000,2,0),\"\")","v":""},{"$f":"IFERROR(VLOOKUP(ROWS($AA$2:AA4361),K4361:$M$6000,3,0),\"\")","v":""}]
[{"$nulls":10},{"$f":"IF(ISNUMBER(SEARCH($A$3,L4362)),MAX($K$1:K4361)+1,0)","v":0},{"$nulls":14},{"$f":"IFERROR(VLOOKUP(ROWS($Z$2:Z4362),K4362:$L$6000,2,0),\"\")","v":""},{"$f":"IFERROR(VLOOKUP(ROWS($AA$2:AA4362),K4362:$M$6000,3,0),\"\")","v":""}]
[{"$nulls":10},{"$f":"IF(ISNUMBER(SEARCH($A$3,L4363)),MAX($K$1:K4362)+1,0)","v":0},{"$nulls":14},{"$f":"IFERROR(VLOOKUP(ROWS($Z$2:Z4363),K4363:$L$6000,2,0),\"\")","v":""},{"$f":"IFERROR(VLOOKUP(ROWS($AA$2:AA4363),K4363:$M$6000,3,0),\"\")","v":""}]
[{"$nulls":10},{"$f":"IF(ISNUMBER(SEARCH($A$3,L4364)),MAX($K$1:K4363)+1,0)","v":0},{"$nulls":14},{"$f":"IFERROR(VLOOKUP(ROWS($Z$2:Z4364),K4364:$L$6000,2,0),\"\")","v":""},{"$f":"IFERROR(VLOOKUP(ROWS($AA$2:AA4364),K4364:$M$6000,3,0),\"\")","v":""}]
[{"$nulls":10},{"$f":"IF(ISNUMBER(SEARCH($A$3,L4365)),MAX($K$1:K4364)+1,0)","v":0},{"$nulls":14},{"$f":"IFERROR(VLOOKUP(ROWS($Z$2:Z4365),K4365:$L$6000,2,0),\"\")","v":""},{"$f":"IFERROR(VLOOKUP(ROWS($AA$2:AA4365),K4365:$M$6000,3,0),\"\")","v":""}]
[{"$nulls":10},{"$f":"IF(ISNUMBER(SEARCH($A$3,L4366)),MAX($K$1:K4365)+1,0)","v":0},{"$nulls":14},{"$f":"IFERROR(VLOOKUP(ROWS($Z$2:Z4366),K4366:$L$6000,2,0),\"\")","v":""},{"$f":"IFERROR(VLOOKUP(ROWS($AA$2:AA4366),K4366:$M$6000,3,0),\"\")","v":""}]
[{"$nulls":10},{"$f":"IF(ISNUMBER(SEARCH($A$3,L4367)),MAX($K$1:K4366)+1,0)","v":0},{"$nulls":14},{"$f":"IFERROR(VLOOKUP(ROWS($Z$2:Z4367),K4367:$L$6000,2,0),\"\")","v":""},{"$f":"IFERROR(VLOOKUP(ROWS($AA$2:AA4367),K4367:$M$6000,3,0),\"\")","v":""}]
[{"$nulls":10},{"$f":"IF(ISNUMBER(SEARCH($A$3,L4368)),MAX($K$1:K4367)+1,0)","v":0},{"$nulls":14},{"$f":"IFERROR(VLOOKUP(ROWS($Z$2:Z4368),K4368:$L$6000,2,0),\"\")","v":""},{"$f":"IFERROR(VLOOKUP(ROWS($AA$2:AA4368),K4368:$M$6000,3,0),\"\")","v":""}]
[{"$nulls":10},{"$f":"IF(ISNUMBER(SEARCH($A$3,L4369)),MAX($K$1:K4368)+1,0)","v":0},{"$nulls":14},{"$f":"IFERROR(VLOOKUP(ROWS($Z$2:Z4369),K4369:$L$6000,2,0),\"\")","v":""},{"$f":"IFERROR(VLOOKUP(ROWS($AA$2:AA4369),K4369:$M$6000,3,0),\"\")","v":""}]
[{"$nulls":10},{"$f":"IF(ISNUMBER(SEARCH($A$3,L4370)),MAX($K$1:K4369)+1,0)","v":0},{"$nulls":14},{"$f":"IFERROR(VLOOKUP(ROWS($Z$2:Z4370),K4370:$L$6000,2,0),\"\")","v":""},{"$f":"IFERROR(VLOOKUP(ROWS($AA$2:AA4370),K4370:$M$6000,3,0),\"\")","v":""}]
[{"$nulls":10},{"$f":"IF(ISNUMBER(SEARCH($A$3,L4371)),MAX($K$1:K4370)+1,0)","v":0},{"$nulls":14},{"$f":"IFERROR(VLOOKUP(ROWS($Z$2:Z4371),K4371:$L$6000,2,0),\"\")","v":""},{"$f":"IFERROR(VLOOKUP(ROWS($AA$2:AA4371),K4371:$M$6000,3,0),\"\")","v":""}]
[{"$nulls":10},{"$f":"IF(ISNUMBER(SEARCH($A$3,L4372)),MAX($K$1:K4371)+1,0)","v":0},{"$nulls":14},{"$f":"IFERROR(VLOOKUP(ROWS($Z$2:Z4372),K4372:$L$6000,2,0),\"\")","v":""},{"$f":"IFERROR(VLOOKUP(ROWS($AA$2:AA4372),K4372:$M$6000,3,0),\"\")","v":""}]
[{"$nulls":10},{"$f":"IF(ISNUMBER(SEARCH($A$3,L4373)),MAX($K$1:K4372)+1,0)","v":0},{"$nulls":14},{"$f":"IFERROR(VLOOKUP(ROWS($Z$2:Z4373),K4373:$L$6000,2,0),\"\")","v":""},{"$f":"IFERROR(VLOOKUP(ROWS($AA$2:AA4373),K4373:$M$6000,3,0),\"\")","v":""}]
[{"$nulls":10},{"$f":"IF(ISNUMBER(SEARCH($A$3,L4374)),MAX($K$1:K4373)+1,0)","v":0},{"$nulls":14},{"$f":"IFERROR(VLOOKUP(ROWS($Z$2:Z4374),K4374:$L$6000,2,0),\"\")","v":""},{"$f":"IFERROR(VLOOKUP(ROWS($AA$2:AA4374),K4374:$M$6000,3,0),\"\")","v":""}]
[{"$nulls":10},{"$f":"IF(ISNUMBER(SEARCH($A$3,L4375)),MAX($K$1:K4374)+1,0)","v":0},{"$nulls":14},{"$f":"IFERROR(VLOOKUP(ROWS($Z$2:Z4375),K4375:$L$6000,2,0),\"\")","v":""},{"$f":"IFERROR(VLOOKUP(ROWS($AA$2:AA4375),K4375:$M$6000,3,0),\"\")","v":""}]
[{"$nulls":10},{"$f":"IF(ISNUMBER(SEARCH($A$3,L4376)),MAX($K$1:K4375)+1,0)","v":0},{"$nulls":14},{"$f":"IFERROR(VLOOKUP(ROWS($Z$2:Z4376),K4376:$L$6000,2,0),\"\")","v":""},{"$f":"IFERROR(VLOOKUP(ROWS($AA$2:AA4376),K4376:$M$6000,3,0),\"\")","v":""}]
[{"$nulls":10},{"$f":"IF(ISNUMBER(SEARCH($A$3,L4377)),MAX($K$1:K4376)+1,0)","v":0},{"$nulls":14},{"$f":"IFERROR(VLOOKUP(ROWS($Z$2:Z4377),K4377:$L$6000,2,0),\"\")","v":""},{"$f":"IFERROR(VLOOKUP(ROWS($AA$2:AA4377),K4377:$M$6000,3,0),\"\")","v":""}]
[{"$nulls":10},{"$f":"IF(ISNUMBER(SEARCH($A$3,L4378)),MAX($K$1:K4377)+1,0)","v":0},{"$nulls":14},{"$f":"IFERROR(VLOOKUP(ROWS($Z$2:Z4378),K4378:$L$6000,2,0),\"\")","v":""},{"$f":"IFERROR(VLOOKUP(ROWS($AA$2:AA4378),K4378:$M$6000,3,0),\"\")","v":""}]
[{"$nulls":10},{"$f":"IF(ISNUMBER(SEARCH($A$3,L4379)),MAX($K$1:K4378)+1,0)","v":0},{"$nulls":14},{"$f":"IFERROR(VLOOKUP(ROWS($Z$2:Z4379),K4379:$L$6000,2,0),\"\")","v":""},{"$f":"IFERROR(VLOOKUP(ROWS($AA$2:AA4379),K4379:$M$6000,3,0),\"\")","v":""}]
[{"$nulls":10},{"$f":"IF(ISNUMBER(SEARCH($A$3,L4380)),MAX($K$1:K4379)+1,0)","v":0},{"$nulls":14},{"$f":"IFERROR(VLOOKUP(ROWS($Z$2:Z4380),K4380:$L$6000,2,0),\"\")","v":""},{"$f":"IFERROR(VLOOKUP(ROWS($AA$2:AA4380),K4380:$M$6000,3,0),\"\")","v":""}]
[{"$nulls":10},{"$f":"IF(ISNUMBER(SEARCH($A$3,L4381)),MAX($K$1:K4380)+1,0)","v":0},{"$nulls":14},{"$f":"IFERROR(VLOOKUP(ROWS($Z$2:Z4381),K4381:$L$6000,2,0),\"\")","v":""},{"$f":"IFERROR(VLOOKUP(ROWS($AA$2:AA4381),K4381:$M$6000,3,0),\"\")","v":""}]
[{"$nulls":10},{"$f":"IF(ISNUMBER(SEARCH($A$3,L4382)),MAX($K$1:K4381)+1,0)","v":0},{"$nulls":14},{"$f":"IFERROR(VLOOKUP(ROWS($Z$2:Z4382),K4382:$L$6000,2,0),\"\")","v":""},{"$f":"IFERROR(VLOOKUP(ROWS($AA$2:AA4382),K4382:$M$6000,3,0),\"\")","v":""}]
[{"$nulls":10},{"$f":"IF(ISNUMBER(SEARCH($A$3,L4383)),MAX($K$1:K4382)+1,0)","v":0},{"$nulls":14},{"$f":"IFERROR(VLOOKUP(ROWS($Z$2:Z4383),K4383:$L$6000,2,0),\"\")","v":""},{"$f":"IFERROR(VLOOKUP(ROWS($AA$2:AA4383),K4383:$M$6000,3,0),\"\")","v":""}]
[{"$nulls":10},{"$f":"IF(ISNUMBER(SEARCH($A$3,L4384)),MAX($K$1:K4383)+1,0)","v":0},{"$nulls":14},{"$f":"IFERROR(VLOOKUP(ROWS($Z$2:Z4384),K4384:$L$6000,2,0),\"\")","v":""},{"$f":"IFERROR(VLOOKUP(ROWS($AA$2:AA4384),K4384:$M$6000,3,0),\"\")","v":""}]
[{"$nulls":10},{"$f":"IF(ISNUMBER(SEARCH($A$3,L4385)),MAX($K$1:K4384)+1,0)","v":0},{"$nulls":14},{"$f":"IFERROR(VLOOKUP(ROWS($Z$2:Z4385),K4385:$L$6000,2,0),\"\")","v":""},{"$f":"IFERROR(VLOOKUP(ROWS($AA$2:AA4385),K4385:$M$6000,3,0),\"\")","v":""}]
[{"$nulls":10},{"$f":"IF(ISNUMBER(SEARCH($A$3,L4386)),MAX($K$1:K4385)+1,0)","v":0},{"$nulls":14},{"$f":"IFERROR(VLOOKUP(ROWS($Z$2:Z4386),K4386:$L$6000,2,0),\"\")","v":""},{"$f":"IFERROR(VLOOKUP(ROWS($AA$2:AA4386),K4386:$M$6000,3,0),\"\")","v":""}]
[{"$nulls":10},{"$f":"IF(ISNUMBER(SEARCH($A$3,L4387)),MAX($K$1:K4386)+1,0)","v":0},{"$nulls":14},{"$f":"IFERROR(VLOOKUP(ROWS($Z$2:Z4387),K4387:$L$6000,2,0),\"\")","v":""},{"$f":"IFERROR(VLOOKUP(ROWS($AA$2:AA4387),K4387:$M$6000,3,0),\"\")","v":""}]
[{"$nulls":10},{"$f":"IF(ISNUMBER(SEARCH($A$3,L4388)),MAX($K$1:K4387)+1,0)","v":0},{"$nulls":14},{"$f":"IFERROR(VLOOKUP(ROWS($Z$2:Z4388),K4388:$L$6000,2,0),\"\")","v":""},{"$f":"IFERROR(VLOOKUP(ROWS($AA$2:AA4388),K4388:$M$6000,3,0),\"\")","v":""}]
[{"$nulls":10},{"$f":"IF(ISNUMBER(SEARCH($A$3,L4389)),MAX($K$1:K4388)+1,0)","v":0},{"$nulls":14},{"$f":"IFERROR(VLOOKUP(ROWS($Z$2:Z4389),K4389:$L$6000,2,0),\"\")","v":""},{"$f":"IFERROR(VLOOKUP(ROWS($AA$2:AA4389),K4389:$M$6000,3,0),\"\")","v":""}]
[{"$nulls":10},{"$f":"IF(ISNUMBER(SEARCH($A$3,L4390)),MAX($K$1:K4389)+1,0)","v":0},{"$nulls":14},{"$f":"IFERROR(VLOOKUP(ROWS($Z$2:Z4390),K4390:$L$6000,2,0),\"\")","v":""},{"$f":"IFERROR(VLOOKUP(ROWS($AA$2:AA4390),K4390:$M$6000,3,0),\"\")","v":""}]
[{"$nulls":10},{"$f":"IF(ISNUMBER(SEARCH($A$3,L4391)),MAX($K$1:K4390)+1,0)","v":0},{"$nulls":14},{"$f":"IFERROR(VLOOKUP(ROWS($Z$2:Z4391),K4391:$L$6000,2,0),\"\")","v":""},{"$f":"IFERROR(VLOOKUP(ROWS($AA$2:AA4391),K4391:$M$6000,3,0),\"\")","v":""}]
[{"$nulls":10},{"$f":"IF(ISNUMBER(SEARCH($A$3,L4392)),MAX($K$1:K4391)+1,0)","v":0},{"$nulls":14},{"$f":"IFERROR(VLOOKUP(ROWS($Z$2:Z4392),K4392:$L$6000,2,0),\"\")","v":""},{"$f":"IFERROR(VLOOKUP(ROWS($AA$2:AA4392),K4392:$M$6000,3,0),\"\")","v":""}]
[{"$nulls":10},{"$f":"IF(ISNUMBER(SEARCH($A$3,L4393)),MAX($K$1:K4392)+1,0)","v":0},{"$nulls":14},{"$f":"IFERROR(VLOOKUP(ROWS($Z$2:Z4393),K4393:$L$6000,2,0),\"\")","v":""},{"$f":"IFERROR(VLOOKUP(ROWS($AA$2:AA4393),K4393:$M$6000,3,0),\"\")","v":""}]
[{"$nulls":10},{"$f":"IF(ISNUMBER(SEARCH($A$3,L4394)),MAX($K$1:K4393)+1,0)","v":0},{"$nulls":14},{"$f":"IFERROR(VLOOKUP(ROWS($Z$2:Z4394),K4394:$L$6000,2,0),\"\")","v":""},{"$f":"IFERROR(VLOOKUP(ROWS($AA$2:AA4394),K4394:$M$6000,3,0),\"\")","v":""}]
[{"$nulls":10},{"$f":"IF(ISNUMBER(SEARCH($A$3,L4395)),MAX($K$1:K4394)+1,0)","v":0},{"$nulls":14},{"$f":"IFERROR(VLOOKUP(ROWS($Z$2:Z4395),K4395:$L$6000,2,0),\"\")","v":""},{"$f":"IFERROR(VLOOKUP(ROWS($AA$2:AA4395),K4395:$M$6000,3,0),\"\")","v":""}]
[{"$nulls":10},{"$f":"IF(ISNUMBER(SEARCH($A$3,L4396)),MAX($K$1:K4395)+1,0)","v":0},{"$nulls":14},{"$f":"IFERROR(VLOOKUP(ROWS($Z$2:Z4396),K4396:$L$6000,2,0),\"\")","v":""},{"$f":"IFERROR(VLOOKUP(ROWS($AA$2:AA4396),K4396:$M$6000,3,0),\"\")","v":""}]
[{"$nulls":10},{"$f":"IF(ISNUMBER(SEARCH($A$3,L4397)),MAX($K$1:K4396)+1,0)","v":0},{"$nulls":14},{"$f":"IFERROR(VLOOKUP(ROWS($Z$2:Z4397),K4397:$L$6000,2,0),\"\")","v":""},{"$f":"IFERROR(VLOOKUP(ROWS($AA$2:AA4397),K4397:$M$6000,3,0),\"\")","v":""}]
[{"$nulls":10},{"$f":"IF(ISNUMBER(SEARCH($A$3,L4398)),MAX($K$1:K4397)+1,0)","v":0},{"$nulls":14},{"$f":"IFERROR(VLOOKUP(ROWS($Z$2:Z4398),K4398:$L$6000,2,0),\"\")","v":""},{"$f":"IFERROR(VLOOKUP(ROWS($AA$2:AA4398),K4398:$M$6000,3,0),\"\")","v":""}]
[{"$nulls":10},{"$f":"IF(ISNUMBER(SEARCH($A$3,L4399)),MAX($K$1:K4398)+1,0)","v":0},{"$nulls":14},{"$f":"IFERROR(VLOOKUP(ROWS($Z$2:Z4399),K4399:$L$6000,2,0),\"\")","v":""},{"$f":"IFERROR(VLOOKUP(ROWS($AA$2:AA4399),K4399:$M$6000,3,0),\"\")","v":""}]
[{"$nulls":10},{"$f":"IF(ISNUMBER(SEARCH($A$3,L4400)),MAX($K$1:K4399)+1,0)","v":0},{"$nulls":14},{"$f":"IFERROR(VLOOKUP(ROWS($Z$2:Z4400),K4400:$L$6000,2,0),\"\")","v":""},{"$f":"IFERROR(VLOOKUP(ROWS($AA$2:AA4400),K4400:$M$6000,3,0),\"\")","v":""}]
[{"$nulls":10},{"$f":"IF(ISNUMBER(SEARCH($A$3,L4401)),MAX($K$1:K4400)+1,0)","v":0},{"$nulls":14},{"$f":"IFERROR(VLOOKUP(ROWS($Z$2:Z4401),K4401:$L$6000,2,0),\"\")","v":""},{"$f":"IFERROR(VLOOKUP(ROWS($AA$2:AA4401),K4401:$M$6000,3,0),\"\")","v":""}]
[{"$nulls":10},{"$f":"IF(ISNUMBER(SEARCH($A$3,L4402)),MAX($K$1:K4401)+1,0)","v":0},{"$nulls":14},{"$f":"IFERROR(VLOOKUP(ROWS($Z$2:Z4402),K4402:$L$6000,2,0),\"\")","v":""},{"$f":"IFERROR(VLOOKUP(ROWS($AA$2:AA4402),K4402:$M$6000,3,0),\"\")","v":""}]
[{"$nulls":10},{"$f":"IF(ISNUMBER(SEARCH($A$3,L4403)),MAX($K$1:K4402)+1,0)","v":0},{"$nulls":14},{"$f":"IFERROR(VLOOKUP(ROWS($Z$2:Z4403),K4403:$L$6000,2,0),\"\")","v":""},{"$f":"IFERROR(VLOOKUP(ROWS($AA$2:AA4403),K4403:$M$6000,3,0),\"\")","v":""}]
[{"$nulls":10},{"$f":"IF(ISNUMBER(SEARCH($A$3,L4404)),MAX($K$1:K4403)+1,0)","v":0},{"$nulls":14},{"$f":"IFERROR(VLOOKUP(ROWS($Z$2:Z4404),K4404:$L$6000,2,0),\"\")","v":""},{"$f":"IFERROR(VLOOKUP(ROWS($AA$2:AA4404),K4404:$M$6000,3,0),\"\")","v":""}]
[{"$nulls":10},{"$f":"IF(ISNUMBER(SEARCH($A$3,L4405)),MAX($K$1:K4404)+1,0)","v":0},{"$nulls":14},{"$f":"IFERROR(VLOOKUP(ROWS($Z$2:Z4405),K4405:$L$6000,2,0),\"\")","v":""},{"$f":"IFERROR(VLOOKUP(ROWS($AA$2:AA4405),K4405:$M$6000,3,0),\"\")","v":""}]
[{"$nulls":10},{"$f":"IF(ISNUMBER(SEARCH($A$3,L4406)),MAX($K$1:K4405)+1,0)","v":0},{"$nulls":14},{"$f":"IFERROR(VLOOKUP(ROWS($Z$2:Z4406),K4406:$L$6000,2,0),\"\")","v":""},{"$f":"IFERROR(VLOOKUP(ROWS($AA$2:AA4406),K4406:$M$6000,3,0),\"\")","v":""}]
[{"$nulls":10},{"$f":"IF(ISNUMBER(SEARCH($A$3,L4407)),MAX($K$1:K4406)+1,0)","v":0},{"$nulls":14},{"$f":"IFERROR(VLOOKUP(ROWS($Z$2:Z4407),K4407:$L$6000,2,0),\"\")","v":""},{"$f":"IFERROR(VLOOKUP(ROWS($AA$2:AA4407),K4407:$M$6000,3,0),\"\")","v":""}]
[{"$nulls":10},{"$f":"IF(ISNUMBER(SEARCH($A$3,L4408)),MAX($K$1:K4407)+1,0)","v":0},{"$nulls":14},{"$f":"IFERROR(VLOOKUP(ROWS($Z$2:Z4408),K4408:$L$6000,2,0),\"\")","v":""},{"$f":"IFERROR(VLOOKUP(ROWS($AA$2:AA4408),K4408:$M$6000,3,0),\"\")","v":""}]
[{"$nulls":10},{"$f":"IF(ISNUMBER(SEARCH($A$3,L4409)),MAX($K$1:K4408)+1,0)","v":0},{"$nulls":14},{"$f":"IFERROR(VLOOKUP(ROWS($Z$2:Z4409),K4409:$L$6000,2,0),\"\")","v":""},{"$f":"IFERROR(VLOOKUP(ROWS($AA$2:AA4409),K4409:$M$6000,3,0),\"\")","v":""}]
[{"$nulls":10},{"$f":"IF(ISNUMBER(SEARCH($A$3,L4410)),MAX($K$1:K4409)+1,0)","v":0},{"$nulls":14},{"$f":"IFERROR(VLOOKUP(ROWS($Z$2:Z4410),K4410:$L$6000,2,0),\"\")","v":""},{"$f":"IFERROR(VLOOKUP(ROWS($AA$2:AA4410),K4410:$M$6000,3,0),\"\")","v":""}]
[{"$nulls":10},{"$f":"IF(ISNUMBER(SEARCH($A$3,L4411)),MAX($K$1:K4410)+1,0)","v":0},{"$nulls":14},{"$f":"IFERROR(VLOOKUP(ROWS($Z$2:Z4411),K4411:$L$6000,2,0),\"\")","v":""},{"$f":"IFERROR(VLOOKUP(ROWS($AA$2:AA4411),K4411:$M$6000,3,0),\"\")","v":""}]
[{"$nulls":10},{"$f":"IF(ISNUMBER(SEARCH($A$3,L4412)),MAX($K$1:K4411)+1,0)","v":0},{"$nulls":14},{"$f":"IFERROR(VLOOKUP(ROWS($Z$2:Z4412),K4412:$L$6000,2,0),\"\")","v":""},{"$f":"IFERROR(VLOOKUP(ROWS($AA$2:AA4412),K4412:$M$6000,3,0),\"\")","v":""}]
[{"$nulls":10},{"$f":"IF(ISNUMBER(SEARCH($A$3,L4413)),MAX($K$1:K4412)+1,0)","v":0},{"$nulls":14},{"$f":"IFERROR(VLOOKUP(ROWS($Z$2:Z4413),K4413:$L$6000,2,0),\"\")","v":""},{"$f":"IFERROR(VLOOKUP(ROWS($AA$2:AA4413),K4413:$M$6000,3,0),\"\")","v":""}]
[{"$nulls":10},{"$f":"IF(ISNUMBER(SEARCH($A$3,L4414)),MAX($K$1:K4413)+1,0)","v":0},{"$nulls":14},{"$f":"IFERROR(VLOOKUP(ROWS($Z$2:Z4414),K4414:$L$6000,2,0),\"\")","v":""},{"$f":"IFERROR(VLOOKUP(ROWS($AA$2:AA4414),K4414:$M$6000,3,0),\"\")","v":""}]
[{"$nulls":10},{"$f":"IF(ISNUMBER(SEARCH($A$3,L4415)),MAX($K$1:K4414)+1,0)","v":0},{"$nulls":14},{"$f":"IFERROR(VLOOKUP(ROWS($Z$2:Z4415),K4415:$L$6000,2,0),\"\")","v":""},{"$f":"IFERROR(VLOOKUP(ROWS($AA$2:AA4415),K4415:$M$6000,3,0),\"\")","v":""}]
[{"$nulls":10},{"$f":"IF(ISNUMBER(SEARCH($A$3,L4416)),MAX($K$1:K4415)+1,0)","v":0},{"$nulls":14},{"$f":"IFERROR(VLOOKUP(ROWS($Z$2:Z4416),K4416:$L$6000,2,0),\"\")","v":""},{"$f":"IFERROR(VLOOKUP(ROWS($AA$2:AA4416),K4416:$M$6000,3,0),\"\")","v":""}]
[{"$nulls":10},{"$f":"IF(ISNUMBER(SEARCH($A$3,L4417)),MAX($K$1:K4416)+1,0)","v":0},{"$nulls":14},{"$f":"IFERROR(VLOOKUP(ROWS($Z$2:Z4417),K4417:$L$6000,2,0),\"\")","v":""},{"$f":"IFERROR(VLOOKUP(ROWS($AA$2:AA4417),K4417:$M$6000,3,0),\"\")","v":""}]
[{"$nulls":10},{"$f":"IF(ISNUMBER(SEARCH($A$3,L4418)),MAX($K$1:K4417)+1,0)","v":0},{"$nulls":14},{"$f":"IFERROR(VLOOKUP(ROWS($Z$2:Z4418),K4418:$L$6000,2,0),\"\")","v":""},{"$f":"IFERROR(VLOOKUP(ROWS($AA$2:AA4418),K4418:$M$6000,3,0),\"\")","v":""}]
[{"$nulls":10},{"$f":"IF(ISNUMBER(SEARCH($A$3,L4419)),MAX($K$1:K4418)+1,0)","v":0},{"$nulls":14},{"$f":"IFERROR(VLOOKUP(ROWS($Z$2:Z4419),K4419:$L$6000,2,0),\"\")","v":""},{"$f":"IFERROR(VLOOKUP(ROWS($AA$2:AA4419),K4419:$M$6000,3,0),\"\")","v":""}]
[{"$nulls":10},{"$f":"IF(ISNUMBER(SEARCH($A$3,L4420)),MAX($K$1:K4419)+1,0)","v":0},{"$nulls":14},{"$f":"IFERROR(VLOOKUP(ROWS($Z$2:Z4420),K4420:$L$6000,2,0),\"\")","v":""},{"$f":"IFERROR(VLOOKUP(ROWS($AA$2:AA4420),K4420:$M$6000,3,0),\"\")","v":""}]
[{"$nulls":10},{"$f":"IF(ISNUMBER(SEARCH($A$3,L4421)),MAX($K$1:K4420)+1,0)","v":0},{"$nulls":14},{"$f":"IFERROR(VLOOKUP(ROWS($Z$2:Z4421),K4421:$L$6000,2,0),\"\")","v":""},{"$f":"IFERROR(VLOOKUP(ROWS($AA$2:AA4421),K4421:$M$6000,3,0),\"\")","v":""}]
[{"$nulls":10},{"$f":"IF(ISNUMBER(SEARCH($A$3,L4422)),MAX($K$1:K4421)+1,0)","v":0},{"$nulls":14},{"$f":"IFERROR(VLOOKUP(ROWS($Z$2:Z4422),K4422:$L$6000,2,0),\"\")","v":""},{"$f":"IFERROR(VLOOKUP(ROWS($AA$2:AA4422),K4422:$M$6000,3,0),\"\")","v":""}]
[{"$nulls":10},{"$f":"IF(ISNUMBER(SEARCH($A$3,L4423)),MAX($K$1:K4422)+1,0)","v":0},{"$nulls":14},{"$f":"IFERROR(VLOOKUP(ROWS($Z$2:Z4423),K4423:$L$6000,2,0),\"\")","v":""},{"$f":"IFERROR(VLOOKUP(ROWS($AA$2:AA4423),K4423:$M$6000,3,0),\"\")","v":""}]
[{"$nulls":10},{"$f":"IF(ISNUMBER(SEARCH($A$3,L4424)),MAX($K$1:K4423)+1,0)","v":0},{"$nulls":14},{"$f":"IFERROR(VLOOKUP(ROWS($Z$2:Z4424),K4424:$L$6000,2,0),\"\")","v":""},{"$f":"IFERROR(VLOOKUP(ROWS($AA$2:AA4424),K4424:$M$6000,3,0),\"\")","v":""}]
[{"$nulls":10},{"$f":"IF(ISNUMBER(SEARCH($A$3,L4425)),MAX($K$1:K4424)+1,0)","v":0},{"$nulls":14},{"$f":"IFERROR(VLOOKUP(ROWS($Z$2:Z4425),K4425:$L$6000,2,0),\"\")","v":""},{"$f":"IFERROR(VLOOKUP(ROWS($AA$2:AA4425),K4425:$M$6000,3,0),\"\")","v":""}]
[{"$nulls":10},{"$f":"IF(ISNUMBER(SEARCH($A$3,L4426)),MAX($K$1:K4425)+1,0)","v":0},{"$nulls":14},{"$f":"IFERROR(VLOOKUP(ROWS($Z$2:Z4426),K4426:$L$6000,2,0),\"\")","v":""},{"$f":"IFERROR(VLOOKUP(ROWS($AA$2:AA4426),K4426:$M$6000,3,0),\"\")","v":""}]
[{"$nulls":10},{"$f":"IF(ISNUMBER(SEARCH($A$3,L4427)),MAX($K$1:K4426)+1,0)","v":0},{"$nulls":14},{"$f":"IFERROR(VLOOKUP(ROWS($Z$2:Z4427),K4427:$L$6000,2,0),\"\")","v":""},{"$f":"IFERROR(VLOOKUP(ROWS($AA$2:AA4427),K4427:$M$6000,3,0),\"\")","v":""}]
[{"$nulls":10},{"$f":"IF(ISNUMBER(SEARCH($A$3,L4428)),MAX($K$1:K4427)+1,0)","v":0},{"$nulls":14},{"$f":"IFERROR(VLOOKUP(ROWS($Z$2:Z4428),K4428:$L$6000,2,0),\"\")","v":""},{"$f":"IFERROR(VLOOKUP(ROWS($AA$2:AA4428),K4428:$M$6000,3,0),\"\")","v":""}]
[{"$nulls":10},{"$f":"IF(ISNUMBER(SEARCH($A$3,L4429)),MAX($K$1:K4428)+1,0)","v":0},{"$nulls":14},{"$f":"IFERROR(VLOOKUP(ROWS($Z$2:Z4429),K4429:$L$6000,2,0),\"\")","v":""},{"$f":"IFERROR(VLOOKUP(ROWS($AA$2:AA4429),K4429:$M$6000,3,0),\"\")","v":""}]
[{"$nulls":10},{"$f":"IF(ISNUMBER(SEARCH($A$3,L4430)),MAX($K$1:K4429)+1,0)","v":0},{"$nulls":14},{"$f":"IFERROR(VLOOKUP(ROWS($Z$2:Z4430),K4430:$L$6000,2,0),\"\")","v":""},{"$f":"IFERROR(VLOOKUP(ROWS($AA$2:AA4430),K4430:$M$6000,3,0),\"\")","v":""}]
[{"$nulls":10},{"$f":"IF(ISNUMBER(SEARCH($A$3,L4431)),MAX($K$1:K4430)+1,0)","v":0},{"$nulls":14},{"$f":"IFERROR(VLOOKUP(ROWS($Z$2:Z4431),K4431:$L$6000,2,0),\"\")","v":""},{"$f":"IFERROR(VLOOKUP(ROWS($AA$2:AA4431),K4431:$M$6000,3,0),\"\")","v":""}]
[{"$nulls":10},{"$f":"IF(ISNUMBER(SEARCH($A$3,L4432)),MAX($K$1:K4431)+1,0)","v":0},{"$nulls":14},{"$f":"IFERROR(VLOOKUP(ROWS($Z$2:Z4432),K4432:$L$6000,2,0),\"\")","v":""},{"$f":"IFERROR(VLOOKUP(ROWS($AA$2:AA4432),K4432:$M$6000,3,0),\"\")","v":""}]
[{"$nulls":10},{"$f":"IF(ISNUMBER(SEARCH($A$3,L4433)),MAX($K$1:K4432)+1,0)","v":0},{"$nulls":14},{"$f":"IFERROR(VLOOKUP(ROWS($Z$2:Z4433),K4433:$L$6000,2,0),\"\")","v":""},{"$f":"IFERROR(VLOOKUP(ROWS($AA$2:AA4433),K4433:$M$6000,3,0),\"\")","v":""}]
[{"$nulls":10},{"$f":"IF(ISNUMBER(SEARCH($A$3,L4434)),MAX($K$1:K4433)+1,0)","v":0},{"$nulls":14},{"$f":"IFERROR(VLOOKUP(ROWS($Z$2:Z4434),K4434:$L$6000,2,0),\"\")","v":""},{"$f":"IFERROR(VLOOKUP(ROWS($AA$2:AA4434),K4434:$M$6000,3,0),\"\")","v":""}]
[{"$nulls":10},{"$f":"IF(ISNUMBER(SEARCH($A$3,L4435)),MAX($K$1:K4434)+1,0)","v":0},{"$nulls":14},{"$f":"IFERROR(VLOOKUP(ROWS($Z$2:Z4435),K4435:$L$6000,2,0),\"\")","v":""},{"$f":"IFERROR(VLOOKUP(ROWS($AA$2:AA4435),K4435:$M$6000,3,0),\"\")","v":""}]
[{"$nulls":10},{"$f":"IF(ISNUMBER(SEARCH($A$3,L4436)),MAX($K$1:K4435)+1,0)","v":0},{"$nulls":14},{"$f":"IFERROR(VLOOKUP(ROWS($Z$2:Z4436),K4436:$L$6000,2,0),\"\")","v":""},{"$f":"IFERROR(VLOOKUP(ROWS($AA$2:AA4436),K4436:$M$6000,3,0),\"\")","v":""}]
[{"$nulls":10},{"$f":"IF(ISNUMBER(SEARCH($A$3,L4437)),MAX($K$1:K4436)+1,0)","v":0},{"$nulls":14},{"$f":"IFERROR(VLOOKUP(ROWS($Z$2:Z4437),K4437:$L$6000,2,0),\"\")","v":""},{"$f":"IFERROR(VLOOKUP(ROWS($AA$2:AA4437),K4437:$M$6000,3,0),\"\")","v":""}]
[{"$nulls":10},{"$f":"IF(ISNUMBER(SEARCH($A$3,L4438)),MAX($K$1:K4437)+1,0)","v":0},{"$nulls":14},{"$f":"IFERROR(VLOOKUP(ROWS($Z$2:Z4438),K4438:$L$6000,2,0),\"\")","v":""},{"$f":"IFERROR(VLOOKUP(ROWS($AA$2:AA4438),K4438:$M$6000,3,0),\"\")","v":""}]
[{"$nulls":10},{"$f":"IF(ISNUMBER(SEARCH($A$3,L4439)),MAX($K$1:K4438)+1,0)","v":0},{"$nulls":14},{"$f":"IFERROR(VLOOKUP(ROWS($Z$2:Z4439),K4439:$L$6000,2,0),\"\")","v":""},{"$f":"IFERROR(VLOOKUP(ROWS($AA$2:AA4439),K4439:$M$6000,3,0),\"\")","v":""}]
[{"$nulls":10},{"$f":"IF(ISNUMBER(SEARCH($A$3,L4440)),MAX($K$1:K4439)+1,0)","v":0},{"$nulls":14},{"$f":"IFERROR(VLOOKUP(ROWS($Z$2:Z4440),K4440:$L$6000,2,0),\"\")","v":""},{"$f":"IFERROR(VLOOKUP(ROWS($AA$2:AA4440),K4440:$M$6000,3,0),\"\")","v":""}]
[{"$nulls":10},{"$f":"IF(ISNUMBER(SEARCH($A$3,L4441)),MAX($K$1:K4440)+1,0)","v":0},{"$nulls":14},{"$f":"IFERROR(VLOOKUP(ROWS($Z$2:Z4441),K4441:$L$6000,2,0),\"\")","v":""},{"$f":"IFERROR(VLOOKUP(ROWS($AA$2:AA4441),K4441:$M$6000,3,0),\"\")","v":""}]
[{"$nulls":10},{"$f":"IF(ISNUMBER(SEARCH($A$3,L4442)),MAX($K$1:K4441)+1,0)","v":0},{"$nulls":14},{"$f":"IFERROR(VLOOKUP(ROWS($Z$2:Z4442),K4442:$L$6000,2,0),\"\")","v":""},{"$f":"IFERROR(VLOOKUP(ROWS($AA$2:AA4442),K4442:$M$6000,3,0),\"\")","v":""}]
[{"$nulls":10},{"$f":"IF(ISNUMBER(SEARCH($A$3,L4443)),MAX($K$1:K4442)+1,0)","v":0},{"$nulls":14},{"$f":"IFERROR(VLOOKUP(ROWS($Z$2:Z4443),K4443:$L$6000,2,0),\"\")","v":""},{"$f":"IFERROR(VLOOKUP(ROWS($AA$2:AA4443),K4443:$M$6000,3,0),\"\")","v":""}]
[{"$nulls":10},{"$f":"IF(ISNUMBER(SEARCH($A$3,L4444)),MAX($K$1:K4443)+1,0)","v":0},{"$nulls":14},{"$f":"IFERROR(VLOOKUP(ROWS($Z$2:Z4444),K4444:$L$6000,2,0),\"\")","v":""},{"$f":"IFERROR(VLOOKUP(ROWS($AA$2:AA4444),K4444:$M$6000,3,0),\"\")","v":""}]
[{"$nulls":10},{"$f":"IF(ISNUMBER(SEARCH($A$3,L4445)),MAX($K$1:K4444)+1,0)","v":0},{"$nulls":14},{"$f":"IFERROR(VLOOKUP(ROWS($Z$2:Z4445),K4445:$L$6000,2,0),\"\")","v":""},{"$f":"IFERROR(VLOOKUP(ROWS($AA$2:AA4445),K4445:$M$6000,3,0),\"\")","v":""}]
[{"$nulls":10},{"$f":"IF(ISNUMBER(SEARCH($A$3,L4446)),MAX($K$1:K4445)+1,0)","v":0},{"$nulls":14},{"$f":"IFERROR(VLOOKUP(ROWS($Z$2:Z4446),K4446:$L$6000,2,0),\"\")","v":""},{"$f":"IFERROR(VLOOKUP(ROWS($AA$2:AA4446),K4446:$M$6000,3,0),\"\")","v":""}]
[{"$nulls":10},{"$f":"IF(ISNUMBER(SEARCH($A$3,L4447)),MAX($K$1:K4446)+1,0)","v":0},{"$nulls":14},{"$f":"IFERROR(VLOOKUP(ROWS($Z$2:Z4447),K4447:$L$6000,2,0),\"\")","v":""},{"$f":"IFERROR(VLOOKUP(ROWS($AA$2:AA4447),K4447:$M$6000,3,0),\"\")","v":""}]
[{"$nulls":10},{"$f":"IF(ISNUMBER(SEARCH($A$3,L4448)),MAX($K$1:K4447)+1,0)","v":0},{"$nulls":14},{"$f":"IFERROR(VLOOKUP(ROWS($Z$2:Z4448),K4448:$L$6000,2,0),\"\")","v":""},{"$f":"IFERROR(VLOOKUP(ROWS($AA$2:AA4448),K4448:$M$6000,3,0),\"\")","v":""}]
[{"$nulls":10},{"$f":"IF(ISNUMBER(SEARCH($A$3,L4449)),MAX($K$1:K4448)+1,0)","v":0},{"$nulls":14},{"$f":"IFERROR(VLOOKUP(ROWS($Z$2:Z4449),K4449:$L$6000,2,0),\"\")","v":""},{"$f":"IFERROR(VLOOKUP(ROWS($AA$2:AA4449),K4449:$M$6000,3,0),\"\")","v":""}]
[{"$nulls":10},{"$f":"IF(ISNUMBER(SEARCH($A$3,L4450)),MAX($K$1:K4449)+1,0)","v":0},{"$nulls":14},{"$f":"IFERROR(VLOOKUP(ROWS($Z$2:Z4450),K4450:$L$6000,2,0),\"\")","v":""},{"$f":"IFERROR(VLOOKUP(ROWS($AA$2:AA4450),K4450:$M$6000,3,0),\"\")","v":""}]
[{"$nulls":10},{"$f":"IF(ISNUMBER(SEARCH($A$3,L4451)),MAX($K$1:K4450)+1,0)","v":0},{"$nulls":14},{"$f":"IFERROR(VLOOKUP(ROWS($Z$2:Z4451),K4451:$L$6000,2,0),\"\")","v":""},{"$f":"IFERROR(VLOOKUP(ROWS($AA$2:AA4451),K4451:$M$6000,3,0),\"\")","v":""}]
[{"$nulls":10},{"$f":"IF(ISNUMBER(SEARCH($A$3,L4452)),MAX($K$1:K4451)+1,0)","v":0},{"$nulls":14},{"$f":"IFERROR(VLOOKUP(ROWS($Z$2:Z4452),K4452:$L$6000,2,0),\"\")","v":""},{"$f":"IFERROR(VLOOKUP(ROWS($AA$2:AA4452),K4452:$M$6000,3,0),\"\")","v":""}]
[{"$nulls":10},{"$f":"IF(ISNUMBER(SEARCH($A$3,L4453)),MAX($K$1:K4452)+1,0)","v":0},{"$nulls":14},{"$f":"IFERROR(VLOOKUP(ROWS($Z$2:Z4453),K4453:$L$6000,2,0),\"\")","v":""},{"$f":"IFERROR(VLOOKUP(ROWS($AA$2:AA4453),K4453:$M$6000,3,0),\"\")","v":""}]
[{"$nulls":10},{"$f":"IF(ISNUMBER(SEARCH($A$3,L4454)),MAX($K$1:K4453)+1,0)","v":0},{"$nulls":14},{"$f":"IFERROR(VLOOKUP(ROWS($Z$2:Z4454),K4454:$L$6000,2,0),\"\")","v":""},{"$f":"IFERROR(VLOOKUP(ROWS($AA$2:AA4454),K4454:$M$6000,3,0),\"\")","v":""}]
[{"$nulls":10},{"$f":"IF(ISNUMBER(SEARCH($A$3,L4455)),MAX($K$1:K4454)+1,0)","v":0},{"$nulls":14},{"$f":"IFERROR(VLOOKUP(ROWS($Z$2:Z4455),K4455:$L$6000,2,0),\"\")","v":""},{"$f":"IFERROR(VLOOKUP(ROWS($AA$2:AA4455),K4455:$M$6000,3,0),\"\")","v":""}]
[{"$nulls":10},{"$f":"IF(ISNUMBER(SEARCH($A$3,L4456)),MAX($K$1:K4455)+1,0)","v":0},{"$nulls":14},{"$f":"IFERROR(VLOOKUP(ROWS($Z$2:Z4456),K4456:$L$6000,2,0),\"\")","v":""},{"$f":"IFERROR(VLOOKUP(ROWS($AA$2:AA4456),K4456:$M$6000,3,0),\"\")","v":""}]
[{"$nulls":10},{"$f":"IF(ISNUMBER(SEARCH($A$3,L4457)),MAX($K$1:K4456)+1,0)","v":0},{"$nulls":14},{"$f":"IFERROR(VLOOKUP(ROWS($Z$2:Z4457),K4457:$L$6000,2,0),\"\")","v":""},{"$f":"IFERROR(VLOOKUP(ROWS($AA$2:AA4457),K4457:$M$6000,3,0),\"\")","v":""}]
[{"$nulls":10},{"$f":"IF(ISNUMBER(SEARCH($A$3,L4458)),MAX($K$1:K4457)+1,0)","v":0},{"$nulls":14},{"$f":"IFERROR(VLOOKUP(ROWS($Z$2:Z4458),K4458:$L$6000,2,0),\"\")","v":""},{"$f":"IFERROR(VLOOKUP(ROWS($AA$2:AA4458),K4458:$M$6000,3,0),\"\")","v":""}]
[{"$nulls":10},{"$f":"IF(ISNUMBER(SEARCH($A$3,L4459)),MAX($K$1:K4458)+1,0)","v":0},{"$nulls":14},{"$f":"IFERROR(VLOOKUP(ROWS($Z$2:Z4459),K4459:$L$6000,2,0),\"\")","v":""},{"$f":"IFERROR(VLOOKUP(ROWS($AA$2:AA4459),K4459:$M$6000,3,0),\"\")","v":""}]
[{"$nulls":10},{"$f":"IF(ISNUMBER(SEARCH($A$3,L4460)),MAX($K$1:K4459)+1,0)","v":0},{"$nulls":14},{"$f":"IFERROR(VLOOKUP(ROWS($Z$2:Z4460),K4460:$L$6000,2,0),\"\")","v":""},{"$f":"IFERROR(VLOOKUP(ROWS($AA$2:AA4460),K4460:$M$6000,3,0),\"\")","v":""}]
[{"$nulls":10},{"$f":"IF(ISNUMBER(SEARCH($A$3,L4461)),MAX($K$1:K4460)+1,0)","v":0},{"$nulls":14},{"$f":"IFERROR(VLOOKUP(ROWS($Z$2:Z4461),K4461:$L$6000,2,0),\"\")","v":""},{"$f":"IFERROR(VLOOKUP(ROWS($AA$2:AA4461),K4461:$M$6000,3,0),\"\")","v":""}]
[{"$nulls":10},{"$f":"IF(ISNUMBER(SEARCH($A$3,L4462)),MAX($K$1:K4461)+1,0)","v":0},{"$nulls":14},{"$f":"IFERROR(VLOOKUP(ROWS($Z$2:Z4462),K4462:$L$6000,2,0),\"\")","v":""},{"$f":"IFERROR(VLOOKUP(ROWS($AA$2:AA4462),K4462:$M$6000,3,0),\"\")","v":""}]
[{"$nulls":10},{"$f":"IF(ISNUMBER(SEARCH($A$3,L4463)),MAX($K$1:K4462)+1,0)","v":0},{"$nulls":14},{"$f":"IFERROR(VLOOKUP(ROWS($Z$2:Z4463),K4463:$L$6000,2,0),\"\")","v":""},{"$f":"IFERROR(VLOOKUP(ROWS($AA$2:AA4463),K4463:$M$6000,3,0),\"\")","v":""}]
[{"$nulls":10},{"$f":"IF(ISNUMBER(SEARCH($A$3,L4464)),MAX($K$1:K4463)+1,0)","v":0},{"$nulls":14},{"$f":"IFERROR(VLOOKUP(ROWS($Z$2:Z4464),K4464:$L$6000,2,0),\"\")","v":""},{"$f":"IFERROR(VLOOKUP(ROWS($AA$2:AA4464),K4464:$M$6000,3,0),\"\")","v":""}]
[{"$nulls":10},{"$f":"IF(ISNUMBER(SEARCH($A$3,L4465)),MAX($K$1:K4464)+1,0)","v":0},{"$nulls":14},{"$f":"IFERROR(VLOOKUP(ROWS($Z$2:Z4465),K4465:$L$6000,2,0),\"\")","v":""},{"$f":"IFERROR(VLOOKUP(ROWS($AA$2:AA4465),K4465:$M$6000,3,0),\"\")","v":""}]
[{"$nulls":10},{"$f":"IF(ISNUMBER(SEARCH($A$3,L4466)),MAX($K$1:K4465)+1,0)","v":0},{"$nulls":14},{"$f":"IFERROR(VLOOKUP(ROWS($Z$2:Z4466),K4466:$L$6000,2,0),\"\")","v":""},{"$f":"IFERROR(VLOOKUP(ROWS($AA$2:AA4466),K4466:$M$6000,3,0),\"\")","v":""}]
[{"$nulls":10},{"$f":"IF(ISNUMBER(SEARCH($A$3,L4467)),MAX($K$1:K4466)+1,0)","v":0},{"$nulls":14},{"$f":"IFERROR(VLOOKUP(ROWS($Z$2:Z4467),K4467:$L$6000,2,0),\"\")","v":""},{"$f":"IFERROR(VLOOKUP(ROWS($AA$2:AA4467),K4467:$M$6000,3,0),\"\")","v":""}]
[{"$nulls":10},{"$f":"IF(ISNUMBER(SEARCH($A$3,L4468)),MAX($K$1:K4467)+1,0)","v":0},{"$nulls":14},{"$f":"IFERROR(VLOOKUP(ROWS($Z$2:Z4468),K4468:$L$6000,2,0),\"\")","v":""},{"$f":"IFERROR(VLOOKUP(ROWS($AA$2:AA4468),K4468:$M$6000,3,0),\"\")","v":""}]
[{"$nulls":10},{"$f":"IF(ISNUMBER(SEARCH($A$3,L4469)),MAX($K$1:K4468)+1,0)","v":0},{"$nulls":14},{"$f":"IFERROR(VLOOKUP(ROWS($Z$2:Z4469),K4469:$L$6000,2,0),\"\")","v":""},{"$f":"IFERROR(VLOOKUP(ROWS($AA$2:AA4469),K4469:$M$6000,3,0),\"\")","v":""}]
[{"$nulls":10},{"$f":"IF(ISNUMBER(SEARCH($A$3,L4470)),MAX($K$1:K4469)+1,0)","v":0},{"$nulls":14},{"$f":"IFERROR(VLOOKUP(ROWS($Z$2:Z4470),K4470:$L$6000,2,0),\"\")","v":""},{"$f":"IFERROR(VLOOKUP(ROWS($AA$2:AA4470),K4470:$M$6000,3,0),\"\")","v":""}]
[{"$nulls":10},{"$f":"IF(ISNUMBER(SEARCH($A$3,L4471)),MAX($K$1:K4470)+1,0)","v":0},{"$nulls":14},{"$f":"IFERROR(VLOOKUP(ROWS($Z$2:Z4471),K4471:$L$6000,2,0),\"\")","v":""},{"$f":"IFERROR(VLOOKUP(ROWS($AA$2:AA4471),K4471:$M$6000,3,0),\"\")","v":""}]
[{"$nulls":10},{"$f":"IF(ISNUMBER(SEARCH($A$3,L4472)),MAX($K$1:K4471)+1,0)","v":0},{"$nulls":14},{"$f":"IFERROR(VLOOKUP(ROWS($Z$2:Z4472),K4472:$L$6000,2,0),\"\")","v":""},{"$f":"IFERROR(VLOOKUP(ROWS($AA$2:AA4472),K4472:$M$6000,3,0),\"\")","v":""}]
[{"$nulls":10},{"$f":"IF(ISNUMBER(SEARCH($A$3,L4473)),MAX($K$1:K4472)+1,0)","v":0},{"$nulls":14},{"$f":"IFERROR(VLOOKUP(ROWS($Z$2:Z4473),K4473:$L$6000,2,0),\"\")","v":""},{"$f":"IFERROR(VLOOKUP(ROWS($AA$2:AA4473),K4473:$M$6000,3,0),\"\")","v":""}]
[{"$nulls":10},{"$f":"IF(ISNUMBER(SEARCH($A$3,L4474)),MAX($K$1:K4473)+1,0)","v":0},{"$nulls":14},{"$f":"IFERROR(VLOOKUP(ROWS($Z$2:Z4474),K4474:$L$6000,2,0),\"\")","v":""},{"$f":"IFERROR(VLOOKUP(ROWS($AA$2:AA4474),K4474:$M$6000,3,0),\"\")","v":""}]
[{"$nulls":10},{"$f":"IF(ISNUMBER(SEARCH($A$3,L4475)),MAX($K$1:K4474)+1,0)","v":0},{"$nulls":14},{"$f":"IFERROR(VLOOKUP(ROWS($Z$2:Z4475),K4475:$L$6000,2,0),\"\")","v":""},{"$f":"IFERROR(VLOOKUP(ROWS($AA$2:AA4475),K4475:$M$6000,3,0),\"\")","v":""}]
[{"$nulls":10},{"$f":"IF(ISNUMBER(SEARCH($A$3,L4476)),MAX($K$1:K4475)+1,0)","v":0},{"$nulls":14},{"$f":"IFERROR(VLOOKUP(ROWS($Z$2:Z4476),K4476:$L$6000,2,0),\"\")","v":""},{"$f":"IFERROR(VLOOKUP(ROWS($AA$2:AA4476),K4476:$M$6000,3,0),\"\")","v":""}]
[{"$nulls":10},{"$f":"IF(ISNUMBER(SEARCH($A$3,L4477)),MAX($K$1:K4476)+1,0)","v":0},{"$nulls":14},{"$f":"IFERROR(VLOOKUP(ROWS($Z$2:Z4477),K4477:$L$6000,2,0),\"\")","v":""},{"$f":"IFERROR(VLOOKUP(ROWS($AA$2:AA4477),K4477:$M$6000,3,0),\"\")","v":""}]
[{"$nulls":10},{"$f":"IF(ISNUMBER(SEARCH($A$3,L4478)),MAX($K$1:K4477)+1,0)","v":0},{"$nulls":14},{"$f":"IFERROR(VLOOKUP(ROWS($Z$2:Z4478),K4478:$L$6000,2,0),\"\")","v":""},{"$f":"IFERROR(VLOOKUP(ROWS($AA$2:AA4478),K4478:$M$6000,3,0),\"\")","v":""}]
[{"$nulls":10},{"$f":"IF(ISNUMBER(SEARCH($A$3,L4479)),MAX($K$1:K4478)+1,0)","v":0},{"$nulls":14},{"$f":"IFERROR(VLOOKUP(ROWS($Z$2:Z4479),K4479:$L$6000,2,0),\"\")","v":""},{"$f":"IFERROR(VLOOKUP(ROWS($AA$2:AA4479),K4479:$M$6000,3,0),\"\")","v":""}]
[{"$nulls":10},{"$f":"IF(ISNUMBER(SEARCH($A$3,L4480)),MAX($K$1:K4479)+1,0)","v":0},{"$nulls":14},{"$f":"IFERROR(VLOOKUP(ROWS($Z$2:Z4480),K4480:$L$6000,2,0),\"\")","v":""},{"$f":"IFERROR(VLOOKUP(ROWS($AA$2:AA4480),K4480:$M$6000,3,0),\"\")","v":""}]
[{"$nulls":10},{"$f":"IF(ISNUMBER(SEARCH($A$3,L4481)),MAX($K$1:K4480)+1,0)","v":0},{"$nulls":14},{"$f":"IFERROR(VLOOKUP(ROWS($Z$2:Z4481),K4481:$L$6000,2,0),\"\")","v":""},{"$f":"IFERROR(VLOOKUP(ROWS($AA$2:AA4481),K4481:$M$6000,3,0),\"\")","v":""}]
[{"$nulls":10},{"$f":"IF(ISNUMBER(SEARCH($A$3,L4482)),MAX($K$1:K4481)+1,0)","v":0},{"$nulls":14},{"$f":"IFERROR(VLOOKUP(ROWS($Z$2:Z4482),K4482:$L$6000,2,0),\"\")","v":""},{"$f":"IFERROR(VLOOKUP(ROWS($AA$2:AA4482),K4482:$M$6000,3,0),\"\")","v":""}]
[{"$nulls":10},{"$f":"IF(ISNUMBER(SEARCH($A$3,L4483)),MAX($K$1:K4482)+1,0)","v":0},{"$nulls":14},{"$f":"IFERROR(VLOOKUP(ROWS($Z$2:Z4483),K4483:$L$6000,2,0),\"\")","v":""},{"$f":"IFERROR(VLOOKUP(ROWS($AA$2:AA4483),K4483:$M$6000,3,0),\"\")","v":""}]
[{"$nulls":10},{"$f":"IF(ISNUMBER(SEARCH($A$3,L4484)),MAX($K$1:K4483)+1,0)","v":0},{"$nulls":14},{"$f":"IFERROR(VLOOKUP(ROWS($Z$2:Z4484),K4484:$L$6000,2,0),\"\")","v":""},{"$f":"IFERROR(VLOOKUP(ROWS($AA$2:AA4484),K4484:$M$6000,3,0),\"\")","v":""}]
[{"$nulls":10},{"$f":"IF(ISNUMBER(SEARCH($A$3,L4485)),MAX($K$1:K4484)+1,0)","v":0},{"$nulls":14},{"$f":"IFERROR(VLOOKUP(ROWS($Z$2:Z4485),K4485:$L$6000,2,0),\"\")","v":""},{"$f":"IFERROR(VLOOKUP(ROWS($AA$2:AA4485),K4485:$M$6000,3,0),\"\")","v":""}]
[{"$nulls":10},{"$f":"IF(ISNUMBER(SEARCH($A$3,L4486)),MAX($K$1:K4485)+1,0)","v":0},{"$nulls":14},{"$f":"IFERROR(VLOOKUP(ROWS($Z$2:Z4486),K4486:$L$6000,2,0),\"\")","v":""},{"$f":"IFERROR(VLOOKUP(ROWS($AA$2:AA4486),K4486:$M$6000,3,0),\"\")","v":""}]
[{"$nulls":10},{"$f":"IF(ISNUMBER(SEARCH($A$3,L4487)),MAX($K$1:K4486)+1,0)","v":0},{"$nulls":14},{"$f":"IFERROR(VLOOKUP(ROWS($Z$2:Z4487),K4487:$L$6000,2,0),\"\")","v":""},{"$f":"IFERROR(VLOOKUP(ROWS($AA$2:AA4487),K4487:$M$6000,3,0),\"\")","v":""}]
[{"$nulls":10},{"$f":"IF(ISNUMBER(SEARCH($A$3,L4488)),MAX($K$1:K4487)+1,0)","v":0},{"$nulls":14},{"$f":"IFERROR(VLOOKUP(ROWS($Z$2:Z4488),K4488:$L$6000,2,0),\"\")","v":""},{"$f":"IFERROR(VLOOKUP(ROWS($AA$2:AA4488),K4488:$M$6000,3,0),\"\")","v":""}]
[{"$nulls":10},{"$f":"IF(ISNUMBER(SEARCH($A$3,L4489)),MAX($K$1:K4488)+1,0)","v":0},{"$nulls":14},{"$f":"IFERROR(VLOOKUP(ROWS($Z$2:Z4489),K4489:$L$6000,2,0),\"\")","v":""},{"$f":"IFERROR(VLOOKUP(ROWS($AA$2:AA4489),K4489:$M$6000,3,0),\"\")","v":""}]
[{"$nulls":10},{"$f":"IF(ISNUMBER(SEARCH($A$3,L4490)),MAX($K$1:K4489)+1,0)","v":0},{"$nulls":14},{"$f":"IFERROR(VLOOKUP(ROWS($Z$2:Z4490),K4490:$L$6000,2,0),\"\")","v":""},{"$f":"IFERROR(VLOOKUP(ROWS($AA$2:AA4490),K4490:$M$6000,3,0),\"\")","v":""}]
[{"$nulls":10},{"$f":"IF(ISNUMBER(SEARCH($A$3,L4491)),MAX($K$1:K4490)+1,0)","v":0},{"$nulls":14},{"$f":"IFERROR(VLOOKUP(ROWS($Z$2:Z4491),K4491:$L$6000,2,0),\"\")","v":""},{"$f":"IFERROR(VLOOKUP(ROWS($AA$2:AA4491),K4491:$M$6000,3,0),\"\")","v":""}]
[{"$nulls":10},{"$f":"IF(ISNUMBER(SEARCH($A$3,L4492)),MAX($K$1:K4491)+1,0)","v":0},{"$nulls":14},{"$f":"IFERROR(VLOOKUP(ROWS($Z$2:Z4492),K4492:$L$6000,2,0),\"\")","v":""},{"$f":"IFERROR(VLOOKUP(ROWS($AA$2:AA4492),K4492:$M$6000,3,0),\"\")","v":""}]
[{"$nulls":10},{"$f":"IF(ISNUMBER(SEARCH($A$3,L4493)),MAX($K$1:K4492)+1,0)","v":0},{"$nulls":14},{"$f":"IFERROR(VLOOKUP(ROWS($Z$2:Z4493),K4493:$L$6000,2,0),\"\")","v":""},{"$f":"IFERROR(VLOOKUP(ROWS($AA$2:AA4493),K4493:$M$6000,3,0),\"\")","v":""}]
[{"$nulls":10},{"$f":"IF(ISNUMBER(SEARCH($A$3,L4494)),MAX($K$1:K4493)+1,0)","v":0},{"$nulls":14},{"$f":"IFERROR(VLOOKUP(ROWS($Z$2:Z4494),K4494:$L$6000,2,0),\"\")","v":""},{"$f":"IFERROR(VLOOKUP(ROWS($AA$2:AA4494),K4494:$M$6000,3,0),\"\")","v":""}]
[{"$nulls":10},{"$f":"IF(ISNUMBER(SEARCH($A$3,L4495)),MAX($K$1:K4494)+1,0)","v":0},{"$nulls":14},{"$f":"IFERROR(VLOOKUP(ROWS($Z$2:Z4495),K4495:$L$6000,2,0),\"\")","v":""},{"$f":"IFERROR(VLOOKUP(ROWS($AA$2:AA4495),K4495:$M$6000,3,0),\"\")","v":""}]
[{"$nulls":10},{"$f":"IF(ISNUMBER(SEARCH($A$3,L4496)),MAX($K$1:K4495)+1,0)","v":0},{"$nulls":14},{"$f":"IFERROR(VLOOKUP(ROWS($Z$2:Z4496),K4496:$L$6000,2,0),\"\")","v":""},{"$f":"IFERROR(VLOOKUP(ROWS($AA$2:AA4496),K4496:$M$6000,3,0),\"\")","v":""}]
[{"$nulls":10},{"$f":"IF(ISNUMBER(SEARCH($A$3,L4497)),MAX($K$1:K4496)+1,0)","v":0},{"$nulls":14},{"$f":"IFERROR(VLOOKUP(ROWS($Z$2:Z4497),K4497:$L$6000,2,0),\"\")","v":""},{"$f":"IFERROR(VLOOKUP(ROWS($AA$2:AA4497),K4497:$M$6000,3,0),\"\")","v":""}]
[{"$nulls":10},{"$f":"IF(ISNUMBER(SEARCH($A$3,L4498)),MAX($K$1:K4497)+1,0)","v":0},{"$nulls":14},{"$f":"IFERROR(VLOOKUP(ROWS($Z$2:Z4498),K4498:$L$6000,2,0),\"\")","v":""},{"$f":"IFERROR(VLOOKUP(ROWS($AA$2:AA4498),K4498:$M$6000,3,0),\"\")","v":""}]
[{"$nulls":10},{"$f":"IF(ISNUMBER(SEARCH($A$3,L4499)),MAX($K$1:K4498)+1,0)","v":0},{"$nulls":14},{"$f":"IFERROR(VLOOKUP(ROWS($Z$2:Z4499),K4499:$L$6000,2,0),\"\")","v":""},{"$f":"IFERROR(VLOOKUP(ROWS($AA$2:AA4499),K4499:$M$6000,3,0),\"\")","v":""}]
[{"$nulls":10},{"$f":"IF(ISNUMBER(SEARCH($A$3,L4500)),MAX($K$1:K4499)+1,0)","v":0},{"$nulls":14},{"$f":"IFERROR(VLOOKUP(ROWS($Z$2:Z4500),K4500:$L$6000,2,0),\"\")","v":""},{"$f":"IFERROR(VLOOKUP(ROWS($AA$2:AA4500),K4500:$M$6000,3,0),\"\")","v":""}]

{"sheet":"Stock Price","index":7,"n_rows":146,"n_cols":7,"rows_kept":146}
["Date","Open","High","Low","Close","Volume","Adj Close"]
["2002-08-12",231.5,242.4,225.25,241.65,110800,196.59]
["2002-09-02",243.5,246.5,222.15,229.9,68400,187.03]
["2002-10-01",226,235.7,226,229.75,51800,186.91]
["2002-11-01",231,263.4,231,233.5,335800,189.96]
["2002-12-02",263.75,306,258,282.65,1235700,229.94]
["2003-01-01",283,302.4,273.9,282.25,1035100,229.62]
["2003-02-03",284,316.65,284,285.75,2030200,232.47]
["2003-03-03",292,294.55,266.65,269.9,795400,219.57]
["2003-04-01",270,296.1,269.95,278.55,452900,226.61]
["2003-05-01",278.55,361.85,275.5,352.3,1130900,286.61]
["2003-06-02",345,388,340.05,384.2,1845800,312.56]
["2003-07-01",385,450,379.1,421.85,2046600,350.66]
["2003-08-01",423.5,460,403.65,439.25,2492400,365.12]
["2003-09-01",441.1,457.7,395.5,451.6,1973500,375.39]
["2003-10-01",452,508.5,444.1,484.2,2498000,402.49]
["2003-11-03",486.5,500,438.1,470.75,1398600,391.31]
["2003-12-01",475,552.25,434,538.5,1368000,447.62]
["2004-01-01",540.9,689.2,540.5,595.8,3463800,495.25]
["2004-02-02",595.8,640.85,550.5,585.3,3174000,486.52]
["2004-03-01",590,637.4,540.65,605.7,2602300,503.48]
["2004-04-01",605,665.95,605,642.6,1954800,534.15]
["2004-05-03",638.5,658,412,465,2884700,386.53]
["2004-06-01",471,498,404.25,430.65,3315900,367.54]
["2004-07-01",432.35,473.3,399.95,441.95,2421300,377.18]
["2004-08-02",446.7,463.6,415.15,442.85,1847000,377.95]
["2004-09-01",445.5,497.4,441.55,468.2,1427200,399.59]
["2004-10-01",470,498.45,435.5,447.35,1052700,381.79]
["2004-11-01",449.9,536.9,447.4,529.7,866200,452.07]
["2004-12-01",531.9,654.9,521,652.45,1628400,556.84]
["2005-01-03",655,662.45,552.5,642.8,1508800,548.6]
["2005-02-01",645,719.5,631,714.4,1988800,609.71]
["2005-03-01",715.55,750.7,637,656.95,1743900,560.68]
["2005-04-01",660,677,582.2,584.8,1167400,499.1]
["2005-05-02",592,684.9,576.65,670.7,1289900,572.41]
["2005-06-01",670,695.2,653.1,681.55,880200,592.57]
["2005-07-01",641,808.8,641,800.8,1102600,696.25]
["2005-08-01",801,828,764.1,796.65,784800,692.64]
["2005-09-01",799,950,792,938.6,1063900,816.06]
["2005-10-03",940.15,961.95,805.25,838.25,1823400,728.81]
["2005-11-01",846.7,942.7,820.7,896.25,1457100,779.24]
["2005-12-01",897,948,862.15,907.45,1379900,788.97]
["2006-01-02",909.8,950.8,878.15,886.8,1100300,771.02]
["2006-02-01",890,899.4,849.55,877.2,907900,762.67]
["2006-03-01",873,998.05,704,968.05,1250700,841.66]
["2006-04-03",968.5,1015,856,882.35,801200,767.15]
["2006-05-02",917,1009,755,831,732600,722.51]
["2006-06-01",839,931,705.25,727.4,926100,644.61]
["2006-07-03",734,821.45,684.15,810.05,978900,717.85]
["2006-08-01",800,1053.45,795,930,708800,824.15]
["2006-09-01",928,1043,911,1028.3,512400,911.26]
["2006-10-02",1028.3,1114,949.9,1095.5,328300,970.81]
["2006-11-01",1095,1324.7,1088.5,1314,526800,1164.44]
["2006-12-01",1314,1378.7,1165.05,1245.9,492800,1104.1]
["2007-01-01",1245.9,1280,1126.5,1138.05,373600,1008.52]
["2007-02-01",1140,1229,1009.9,1039.15,501700,920.88]
["2007-03-01",1039,1104.9,845,992.9,562000,879.89]
["2007-04-02",958.65,1165,915.1,1105.25,562900,979.45]
["2007-05-01",1105.25,1362,1068.8,1352.4,601700,1198.47]
["2007-06-01",1352.4,1531,1278.25,1525.3,688300,1366.05]
["2007-07-02",1531.85,1760,1470.05,1624.5,650900,1454.9]
["2007-08-01",1610,1745,1408,1599.5,777900,1432.51]
["2007-09-03",1614.5,1969.8,1575.1,1950.7,529000,1747.04]
["2007-10-01",1984,2179.7,1601,2068.15,707100,1852.23]
["2007-11-01",2100,2400,2025,2300.3,554300,2060.14]
["2007-12-03",2330,2475.25,2225.35,2371,216500,2123.46]
["2008-01-01",2381,2540,1905.6,2162.25,374000,1936.5]
["2008-02-01",2186,2310,1953,2109.7,409100,1889.44]
["2008-03-03",2089,2089.5,1582.25,1598.85,479100,1431.93]
["2008-04-01",1611,1819.95,1592,1776.35,335800,1590.89]
["2008-05-01",1776.35,1840,1438.2,1443.35,335000,1311.22]
["2008-06-02",1450,1496.7,1101.15,1111.45,468900,1009.7]
["2008-07-01",1120,1567.5,1007,1414.75,674000,1285.23]
["2008-08-01",1396,1638.9,1302,1403.6,800500,1275.1]
["2008-09-01",1376,1618,1353,1465.65,948000,1331.47]
["2008-10-01",1480,1569.9,991.1,1109.5,1061400,1007.93]
["2008-11-03",1155,1375,1025,1086.85,1283900,987.35]
["2008-12-01",1095,1325,995.05,1288.25,1373200,1170.31]
["2009-01-01",1294.45,1376.4,1031.05,1152.2,1006200,1046.72]
["2009-02-02",1141.1,1205.9,1008.3,1027.1,773400,933.07]
["2009-03-02",1010,1132.25,894,1066.55,1104000,968.91]
["2009-04-01",1079.7,1355,980,1277.7,822400,1160.73]
["2009-05-01",1277.7,1891,1225,1869.1,880400,1697.99]
["2009-06-01",1875,1935,1612,1742.05,651200,1609.03]
["2009-07-01",1737.9,1840,1512,1814,650300,1675.49]
["2009-08-03",1825,1886.9,1670,1743.05,428700,1609.96]
["2009-09-01",1760,2235,1710.1,2195.7,461800,2028.04]
["2009-10-01",2180.1,2500,2048.2,2191,739200,2023.7]
["2009-11-02",2191,2394,2059.1,2238.15,691000,2067.25]
["2009-12-01",2253.05,2374.75,2126.2,2269.45,534900,2096.16]
["2010-01-01",2269.45,2315.25,1957,2058,527900,1900.86]
["2010-02-01",2045,2059.95,1863,1975.85,522800,1834.39]
["2010-03-01",1975.85,2120.05,1975.85,2079,326300,1930.16]
["2010-04-01",2085,2318.8,2015,2297.95,411100,2133.43]
["2010-05-03",2291,2348.8,2138,2268.35,505800,2105.95]
["2010-06-01",2260,2402.5,2201,2302.1,403300,2156.16]
["2010-07-01",2290,2519.9,2254.4,2503.8,343500,2345.08]
["2010-08-02",2520,2884,2511,2764.85,482200,2589.58]
["2010-09-01",2772,3268,2738.75,3233.2,457200,3028.24]
["2010-10-01",3250,3322,3077,3151.2,280700,2951.44]
["2010-11-01",3187,3515,2777,2994.1,662700,2804.3]
["2010-12-01",2998,3172,2655.7,2811.05,652800,2632.85]
["2011-01-03",2830.05,2852.45,2468.8,2641.05,780700,2473.63]
["2011-02-01",2651.9,2813.4,2478.6,2632,662100,2465.15]
["2011-03-01",2651,2888,2523.55,2767.9,445000,2592.44]
["2011-04-01",2772,2959.9,2707,2805.6,349000,2627.75]
["2011-05-02",2811.5,2819.55,2165,2297.8,715700,2180.24]
["2011-06-01",2308,2430,2123,2405.95,455000,2282.85]
["2011-07-01",2419.8,2959.65,1973.15,2342,338900,2222.18]
["2011-08-01",2366.9,2383.85,1872,1972,570700,1871.11]
["2011-09-02",1990,2049,1812.9,1911.1,709500,1813.32]
["2011-10-03",1884.9,1989.5,1708.55,1906.7,827000,1809.15]
["2011-11-01",1894,2018.25,1629.1,1762.85,899300,1672.66]
["2011-12-01",1812,1951.75,1576,1619.5,819400,1536.64]
["2012-01-02",1625.2,2083.8,1611.5,2061.05,583800,1955.6]
["2012-02-01",2054,2474.8,1975.05,2243.4,866300,2128.62]
["2012-03-01",2232,2374,2047.65,2095,690200,1987.81]
["2012-04-02",2096.5,2347,2090.2,2137.95,522200,2028.57]
["2012-05-01",2131.5,2167.4,1804.5,2055.6,824000,1985.96]
["2012-06-01",2062,2241.95,1975,2159.15,760900,2086.06]
["2012-07-02",2165,2251.5,1931,2005.2,542100,1937.39]
["2012-08-01",2013.85,2089,1816.2,1845,580000,1782.67]
["2012-09-03",1850.5,2278,1828.25,2237.9,541200,2162.38]
["2012-10-01",2240,2363.6,2058.05,2109.6,465100,2038.48]
["2012-11-01",2110,2269,2044,2170.05,390800,2096.89]
["2012-12-03",2180,2407.65,2171,2383.75,366300,2303.44]
["2013-01-01",2401,2550,2397.5,2436.6,359100,2354.58]
["2013-02-01",2431,2451.65,2055.6,2085.4,431100,2015.24]
["2013-03-01",2087,2272.5,2025.4,2072.75,375200,2003.1]
["2013-04-01",2089.9,2342,1976.1,2264.2,293900,2188.25]
["2013-05-01",2264.2,2469.25,2041.55,2047.7,427400,2017.86]
["2013-06-03",2054.7,2084.45,1894,1953.6,466700,1925.15]
["2013-07-01",1963.95,2028.6,1690.1,1709.85,443000,1684.95]
["2013-08-01",1717,1727.25,1452.9,1514.4,527900,1492.34]
["2013-09-02",1525,1844.55,1455,1615.25,467800,1591.72]
["2013-10-01",1624.4,1800.95,1577.25,1795.5,383400,1769.35]
["2013-11-01",1799,1908,1653.4,1821.5,405200,1794.97]
["2013-12-02",1826,1920.9,1715.1,1765.5,249500,1739.79]
["2014-01-01",1774,1805.8,1514.1,1525.6,239900,1503.38]
["2014-02-03",1530,1539.95,1455.95,1531.7,369600,1509.39]
["2014-03-03",1530,1939,1515.15,1918.3,303500,1907.28]
["2014-04-01",1932.3,2124.5,1867.4,2078.95,223100,2067]
["2014-05-01",2078.95,2833.85,2035.45,2541.9,427800,2541.9]
["2014-06-02",2547.3,2760,2528,2685.9,267200,2685.9]
["2014-07-01",2698.3,2728.95,2369.7,2439.75,241700,2439.75]
["2014-08-01",2415.9,2484.3,2390,2415.25,336700,2415.25]

{"sheet":"ticker sheet","index":8,"n_rows":4134,"n_cols":3,"rows_kept":4134}
["Stock Name","ticker code","Use ctrl+f to locate the stock you want"]
["Adarsh Plant Protect Ltd","ADARSHPL.BO",".NS refers to price at NSE"]
["Aimco Pesticides Ltd","AIMCO.BO",".BO refers to price at BSE"]
["Aries Agro Ltd","ARIES.BO","Source"]
["Basant Agro-Tech India Ltd","BASANTGL.BO"]
["Bayer CropScience Ltd","BAYER.BO"]
["Bhagiradha Chemicals","BHAGCHEM.BO"]
["Bharat Agri Fert & Realty Ltd","BFIL.BO"]
["Bharat Rasayan Ltd","BHTRAS.BO"]
["Camson Bio Technologies Ltd","CAMSONBIO.BO"]
["Chambal Fertilisers & Che","CHAMBAL.BO"]
["Coromandel International Ltd","COROMINTE.BO"]
["Deepak Fertilisers","DEEPAKFERT.BO"]
["Dhanuka Agritech Ltd","DHANUKA.BO"]
["Excel Crop Care Ltd","XCLCROP.BO"]
["Excel Industries Ltd","XCLIND.BO"]
["Fertilizers & Chemicals T","FACTL.BO"]
["Gujarat Narmada Valley","GNFC.BO"]
["Insecticides (India) Ltd","INSECTCID.BO"]
["Khaitan Chemicals","KHAICHEM.BO"]
["Kilpest India Ltd","KILPEST.BO"]
["Liberty Phosphate Ltd","LIBERTYP.BO"]
["M P Agro Industries Ltd","MPAGI.BO"]
["Mangalore Chemicals & Fer","MANGCHEM.BO"]
["Meghmani Organics Ltd","MEGH.BO"]
["Modipon Ltd","MODIPON.BO"]
["Monsanto India Ltd","MONSANTO.BO"]
["Nagarjuna Agritech Ltd","NAGTECH.BO"]
["National Fertilizers Ltd","NFL.BO"]
["Ocean Agro (India) Ltd","OCEAGRO.BO"]
["Phyto Chem (India) Ltd","PHYTO.BO"]
["Punjab Chemicals & Crop P","PUNJCHEM.BO"]
["Rama Phosphates Ltd","RAMAPHO.BO"]
["Rashtriya Chemicals and F","RCF.BO"]
["Sabero Organics Gujarat Ltd","SABERO.BO"]
["Shiva Global Agro Industr","SHIVAFER.BO"]
["Southern Petrochemicals I","SOUTHPET.BO"]
["Super Crop Safe Ltd","SUCROSA.BO"]
["Teesta Agro Industries Ltd","TEEAI.BO"]
["Tuticorin Alkali","TUTIALKA.BO"]
["United Phosphorus Ltd","UNITEDPHOS.BO"]
["Zuari Global Ltd","ZUARIIND.BO"]
["Alumeco India Extrusion Ltd","ALUMECO.BO"]
["Associated Profiles","HINDALUMI.BO"]
["Bhoruka Aluminium Ltd","BHRKALM.BO"]
["Century Extrusions Ltd","CENTEXTR.BO"]
["Gujarat Foils Ltd","GUJFOIL.BO"]
["Maan Aluminium Ltd","MANALUM.BO"]
["National Aluminium Co Ltd","NALCO.BO"]
["Nirav Commercials Ltd","NIRAVCOM.BO"]
["PG Foils Ltd","PGFOILQ.BO"]
["Sacheta Metals Ltd","SACHEMT.BO"]
["Sudal Industries Ltd","SUDAI.BO"]
["Aarti Industries Ltd","ARTIIND.BO"]
["Aditya Birla Chemicals (I","ABCIL.BO"]
["AksharChem (India) Ltd","AKSCHEM.BO"]
["Alufluoride Ltd","ALUFLUOR.BO"]
["Amines & Plasticizers Ltd","AMNPLST.BO"]
["Andhra Petrochemicals Ltd","ANDHRAPE.BO"]
["Andhra Sugars Ltd","ANDHRASUGAR.BO"]
["Archit Organosys Ltd","SHCHOLC.BO"]
["Asahi Songwon Colors Ltd","ASCL.BO"]
["Asian Petroproducts","ASINPET.BO"]
["Astec Lifesciences Ltd","ASTEC.BO"]
["Atul Ltd","ATULLTD.BO"]
["Avon Organics Ltd","AVONORG.BO"]
["BASF India Ltd","BASF.BO"]
["Bhagawati Gas Ltd","BHAGGAS.BO"]
["Bhansali Engineering Poly","BEPL.BO"]
["Camphor & Allied Products Ltd","CAMPHOR.BO"]
["DCW Ltd","DCW.BO"]
["Deepak Nitrite Ltd","DEEPAKNI.BO"]
["Dharamsi Morarji Chemical","DHARAMSI.BO"]
["Dhoot Industrial Finance Ltd","DHOOTIN.BO"]
["Diamines & Chemicals Ltd","DIAMINESQ.BO"]
["DIC India Ltd","DIC.BO"]
["Ellenbarrie Industrial Ga","ELLENBARR.BO"]
["Fischer Chemic Ltd","FISCHER.BO"]
["Foseco India Ltd","FOSECO.BO"]
["Genus Prime Infra Ltd","GULCHEM.BO"]
["GHCL Ltd","GHCL.BO"]
["Godrej Industries Ltd","GODREJIND.BO"]
["Gujarat Alkalies","GUJALKALI.BO"]
["Gujarat Fluorochemicals Ltd","GUJFLUORO.BO"]
["Gulshan Polyols Ltd","GULPOLY.BO"]
["Hikal Ltd","HIKAL.BO"]
["Himadri Chemicals & Indus","HIMCI.BO"]
["Hindustan Fluorocarbons Ltd","HINFLUR.BO"]
["Hindustan Organic Chemica","HINDORG.BO"]
["Ind-Agiv Commerce Ltd","INDAGIV.BO"]
["India Gelatine & Chemicals Ltd","INDGELA.BO"]
["India Glycols Ltd","INDIAGLYCOL.BO"]
["Indo Amines Ltd","INDOAMIN.BO"]
["Indo Borax & Chemicals Ltd","INDOBORAX.BO"]
["Insilco Ltd","INSILCO.BO"]
["Jayshree Chemicals Ltd","JAYCH.BO"]
["JD Orgochem Ltd","JDORGO.BO"]
["Kanoria Chemicals & Indus","KANORIAC.BO"]
["Kansai Nerolac Paints Ltd","KANSANERO.BO"]
["Kesar Petroproducts Ltd","KESARPE.BO"]
["Kilburn Chemicals Ltd","KILBURNC.BO"]
["Laffans Petrochemicals Ltd","LAFFANSQ.BO"]
["Manali Petrochemicals Ltd","MANALIPE.BO"]
["Mangalam Drugs & Organics Ltd","MANGALAM.BO"]
["Mangalam Organics Ltd","DUJODPRO.BO"]
["Multibase India Ltd","MULTIBASE.BO"]
["Mysore Petro Chemicals Ltd","MYSORPET.BO"]
["National Peroxide Ltd","NATPEROX.BO"]
["Navin Fluorine Internatio","NAVIN.BO"]
["NOCIL Ltd","NOCIL.BO"]
["Oriental Carbon","ORIENTCQ.BO"]
["Pratiksha Chemicals Ltd","PRATIKSH.BO"]
["Pressure Sensitive System","PRESSURS.BO"]
["Punjab Alkalies & Chem","PACL.BO"]
["Refex Refrigerants Ltd","REFEX.BO"]
["Refnol Resins & Chemicals Ltd","REFNOL.BO"]
["Resonance Specialties Ltd","RESONANCE.BO"]
["Ritesh International Ltd","RITESHIN.BO"]
["Roopa Industries Ltd","ROOPAIND.BO"]
["Sarang Chemicals Ltd","SARCHEM.BO"]
["Shalimar Paints Ltd","SHALMPAI.BO"]
["Sree Rayalaseema","SREERAYA.BO"]
["Standard Shoe Sole","CHMCRWN.BO"]
["Sunitee Chemicals Ltd","SUNITEE.BO"]
["Supreme Industries Ltd","SUPREMEIND.BO"]
["Supreme Petrochem Ltd","SUPREMEPET.BO"]
["SVC Superchem Ltd","SVCSUPE.BO"]
["T C M Ltd","TCMLMTD.BO"]
["Tamilnadu Petroproducts Ltd","TNPETRO.BO"]
["Tata Chemicals Ltd","TATACHEM.BO"]
["Transpek Industry Ltd","TRANSPEK.BO"]
["Ultramarine & Pigments Ltd","ULTRAMAR.BO"]
["Uniphos Enterprises Ltd","UNIPHOS.BO"]
["Universal Starch-Chem All","UNIVSTAR.BO"]
["Vinati Organics Ltd","VINATIOR.BO"]
["Vivid Global Industries Ltd","VIVIDIND.BO"]
["ABC Gas (International) Ltd","ABCGAS.BO"]
["Cubex Tubings Ltd","CUBTU.BO"]
["Hindalco Industries Ltd","HINDALCO.BO"]
["Hindustan Copper Ltd","HINDCOPER.BO"]
["Deccan Gold Mines Ltd","DECNGOLD.BO"]
["Shirpur Gold Refinery Ltd","AGEEGOLD.BO"]
["Gujarat Natural Resources Ltd","LESHAENER.BO"]
["Hindustan Oil Exploration","HINDOILEXP.BO"]
["Interlink Petroleum Ltd","INTLNKP.BO"]
["KGN Industries Ltd","KGNIND.BO"]
["Sterling International En","STEERINTER.BO"]
["Trinity Tradelink Ltd","SHARPTR.BO"]
["Aegis Logistics Ltd","AEGISLOG.BO"]
["Cairn India Ltd","CAIRN.BO"]
["Eastern Gases Ltd","EASTERNGAS.BO"]
["Essar Oil Ltd","ESSAROIL.BO"]
["Gagan Gases Ltd","GAGAN.BO"]
["Oil & Natural Gas Corp Ltd","ONGC.BO"]
["Oil India Ltd","OIL.BO"]
["Aban Offshore Ltd","ABANOFFSH.BO"]
["Asian Oilfield Services Ltd","ASIANOI.BO"]
["Gemmia Oiltech (India) Ltd","RAMKASH.BO"]
["Jindal Drilling & Industr","JINDRILL.BO"]
["Selan Exploration","SELAN.BO"]
["Alphageo India Ltd","ALPHAGEO.BO"]
["Deep Industries Ltd","DEEPIND.BO"]
["Dolphin Offshore Enterpri","DOLPOFF.BO"]
["Duke Offshore Ltd","DUKEOFS.BO"]
["Expo Gas Containers Ltd","EXPOGAS.BO"]
["Gol Offshore Ltd","GREATOFF.BO"]
["Oil Country Tubular Ltd","OILCOUNT.BO"]
["Seamec Ltd","SEAMECLTD.BO"]
["Shiv-Vani Oil & Gas Explo","SHIVVANI.BO"]
["United Drilling Tools Ltd","UNIDT.BO"]
["Bharat Petroleum Corp Ltd","BPCL.BO"]
["Cals Refineries Ltd","CALSREF.BO"]
["Chennai Petroleum Corp Ltd","CHENNPETRO.BO"]
["Confidence Petroleum India Ltd","CONFIPET.BO"]
["Continental Petroleums Ltd","CONTPTR.BO"]
["Hindustan Petroleum Corp Ltd","HPCL.BO"]
["Indian Oil Corp Ltd","IOC.BO"]
["Kanel Industries Ltd","KANELOIL.BO"]
["Mangalore Refinery and Pe","MRPL.BO"]
["Panama Petrochem Ltd","PANAMA.BO"]
["Petronet LNG Ltd","PETRONET.BO"]
["Reliance Industries Ltd","RIL.BO"]
["Sah Petroleums Ltd","SAHPETRO.BO"]
["Samyak International Ltd","SAMYAKINT.BO"]
["Tide Water Oil Co India Ltd","TIDEWAT.BO"]
["Adi Finechem Ltd","HKFINCHQ.BO"]
["Agarwal Industrial Corp Ltd","AGARIND.BO"]
["Akzo Nobel India Ltd","ICI.BO"]
["Alkyl Amines Chemicals Ltd","ALKYLAM.BO"]
["Amal Ltd","AMAL.BO"]
["Axel Polymers Ltd","AXELPOLY.BO"]
["Bagadia Colourchem Ltd","BAGADIA.BO"]
["Balaji Amines Ltd","BALAJIAM.BO"]
["Berger Paints India Ltd","BERGEPAINT.BO"]
["Bhageria Dye Chem Ltd","BHAGERIA.BO"]
["Black Rose Industries Ltd","BLACKROSE.BO"]
["Bodal Chemicals Ltd","BODALCHEM.BO"]
["Borax Morarji Ltd","BORAX.BO"]
["C J Gelatine Products Ltd","CJGEL.BO"]
["Camex Ltd","CAMEXLTD.BO"]
["Camlin Fine Sciences Ltd","CAMLNFINE.BO"]
["Chembond Chemicals Ltd","CHEMBOND.BO"]
["Chemfab Alkalies Ltd","CHEMALK.BO"]
["Chromatic India Ltd","CHROMATI.BO"]
["Clariant Chemicals India Ltd","CLARICHEM.BO"]
["Dai-Ichi Karkaria Ltd","DAICHI.BO"]
["Daikaffil Chemicals India Ltd","DAIKAFFI.BO"]
["Dujodwala Paper Chemicals Ltd","DUJODPPR.BO"]
["Dynamic Industries Ltd","DYNAMIND.BO"]
["Dynemic Products Ltd","DYNPRO.BO"]
["Emmessar Biotech And Nutr","EMMESSA.BO"]
["Exotic Coal Ltd","ARSICOS.BO"]
["Ganesh Benzoplast Ltd","GANESHBE.BO"]
["GeeCee Ventures Ltd","GEECEE.BO"]
["Goa Carbon Ltd","GOACARB.BO"]
["Griffin Chemicals Limited","SIKOZY.BO"]
["Gujarat Carbon And Indust","GUJCARB.BO"]
["Gulf Oil Corp Ltd","GULFOIL.BO"]
["Hardcastle & Waud","HARDCAS.BO"]
["Haryana Leather Chemicals Ltd","HARLETH.BO"]
["Hindustan Adhesives Ltd","HINDADH.BO"]
["Ig Petrochemicals Ltd","IGPETRO.BO"]
["Indian Toners & Developers Ltd","INDTONER.BO"]
["Indokem Ltd","INDOKEM.BO"]
["IOL Chemicals And Pharmac","IOLCHEMPH.BO"]
["IVP Ltd","IVP.BO"]
["Jayant Agro-Organics Ltd","JAYANTAG.BO"]
["Jaysynth Dyestuff (India) Ltd","JAYSYN.BO"]
["Jindal Poly Films Ltd","JINDPOLYFM.BO"]
["Jyoti Resins & Adhesives Ltd","JYOTIRES.BO"]
["Kiri Industries Ltd","KIRIDYES.BO"]
["Kriptol Industries Ltd","ROSEIND.BO"]
["Lime Chemicals Ltd","LIMECHM.BO"]
["Linde India Ltd","BOCINDIA.BO"]
["Lords Chloro Alkali Ltd","LORDSCHLO.BO"]
["Narmada Gelatines Ltd","SHAWGELQ.BO"]
["National Oxygen Ltd India","NATNOXY.BO"]
["Nikhil Adhesives Ltd","NIKHILAD.BO"]
["Nitta Gelatin India Ltd","NITTAGELA.BO"]
["Noble Explochem Ltd","NOBLEXP.BO"]
["Organic Coatings Ltd","ORGCOAT.BO"]
["Orient Abrasives Ltd","ORIABRAS.BO"]
["Paushak Ltd","PAUSHAKLTD.BO"]
["Pidilite Industries Ltd","PIDILITIND.BO"]
["Planter'S Polysacks Ltd","ZPPOLYSA.BO"]
["Poddar Pigments Ltd","PODARPIGQ.BO"]
["Polychem Ltd","POLYCHEM.BO"]
["Pondy Oxides And Chemicals Ltd","PONDYOXC.BO"]
["Premier Explosives Ltd","PREMEXPLQ.BO"]
["Rama Petrochemicals Ltd","RAMAPETR.BO"]
["Sadhana Nitro Chem Ltd","SADHNANIQ.BO"]
["Savita Oil Technologies Ltd","SOTL.BO"]
["Shree Hari Chemicals Expo","SHHARICH.BO"]
["Shreyas Intermediates Ltd","SHREYASI.BO"]
["Solar Industries India Ltd","SOLARIND.BO"]
["Sonal Adhesives Ltd","SONALAD.BO"]
["Southern Online Bio","SBTL.BO"]
["Square Four Projects India Ltd","ESSNSUP.BO"]
["Sree Rayalaseema Hi-Stren","SREERAYAL.BO"]
["Sudarshan Chemical","SUDRCHK-B.BO"]
["Sunshield Chemicals Ltd","SUNSHIEL.BO"]
["Swarnajyothi Agrotech","OCTANT.BO"]
["TANFAC Industries Ltd","TANFAC.BO"]
["Thirumalai Chemicals Ltd","THIRUMALAI.BO"]
["Tinna Rubber","TINAOVER.BO"]
["Vidhi Dyestuffs","VIDHIDYE.BO"]
["Vinyl Chemicals (India) Ltd","VINYL.BO"]
["Vipul Dye-Chem Ltd","VIPULDYE.BO"]
["Vishnu Chemicals Ltd","VISHNU.BO"]
["Xpro India Ltd","XPRO.BO"]
["Adhunik Metaliks Ltd","ADHUNIK.BO"]
["Aditya Ispat Ltd","ADITYA.BO"]
["Ahmedabad Steelcraft Ltd","AHMDSTE.BO"]
["Anil Special Steel","ANILSPL.BO"]
["Ankit Metal & Power Ltd","ANKITMET.BO"]
["APL Apollo Tubes Ltd","BIHARTUBE.BO"]
["Ashiana Ispat Ltd","ASHIS.BO"]
["Ashirwad Steels & Indus","ASHSI.BO"]
["Balasore Alloys Ltd","BALASORE.BO"]
["Bhagwandas Metals Ltd","BHAGWNME.BO"]
["Bhushan Steel Ltd","BHUSSTEEL.BO"]
["Bhuwalka Steel Industries Ltd","BHUWALST.BO"]
["Bihar Sponge Iron Ltd","BIHSPONG.BO"]
["Cosmo Ferrites Ltd","COSMOFE.BO"]
["Coventry Coil-O-Matic (Ha","COVENTRY.BO"]
["Crimson Metal Engineering","SRISARB.BO"]
["Ensa Steel Industries Ltd","ENSSI.BO"]
["Facor Alloys Ltd","FACORALL.BO"]
["Facor Steels Ltd","FACORSTE.BO"]
["Ferro Alloys Corp Ltd","FERROALL.BO"]
["Forbes & Company Ltd","FORBESCO.BO"]
["Gallantt Metal Ltd","GALLANTT.BO"]
["Gangotri Iron & Steel Co Ltd","GANGOTRI.BO"]
["Garg Furnace Ltd","GARGFUR.BO"]
["Godawari Power & Ispat Ltd","GPIL.BO"]
["Gontermann-Peipers India Ltd","GONTER.BO"]
["Good Luck Steel Tubes Ltd","GOODLUC.BO"]
["Gopal Iron & Steels","GOPAIST.BO"]
["Gujarat Intrux Ltd","GUJINTRX.BO"]
["Heera Ispat Ltd","HEERAISP.BO"]
["Hisar Metal Industries Ltd","HISARMET.BO"]
["India Steel Works Ltd","ISWL.BO"]
["Indian Link Chain","INLCM.BO"]
["Indian Metals & Ferro","IMFA.BO"]
["Indsil Hydro Power","INDSILHYD.BO"]
["ISMT Limited","ISMT.BO"]
["Jai Balaji Industries Ltd","JAIBALAJI.BO"]
["Jayaswal NECO Industries Ltd","JAYASWAL.BO"]
["Jindal Saw Ltd","JINDAL.BO"]
["Jindal Steel & Power Ltd","JINDALSTEEL.BO"]
["JSL Stainless Ltd","JSL.BO"]
["JSW Steel Ltd","JSWSL.BO"]
["Kalyani Steels Ltd","KALYANISTE.BO"]
["Kamdhenu Ispat Ltd","KIL.BO"]
["Kanishk Steel Industries Ltd","KANSHST.BO"]
["Karma Industries Ltd","KARMAISP.BO"]
["KIC Metaliks Ltd","KAJARIR.BO"]
["Kirloskar Ferrous","KIRLFER.BO"]
["Krishna Ferro Products Ltd","KRISFEP.BO"]
["Lanco Industries Ltd","LANCO.BO"]
["Lloyds Metals & Energy Ltd","LLOYDSMEQ.BO"]
["Mahalaxmi Seamless Ltd","MAHALXSE.BO"]
["Mahamaya Steel Industries Ltd","MAHASTEEL.BO"]
["Maharashtra Seamless Ltd","MAHSEAMLES.BO"]
["Mahindra Ugine Steel Co Ltd","MAHIUGIN.BO"]
["Maithan Alloys Ltd","MAITHANAL.BO"]
["Man Industries (India) Ltd","MANIND.BO"]
["Metal Coatings (India) Ltd","METALCO.BO"]
["Modern Steels Ltd","MDRNSTL.BO"]
["Monnet Industries Ltd","MONNETIN.BO"]
["Monnet Ispat & Energy Ltd","MONNET.BO"]
["Monnet Project Developers Ltd","MONETSUG.BO"]
["MSP Steel & Power Ltd","MSPSTEEL.BO"]
["Mukand Ltd","MUKANDLTD.BO"]
["Mukat Pipes Ltd","MUKATPIP.BO"]
["Mukesh Steels Ltd","MUKESTL.BO"]
["Mukesh Strips Ltd","MUKSTRI.BO"]
["National Fittings Ltd","INTERFIT.BO"]
["National General Ind","NATGENI.BO"]
["National Steel & Agro Ind","NATSTEEL.BO"]
["NMDC Ltd","NMDCLTD.BO"]
["OCL Iron and Steel Ltd","OCLISL.BO"]
["Orissa Sponge Iron & Steel Ltd","ORISSASP.BO"]
["P M Telelinnks Ltd","PMTELELIN.BO"]
["Panchmahal Steel Ltd","PANCHMAHQ.BO"]
["Pennar Industries Ltd","PENARIND.BO"]
["Prabhav Industries Ltd","PRABHAVIN.BO"]
["Prakash Industries Ltd","PRKSH.BO"]
["Rajasthan Tube","RAJTUBE.BO"]
["Rajratan Global Wire Ltd","RAJGLOWIR.BO"]
["Ramsarup Industries Ltd","RAMSARUP.BO"]
["Ranjeev Alloys Ltd","RANJEEV.BO"]
["Rathi Bars Ltd","RATHIBAR.BO"]
["Rathi Steel & Power Ltd","RATHIST.BO"]
["Ratnamani Metals & Tubes Ltd","RATNAMETQ.BO"]
["Real Strips Ltd","REALSTR.BO"]
["Remi Edelstahl Tubulars Ltd","REMIEDEL.BO"]
["Resurgere Mines & Mineral","RESURGERE.BO"]
["Rishabh Digna Steel","RISHDIGA.BO"]
["RMG Alloy Steel Ltd","REMIMET.BO"]
["Ruchi Strips & Alloys Ltd","RUCHISTR.BO"]
["S AL Steel Ltd","SALSTEEL.BO"]
["Sandur Manganese And Iron","SANDUMA.BO"]
["Sarda Energy & Minerals Ltd","SARDAEN.BO"]
["Sathavahana Ispat Ltd","SATHVANI.BO"]
["Shah Alloys Ltd","SHAHALL.BO"]
["Shree Steelwire Ropes Ltd","SSWRL.BO"]
["Shri Bajrang Alloys Ltd","SHBAJRG.BO"]
["Southern Ispat & Energy Ltd","SOUTHISPQ.BO"]
["Steel Authority Of India Ltd","SAIL.BO"]
["Steel Exchange India Ltd","STEELXIND.BO"]
["Steelco Gujarat Ltd","STEELCO.BO"]
["Sujana Metal Products Ltd","SUJANAMETAL.BO"]
["Sujana Universal Industri","SUJANA.BO"]
["Sunflag Iron & Steel Co Ltd","SUNFLAGIRN.BO"]
["Suraj Ltd","SURAJST.BO"]
["Surana Industries Ltd","SURANAIN.BO"]
["Tata Metaliks Ltd","TATAMETALI.BO"]
["Tata Sponge Iron Ltd","TATASPONGE.BO"]
["Tata Steel Ltd","TATASTL.BO"]
["Techno Forge Ltd","TECHFOR.BO"]
["Tulsyan Nec Ltd","TULSYAN.BO"]
["Uni-Abex Alloy Products Ltd","UNIABEXAL.BO"]
["Usha Martin Ltd","USHAMARTIN.BO"]
["Uttam Galva Steels Ltd","UTTAMSTEEL.BO"]
["Uttam Value Steels Ltd","LLOYDSTEEL.BO"]
["Vallabh Steels Ltd","VALLABHSQ.BO"]
["Vardhman Industries Ltd","VARDHINDQ.BO"]
["Visa Steel Ltd","VISASTEEL.BO"]
["Welspun Corp Ltd","WELSPUNGUJR.BO"]
["Aditya Birla Nuvo Ltd","ABIRLANUV.BO"]
["Alang Industrial Gases Ltd","ALANGIND.BO"]
["Alchemist Ltd","ALCHEMIST.BO"]
["Allied Herbals Ltd","RAJDHNIL.BO"]
["Amradeep Industries Ltd","AMARDEE.BO"]
["Ashiana Agro Industries Ltd","ASHAI.BO"]
["Aurangabad Paper Mills Ltd","AURANPAP.BO"]
["Autoriders Finance Ltd","AUTORIDF.BO"]
["Bacil Pharma Ltd","BACPHAR.BO"]
["Balmer Lawrie & Company Ltd","BALMLAW.BO"]
["Bannari Amman Sugars Ltd","BANNARIAM.BO"]
["Beeyu Overseas Ltd","BEEYU.BO"]
["BEML Ltd","BEML.BO"]
["Chhattisgarh Industries Ltd","CHHATTIND.BO"]
["DCM Shriram Ltd","DCMSHRIRAMC.BO"]
["Dhanalaxmi Rotospinners Ltd","DHANROTO.BO"]
["Dil Ltd","DIL.BO"]
["DSJ Communications Ltd","DSJCOM.BO"]
["East Coast Steel Ltd","ECSTSTL.BO"]
["Exdon Trading Ltd","ZEXDONTR.BO"]
["Gillanders Arbuthnot &","GILLANDER.BO"]
["Green Fire Agri Comm","NORTHGATE.BO"]
["IDream Film","SOFTBPO.BO"]
["India Cements Capital Ltd","INDCEMCAP.BO"]
["International Housing Fin","INTERHG.BO"]
["Jupiter Industries","JPTRLES.BO"]
["Manaksia Ltd","MANAKSIA.BO"]
["Mavi Industries Ltd","MAVIIND.BO"]
["McDowell Holdings Ltd","MCDHOLDIN.BO"]
["Monotype India Ltd","MONOT.BO"]
["Nava Bharat Ventures Ltd","NBVENTURE.BO"]
["Network Ltd","NETWORK.BO"]
["PALCO Ltd","PENNARAL.BO"]
["Panther Industrial","PANIDPR.BO"]
["Parker Agro Chem Exports Ltd","PARKERAC.BO"]
["Prism Medico & Pharmacy Ltd","WOOLMER.BO"]
["Sigrun Holdings Ltd","GKFIN.BO"]
["Sun Techno Overseas Ltd","WELLWORT.BO"]
["Sword-Edge Commercials Ltd","ZROTAMCO.BO"]
["TPL Plastech Ltd","TPLPLAST.BO"]
["Transchem Ltd","TRANSCHE.BO"]
["Universal Prime Aluminium Ltd","UNIVPRIM.BO"]
["Vardhman Laboratories Ltd","VARDHCH.BO"]
["3M India Ltd","523395.BO"]
["Ashok Leyland","ASHOKLEY.BO"]
["Atul Auto Ltd","ATULAUTO.BO"]
["Bajaj Auto Ltd","BAJAJAUT.BO"]
["Eicher Motors Ltd","EICHERMOT.BO"]
["Force Motors Ltd","FORCEMOT.BO"]
["Hero MotoCorp Ltd","HEROHONDA.BO"]
["Hindustan Motors Ltd","HINDMOTOR.BO"]
["LML Ltd","LML.BO"]
["Mahindra & Mahindra Ltd","MNM.BO"]
["Maruti Suzuki India Ltd","MARUTI.BO"]
["Scooters India Ltd","SCOOTER.BO"]
["SML Isuzu Ltd","SWARAJMAZD.BO"]
["TVS Motor Co Ltd","TVSMOTOR.BO"]
["VCCL Ltd","VCCLLTD.BO"]
["Amforge Industries Ltd","AMFORG.BO"]
["Amtek Auto Ltd","AMTEKAUTO.BO"]
["Amtek India Ltd","AMTEKIN.BO"]
["ANG Industries Ltd","ANGAUTO.BO"]
["Asahi India Glass Ltd","ASAHI.BO"]
["Autoline Industries Ltd","AUTOIND.BO"]
["Autolite (India) Ltd","AUTOLITE.BO"]
["Automobile Corp of GOA Ltd","ACGL.BO"]
["Automotive Axles Ltd","AUTOAXLES.BO"]
["Automotive Stampings","ASAL.BO"]
["Banco Products India Ltd","BANCO.BO"]
["Bhagwati Autocast Ltd","BGWTATO.BO"]
["Bharat Forge Ltd","BHARATFORG.BO"]
["Bharat Gears Ltd","BHARATGE.BO"]
["Bharat Seats Ltd","BHARATSE.BO"]
["Bimetal Bearings Ltd","BIMETAL.BO"]
["Bosch Ltd","BOSCHL.BO"]
["Brakes Auto (India) Ltd","BRAKAUT.BO"]
["Clutch Auto Ltd","CLUTCH.BO"]
["Dynamatic Technologies Ltd","DYNAMATE.BO"]
["Exide Industries Ltd","EXIDEIND.BO"]
["Federal-Mogul Goetze","FEDMOGGOE.BO"]
["FIEM Industries Ltd","FIEMIND.BO"]
["G S Auto International Ltd","GSAUTO.BO"]
["Gabriel India Ltd","GABRIEL.BO"]
["Gajra Bevel Gears Ltd","GAJRA.BO"]
["Harita Seating Systems Ltd","HARITASEA.BO"]
["Hella India Lighting Ltd","HELLAIND.BO"]
["Hi-Tech Gears Ltd","HITECHGE.BO"]
["Hinduja Foundries Ltd","HINDUJAFO.BO"]
["Hindustan Composites Ltd","HINDCOMPQ.BO"]
["Hindustan Hardy Spicer Ltd","HINDHARD.BO"]
["Igarashi Motors India Ltd","CGIGARSH.BO"]
["India Motor Parts & Acces","IMPAL.BO"]
["India Nippon Electricals Ltd","INDIANIPPON.BO"]
["IP Rings Ltd","IPRINGS.BO"]
["IST Ltd","ISTLTD.BO"]
["Jagan Lamps Ltd","JAGANLAM.BO"]
["Jamna Auto Industries Ltd","JAMNAUTO.BO"]
["Jay Bharat Maruti Ltd","JBML.BO"]
["Jay Ushin Ltd","JAYUSH.BO"]
["JBM Auto Ltd","JBMA.BO"]
["JMT Auto Ltd","JMTAUTO.BO"]
["Kalyani Forge Ltd","KALYFRG.BO"]
["Kar Mobiles Ltd","KARMOB.BO"]
["KEW Industries Ltd","KEWIND.BO"]
["Kinetic Engineering Ltd","KINETICE.BO"]
["LG Balakrishnan & Bros Ltd","LGBROS.BO"]
["Lumax Auto Technologies Ltd","LUMAXTECH.BO"]
["Lumax Automotive Systems Ltd","LUMAXAU.BO"]
["Lumax Industries Ltd","LUMAXIND.BO"]
["Maharashtra Scooters Ltd","MAHSCOOTER.BO"]
["Majestic Auto Ltd","MAJESAUT.BO"]
["Menon Bearings Ltd","MENONBE.BO"]
["Menon Pistons Ltd","MENNPIS.BO"]
["Minda Industries Ltd","MINDA.BO"]
["Motherson Sumi Systems Ltd","MOTHERSUMI.BO"]
["Munjal Showa Ltd","MUNJALSHOWA.BO"]
["Omax Autos Ltd","OMAX.BO"]
["Porwal Auto Components Ltd","PORWAL.BO"]
["PPAP Automotive Ltd","PPAP.BO"]
["Pricol Ltd","PRICOL.BO"]
["Rane (Madras) Ltd","RANEMADRAS.BO"]
["Rane Brake Linings Ltd","RANEBRK.BO"]
["Rane Engine Valve Ltd","RANENG.BO"]
["Rane Holdings Ltd","RANEHOLD.BO"]
["Rasandik Engineering Indu","RASANDIK.BO"]
["Raunaq Automotive Compone","RAUNAQAU.BO"]
["REIL Electricals India Ltd","REILELEC.BO"]
["Remsons Industries Ltd","REMSONQ.BO"]
["Rico Auto Industries Ltd","RICOAUTO.BO"]
["Saint Gobain Sekurit India Ltd","SAINTGOBAIN.BO"]
["Samkrg Pistons and Rings Ltd","SAMKRG.BO"]
["Schrader Duncan Ltd","SSDUNC.BO"]
["Setco Automotive Ltd","SETCO.BO"]
["Shivam Autotech Ltd","SHIVAM.BO"]
["Sibar Auto Parts Ltd","SIBARAUT.BO"]
["Simmonds-Marshall Ltd","SIMMOND.BO"]
["Smiths & Founders (India) Ltd","SHIMOGA.BO"]
["Sona Koyo Steering Systems Ltd","SONAKOYA.BO"]
["Spectra Industries Ltd","SPECTRA.BO"]
["Steel Strips Wheels Ltd","STEELSTR.BO"]
["Subros Ltd","SUBROS.BO"]
["Sundaram Brake Linings Ltd","SUNDRMBRAK.BO"]
["Sundaram Clayton Ltd","SUNDRMCLAY.BO"]
["Sundaram Fasteners Ltd","SUNDRMFAST.BO"]
["Suprajit Engineering Ltd","SUPRAENG.BO"]
["Swaraj Engines Ltd","SWARAJENG.BO"]
["Talbros Automotive Compon","TALBROSQ.BO"]
["Triton Valves Ltd","TRITONV.BO"]
["Tube Investments Of India Ltd","TUBEINVEST.BO"]
["TVS Srichakra Ltd","TVSSRICHAK.BO"]
["UCAL Fuel Systems Ltd","UCALFUEL.BO"]
["Vybra Automet Ltd","VYVRAUT.BO"]
["WABCO India Ltd","WABCOTVS.BO"]
["Wheels India Ltd","WHEELS.BO"]
["ZF Steering Gear (India) Ltd","ZFSTEER.BO"]
["Associated Alcohols & Bre","ASALCBR.BO"]
["Empee Distilleries Ltd","EDL.BO"]
["G M Breweries Ltd","GMBREW.BO"]
["Jagatjit Industries Ltd","JAGATJITIND.BO"]
["Mount Shivalik Industries Ltd","MOUNTSHIQ.BO"]
["Radico Khaitan Ltd","RADICO.BO"]
["Som Distilleries And Brew","SOMDIST.BO"]
["United Breweries holdings","UBHOLDING.BO"]
["United Breweries Ltd","UNITEDBREW.BO"]
["Winsome Breweries Ltd","WINSOMBR.BO"]
["Asian Tea & Exports Ltd","ASIANTNE.BO"]
["B&A Ltd","BNALTD.BO"]
["Longview Tea Co Ltd","LONTE.BO"]
["Malabar Trading Co Ltd","MALTC.BO"]
["Mount Everest Mineral","MOUNTEVE.BO"]
["Orient Beverages Ltd","ORIBEVER.BO"]
["Wellness Noni Ltd","RGNSECO.BO"]
["Globus Spirits Ltd","GLOBUSSPR.BO"]
["Ifb Agro Industries Ltd","IFBAGRQ.BO"]
["Khoday India Ltd","KHODAY.BO"]
["Pioneer Distilleries Ltd","PIONRDIS.BO"]
["Silver Oak (India) Ltd","SILVOAK.BO"]
["Tilaknagar Industries Ltd","TILAKIND.BO"]
["United Spirits Ltd","UNITDSPR.BO"]
["Camlin Ltd","CAMLIN.BO"]
["Kilburn Office Automation Ltd","KILBURN.BO"]
["Linc Pen & Plastics Ltd","LINCPENQ.BO"]
["Todays Writing Products Ltd","TODAYS.BO"]
["Universal Office Automati","UNIOFFICE.BO"]
["Bajaj Hindusthan Ltd","BAJAJHIND.BO"]
["Balrampur Chini Mills Ltd","BALRAMCHIN.BO"]
["Dalmia Bharat Sugar and I","DALMIACEM.BO"]
["DCM Shriram Industries Ltd","DCMSHRIN.BO"]
["Dhampure Speciality Sugars Ltd","DHAMPURE.BO"]
["Dollex Industries Ltd","DOLLEX.BO"]
["Dwarikesh Sugar Industries Ltd","DWARKESH.BO"]
["Eastern Sugar And Industr","EASUG.BO"]
["Gayatri BioOrganics Ltd","GAYATRIBI.BO"]
["Indian Sucrose Ltd","INDSUCR.BO"]
["Jeypore Sugar Co Ltd","JEYPORE.BO"]
["K M Sugar Mills Ltd","KMSUGAR.BO"]
["Kesar Enterprises Ltd","KESARENQ.BO"]
["Lotus Chocolate Co Ltd","LOTUSCHO.BO"]
["Mawana Sugars Ltd","MAWANASUG.BO"]
["Parrys Sugar Industries Ltd","GMRINDS.BO"]
["Ponni Sugars (Erode) Ltd","PONNISUG.BO"]
["Rajshree Sugars & Chemica","RSCL.BO"]
["Ravalgaon Sugar Farm Ltd","RAVALSUG.BO"]
["Riga Sugar Co Ltd","RIGASUG.BO"]
["Sakthi Sugars Ltd","SAKTHISU.BO"]
["Sampre Nutritions Ltd","SAMPRE.BO"]
["SBEC Sugar Ltd","SBECSUG.BO"]
["Shree Renuka Sugars Ltd","RENUKA.BO"]
["Simbhaoli Sugars Ltd","SIMBHALS.BO"]
["Sir Shadi Lal Enterprises Ltd","SSLEL.BO"]
["Thiru Arooran Sugars Ltd","THIRUSUG.BO"]
["Triveni Engineering & Ind","TEIL.BO"]
["Ugar Sugar Works Ltd","UGAR.BO"]
["Upper Ganges Sugar & Indu","UPPERGA.BO"]
["Uttam Sugar Mills Ltd","UTTAMSUGR.BO"]
["Bajaj Electricals Ltd","BAJAJELE.BO"]
["BPL Ltd","BPL.BO"]
["Butterfly Gandhimathi","GANDHIAP.BO"]
["Calcom Vision Ltd","CALCOM.BO"]
["Khaitan Electricals Ltd","KHAITANE.BO"]
["MIC Electronics Ltd","MIC.BO"]
["MIRC Electronics Ltd","MIRC.BO"]
["Noesis Industries Ltd","MVLIND.BO"]
["Panasonic Appliances Indi","PANASONIC.BO"]
["Phoenix Lamps Ltd","HALONIX.BO"]
["Procal Electronics India Ltd","PROCAL.BO"]
["Salora International Ltd","SALORA.BO"]
["Samtel India Ltd","SAMTELIN.BO"]
["Sharp India Ltd","SHARP.BO"]
["Trend Electronics Ltd","TRENDELEC.BO"]
["Value Industries Ltd","VALUEINDU.BO"]
["Videocon Industries Ltd","VIDEOCON.BO"]
["Whirlpool of India Ltd","WHIRLPOOL.BO"]
["Advanta Ltd","ADVANTA.BO"]
["Agro Dutch Industries Ltd","AGRODUT.BO"]
["Alfavision Overseas","ALFAVIO.BO"]
["Anil Ltd","ANILPROD.BO"]
["ANS Industries Ltd","ANSLTD.BO"]
["Arcuttipore Tea Co Ltd","ARCUTTIP.BO"]
["Assam Co India Ltd","ASSAMCO.BO"]
["Bengal Tea & Fabrics Ltd","BENGALT.BO"]
["Bombay Burmah Trading","BOMBURH.BO"]
["Dhampur Sugar Mills Ltd","DHAMPUR.BO"]
["Dharani Sugars & Chemicals Ltd","DHARANI.BO"]
["Diana Tea Co Ltd","DIANATEA.BO"]
["E I D Parry India Ltd","EIDPARRY.BO"]
["Elegant Floriculture & Ag","ELEFLOR.BO"]
["Emmsons International Ltd","EMMSONS.BO"]
["FE India Ltd","FINEYE.BO"]
["Florence Investech Ltd","JKAGRI.BO"]
["Goodricke Group Ltd","GOODRIC.BO"]
["Gujarat Ambuja Exports Ltd","GAEL.BO"]
["Harrisons Malayalam Ltd","HARRMAL.BO"]
["Himalya International Ltd","HIMIN.BO"]
["Jay shree Tea & Industries Ltd","JAYSHREETEA.BO"]
["Joonktollee Tea & Industr","JOONKTOLL.BO"]
["Karuturi Global Ltd","KARUTGLOB.BO"]
["Kohinoor Foods Ltd","KOHINOOR.BO"]
["Kothari Fermentation And","KFBL.BO"]
["Kriti Nutrients Ltd","KRITINUT.BO"]
["Lakshmi Energy & Foods Ltd","LAKSHMIO.BO"]
["Ledo Tea Co Ltd","LEDOTEA.BO"]
["Neelamalai Agro Industries Ltd","NEAGI.BO"]
["Neha International Ltd","NEHIN.BO"]
["Olympic Oil Industries Ltd","OLYOI.BO"]
["Omega Ag-Seeds (Punjab) Ltd","OMEAG.BO"]
["Piccadily Sugar & Allied","PICCASUG.BO"]
["Pioneer Agro Extracts Ltd","PIONAGR.BO"]
["Poona Dal & Oil Industries Ltd","POONADAL.BO"]
["Rana Sugars Ltd","RANASUG.BO"]
["Rashel Agrotech Ltd","RASHELAG.BO"]
["Riddhi Siddhi Gluco Biols Ltd","RIDDHI.BO"]
["Sanwaria Agro Oils Ltd","SANWARIA.BO"]
["Sea Gold Infrastructure Ltd","SEAGOLD.BO"]
["Sip Industries Ltd","SIPIND.BO"]
["Sita Shree Food Products Ltd","SITASHREE.BO"]
["Srinivasa Hatcheries Ltd","SRINIHAT.BO"]
["Sukhjit Starch & Chemicals Ltd","SUKHJITS.BO"]
["Sunil Agro Foods Ltd","SUNILAGR.BO"]
["Tarai Foods Ltd","TARAI.BO"]
["Terai Tea Co Ltd","TERAI.BO"]
["Tricom Fruit Products Ltd","RIDS.BO"]
["Tyroon Tea Co Ltd","TYROON.BO"]
["Umang Dairies Ltd","UMANGDAIR.BO"]
["Unique Organics Ltd","UNIQUEO.BO"]
["Usher Agro Ltd","USHER.BO"]
["Venkys India Ltd","VENKYS.BO"]
["Warren Tea Ltd","WARRENT.BO"]
["ADF Foods Ltd","ADFFOODQ.BO"]
["Agro Tech Foods Ltd","AGROTECHFO.BO"]
["Ajanta Soya Ltd","AJANTSOY.BO"]
["Amrit Corp Ltd","AMRITCORP.BO"]
["Avanti Feeds Ltd","AVANTIFE.BO"]
["Bambino Agro Industries Ltd","BAMBINO.BO"]
["Britannia Industries Ltd","BRITANNIA.BO"]
["Chaman Lal Setia Exports Ltd","CHAMANSEQ.BO"]
["Chordia Food Products Ltd","CHORDIA.BO"]
["DFM Foods Ltd","DFM.BO"]
["Dharti Proteins Ltd","DEVIKA.BO"]
["Divya Jyoti Industries Ltd","DIVYAJYQ.BO"]
["Empee Sugars And Chemicals Ltd","EMPSC.BO"]
["Farmax India Ltd","FARMAXIND.BO"]
["Flex Foods Ltd","FLEXFO.BO"]
["Foods & Inns Ltd","FOODSIN.BO"]
["Glaxosmithkline Consumer","GLAXOCON.BO"]
["Gokul Refoils & Solvent Ltd","GOKUL.BO"]
["GRM Overseas Ltd","GRMOVER.BO"]
["Hind Industries Ltd","HINDIND.BO"]
["Hindustan Foods Ltd","HNDFDS.BO"]
["Indian Extractions Ltd","INDXTRA.BO"]
["JVL Agro Industries Ltd","JVLAGRO.BO"]
["K S Oils Ltd","KSOIL.BO"]
["KCP Sugar & Industries","KCPSUGIND.BO"]
["KLRF Ltd","KLRFLTD.BO"]
["KRBL Ltd","KRBL.BO"]
["KSE Ltd","KSELTD.BO"]
["Kwality Dairy (India) Ltd","KWALITYD.BO"]
["LT Foods Ltd","DAAWAT.BO"]
["Madhur Industries Ltd","MADHURIND.BO"]
["Madhusudan Industries Ltd","MADHUDIN.BO"]
["Mahaan Foods Ltd","MAHAANF.BO"]
["McLeod Russel India Ltd","MCLEOD.BO"]
["Modern Dairies Ltd","MODAIRY.BO"]
["Natraj Proteins Ltd","NATRAJPR.BO"]
["Nestle India Ltd","NESTLE.BO"]
["NHC Foods Ltd","MIDPOINT.BO"]
["Nimbus Foods Industries Ltd","NIMBUSFOO.BO"]
["PHIL Corp Ltd","PHILCORP.BO"]
["Piccadily Agro Industries Ltd","PICCADIL.BO"]
["Progressive Extractions &","PROGRESV.BO"]
["R T Exports Ltd","RTEXPO.BO"]
["Raj Agro Mills Ltd","RAJAGRO.BO"]
["Raj Oil Mills Ltd","RAJOIL.BO"]
["Rasoi Ltd","RASOI.BO"]
["RCL Foods Ltd","PASSARI.BO"]
["REI Agro Ltd","REIAGRO.BO"]
["Rossell India Ltd","ROSSELLTEA.BO"]
["Ruchi Soya Industries Ltd","RUCHISOYA.BO"]
["Saboo Sodium Chloro Ltd","SABOOSOD.BO"]
["Sam Industries Ltd","SAIND.BO"]
["Samrat Pharmachem Ltd","SAMRATPH.BO"]
["Shah Foods Ltd","SHAHFOOD.BO"]
["Simran Farms Ltd","SIMRAN.BO"]
["Super Bakers (India) Ltd","SUPERBAK.BO"]
["Tasty Bite Eatables Ltd","TASTYBIT.BO"]
["Tata Coffee Ltd","TATACOFFEE.BO"]
["Tata Global Beverages Ltd","TATATEA.BO"]
["Tirupati Industries","TIRIN.BO"]
["Tirupati Starch","TIRUSTA.BO"]
["Uniroyal Marine Exports Ltd","UNRYLMA.BO"]
["Vadilal Industries Ltd","VADILINDQ.BO"]
["Vikas Granaries Ltd","VIKASGRAN.BO"]
["Vimal Oil & Foods Ltd","VIMALOILQ.BO"]
["Virat Crane Industries Ltd","VIRATCRA.BO"]
["Waterbase Limited","WATER.BO"]
["Acrysil Ltd","ACRYSIL.BO"]
["Bloom Dekor Ltd","BLOOM.BO"]
["Blue Star Ltd","BLUESTAR.BO"]
["Hawkins Cookers Ltd","HAWKINS.BO"]
["Jaipan Industries Ltd","JAIPAN.BO"]
["JIK Industries Ltd","JIKINDS.BO"]
["Khaitan India Ltd","KHAITANLTD.BO"]
["La Opala RG Ltd","LAOPALA.BO"]
["National Plastic Industri","NATPLAS.BO"]
["Oriental Veneer Products Ltd","ORVENPR.BO"]
["Surya Roshni Ltd","SURYAROSNI.BO"]
["TTK Prestige Ltd","TTKPRES.BO"]
["Varun Industries Ltd","VARUN.BO"]
["Wim Plast Ltd","WIMPLAS.BO"]
["Acclaim Industries Ltd","ELPROPACKAG.BO"]
["AMD Industries Ltd","AMDINDUS.BO"]
["Bilcare Ltd","BI.BO"]
["Bisleri Gujarat Ltd","BISIL.BO"]
["Deccan Polypacks Ltd","DECPO.BO"]
["Duro Pack Ltd","DUROPACK.BO"]
["Ecoplast Ltd","ECOPLAST.BO"]
["Emmbi Industries Ltd","EMMBIPOLY.BO"]
["Empire Industries Ltd","EMPIND.BO"]
["ESS DEE Aluminium Ltd","ESSDEE.BO"]
["Essel Propack Ltd","ESSELPRO.BO"]
["Gujarat Raffia Industries Ltd","GUJRAFIA.BO"]
["Haldyn Glass Ltd","HALDYNGL.BO"]
["Hindustan Tin Works Ltd","HINDTIN.BO"]
["Hindusthan National Glass","HINDNATG.BO"]
["Hitech Plast Ltd","HITECH.BO"]
["JMG Corp Ltd","JMGCORP.BO"]
["Jumbo Bag Ltd","JUMBOBA.BO"]
["Kaira Can Co Ltd","KAIRA.BO"]
["Kanpur Plastipacks Ltd","KANPRPLA.BO"]
["Karur KCP Packkagings Ltd","KARUKCP.BO"]
["KCCL Plastic Ltd","KOSHACN.BO"]
["Kuwer Industries Ltd","KUWERIN.BO"]
["Manjushree Technopack Ltd","MANJUSHRE.BO"]
["Mewar Polytex Ltd","MEWARPOL.BO"]
["Mold-tek Packaging Ltd","MOLDTKPLA.BO"]
["Neo Corp International Ltd","NEOCORP.BO"]
["Orient Press Ltd","ORIENTPR.BO"]
["Pankaj Polymers Ltd","PANKAJPO.BO"]
["Paper Products Ltd","PAPERPROD.BO"]
["Parekh Aluminex Ltd","PARAL.BO"]
["Pearl Polymers Ltd","PEARLPOL.BO"]
["Perfectpac Ltd","PERFEPA.BO"]
["Pithampur Poly Products Ltd","PITHP.BO"]
["Polyspin Exports Ltd","POLYSPIN.BO"]
["Precision Containeurs Ltd","PRECISION.BO"]
["Promact Plastics Ltd","PROMACT.BO"]
["Quantum Digital Vision (I","QUANTDIA.BO"]
["Radha Madhav Corp Ltd","RMCL.BO"]
["Rishi Techtex Ltd","RISPACK.BO"]
["Rollatainers Ltd","ROLLT.BO"]
["Shakti Press Ltd","SHAKTIPR.BO"]
["Sharp Industries Ltd","SHARPIND.BO"]
["Shetron Ltd","SHETR.BO"]
["Shree Rama Multi-Tech Ltd","SHREERAMA.BO"]
["Shri Jagdamba Polymers Ltd","SHRJAGP.BO"]
["Stanpacks (India) Ltd","STANPACK.BO"]
["TCPL Packaging Ltd","TCPLPACK.BO"]
["Texplast Industries Ltd","TEXPI.BO"]
["Time Technoplast Ltd","TIMETECNO.BO"]
["Trans-Freight Containers Ltd","TRANSFRE.BO"]
["Uflex Ltd","UFLEX.BO"]
["Agio Paper & Industries Ltd","AGIOPAPER.BO"]
["Arms Paper Ltd","ARMSPAPER.BO"]
["Ashutosh Paper Mills Ltd","ASHUTPM.BO"]
["Ballarpur Industries Ltd","BILT.BO"]
["Beckons Industries Ltd","BECKONIN.BO"]
["Cosboard Industries Limtied","COSBOARD.BO"]
["Deco-Mica Ltd","DECOMIC.BO"]
["Emami Paper Mills Ltd","EMAMIPAP.BO"]
["Fintech Communication Ltd","FINCOM.BO"]
["Gratex Industries Ltd","GRATEXI.BO"]
["Haria Exports Ltd","HARIAEXP.BO"]
["Indo Euro Indchem Ltd","RINKUPL.BO"]
["International Paper APPM Ltd","APPAPER.BO"]
["JK Paper Ltd","JKPPRQ.BO"]
["Kalptaru Papers Ltd","KALPAPER.BO"]
["Kay Power & Paper Ltd","KAYPOWR.BO"]
["Kuantum Papers Ltd","ABCPAPER.BO"]
["Magnum Ventures Ltd","MAGNUMV.BO"]
["Malu Paper Mills Ltd","MALUPAPER.BO"]
["Mohit Paper Mills Ltd","MOHITPPR.BO"]
["Mysore Paper Mills Ltd","MYSPAPE.BO"]
["Nath Pulp & Paper Mills Ltd","NATHPUL.BO"]
["NR Agarwal Industries Ltd","NRAGRINDQ.BO"]
["Orient Paper & Industries Ltd","ORIENTP.BO"]
["Pudumjee Industries Ltd","PUDMJEIND.BO"]
["Pudumjee Pulp & Paper Mil","PDUMJEPU.BO"]
["Rainbow Papers Ltd","RAINBOWPQ.BO"]
["Rama Paper Mills Ltd","RAMAPPR-B.BO"]
["Rama Pulp & Papers Ltd","RAMAPULP.BO"]
["Ruchira Papers Ltd","RUCHIRA.BO"]
["Saffron Industries Ltd","MADPAPER.BO"]
["Sangal Papers Ltd","SANPA.BO"]
["Sarda Papers Ltd","SARDAPPR.BO"]
["Seshasayee Paper & Boards Ltd","SESHAPPR.BO"]
["Shalimar Wires Industries Ltd","SHALIWIR.BO"]
["Shree Ajit Paper Pulp","SHREEAJIT.BO"]
["Shree Bhawani Paper Mills Ltd","SHBHAWPA.BO"]
["Shree Krishna Paper Mills","SKPMIL.BO"]
["Shree Rajeshwaran & Paper","SRPML.BO"]
["Shree Rama Newsprint Ltd","RAMANEWSPR.BO"]
["Shreyans Industries Ltd","SHRYNIND.BO"]
["Simplex Papers Ltd","SIMPLXPAP.BO"]
["Sirpur Paper Mills Ltd","SIRPUR.BO"]
["Soma Papers & Industries Ltd","SOMAPPR.BO"]
["South India Paper Mills","STHINPA.BO"]
["Speciality Papers Ltd","SPECIAPP.BO"]
["Sree Sakthi Paper Mills Ltd","SREESAKHTI.BO"]
["Star Paper Mills Ltd","STARPPR.BO"]
["Sundaram Multi Pap Ltd","SUNDARAM.BO"]
["Tamil Nadu Newsprint & Pa","TNPL.BO"]
["Vapi Paper Mills Ltd","VAPIPPR.BO"]
["Voith Paper Fabrics India Ltd","VOITHPAPR.BO"]
["Yash Papers Ltd","YASHPPR.BO"]
["Ador Multiproducts Ltd","ADORMUL.BO"]
["Ambica Agarbathies & Arom","AMBICAGR.BO"]
["Ambitious Plastomac Co Ltd","AMBIT.BO"]
["Bajaj Corp Ltd","BAJAJCORP.BO"]
["BCL Industries","BHATICH.BO"]
["Colgate-Palmolive (India) Ltd","COLGATE.BO"]
["Cupid Ltd","CUPID.BO"]
["Dabur India Ltd","DABUR.BO"]
["Elder Health Care Ltd","ELDERHCL.BO"]
["Emami Ltd","EMAMI.BO"]
["Gillette India Ltd","GILLETTE.BO"]
["GKB Ophthalmics Ltd","GKB.BO"]
["Godrej Consumer Products Ltd","GODREJCP.BO"]
["Hindustan Unilever Ltd","HUL.BO"]
["Hipolin Ltd","HIPOLIN.BO"]
["Jayavant Products Ltd","JAVNTPR.BO"]
["JHS Svendgaard Laboratori","JHS.BO"]
["JL Morison India Ltd","JLMORI.BO"]
["Jyothy Laboratories Ltd","JYOTHYLAB.BO"]
["Marico Ltd","MARICO.BO"]
["Paramount Cosmetics (I) Ltd","PARMCOS-B.BO"]
["Pee Cee Cosma Sope Ltd","PCCOSMA.BO"]
["Procter & Gamble Hygiene","PNG.BO"]
["Rama Vision Ltd","RAMAVISI.BO"]
["Synergy Cosmetics (Exim) Ltd","JYOTICOS.BO"]
["Vijay Solvex Ltd","VIJSOLX.BO"]
["Wadala Commodities Ltd","WADALACOM.BO"]
["Yuvraaj Hygiene Products Ltd","INTENSIV.BO"]
["Zydus Wellness Ltd","ZYDUSWELL.BO"]
["Ajwa Fun World & Resort Ltd","AJWAFUN.BO"]
["Atlas Cycles (Haryana) Ltd","ATLAS.BO"]
["Cinemax Properties Ltd","CINEMAX.BO"]
["Cosco (India) Ltd","COSCO.BO"]
["Cravatex Ltd","CRAVATEX.BO"]
["Dharani Finance Ltd","DHARFIN.BO"]
["Golkunda Diamonds & Jewel","GOLKUNDIA.BO"]
["International Travel House Ltd","ITHL.BO"]
["Jindal Photo Ltd","JINDALPH.BO"]
["Landmarc Leisure Corp Ltd","LANDMARC.BO"]
["Mahasagar Travels Ltd","MHSGRMS.BO"]
["Milestone Global Ltd","MILESTONE.BO"]
["Nicco Parks & Resorts Ltd","NICCOPAR.BO"]
["OK Play India Ltd","OKPLA.BO"]
["Photoquip India Ltd","PHOTOQUP.BO"]
["Rathi Graphic Technologies Ltd","RATHIGRA.BO"]
["S & T Corp Ltd","STCORP.BO"]
["Shree Rang Mark Travels Ltd","SRANGMARK.BO"]
["Sterling Holiday Resorts","STERLINH.BO"]
["Talwalkars Better Value F","TALWALKAR.BO"]
["Thomas Cook India Ltd","THOMASCOOK.BO"]
["Trade Wings Ltd","TRADWIN.BO"]
["Tobu Enterprises Ltd","TOBUENT.BO"]
["Aadi Industries Ltd","AADIIND.BO"]
["Amco India Ltd","AMCOIND.BO"]
["Apollo Tyres Ltd","APOLLOTYRE.BO"]
["Arcee Industries Ltd","ARCEEIN.BO"]
["Arrow Coated Products Ltd","ARCPR.BO"]
["Ashish Polyplast Ltd","ASHISHPO.BO"]
["Balkrishna Industries Ltd","BALKRISI.BO"]
["Biopac India Corp Ltd","BIOPAC.BO"]
["Bright Brothers Ltd","BRIGHTBR.BO"]
["Caprihans India Ltd","CAPRIHAN.BO"]
["Ceat Ltd","CEAT.BO"]
["Chandra Prabhu","CHANDRAP.BO"]
["Cosmo Films Ltd","COSMOFILMS.BO"]
["Dhunseri Petrochem & Tea Ltd","DHUNTEA.BO"]
["Dutron Polymers Ltd","DUTRON.BO"]
["Eastern Treads Ltd","EASTRED.BO"]
["Ester Industries Ltd","ESTERIND.BO"]
["Falcon Tyres Ltd","FALCONTQ.BO"]
["Fenoplast Ltd","FENOPLAS.BO"]
["Fiberweb (India) Ltd","FIBERWEB.BO"]
["Fine Plast Polymers Ltd","FINPLST.BO"]
["Finolex Industries Ltd","FINOLEXIND.BO"]
["Garware Polyester Ltd","GARWARPOLY.BO"]
["Glory Polyfilms Ltd","GLORY.BO"]
["Goodyear India Ltd","GOODYR.BO"]
["Gothi Plascon (India) Ltd","GOTHIPL.BO"]
["Govind Rubber Ltd","GOVINDRU.BO"]
["GRP Ltd","GUJRECL.BO"]
["Gujarat Toolroom Ltd","GUJTLRM.BO"]
["Hydro S & S Industries Ltd","HYDROSNS.BO"]
["Indag Rubber Ltd","INDAG.BO"]
["Innocorp Ltd","INNOCORP.BO"]
["International Conveyors Ltd","INTLCONV.BO"]
["Iykot Hitech Toolroom Ltd","IYKOTHITE.BO"]
["Jai Corp Ltd","JAICORP.BO"]
["JK Tyre & Industries Ltd","JKTYREIND.BO"]
["Kabra Extrusion Technik Ltd","KABRAEXT.BO"]
["Kalpena Industries Ltd","KALPENA.BO"]
["Kalpena Plastiks Ltd","KPLASTIK.BO"]
["Kemrock Ind & Exports","KEMIE.BO"]
["Kesoram Industries Ltd","KESORAMIND.BO"]
["Kisan Mouldings Ltd","KISAN.BO"]
["Kriti Industries (India) Ltd","KRITIIND.BO"]
["Krypton Industries Ltd","KRYPTONQ.BO"]
["Machino Plastics Ltd","MACPLASQ.BO"]
["Mahalaxmi Rubtech Ltd","MHLXMIRU.BO"]
["Milton Plastics Ltd","MILTON.BO"]
["Modi Rubber Ltd","MODIRUBB.BO"]
["MRF Ltd","MRF.BO"]
["National Plastic Technolo","NATPLASTI.BO"]
["Nilkamal Ltd","NILKAMAL.BO"]
["Pan Electroncis (India) Ltd","PANELEC.BO"]
["Phillips Carbon Black Ltd","PHILIPCA.BO"]
["Pitti Laminations Ltd","PITLA.BO"]
["Pix Transmissions Ltd","PIXTRANS.BO"]
["Polycon International Ltd","POLYCON.BO"]
["Polyplex Corp Ltd","POLYPLEX.BO"]
["Prima Plastics Ltd","PRIMAPLA.BO"]
["PTL Enterprises Ltd","PTL.BO"]
["Puneet Resins Ltd","PUNEETRE.BO"]
["Raj Packaging Industries Ltd","RAJPACK.BO"]
["Responsive Industries Ltd","RESPONIND.BO"]
["Rishiroop Rubber Intl","RISHIRUB.BO"]
["Royal Cushion Vinyl","ROYALCU.BO"]
["Rubber Products Ltd","RUBBERPR.BO"]
["Shaily Engineering Plasti","SHAILY.BO"]
["Signet Overseas Ltd","SIGNET.BO"]
["Somi Conveyor Beltings Ltd","SOMICONV.BO"]
["Styrolution ABS (India) Ltd","INABS.BO"]
["Sudev Industries Ltd","SUDIN.BO"]
["Tainwala Chemical and Pla","TAINWALA.BO"]
["Texmo Pipes & Products Ltd","TEXMOPIPES.BO"]
["Tokyo Plast International Ltd","TOKYOPLA.BO"]
["Trans Asia Corp Ltd","TRANSASIA.BO"]
["Tulsi Extrusions Ltd","TULSI.BO"]
["Unimers India Ltd","UNIMERQ.BO"]
["Vamshi Rubber Ltd","VAMSHIRU.BO"]
["Venlon Enterprises Ltd","VENLONENT.BO"]
["Vikas WSP Ltd","VIKASWSP.BO"]
["Vinyoflex Ltd","VINYOFL.BO"]
["Infra Industries Ltd","INFRAIND.BO"]
["Bang Overseas Ltd","BANG.BO"]
["Bhandari Hosiery Exports Ltd","BHANDHOS.BO"]
["Celebrity Fashions Ltd","CELEBRITY.BO"]
["Cityman Ltd","CITYMAN.BO"]
["Givo Ltd","GIVO.BO"]
["Gokaldas Exports Ltd","GOKALDAS.BO"]
["GTN Textiles Ltd","GTNTEX.BO"]
["Indo Count Industries Ltd","INDOCOUIN.BO"]
["K G Denim Ltd","KGDENIM.BO"]
["K-Lifestyle & Industries Ltd","KRISHNAL.BO"]
["Kamadgiri Fashion Ltd","KAMADSYN.BO"]
["Kewal Kiran Clothing Ltd","KKCL.BO"]
["Kitex Garments Ltd","KITEXTX.BO"]
["KPR Mill Ltd","KPRMILL.BO"]
["Kumar Wire Cloth","KUMARWI.BO"]
["Mandhana Industries Ltd","MANDHANA.BO"]
["Meuse Kara & Sungrace","BIOGREEN.BO"]
["MW Unitexx Ltd","UNITEX.BO"]
["Nahar Polyfilms Ltd","NAHARINVE.BO"]
["Page Industries Ltd","PAGEIND.BO"]
["Pearl Global Industries Ltd","HOPFL.BO"]
["Samtex Fashions Ltd","SAMTEX.BO"]
["SEL Manufacturing Co Ltd","SELMCL.BO"]
["Spice Islands Apparels Ltd","SPICEISL.BO"]
["SPL Industries Ltd","SPLIL.BO"]
["Supra Trends Ltd","VIJAYGR.BO"]
["Zenith Exports Ltd","ZENITHEX.BO"]
["Zodiac Clothing Co Ltd","ZODIAC.BO"]
["Acknit Industries Ltd","ACKNIT.BO"]
["Banaras Beads Ltd","BANARASB.BO"]
["Bhartiya International Ltd","BIL.BO"]
["Ceenik Exports (India) Ltd","CEENIK.BO"]
["Euro Leder Fashion Ltd","EUROLED.BO"]
["Flawless Diamond India Ltd","FLAWLESD.BO"]
["Jasch Industries Ltd","JASCH.BO"]
["Karan Woo-Sin Ltd","KARANWO.BO"]
["Lawreshwar Polymers Ltd","LEHAR.BO"]
["Liberty Shoes Ltd","LIBERTY.BO"]
["Mayur Leather Products Ltd","MAYUR.BO"]
["Mirza International Ltd","MIRZA.BO"]
["NB Footwear Ltd","NBFOOT.BO"]
["Oscar Global Ltd","OSCARGLO.BO"]
["Phoenix International Ltd","PHOENXIN.BO"]
["Premco Global Ltd","PREMCO.BO"]
["Relaxo Footwears Ltd","RELAXO.BO"]
["Safari Industries (India) Ltd","SAFARIND.BO"]
["Sarup Industries Ltd","SARUPTAN.BO"]
["Spenta International Ltd","SPENTA.BO"]
["Super Tannery Ltd","SUPERTAN.BO"]
["Superhouse Ltd","SUPRHOUSE.BO"]
["Virat Industries Ltd","VIRAT.BO"]
["Welterman International Ltd","WELTI.BO"]
["Worldwide Leather Exports Ltd","WWLEATH.BO"]
["Godfrey Phillips India Ltd","GODFRYPHLP.BO"]
["Golden Tobacco Ltd","GOLDENTOB.BO"]
["ITC Ltd","ITC.BO"]
["Kothari Products Ltd","KOTHARIPRO.BO"]
["NTC Industries Ltd","RDBIND.BO"]
["Sinnar Bidi Udyog Ltd","SINNAR.BO"]
["VST Industries Ltd","VST.BO"]
["A K Capital Services Ltd","AKCAPIT.BO"]
["Aadhaar Ventures India Ltd","PRRANETA.BO"]
["Abhinav Capital Services Ltd","ABHICAP.BO"]
["Amit Securities Ltd","AMITSEC.BO"]
["Amulya Leasing & Finance Ltd","AMULEAS.BO"]
["Ankush Finstock Ltd","ANKUSHFI.BO"]
["Apollo Finvest India Ltd","APOLLOFI.BO"]
["Arihant Avenues & Credit Ltd","ARIAC.BO"]
["Aroni Commercials Ltd","ARONICOMM.BO"]
["Atharv Enterprises Limited","ATHARVENT.BO"]
["Atlanta Infrastructure","KADVANI.BO"]
["Ausom Enterprise Ltd","AUSOMENT.BO"]
["Bajaj Holdings","BAJAJHOIN.BO"]
["Bervin Investment","BERVINL.BO"]
["Bluechip Stockspin Ltd","BLUCHIP.BO"]
["Brijlaxmi Leasing","BRIJLEAS.BO"]
["Capri Global Capital Ltd","MONEYMATF.BO"]
["Champion Finsec Ltd","MONOSEC.BO"]
["Contil India Ltd","CONTILI.BO"]
["Dalal Street Investments Ltd","DSINVEST.BO"]
["Dhanleela Investments","RATIN.BO"]
["Finaventure Capital Ltd","FINAVENT.BO"]
["First Financial Services Ltd","FIRFIN.BO"]
["Fortune Financial Service","FORTUNEF.BO"]
["Frontline Securities Ltd","FRONTSEC.BO"]
["Golechha Global Finance Ltd","GOLECHA.BO"]
["GSL Securities Ltd","GSLSEC.BO"]
["Harmony Capital Services Ltd","HRMNYCP.BO"]
["IL&FS Investment Managers Ltd","ILFSVC.BO"]
["Indbank Merchant Banking","INDBNKME.BO"]
["Indergiri Finance Ltd","INDERGR.BO"]
["Indiaco Ventures Ltd","INDIACO.BO"]
["Industrial & Prudential","INDPRUD.BO"]
["Integra Capital Management Ltd","INTCAPM.BO"]
["Interface Financial Servi","INTERFAC.BO"]
["JSW Holdings Ltd","JSWHL.BO"]
["K Z Leasing & Finance Ltd","KZLFIN.BO"]
["KBS India Ltd","KBSCAP.BO"]
["Ken Financial Services Ltd","KENFIN.BO"]
["Kirloskar Industries Ltd","KIRLOIL.BO"]
["KJMC Corporate Advisors","KJMCGLO.BO"]
["Kreon Financial Services Ltd","KREONFIN.BO"]
["Kwality Credit & Leasing Ltd","KWALITY.BO"]
["Libord Finance Ltd","LIBORDIN.BO"]
["Mahamaya Investments Ltd","MAHAINV.BO"]
["Master Trust Ltd","MASTERTR.BO"]
["Mideast Portfolio Managem","MIDEASTP.BO"]
["Mindvision Capital Ltd","KAILASHF.BO"]
["Morarka Finance Ltd","MORARKFI.BO"]
["Motilal Oswal Financial S","MOTILALFS.BO"]
["Nahar Capital & Financial","NAHARCAP.BO"]
["Nalwa Sons Investments Ltd","NALWA.BO"]
["Neelkanth Technologies Ltd","NEELKATEC.BO"]
["Oswal Agro Mills Ltd","OSWALAG.BO"]
["Parichay Investments Ltd","ZPARICIN.BO"]
["PNB Gilts Ltd","PNBGILTS.BO"]
["Premium Capital Markets &","PREMCAPM.BO"]
["R R Securities Ltd","RRSECUR.BO"]
["Regal Entertainment & Con","REGAL.BO"]
["Reliance Capital Ltd","RELCAPITAL.BO"]
["Royal India Corp Ltd","NATRAJFIN.BO"]
["Sagar Productions Ltd","KIRTIFIN.BO"]
["Sharyans Resources Ltd","SHARYANR.BO"]
["Shriram Assets Management Ltd","SRAMSET.BO"]
["SIL Investments Ltd","SILINVEST.BO"]
["Simplex Trading & Agencies Ltd","SMPLXTR.BO"]
["Sita Enterprises Ltd","SITAENT.BO"]
["Tamboli Capital Ltd","TAMBOLI.BO"]
["TCFC Finance Ltd","TCFCFINQ.BO"]
["Times Guaranty Ltd","TIMESGUR.BO"]
["Transcorp International Ltd","TRANSCOR.BO"]
["TSL Industries Ltd","TSL.BO"]
["Upsurge Investment","UPSURGE.BO"]
["Ushakiran Finance Ltd","USHAKIRA.BO"]
["V B Desai Financial","VBDESAI.BO"]
["Wall Street Finance Ltd","WSFIN.BO"]
["Williamson Magor & Company Ltd","WILLMOGR.BO"]
["Ad-Manum Finance Ltd","ADMANUM.BO"]
["Almondz Capital","ALMONDZ.BO"]
["Anjani Finance Ltd","ANJANIFIN.BO"]
["Apple Finance Ltd","APPLEFIN.BO"]
["Aravali Securities & Fina","ARAVALIS.BO"]
["Arman Financial Services Ltd","ARMANFIN.BO"]
["Aryaman Financial Services Ltd","ARYAMAN.BO"]
["Ashirwad Capital Ltd","ASHCAP.BO"]
["Bajaj Finance Ltd","BAJAUTOFIN.BO"]
["Bengal & Assam Co Ltd","BENGALASM.BO"]
["Capital First Ltd","FCH.BO"]
["Capital Trust Ltd","CAPITALT.BO"]
["CFL Capital Financial Ser","CFLCAP.BO"]
["Cholamandalam Investment","CHOLADBS.BO"]
["Citiport Financial Servic","CITIPOR.BO"]
["Clio Infotech Ltd","CLIOINFO.BO"]
["Cubical Financial Services Ltd","CUBIFIN.BO"]
["Cupid Trades & Finance Ltd","CUPIDTR.BO"]
["DCM Financial Services Ltd","DCMFIN.BO"]
["Devki Leasing And Finance Ltd","DEVKI.BO"]
["DFL Infrastructure Finance Ltd","DHANDA.BO"]
["Escorts Finance Ltd","ESCORTSF.BO"]
["Farry Industries Ltd","FARRYIND.BO"]
["Finalysis Credit","FINCR.BO"]
["Finkurve Financial","SANJLEA.BO"]
["First Leasing Company of","FIRSTLEASE.BO"]
["Gujarat Credit Corp Ltd","GUJCRED.BO"]
["Gujarat Lease Financing Ltd","GLFL.BO"]
["Gujarat State Financial Corp","GSTFNCO.BO"]
["Haryana Capfin Ltd","HARYNACAP.BO"]
["Hasti Finance Ltd","HASTIFIN.BO"]
["IDFC Ltd","IDFC.BO"]
["IFCI Ltd","IFCI.BO"]
["IKF Finance Ltd","IKFIN.BO"]
["Indus Finance Corp Ltd","SUBUTHI.BO"]
["Industrial Investment","IITL.BO"]
["Intec Capital Ltd","INTECCAP.BO"]
["Integrated Financial Serv","IFSL.BO"]
["J J Finance Corp Ltd","JJFINCOR.BO"]
["Jayabharat Credit Ltd","JAYBHCR.BO"]
["Jindal Capital Ltd","JINDCAP.BO"]
["Ladderup Finance Ltd","LADDERUP.BO"]
["LLoyds Finance Ltd","LLOYDSFI.BO"]
["Madhur Capital & Finances Ltd","MADHURC.BO"]
["Magma Fincorp Ltd","MAGMAFIN.BO"]
["Mahindra & Mahindra","MMFIN.BO"]
["Manappuram Finance Ltd","MANAPPG.BO"]
["Margo Finance Ltd","INDOCOUNF.BO"]
["Morgan Ventures Ltd","MORGAN.BO"]
["Motor & General Finance Ltd","MNGF.BO"]
["Muthoot Capital Services Ltd","MUTHTFN.BO"]
["Nalin Lease Finance Ltd","NALINLEA.BO"]
["Nicco Uco Alliance Credit Ltd","NICCOUCO.BO"]
["Nikki Global Finance Ltd","NIKKIGL.BO"]
["NPR Finance Ltd","NPRFIN.BO"]
["Pal Credit And Capital Ltd","PALCRED.BO"]
["Paragon Finance Ltd","PARAGONF.BO"]
["Pasupati Fincap Ltd","PASUFIN.BO"]
["Polytex India Ltd","ZPLYTEXP.BO"]
["Power Finance Corp Ltd","PFC.BO"]
["Rajath Finance Ltd","ZRAJATH.BO"]
["Ramsons Projects Ltd","RAMSONS.BO"]
["Rich Universe Network Ltd","RICHCAP.BO"]
["Rishab Financial Services Ltd","RISHABFIN.BO"]
["Roselabs Finance Ltd","ROSELABS.BO"]
["Rural Electrification Corp Ltd","RECLTD.BO"]
["Safal Securities Ltd","ASECURT.BO"]
["Sainik Finance Industries Ltd","SAINIK.BO"]
["Sakthi Finance Ltd","SAKTHIFI.BO"]
["Seven Hill Industries Ltd","KOSIAN.BO"]
["Shalibhadra Finance Ltd","SAHLIBHFI.BO"]
["Shriram City Union Finance Ltd","SHRMCITY.BO"]
["Shriram Transport Finance","STFC.BO"]
["Silicon Valley Infotech Ltd","SILICON.BO"]
["Som Datt Finance Corp Ltd","SODFC.BO"]
["Sundaram Finance Ltd","SUNDARMFIN.BO"]
["Tokyo Finance Ltd","TOKYOFIN.BO"]
["Transpek Finance Ltd","TRANSPEKF.BO"]
["TRC Financial Services Ltd","TRCFIN.BO"]
["United Credit Ltd","UNITDCR.BO"]
["Upasana Finance Ltd","UPASAFN.BO"]
["Vardhman Holdings Ltd","VARDHMNH.BO"]
["Vax Housing Finance Corp Ltd","VAXHS.BO"]
["Vintage Securities Ltd","VINTAGES.BO"]
["Visagar Financial Services Ltd","INCAFIN.BO"]
["Weizmann Ltd","WEIZMAN.BO"]
["Williamson Financial Serv","WILLIMFI.BO"]
["Aagam Capital Ltd","SUBHKAM.BO"]
["Aarya Global Shares","KUVAM.BO"]
["Action Financial Services","ACTIONFI.BO"]
["Aditya Birla Money Ltd","ABML.BO"]
["Ajcon Global Services Ltd","AJCON.BO"]
["Alka Securities Ltd","ALKASEC.BO"]
["Almondz Global Securities Ltd","ALMONDZGL.BO"]
["Amrapali Industries Ltd","AMRAPLIN.BO"]
["Amraworld Agrico Ltd","AMRAAGRI.BO"]
["Arihant Capital Markets Ltd","ARIHCAPM.BO"]
["Arihant'S Securities Ltd","ARISE.BO"]
["Ashok Alcochem Ltd","ASHOKALC.BO"]
["Asit C Mehta Financial","ASITCFIN.BO"]
["Axis Capital Markets (Ind","AXISCAP.BO"]
["B N Rathi Securities Ltd","BNRSEC.BO"]
["Bala Techno Global Ltd","BALATECGL.BO"]
["Balmer Lawrie Investments Ltd","BLIL.BO"]
["BAMPSL Securities Ltd","BAMPSL.BO"]
["Beryl Securities Ltd","BERYLSE.BO"]
["Bhagyashree Leasing","BHAGYFN.BO"]
["Bharat Bhushan Share & Co","BHARAT.BO"]
["Birla Capital & Financial","BIRLACAP.BO"]
["BLB Ltd","BLB.BO"]
["Bloom Industries Ltd","BLOIN.BO"]
["Blue Chip India Ltd","BLUECHIPI.BO"]
["BNK Capital Markets Ltd","BNKCAP.BO"]
["Bridge Securities Ltd","BRIDGESE.BO"]
["Capman Financials Ltd","CAPMANFI.BO"]
["Century 21St Portfolio Ltd","CENPORT.BO"]
["Charms Industries Ltd","CHARMS.BO"]
["Chartered Capital & Inves","CHRTEDCA.BO"]
["Choice International Ltd","CHOICEIN.BO"]
["Chokhani Securities Ltd","CHOKSEC.BO"]
["CIL Securities Ltd","CILSEC.BO"]
["Clarus Finance & Securiti","CLARUS.BO"]
["Consolidated Securities Ltd","CNSDSEC.BO"]
["Daulat Securities Ltd","DAULAT.BO"]
["Dazzel Confindive Ltd","DAZZEL.BO"]
["DB (International) Stock","DBINT.BO"]
["Dhenu Buildcon India Ltd","HIRCC.BO"]
["Diligent Industries Ltd","YATISHSE.BO"]
["Dolat Investments Ltd","DOLAT.BO"]
["Dynamic Portfolio","DYNAMICP.BO"]
["Edelweiss Financial","EDELWEISS.BO"]
["Emkay Global Financial","EMKAYGLOF.BO"]
["Euro Finmart Ltd","EUROGLOD.BO"]
["Explicit Finance Ltd","EXPLICITFIN.BO"]
["Futuristic Securities Ltd","FUTURSEC.BO"]
["G K Consultants Ltd","GKCONS.BO"]
["Gemstone Investments Ltd","GEMSI.BO"]
["Genus Commu-Trade Ltd","GENIUSCO.BO"]
["Geojit BNP Paribas","GEOJITBNP.BO"]
["Glance Finance Ltd","GLANCE.BO"]
["Global Capital Market","GLOBALCA.BO"]
["Global Securities Ltd","GLOBSEC.BO"]
["Goldcrest Corp Ltd","GOLCRSFI.BO"]
["Golden Goenka Fincorp Ltd","GOLDENSE.BO"]
["Greencrest Financial","MARIG.BO"]
["GSB Finance Ltd","GSBFIN.BO"]
["Gujarat Investa Ltd","GUJINV.BO"]
["HB Leasing & Finance Co Ltd","HBLEAS.BO"]
["HB Portfolio Ltd","HBPOR.BO"]
["HB Stockholdings Ltd","HBSTOCK.BO"]
["IFL Promoters Limited","IFLPROMOT.BO"]
["IIFL Holdings Ltd","INDIAINFO.BO"]
["IM+ Capitals Ltd","BRESCON.BO"]
["Inani Securities Ltd","INANISEC.BO"]
["Indiabulls Securities Ltd","IBSEC.BO"]
["Inditrade Capital Ltd","JRG.BO"]
["Intellivate Capital Ventu","INTELLCAP.BO"]
["ISL Consulting Ltd","INNOVSE.BO"]
["Jhaveri Credits & Capital Ltd","JHACC.BO"]
["JM Financial Ltd","JMFINAN.BO"]
["Joindre Capital Services Ltd","JOINDRE.BO"]
["JPT Securities Ltd","JPTSEC.BO"]
["Keynote Corporate Services Ltd","KEYNOTE.BO"]
["Khandwala Securities Ltd","KHANDSE.BO"]
["Kiduja India Ltd","KIDUJA.BO"]
["KJMC Financial Services Ltd","KJMCFIN.BO"]
["KLG Capital Services Ltd","KLGCAP.BO"]
["Kothari World Finance Ltd","ZGRRENIN.BO"]
["Libord Securities Ltd","LIBORDS.BO"]
["LKP Finance Ltd","LKPFIN.BO"]
["Lohia Securities Ltd","LOHIASEC.BO"]
["M B Parikh Finstocks Ltd","MBPARIKH.BO"]
["Madhusudan Securities Ltd","MADHUSE.BO"]
["Magnum Ltd","MAGNUM.BO"]
["Mahanivesh India Ltd","MAHAN.BO"]
["Mangal Credit & Fincorp Ltd","TAKMCHN.BO"]
["Market Creators Ltd","MKTCREAT.BO"]
["Maruti Securities Ltd","MARUTISE.BO"]
["Marvel Capital & Finance Ltd","MARVEL.BO"]
["Mathew Easow Research Sec","MATHEWE.BO"]
["Mefcom Capital Markets Ltd","MEFCOMCAP.BO"]
["Mehta Integrated Finance Ltd","MEHIF.BO"]
["Modern Shares & Stockbrok","MODRNSH.BO"]
["Mukesh Babu Financial Ser","MUKESHB.BO"]
["Munoth Capital Market Ltd","MUNCAPM.BO"]
["Munoth Financial Services Ltd","MUNOTHFI.BO"]
["Nagreeka Capital","NAGREECAP.BO"]
["NDA Securities Ltd","NDASEC.BO"]
["Networth Stockbroking Ltd","NETWORTH.BO"]
["Nilchem Industries Ltd","NILCHEM.BO"]
["NovaGold Petro-Resources Ltd","NOVAGOLD.BO"]
["Oasis Finvest Ltd","IKAB.BO"]
["Oasis Securities Ltd","OASISEC.BO"]
["Oregon Commercials Ltd","ZORGNCOM.BO"]
["P H Capital Ltd","PHCAP.BO"]
["PAN India Corp Ltd","PANINDIAC.BO"]
["Pioneer Investcorp Ltd","PIONRINV.BO"]
["Prime Securities Ltd","PRIMESEC.BO"]
["Pro Fin Capital Services Ltd","PROFINC.BO"]
["R R Financial Consultants Ltd","RRFIN.BO"]
["Relic Technologies Ltd","RELICTEC.BO"]
["Religare Enterprises Ltd","RELIGARE.BO"]
["RFL International Ltd","RFLINT.BO"]
["S P Capital Financing Ltd","SPCAPIT.BO"]
["Sakuma Exports Ltd","SAKUMAEXP.BO"]
["Shardul Securities Ltd","SHARDUL.BO"]
["Shree Metalloys Ltd","VALLI.BO"]
["Shree Nath Commercial","SHRENTH.BO"]
["Siddha Ventures Ltd","SIDDHA.BO"]
["SKP Securities Ltd","SKPSEC.BO"]
["Smifs Capital Markets Ltd","SMIFS.BO"]
["Spine Traders Ltd","CAHNDRITR.BO"]
["Stampede Capital Ltd","BRILLSEC.BO"]
["Stellant Securities","SELLAID.BO"]
["Step Two Corp Ltd","STEP2COR.BO"]
["Sugal & Damani Share Brok","SUGALDAM.BO"]
["Sumedha Fiscal Services Ltd","SUMEDHA.BO"]
["Sunbright Stock Broking Ltd","BUBST.BO"]
["Sunrise Asian Ltd","AKASI.BO"]
["SW Investments Ltd","LALPHOU.BO"]
["Swastika Investsmart Ltd","SWASTIKA.BO"]
["Systematix Corporate Serv","SYSTMTXC.BO"]
["Tata Investment Corp Ltd","TATAINVEST.BO"]
["Titan Securities Ltd","TITANSEC.BO"]
["VCK Capital Market Servic","VCKCAP.BO"]
["Vertex Securities Limited","VERTEX.BO"]
["Vikalp Securities Ltd","VIKALPS.BO"]
["VLS Finance Ltd","VLSFIN.BO"]
["Wallfort Financial Servic","WALLFORT.BO"]
["21St Century Mgt Services Ltd","526921.BO"]
["Max India Ltd","MAX.BO"]
["Adinath Exim Resources Ltd","ADIEXRE.BO"]
["Allahabad Bank","ALLBANKSL.BO"]
["Andhra Bank","ANDHRABANK.BO"]
["ATN International Ltd","ATN.BO"]
["Axis Bank Ltd","AXISBANK.BO"]
["Bank of Baroda","BOB.BO"]
["Bank Of India","BOI.BO"]
["Bank of Maharashtra","MAHABANK.BO"]
["Canara Bank","CANARABANK.BO"]
["Central Bank of India","CENTRALBK.BO"]
["City Union Bank Ltd","CITYUNIONBK.BO"]
["Corporation Bank","CORPBANK.BO"]
["DCB Bank Ltd","DCB.BO"]
["Dena Bank","DENABANK.BO"]
["Dhanlaxmi Bank Ltd","DHANBANK.BO"]
["Federal Bank Limited","FEDBANK.BO"]
["ICICI Bank Ltd","ICICIBANK.BO"]
["IDBI Bank Ltd","IDBI.BO"]
["Indian Bank","INDIANB.BO"]
["Indian Overseas Bank","IOB.BO"]
["IndusInd Bank Ltd","INDUSINDBK.BO"]
["ING Vysya Bank Ltd","INGVYSYA.BO"]
["Jammu & Kashmir Bank Ltd","JKBANK.BO"]
["Karnataka Bank Ltd","KTKBANK.BO"]
["Karur Vysya Bank Ltd","KARURVY.BO"]
["Kotak Mahindra Bank Ltd","KOTAKBANK.BO"]
["Lakshmi Vilas Bank Ltd","LAKSHVILAS.BO"]
["Oriental Bank of Commerce","OBC.BO"]
["Punjab National Bank","PNB.BO"]
["South Indian Bank Ltd","SOUTHINDBA.BO"]
["State Bank Of Bikaner","SBBJ.BO"]
["State Bank of India","SBI.BO"]
["State Bank of Mysore","SBM.BO"]
["State Bank of Travancore","SBT.BO"]
["Syndicate Bank","SYNDIBANK.BO"]
["UCO Bank","UCO.BO"]
["Union Bank of India","UNIONBANK.BO"]
["United Bank of India","UNITEDBNK.BO"]
["Vantage Corporate Services Ltd","VANTAGE.BO"]
["Vijaya Bank","VIJAYABANK.BO"]
["Yes Bank Ltd","YESBANK.BO"]
["Available Finance Ltd","AVAILFC.BO"]
["Baid Leasing & Finance Co Ltd","BALFC.BO"]
["Can Fin Homes Ltd","CANFINHOME.BO"]
["Comfort Intech Ltd","COMFINTE.BO"]
["Dewan Housing Finance Corp Ltd","DEWANHOUS.BO"]
["Dhruva Capital Services Ltd","DHRUVCA.BO"]
["Gandhinagar Leasing & Fin","GANDLEA.BO"]
["GIC Housing Finance Ltd","GICHF.BO"]
["Gowra Leasing & Finance Ltd","GOWRALE.BO"]
["HDFC","HDFC.BO"]
["Ind Bank Housing Ltd","INDBNK.BO"]
["India Home Loan Ltd","INDIAHOME.BO"]
["Indo Asian Finance Ltd","INDOASIAF.BO"]
["Jagsonpal Finance","JAGSONFI.BO"]
["Lead Financial Services Ltd","LEADFIN.BO"]
["LIC Housing Finance Ltd","LICHSGFIN.BO"]
["Maha Rashtra Apex Corp Ltd","MAHAPEX.BO"]
["Manipal Finance Corp Ltd","MNPLFIN.BO"]
["Manraj Housing Finance Ltd","MANRAJH.BO"]
["Oscar Investments Ltd","OSCAR.BO"]
["Parsharti Investment Ltd","PARSHINV.BO"]
["Prithvi Softech Ltd","PRITHVISO.BO"]
["Regency Trust Ltd","REGTRUS.BO"]
["Rudraksh Cap-Tech Ltd","JOLLYFN.BO"]
["Sahara Housingfina Corp Ltd","SAHARAHOUS.BO"]
["SIEL Financial Services Ltd","SIELFNS.BO"]
["Srei Infrastructure Fin","SREINFRA.BO"]
["Standard Capital Markets Ltd","STANCAP.BO"]
["Swarna Securities Ltd","SWRNASE.BO"]
["TCI Finance Ltd","TCIFIN.BO"]
["Tourism Finance of India","TFCIL.BO"]
["Transwarranty Finance Ltd","TFL.BO"]
["Vishwamitra Financial","BLBLNIN.BO"]
["Warner Multimedia Ltd","WARNER.BO"]
["Bajaj Finserv Ltd","BAJAJFINS.BO"]
["Ajmera Realty & Infra Ind","AJMERA.BO"]
["Alpine Housing Developmen","ALPINEHO.BO"]
["Anant Raj Ltd","ANANTRAJ.BO"]
["Ansal Buildwell Ltd","ANSALBU.BO"]
["Ansal Housing & Construct","ANSALHSG.BO"]
["Anukaran Commercial","ZANUKCOM.BO"]
["Brand Realty Services Ltd","BRANDREAL.BO"]
["CHD Developers Ltd","CHDDLTD.BO"]
["East Buildtech Ltd","CHOKBUS.BO"]
["Eldeco Housing And Indust","ELDEHSG.BO"]
["Emami Infrastructure Ltd","EMAMINFRA.BO"]
["FGP Ltd","FGP.BO"]
["Hazoor Multi Projects Ltd","HAZOOR.BO"]
["HB Estate Developers Ltd","HBESD.BO"]
["Indiabulls Real Estate Ltd","IBREALEST.BO"]
["Martin Burn Ltd","MARBU.BO"]
["Matra Realty Ltd","MATRAREAL.BO"]
["Meglon Infra-Real (India) Ltd","CANAAN.BO"]
["Newtime Infrastructure Ltd","INTRAINF.BO"]
["Nimbus Projects Ltd","NCJINT.BO"]
["Nirlon Ltd","NIRLON.BO"]
["Prajay Engineers Syndicate Ltd","PRAJAYEN.BO"]
["Prime Industries Ltd","PRIMIND.BO"]
["Richirich Inventures Ltd","RICAG.BO"]
["Rohit Pulp & Paper Mills Ltd","ROHITPUL.BO"]
["S S Forgings & Engineering Ltd","SSFORMT.BO"]
["Splash Media & Infra Ltd","SPLASHM.BO"]
["Steel Strips","STLSTRINF.BO"]
["Texmaco Infrastructure","TEXMACO.BO"]
["Tirupati Sargan Ltd","TIRSARJ.BO"]
["Vishvas Projects Ltd","MEFCOM.BO"]
["Wagend Infra Venture Ltd","AGRLHOL.BO"]
["Westlife Development Ltd","DHANPRAYG.BO"]
["D B Realty Ltd","DBREALTY.BO"]
["Alchemist Realty Ltd","AREALTY.BO"]
["Anna Infrastructures Ltd","ANNAINFRA.BO"]
["Ansal Properties & Infras","ANSALINFR.BO"]
["Arihant Foundations & Hou","ARIHFOU.BO"]
["B Nanji Enterprises Ltd","BNANJEN.BO"]
["Brigade Enterprises Ltd","BRIGADE.BO"]
["BSEL Infrastructure Realty Ltd","BSELINFRA.BO"]
["Country Condo's Ltd","COUNCODOS.BO"]
["D S Kulkarni Developers Ltd","DSKULKAR.BO"]
["Dhruv Estates Ltd","DHRUVES.BO"]
["DLF Ltd","DLF.BO"]
["Epsom Properties Ltd","EPSOMPRO.BO"]
["Fact Enterprise Ltd","FACTENT.BO"]
["Ganesh Housing Corp Ltd","GANESHSG.BO"]
["Housing Development & Inf","HDIL.BO"]
["Hubtown Ltd","ACKRUTI.BO"]
["Indo-Asian Projects Ltd","INDOASIAP.BO"]
["Kamanwala Housing Constru","KAMANWALA.BO"]
["Kolte Patil Developers Ltd","KOLTEPATI.BO"]
["Lancor Holdings Ltd","LANCORHOL.BO"]
["Landmark Property Develop","LANDMARK.BO"]
["Lok Housing & Constructio","LOKHSG.BO"]
["Mahindra Lifespace","MAHINLIFE.BO"]
["Manjeera Constructions Ltd","MANJEERA.BO"]
["Marathon Nextgen Realty Ltd","MARATHON.BO"]
["Marg Ltd","MARGLTD.BO"]
["MVL Ltd","MVL.BO"]
["Nardhana Infrastructure Ltd","PITHMST.BO"]
["Nila Infrastructures Ltd","NILA.BO"]
["Omaxe Ltd","OMAXE.BO"]
["Optiemus Infracom Ltd","AKANKSHA.BO"]
["Orbit Corp Ltd","ORBITCO.BO"]
["Parshwanath Corp Ltd","PARHOUS.BO"]
["Parsvnath Developers Ltd","PARSVNATH.BO"]
["Peninsula Land Ltd","PENINSULA.BO"]
["Phoenix Mills Ltd","PHOENIX.BO"]
["Poddar Developers Ltd","WEAROLOGY.BO"]
["Popular Estate Management Ltd","POPULARES.BO"]
["Prerna Infrabuild Ltd","PRERINFRA.BO"]
["Prime Property Developmen","PRIMEPRO.BO"]
["Puravankara Projects Ltd","PURVA.BO"]
["PVP Ventures Ltd","PVP.BO"]
["R T C L Ltd","RAGHUTOB.BO"]
["Raghunath International Ltd","RAGHUNAT.BO"]
["Rainbow Foundations Ltd","RAINBOWF.BO"]
["Rajeswari Infrastructure Ltd","RAJESWARI.BO"]
["Rap Media Ltd","RAP.BO"]
["Regaliaa Realty Ltd","REGALIAA.BO"]
["Ritesh Properties","RPIL.BO"]
["Rodium Realty Ltd","VISHA.BO"]
["Satra Properties India Ltd","SATRAPROP.BO"]
["Shervani Industrial Syndi","SHERVANI.BO"]
["Shree Ram Urban Infra","SHREERAM.BO"]
["Shri Krishna Devcon Ltd","SHRIKRISH.BO"]
["Simplex Realty Ltd","SIMPLXREA.BO"]
["Sobha Developers Ltd","SOBHA.BO"]
["SSPDL Ltd","SSPDL.BO"]
["Sterling Greenwoods Ltd","STRGRENWO.BO"]
["Sunteck Realty Ltd","SUNTECK.BO"]
["Thakkars Developers Ltd","THAKDEV.BO"]
["Unitech International Ltd","UNITECH.BO"]
["Unitech International Ltd","UNITINT.BO"]
["Vas Infrastructure Ltd","VASINFRA.BO"]
["Venus Ventures Ltd","VENUSVENT.BO"]
["Victoria Mills Ltd","VICTMILL.BO"]
["Vijay Shanthi Builders Ltd","VIJSHAN.BO"]
["Vipul Ltd","VIPUL.BO"]
["Welspun Projects Ltd","MSKPRO.BO"]
["Abirami Financial","ABIRAFN.BO"]
["Indo Credit Capital Ltd","INDOCRED.BO"]
["Nivedita Mercantile","ZNIVEMER.BO"]
["Savani Financial Ltd","SAVFI.BO"]
["Aarey Drugs","AREYDRG.BO"]
["ABL Bio Technologies Ltd","ABLBIO.BO"]
["Adinath Bio-Labs Ltd","ADINATHBI.BO"]
["Bharat Immunologies","BIBCL.BO"]
["Biocon Ltd","BIOCON.BO"]
["Celestial Biolabs Ltd","CELESTIAL.BO"]
["Dishman Pharmaceuticals &","DISHMAN.BO"]
["Hindustan Bio Sciences Ltd","HINDBIO.BO"]
["KDL Biotech Ltd","KDLBIO.BO"]
["Lyka Labs Ltd","LYKALAB.BO"]
["Mavens Biotech Ltd","MAVENSBIO.BO"]
["Panacea Biotec Ltd","PANACEABIO.BO"]
["Panchsheel Organics Ltd","PANCHOR.BO"]
["Piramal Phytocare Ltd","PIRAMLIFE.BO"]
["Pochiraju Industries Ltd","POCHIRAJU.BO"]
["Raymed Laboratories Ltd","RAYLA.BO"]
["Relish Pharmaceuticals Ltd","RELISH.BO"]
["Saamya Biotech (India) Ltd","SAAMYABIO.BO"]
["Sterling Biotech Ltd","STERLINBIO.BO"]
["Titan Bio-Tech Ltd","TITANBIO.BO"]
["Transgene Biotek Ltd","TRABI.BO"]
["Tyche Industries Ltd","TYCHE.BO"]
["Veerhealth Care Ltd","NIYATI.BO"]
["Zenotech Laboratories Ltd","ZENOTECH.BO"]
["Asis Logistics Ltd","ZPARANLT.BO"]
["Muller And Phipps (India) Ltd","MULLER.BO"]
["Aarti Drugs Ltd","AARTIDR.BO"]
["Abbott India Ltd","ABBOT.BO"]
["Albert David Ltd","ALBERTDA.BO"]
["Ambalal Sarabhai Enterpri","AMBALALSA.BO"]
["Anu's Laboratories Ltd","ANULABS.BO"]
["Anuh Pharma Ltd","ANUHPHR.BO"]
["AstraZeneca Pharma India Ltd","ASTRAZEN.BO"]
["Auro Laboratories Ltd","AUROLAB.BO"]
["Aurobindo Pharma Ltd","AUROBINDOP.BO"]
["Bafna Pharmaceuticals Ltd","BAFNAPHAR.BO"]
["Bdh Industries Ltd","BDH.BO"]
["Biofil Chemicals & Pharma","BIOFIL.BO"]
["Bliss GVS Pharma Ltd","BLISSGVS.BO"]
["Brawn Biotech Ltd","BRAWN.BO"]
["Caplin Point Laboratories Ltd","CAPPL.BO"]
["Cipla Ltd","CIPLA.BO"]
["Colinz Laboratories Ltd","COLINZ.BO"]
["Desh Rakshak Aushdhalaya Ltd","DESHRAK.BO"]
["Elder Pharmaceuticals Ltd","ELDERPG.BO"]
["Elder Pharmaceuticals Ltd","ELDERPHARM.BO"]
["FDC Ltd","FDC.BO"]
["Fulford India Ltd","FULFORD.BO"]
["GlaxoSmithKline Pharmaceu","GLAXOPHARMA.BO"]
["Godavari Drugs Ltd","GODAVARI.BO"]
["Granules India Ltd","GRANULES.BO"]
["Gufic BioSciences Ltd","GUFICBIO.BO"]
["Hester Biosciences Ltd","HESTERBIO.BO"]
["Ind Swift Laboratories Ltd","INDSWFLA.BO"]
["Ishita Drugs And Industri","ISHITADR.BO"]
["Ivee Injectaa Ltd","IVEE.BO"]
["Jagsonpal Pharmaceuticals Ltd","JAGSONPH.BO"]
["JB Chemicals & Pharmaceut","JBCHEM.BO"]
["Jenburkt Pharmaceuticals Ltd","JENBURPH.BO"]
["Jubilant Life Sciences Ltd","JUBILANTORG.BO"]
["Kappac Pharma Ltd","KAPPH.BO"]
["Kilitch Drugs (India) Ltd","KILITCHD.BO"]
["Kopran Ltd","KOPRAN.BO"]
["Krebs Biochemicals & Indu","KREBSBIO.BO"]
["Lincoln Pharmaceuticals Ltd","LINCOPH.BO"]
["Makers Laboratories Ltd","MAKERSL.BO"]
["Marksans Pharma Ltd","MARKSANS.BO"]
["Medicamen Biotech Ltd","MEDICAMEQ.BO"]
["Morepen Laboratories Ltd","MOREPENLAB.BO"]
["Natco Pharma Ltd","NATCO.BO"]
["Natural Capsules Ltd","NATCAPSUQ.BO"]
["Nectar Lifesciences Ltd","NECLIFE.BO"]
["NGL Fine-Chem Ltd","NGLFINE.BO"]
["Novartis India Ltd","NOVARTIS.BO"]
["Orchid Chemicals & Pharma","ORCHIDCHEM.BO"]
["Ortin Laboratories Ltd","ORTIN.BO"]
["Pfizer Ltd","PFIZER.BO"]
["Phaarmasia Ltd","PHRMASI.BO"]
["Pharmaids Pharmaceuticals Ltd","PHARMAID.BO"]
["Piramal Enterprises Ltd","PIRAMALHE.BO"]
["Sanjivani Paranterals Ltd","SANJIVIN.BO"]
["Sanofi India Ltd","AVENTIS.BO"]
["Shasun Pharmaceuticals Ltd","SHASUNCHEM.BO"]
["Shilpa Medicare Ltd","SHILPAMEDCA.BO"]
["Shyama Infosys Ltd","POONAMC.BO"]
["SMS Pharmaceuticals Ltd","SMSPHARMA.BO"]
["Suven Life Sciences Ltd","SUVEN.BO"]
["Syncom Formulation (India) Ltd","SYNCOM.BO"]
["Syncom Healthcare Ltd","SYNCOMH.BO"]
["Syschem (India) Ltd","SYSCHEM.BO"]
["Torrent Pharmaceuticals Ltd","TORRENTPH.BO"]
["TTK Healthcare Ltd","TTKHE.BO"]
["Twilight Litaka Pharma Ltd","TWILITAKA.BO"]
["Unichem Laboratories Ltd","UNICHEMLAB.BO"]
["Unjha Formulations Ltd","UNJHAFOR.BO"]
["Venkat Pharma Ltd","VENKPHR.BO"]
["Venus Remedies Ltd","VENRE.BO"]
["Wanbury Ltd","WANBURY.BO"]
["Welcure Drugs & Pharmaceu","WELCURE.BO"]
["Wintac Ltd","WINTAC.BO"]
["Wockhardt Ltd","WOCKHARDT.BO"]
["Zandu Realty Ltd","ZANDUREAL.BO"]
["Zenith Healthcare Ltd","ZENITHHE.BO"]
["Advik Laboratories Ltd","ADVIKLA.BO"]
["Ahlcon Parenterals India Ltd","AHLCONQ.BO"]
["Alembic Ltd","ALEMBICLTD.BO"]
["Alpa Laboratories Ltd","ALPA.BO"]
["Bal Pharma Ltd","BALPH.BO"]
["Beryl Drugs Ltd","BERLDRG.BO"]
["Cadila Healthcare Ltd","CADILAHC.BO"]
["Coral Laboratories Ltd","CORALAB.BO"]
["Divi's Laboratories Ltd","DIVISLAB.BO"]
["Dr Reddy Laboratories Ltd","DRREDDY.BO"]
["Gennex Laboratories Ltd","GENNEX.BO"]
["Glenmark Pharmaceuticals Ltd","GLENMARK.BO"]
["Gujarat Terce Laboratories Ltd","GUJTERC.BO"]
["Hemo Organic Ltd","DINSHAL.BO"]
["Hiran Orgochem Ltd","HIRAN.BO"]
["Ind-Swift Ltd","INDSWIF.BO"]
["Ipca Laboratories Ltd","IPCALAB.BO"]
["Lactose (India) Ltd","LACTOSE.BO"]
["Link Pharma Chem Ltd","LINKPH.BO"]
["Lupin Ltd","LUPIN.BO"]
["Medi-Caps Ltd","MEDICAPQ.BO"]
["Merck Ltd","MERCK.BO"]
["Neuland Laboratories Ltd","NEULAND.BO"]
["Nutraplus India Ltd","NUTRAPR.BO"]
["Omkar Pharmachem Ltd","OMKARPH.BO"]
["Parabolic Drugs Ltd","PARABOLIC.BO"]
["Parenteral Drugs (India) Ltd","PARENTLD.BO"]
["Ranbaxy Laboratories Ltd","RANBAXY.BO"]
["RPG Life Sciences Ltd","RPGLS.BO"]
["Sandu Pharmaceuticals Ltd","SANDUPHQ.BO"]
["Senbo Industries Ltd","SENBO.BO"]
["Smruthi Organics Ltd","SMRUTHI.BO"]
["Source Natural Foods","INWINEX.BO"]
["Strides Arcolab Ltd","STRIDES.BO"]
["Sun Pharma Advanced","SUNPHADV.BO"]
["Sun Pharmaceuticals Indus","SUNPHARMA.BO"]
["Surya Pharmaceutical Ltd","SURYAP.BO"]
["Themis Medicare Ltd","THEMIS.BO"]
["Trimurthi Drugs","TRIMURTHI.BO"]
["Vikram Thermo (India) Ltd","VIKRAMTH.BO"]
["Vista Pharmaceuticals Ltd","VISTAPH.BO"]
["Apollo Hospitals","APOLLOHOSP.BO"]
["Chennai Meenakshi Multisp","CMMHOSP.BO"]
["Dhanvantri Jeevan Rekha Ltd","ZDHJERK.BO"]
["Dr Agarwal'S Eye Hospital Ltd","DRAGARWQ.BO"]
["Fortis Healthcare Ltd","FORTIS.BO"]
["Indraprastha Medical Corp Ltd","INDRAMEDCO.BO"]
["Keltech Energies Ltd","KELENRG.BO"]
["Kerala Ayurveda Ltd","KERALAYUR.BO"]
["KMC Speciality","KMCSHIL.BO"]
["Kovai Medical Center & Ho","KOVAIMD.BO"]
["Lotus Eye Hospital","LOTUSEYE.BO"]
["N G Industries Ltd","NGIND.BO"]
["Noida Medicare Centre Ltd","NOIMC.BO"]
["Regency Hospital Ltd","RGNYMIS.BO"]
["Secunderabad Healthcare Ltd","SECHE.BO"]
["Advanced Micronic Devices Ltd","ADVNCMIC.BO"]
["Choksi Imaging Ltd","CHOKSI.BO"]
["Invicta Meditek Ltd","INVICTA.BO"]
["Maestros Mediline Systems Ltd","MAESTROM.BO"]
["Opto Circuits (India) Ltd","OPTOCIRCUIT.BO"]
["Centenial Surgical Suture Ltd","CSURGSU.BO"]
["Plethico Pharmaceuticals Ltd","PLETHICO.BO"]
["Poly Medicure Ltd","POLME.BO"]
["Raaj Medisafe India Ltd","MANOJPH.BO"]
["Shree Pacetronix Ltd","SHREEPAC.BO"]
["Span Diagnostics Ltd","SPANDIAQ.BO"]
["Techtran Polylenses Ltd","TECPO.BO"]
["Choksi Laboratories Ltd","CHOKSILA.BO"]
["Dolphin Medical Services Ltd","DOLPHMED.BO"]
["Medinova Diagnostic Servi","MEDINOV.BO"]
["Vimta Labs Ltd","VIMTA.BO"]
["Wyeth Ltd","WYETH.BO"]
["ABG Shipyard Ltd","ABGSHIP.BO"]
["Bharat Electronics Ltd","BEL.BO"]
["Bharati Shipyard Ltd","BHARSHIP.BO"]
["High Energy Batteries","HIGHENE.BO"]
["Inducto Steel Ltd","INDCTST.BO"]
["Pipavav Defence","PIPAVAVYD.BO"]
["Sika Interplant Systems Ltd","SIKA.BO"]
["Taneja Aerospace & Aviati","TANAA.BO"]
["Western India Shipyard Ltd","WESTE.BO"]
["ABB India Ltd","ABB.BO"]
["Accurate Transformers Ltd","ACCURATE.BO"]
["Acrow India Ltd","ACROW.BO"]
["Ador Fontech Ltd","ADORFO.BO"]
["Ador Welding Ltd","ADORWELDING.BO"]
["Advance Powerinfra Tech Ltd","MARSONS.BO"]
["AIA Engineering Ltd","AIAENG.BO"]
["Alfa Transformers Ltd","ALFATRAN.BO"]
["Alfred Herbert India Ltd","ALFREDHE.BO"]
["Alpha Graphic India Ltd","ALPGRAPH.BO"]
["ALSTOM T&D India Ltd","AREVA.BO"]
["Andrew Yule & Co Ltd","ANDREWYU.BO"]
["Artson Engineering Ltd","ARTSONEN.BO"]
["Axtel Industries Ltd","AXTEL.BO"]
["Bajaj Steel Industries Ltd","BAJAJST.BO"]
["Bemco Hydraulics Ltd","BEMHY.BO"]
["Best & Crompton","BSTCR.BO"]
["Bharat Bijlee Ltd","BBL.BO"]
["Birla Power Solutions Ltd","BIRLAPOWER.BO"]
["Brady & Morris","BRADYM.BO"]
["Cenlub Industries Ltd","CENLUB.BO"]
["Cummins India Ltd","CUMMINS.BO"]
["Delta Magnets Ltd","DELTAMAG.BO"]
["Diamond Power Infrastruct","DIACABLE.BO"]
["Disa India Ltd","DISAQ.BO"]
["ECE Industries Ltd","ECE.BO"]
["Eimco Elecon India Ltd","EIMCO.BO"]
["Elecon Engineering Co Ltd","ELECON.BO"]
["Elgi Equipments Ltd","ELGIEQUIP.BO"]
["Ema India Ltd","EMAINDIA.BO"]
["Envair Electrodyne Ltd","ENVAIREL.BO"]
["Eon Electric Ltd","INDOASIFU.BO"]
["Epic Energy Ltd","EPIC.BO"]
["Everest Kanto Cylinder Ltd","EKC.BO"]
["Fag Bearings India Ltd","FAGBEARING.BO"]
["Fusion Fittings (I) Ltd","FUFITIN.BO"]
["G G Dandekar Machine Works Ltd","GGDANDE.BO"]
["Gei Industrial Systems Ltd","GEINDSYS.BO"]
["GMM Pfaudler Ltd","GMM.BO"]
["Graphite India Ltd","GRAPHITE.BO"]
["Greaves Cotton Ltd","GREAVE.BO"]
["HEG Ltd","HEG.BO"]
["Hercules Hoists Ltd","HERCULES.BO"]
["HMT Ltd","HMT.BO"]
["Honda Siel Power Products Ltd","HONDASIEL.BO"]
["Honeywell Automation India Ltd","HONEYWELL.BO"]
["IFB Industries Ltd","IFBIND.BO"]
["IMP Powers Ltd","IMPOWERS.BO"]
["Incon Engineers Ltd","INCON.BO"]
["Indo Tech Transformers Ltd","INDOTECH.BO"]
["Ingersoll Rand (India) Ltd","INGERSOL.BO"]
["Integra Engineering India Ltd","SCHEI.BO"]
["ISGEC Heavy Engineering Ltd","SARASWATI.BO"]
["ITL Industries Ltd","ITL.BO"]
["Jost'S Engineering Co Ltd","JOSTS.BO"]
["Jyoti Ltd","JYOTI.BO"]
["KCP Ltd","KCP.BO"]
["Kennametal India Ltd","KENNAMET.BO"]
["Kirloskar Brothers Ltd","KIRLBROS.BO"]
["Kirloskar Electric Co Ltd","KIRELECT.BO"]
["Kirloskar Pneumatic Co Ltd","KIRLPNU.BO"]
["Kohinoor Techno Engineers Ltd","KOHINOORT.BO"]
["KSB Pumps Ltd","KSBPUMPS.BO"]
["Lakshmi Machine Works Ltd","LMW.BO"]
["Lloyd Electric & Eng","LLOYDELE.BO"]
["Lokesh Machines Ltd","LOKESH.BO"]
["Manugraph India Ltd","MANUGRAP.BO"]
["Marsons Ltd","MARSON.BO"]
["Mazda Ltd","MAZDALTD.BO"]
["Mirch Technologies Ltd","MIRCH.BO"]
["MPF Systems Ltd","MPFSL.BO"]
["MPIL Corp Ltd","MPILCORPL.BO"]
["NEPC India Ltd","NEPIN.BO"]
["Nicco Corp Ltd","NICCOC.BO"]
["Nile Ltd","NILE.BO"]
["PAE Ltd","PAEL.BO"]
["Panasonic Carbon India Co Ltd","PANACARBN.BO"]
["Polymechplast Machines Ltd","POLYCHMP.BO"]
["Premier Ltd","PREMIER.BO"]
["Rajoo Engineers Ltd","RAJOOENG.BO"]
["Rasi Electrodes Ltd","RASIELEC.BO"]
["Rexnord Electronics & Con","REXNORD.BO"]
["Roto Pumps Ltd","ROTO.BO"]
["S M Energy Teknik","SMENER.BO"]
["Sarthak Industries Ltd","SARTHAKIN.BO"]
["Schneider Electric","APW.BO"]
["Servotech Engineering","SERVOTEC.BO"]
["Shakti Pumps (India) Ltd","SHAKTIPU.BO"]
["Shanthi Gears Ltd","SHANTIGE.BO"]
["Shilp Gravures Ltd","SHILGRAVQ.BO"]
["Siemens Ltd","SIEMENS.BO"]
["Singer India Ltd","SINGER.BO"]
["SKF India Ltd","SKF.BO"]
["Sri KPR Industries Ltd","BWPL.BO"]
["Stovec Industries Ltd","STOVACQ.BO"]
["Sturdy Industries Ltd","STURDY.BO"]
["Suzlon Energy Ltd","SUZLON.BO"]
["Swelect Energy Systems Ltd","NUMERICP.BO"]
["T & I Global Ltd","TIGLOB.BO"]
["Tarapur Transformers Ltd","TARAPURTL.BO"]
["Thermax Ltd","THERMAX.BO"]
["TIL Ltd","TIL.BO"]
["Timken India Ltd","TIMKEN.BO"]
["Transformers & Rectifiers","TRIL.BO"]
["TRF Ltd","TRF.BO"]
["U T Ltd","UTLTD.BO"]
["United Interactive Ltd","NEEMTEK.BO"]
["V-Guard Industries Ltd","VGUARD.BO"]
["Veejay Lakshmi","VJLAXMIE.BO"]
["Veljan Denison Ltd","VELJAN.BO"]
["Venus Universal Ltd","VENUSUNI.BO"]
["Vesuvius India Ltd","VESUVIUS.BO"]
["Vishal Malleables Ltd","VISHMEL.BO"]
["Voltamp Transformers Ltd","VOLTAMP.BO"]
["Vulcan Engineers Ltd","VULCANEN.BO"]
["W H Brady & Co Ltd","WHBRADY.BO"]
["Windsor Machines Ltd","WINDSOR.BO"]
["WPIL Ltd","WPIL.BO"]
["Yashraj Containeurs Ltd","YASHRAJC.BO"]
["Yuken India Ltd","YUKEN.BO"]
["Action Construction Equip","ACE.BO"]
["Bell AGromachina Ltd","BELAGRO.BO"]
["Cranex Ltd","CRANEX.BO"]
["EPC Industrial Ltd","EPCIN.BO"]
["Escorts Ltd","ESCORTS.BO"]
["Gujarat Apollo Industries Ltd","GUJAPOIND.BO"]
["Jain Irrigation Systems Ltd","JAINIRRIG.BO"]
["Mahesh Agricultural","MAISF.BO"]
["Revathi Equipment Ltd","REVTEQP.BO"]
["Rungta Irrigation Ltd","RUNGTAIR.BO"]
["Sanghvi Movers Ltd","SANGHVIMQ.BO"]
["Shivagrico Implements Ltd","SHIVAGR.BO"]
["Skyline Millars Ltd","SKYLMILAR.BO"]
["VST Tillers Tractors Ltd","VSTTILL.BO"]
["ACC Ltd","ACC.BO"]
["Alfa Ica (India) Ltd","ALFAICA.BO"]
["Ambuja Cements Ltd","ACL.BO"]
["Andhra Cements Ltd","ANDHRCM.BO"]
["Aro Granite Industries Ltd","AROGRANI.BO"]
["Asian Granito India Ltd","ASIANTILES.BO"]
["Associated Stone Industri","ASSOSTNB.BO"]
["Barak Valley Cements Ltd","BVCL.BO"]
["Bheema Cements Ltd","BHEEMACEM.BO"]
["Binani Industries Ltd","BINANIZINC.BO"]
["Birla Corp Ltd","BIRLACORP.BO"]
["Blazon Marbles Ltd","SHGRANI.BO"]
["Brushman (India) Ltd","BRUSHMAN.BO"]
["Burnpur Cement Ltd","BURNPUR.BO"]
["Century Textiles & Indus","CENTURYTEX.BO"]
["Cera Sanitaryware Ltd","CERASAN.BO"]
["Deccan Cements Ltd","DECCANCE.BO"]
["Decolight Ceramics Ltd","DECOLIGHT.BO"]
["Dhoot Industries Ltd","DHOOTIND.BO"]
["Divyashakti Granites Ltd","DIVSHKT.BO"]
["Ecoboard Industries Ltd","ECOBOAR.BO"]
["Electrosteel Castings Ltd","ELECTROST.BO"]
["Elegant Marbles","ELEMARB.BO"]
["Euro Ceramics Ltd","EUROCERA.BO"]
["Everest Industries Ltd","EVEREST.BO"]
["Gee Gee Granites Ltd","GGGRAN.BO"]
["Glittek Granites Ltd","GLITTEKG.BO"]
["Greenply Industries Ltd","GREENPLY.BO"]
["Grindwell Norton Ltd","GRINDWELNOR.BO"]
["Gujarat Borosil Ltd","GUJBOROS.BO"]
["Gujarat Narmada Flyash Co Ltd","GUJNFLY.BO"]
["HeidelbergCement India Ltd","HEIDELCEM.BO"]
["HIL Ltd","HYDIND.BO"]
["Himalaya Granites Ltd","HIMGRANI.BO"]
["Hitachi Home & Life Solns","HITACHIH.BO"]
["HSIL Ltd","HSIL.BO"]
["IFGL Refractories Ltd","IFGLREF.BO"]
["Inani Marbles & Industries Ltd","INANI.BO"]
["India Cements Ltd","INDIACEM.BO"]
["Indian Hume Pipe Co Ltd","INDIANHU.BO"]
["Jai Mata Glass Ltd","JAIMATAG.BO"]
["Jenson & Nicholson India Ltd","JENSONIC.BO"]
["JK Cement Ltd","JKCEM.BO"]
["JK Lakshmi Cement Ltd","JKLAKSHMI.BO"]
["Kajaria Ceramics Ltd","KAJARIAC.BO"]
["Kakatiya Cement Sugar","KAKCEM.BO"]
["Kalyanpur Cements Ltd","KLYNCEM.BO"]
["Katwa Udyog Ltd","KATWAUD.BO"]
["Keerthi Industries Ltd","KEERTHI.BO"]
["Madhav Marbles","MADHAVMA.BO"]
["Mangalam Cement Ltd","MANGALC.BO"]
["Marathwada Refractories Ltd","MARATHR.BO"]
["Murli Industries Ltd","MURLIINDU.BO"]
["Murudeshwar Ceramics Ltd","MURUDCER.BO"]
["Navkar Builders Ltd","NAVBLDR.BO"]
["NCL Industries Ltd","NCLIND.BO"]
["Neelkanth Rock Minerals Ltd","NEELKAN.BO"]
["Nidhi Granites Ltd","NIDHGRN.BO"]
["Nitco Tiles Ltd","NITCO.BO"]
["OCL India Ltd","OCL.BO"]
["Orient Bell Ltd","ORIENTCE.BO"]
["Oriental Trimex Ltd","ORIENTAL.BO"]
["Pacific Industries Ltd","PACIFICI.BO"]
["Panyam Cements & Mineral","PANCM.BO"]
["Pokarna Ltd","POKARNA.BO"]
["Prism Cement Ltd","PRISMCEM.BO"]
["Raasi Refractories Ltd","RASSIREF.BO"]
["Rain Industries Ltd","RAIN.BO"]
["Ramco Cements Ltd","MADRASCEM.BO"]
["Ramco Industries Ltd","RAMCOIND.BO"]
["Regency Ceramics Ltd","REGENCY.BO"]
["Restile Ceramics Ltd","RESTILE.BO"]
["Sagar Cements Ltd","SAGARCE.BO"]
["Sahyadri Industries Ltd","SAHYADRI.BO"]
["Sand Plast (India) Ltd","SANDPLAST.BO"]
["Sanghi Industries Ltd","SANGHIIN.BO"]
["Saurashtra Cement Ltd","SAURASHCEM.BO"]
["Schablona India Ltd","SCHABLON.BO"]
["Scope Industries (India) Ltd","JAIMU.BO"]
["Shiva Cement Ltd","SHIVACEM.BO"]
["Shree Cements Ltd","SHREECEM.BO"]
["Shree Digvijay Cement Co Ltd","SHREDIGC.BO"]
["Sicagen India Ltd","SICAGEN.BO"]
["Sintex Industries Ltd","SINTEX.BO"]
["Solid Stone Co Ltd","SOLIDSTON.BO"]
["Sri Vajra Granites Ltd","SRIVAJRA.BO"]
["Suraj Products Ltd","SURAJ.BO"]
["Trinetra Cement Ltd","INDOZIN-B.BO"]
["Triveni Glass Ltd","TRIVENIGQ.BO"]
["UltraTech Cement Ltd","ULTRATECH.BO"]
["Vaishno Cement Co Ltd","VAICC.BO"]
["Vertical Industries Ltd","LAMANSG.BO"]
["Visaka Industries Ltd","VISAKA.BO"]
["ABG Infralogistics Ltd","ABG.BO"]
["Ahluwalia Contracts India Ltd","AHLUCONT.BO"]
["Alstom India Ltd","ALSTOMPROJ.BO"]
["Arihant Superstructures Ltd","ARIHSUPER.BO"]
["Artefact Projects Ltd","ARTEFACT.BO"]
["Asahi Infrastructure and","ASAHINFRA.BO"]
["Ashram Onlinecom Ltd","ASHRAM.BO"]
["Atlanta Devcon Ltd","SEAXGLOB.BO"]
["ATV Projects India Ltd","ATVPR.BO"]
["Axis-IT&T Ltd","AXISITNT.BO"]
["B L Kashyap and Sons Ltd","BLKASHYAP.BO"]
["Basil Infrastructure Proj","BASILINF.BO"]
["BF Utilities Ltd","BFUTI.BO"]
["BGR Energy Systems Ltd","BGRENERGY.BO"]
["C & C Constructions Ltd","CANDC.BO"]
["Choice Infra Ventures Ltd","ZENUINFO.BO"]
["Conart Engineers Ltd","CONART.BO"]
["Consolidated Construction","CCCL.BO"]
["Cyient Ltd","INFOTECENT.BO"]
["Era Infra Engineering Ltd","ERAINFRA.BO"]
["Exelon Infrastructure Ltd","EXELON.BO"]
["Fedders Lloyd Corp Ltd","FEDDRLOY.BO"]
["Gammon India Ltd","GAMMONIND.BO"]
["Garnet Construction Ltd","GARNET.BO"]
["Gayatri Projects Ltd","GAYAPROJ.BO"]
["GI Engineering Solutions Ltd","GIENG.BO"]
["Hindustan Construction Co Ltd","HCC.BO"]
["Hindustan Dorr Oliver Ltd","HINDDORQ.BO"]
["IITL Projects Ltd","INDOGR.BO"]
["IL&FS Engineering","MAYTASINFR.BO"]
["ITD Cementation India Ltd","ITDCEM.BO"]
["IVRCL Ltd","IVRCLINFRA.BO"]
["J Kumar Infraprojects Ltd","JKIL.BO"]
["Jaihind Projects Ltd","JAIPROJ.BO"]
["Jainco Projects (India) Ltd","JAINCO.BO"]
["Jaiprakash Associates Ltd","JAIPRA.BO"]
["JMC Projects (india) Ltd","JMCPRO.BO"]
["Kaushalya Infrastructure","KAUSHALYA.BO"]
["KCL Infra Projects Ltd","KADCONS.BO"]
["Kedia Construction Co Ltd","KEDIACN.BO"]
["KNR Constructions Ltd","KNRCON.BO"]
["Lanco Infratech Ltd","LITL.BO"]
["Larsen & Toubro Ltd","LNT.BO"]
["Madhucon Projects Ltd","MADHUPRO.BO"]
["Man Infraconstruction Ltd","MANINFRA.BO"]
["Marg Projects","MARGPROIN.BO"]
["Maruti Infrastructure Ltd","MAINFRA.BO"]
["MBL Infrastructures Ltd","MBLINFRA.BO"]
["McNally Bharat","MCNALLYB.BO"]
["Minal Industries Ltd","MINAL.BO"]
["Mukand Engineers Ltd","MUKANDEN.BO"]
["NCC Ltd","NAGARCON.BO"]
["Niraj Cement Structurals Ltd","NIRAJ.BO"]
["Noida Toll Bridge Co Ltd","NOIDATOL.BO"]
["OM Metals Infraprojects Ltd","OMMEINFRA.BO"]
["Patel Engineering Ltd","PATELEN.BO"]
["PBA Infrastructure Ltd","PBAINFRA.BO"]
["Petron Engineering Constr","PETRON.BO"]
["Praj Industries Ltd","PRAJIND.BO"]
["Pratibha Industries Ltd","PRATIBHA.BO"]
["Premier Energy & Infra","PEIL.BO"]
["Punj Lloyd Ltd","PUNJLLOYD.BO"]
["RIIL","RIIL.BO"]
["Sadbhav Engineering Ltd","SADBHAV.BO"]
["Shelter Infra Projects Ltd","CCAP.BO"]
["Shricon Industries Ltd","SHRICON.BO"]
["Shriram EPC Ltd","SHRIRAMEPC.BO"]
["Shristi Infrastructure De","SHRISTI.BO"]
["Simplex Infrastructures Ltd","SIMPLEXIN.BO"]
["Simplex Projects Ltd","SIMPLEX.BO"]
["SPML Infra Ltd","SUBHASHP.BO"]
["Sterling Strips Ltd","STERS.BO"]
["Stewarts & Lloyds Of India Ltd","STEWARTQ.BO"]
["Sunil Hitech Engineers Ltd","SUNILHITEC.BO"]
["Supreme Infrastructure In","SUPREMEINF.BO"]
["Tantia Constructions Ltd","TANTIACON.BO"]
["Tarmat Ltd","ROMAN.BO"]
["Technofab Engineering Ltd","TECHNOFAB.BO"]
["Trinethra Infra Ventures Ltd","TRINETHRA.BO"]
["UB Engineering Ltd","UBENG.BO"]
["Unity Infraprojects Ltd","UNITY.BO"]
["Valecha Engineering Ltd","VALECHEN.BO"]
["Vardhman Concrete Ltd","STREIND.BO"]
["Voltas Ltd","VOLTAS.BO"]
["VSF Projects Ltd","VSFPROJ.BO"]
["Walchandnagar Industries Ltd","WALCHANI.BO"]
["ARSS Infrastructure","ARSSINFRA.BO"]
["Atlanta Ltd","ATLANTA.BO"]
["Diamant Infrastructure Ltd","DIAMINV.BO"]
["Gammon Infrastructure","GAMMONINFR.BO"]
["GMR Infrastructure Ltd","GMRINFRA.BO"]
["IL&FS Transportation Netw","ILFSTRANS.BO"]
["IRB Infrastructure Develo","IRB.BO"]
["Jaypee Infratech Ltd","JPINFRATEC.BO"]
["Jyothi Infraventures Ltd","BOSSECU.BO"]
["Sanmit Infra Ltd","ASIAHR.BO"]
["Vascon Engineers Ltd","VASCON.BO"]
["Yogi Infra Projects Ltd","YOGISUNG.BO"]
["Archidply Industries Ltd","ARCHIDPLY.BO"]
["Century Plyboards India Ltd","CENTPLY.BO"]
["Mangalam Timber Products Ltd","MANGTIMB.BO"]
["Novopan Industries Ltd","NOVOPAN.BO"]
["Pratik Panels Ltd","PRATIK.BO"]
["Rammaica (India) Ltd","RAMMA.BO"]
["Sarda Plywood Industries Ltd","SARDAPLY.BO"]
["Uniply Industries Ltd","UNIPLY.BO"]
["UV Boards Ltd","UVBOARDS.BO"]
["V R Woodart Ltd","VRWODAR.BO"]
["Akar Tools Ltd","AKARTOOL.BO"]
["Austin Engineering Co Ltd","AUSTENG.BO"]
["Batliboi Ltd","BATLIBOI.BO"]
["Birla Precision Technolog","BIRLAPREC.BO"]
["Carnation Industries Ltd","CARNATIN.BO"]
["CMI Ltd","CMI.BO"]
["D & H India Ltd","DNHWELD.BO"]
["Deccan Bearings Ltd","DECANBRG.BO"]
["DHP India Ltd","DHPIND.BO"]
["Fluidomat Ltd","FLUIDOM.BO"]
["Frontier Springs Ltd","FRONTSP.BO"]
["Gee Ltd","GEE.BO"]
["Hindustan Everest Tools Ltd","HINDEVER.BO"]
["Hittco Tools Ltd","HITTCO.BO"]
["International Combustion","INTLCOMBQ.BO"]
["Kilburn Engineering Ltd","KLBRENG-B.BO"]
["Kulkarni Power Tools Ltd","KULKPOWT.BO"]
["Lakshmi Precision Screws Ltd","LAKSMIPR.BO"]
["Lynx Machinery","LYNMC.BO"]
["Modison Metals Ltd","MODISNME.BO"]
["NRB Bearings Ltd","NRB.BO"]
["Solitaire Machine Tools Ltd","SOLIMAC.BO"]
["Sterling Tools Ltd","STERTOOL.BO"]
["Swiss Glascoat Equipments Ltd","SWISSGLA.BO"]
["Technocraft Industries In","TIIL.BO"]
["Trident Tools Ltd","MAGICUT.BO"]
["Wendt (India) Ltd","WENDT.BO"]
["ABC Bearings Ltd","ABCBEARS.BO"]
["Aditya Forge Ltd","ADTYFRG.BO"]
["Ahmednagar Forgings Ltd","AHMEDFO.BO"]
["Alicon Castalloy Ltd","ENKEICAQ.BO"]
["Arcotech Ltd","ARCOTECH.BO"]
["El Forge Ltd","ELFORGE.BO"]
["Electrotherm India Ltd","ELETHERB.BO"]
["Gandhi Special Tubes Ltd","GANDHISP.BO"]
["Hilton Metal Forging Ltd","HILTON.BO"]
["Investment & Precision","INVPRECQ.BO"]
["Magna Electro Castings Ltd","MAGNAELQ.BO"]
["Mahindra CIE Automotive Ltd","MAHFORG.BO"]
["Mahindra Composites Ltd","MAHINCOMP.BO"]
["Mardia Samyoung","MSCTC.BO"]
["MFS Intercorp Ltd","MUSKFER.BO"]
["MM Forgings Ltd","MMFORG.BO"]
["Nitin Alloys Global Ltd","NITINALOY.BO"]
["Pradeep Metals Ltd","PRADPME.BO"]
["Precision Wires India Ltd","PRECWIRE.BO"]
["PSL Ltd","PSLLTD.BO"]
["Rajkumar Forge Ltd","RJKMRFR.BO"]
["Rapicut Carbides Ltd","RAPICUT.BO"]
["Rishi Laser Ltd","RISHILASE.BO"]
["Rohit Ferro Tech Ltd","ROHITFERRO.BO"]
["Shivalik Bimetal Controls Ltd","SHBCLQ.BO"]
["Shree Ganesh Forgings Ltd","GANESHFORG.BO"]
["Shree Global Tradefin Ltd","SHRGLTR.BO"]
["Shree Precoated Steels Ltd","SPSL.BO"]
["Siddhartha Tubes Ltd","SIDTB.BO"]
["Simplex Castings Ltd","SIMPLEXCA.BO"]
["SNL Bearings Ltd","SNL.BO"]
["Synthiko Foils Ltd","SYNTHFO.BO"]
["Tayo Rolls Ltd","TATAYODO.BO"]
["Uni-Tubes Ltd","UNITUBE.BO"]
["VBC Ferro Alloys Ltd","VBCFERROQ.BO"]
["Welcast Steels Ltd","ZWELCAST.BO"]
["Zenith Birla (India) Ltd","ZENITH.BO"]
["Indo Bonito Multinational Ltd","INDOBONIT.BO"]
["Ion Exchange India Ltd","IONEX.BO"]
["Ananthi Constructions Ltd","ANNTHMS.BO"]
["Coral India Finance & Hou","CORALFIN.BO"]
["Narendra Properties Ltd","NARPROP.BO"]
["Tribhuvan Housing Ltd","TRIBHSG.BO"]
["Tulive Developers Ltd","TULIVE.BO"]
["A I Champdany Industries Ltd","AICHAMPD.BO"]
["Aarvee Denims & Exports Ltd","AARVEED.BO"]
["Abhishek Corp Ltd","ABHICOR.BO"]
["Acil Cotton Industries Ltd","ACIL.BO"]
["Addi Industries Ltd","ADDIND.BO"]
["Adinath Textiles Ltd","ADINATH.BO"]
["Alchemist Corp Ltd","ALCHCORP.BO"]
["Alka India Ltd","ALKA.BO"]
["Alok Industries Ltd","ALOKIND.BO"]
["Alps Industries Ltd","ALPSIND.BO"]
["Amani Trading & Exports Ltd","AMANITRA.BO"]
["Amarjothi Spinning Mills Ltd","AMARJOSP.BO"]
["Ambika Cotton Mills Ltd","AMBIKCO.BO"]
["Amit International Ltd","AMITINT.BO"]
["Amit Spinning Industries Ltd","AMITSPG.BO"]
["Anjani Dham Industries Ltd","ANJANIFA.BO"]
["Anjani Synthetics Ltd","APCL.BO"]
["APM Industries Ltd","APMIN.BO"]
["Arex Industries Ltd","AREXMIS.BO"]
["Arora Fibres Ltd","ARORAFIB.BO"]
["Arrow Textiles Ltd","ARROWTEX.BO"]
["Arvind International Ltd","ARVINDIN.BO"]
["Arvind Ltd","ARVIND.BO"]
["Asahi Industries Ltd","ASHIFIR.BO"]
["Ashima Ltd","ASHIMA.BO"]
["Ashnoor Textile Mills Ltd","ASHNOOR.BO"]
["AUNDE India Ltd","AUNDEFAZE.BO"]
["Bala Techno Industries Ltd","BALATECIN.BO"]
["Bannari Amman Spinning","BANNARI.BO"]
["Banswara Syntex Ltd","BANSWRAS.BO"]
["Bhilwara Spinners Ltd","BHILSPIN.BO"]
["Bhilwara Technical","BTTL.BO"]
["Binayak Tex Processors Ltd","ZBINTXPP.BO"]
["Binny Ltd","BINNY.BO"]
["Birla Cotsyn (India) Ltd","BIRLACOT.BO"]
["Blue Chip Tex Industries Ltd","BLUECHIPT.BO"]
["Bombay Dyeing","BOMBAYDY.BO"]
["Bombay Rayon Fashions Ltd","BRFL.BO"]
["Bonanza Industries Ltd","BONINDL.BO"]
["BSL Ltd","BSL.BO"]
["Century Enka Ltd","CENTENKA.BO"]
["Cheslind Textiles Ltd","CHESLITE.BO"]
["Cheviot Co Ltd","CHEVIOT.BO"]
["Chitradurga Spintex Ltd","CHITRTX.BO"]
["Crew BOS Products Ltd","CREWBOS.BO"]
["Damodar Industries Ltd","DAMOTH.BO"]
["DCM Ltd","DCM.BO"]
["Deepak Spinners Ltd","DEEPAKSP.BO"]
["Dhanlaxmi Cotex Ltd","DHANCOT.BO"]
["Dhanlaxmi Fabrics Ltd","DHANFAB.BO"]
["Digjam Ltd","DIGJAM.BO"]
["Donear Industries Ltd","DONEAR.BO"]
["Eastern Silk Industries Ltd","EASTSILK.BO"]
["Enterprise International Ltd","ENTRINT.BO"]
["Eskay Knit India Ltd","ESKAY.BO"]
["Eurotex Industries & Expo","EUROTXIN.BO"]
["Everlon Synthetics Limited","EVERLON.BO"]
["Fairdeal Filaments Ltd","FAIRDSY.BO"]
["Faze Three Ltd","FAZE3Q.BO"]
["Filatex Fashions Ltd","FILATFASH.BO"]
["Filatex India Ltd","FILATEX.BO"]
["First Winner Industries Ltd","FIRSTWIN.BO"]
["Flora Textiles Ltd","FLORATX.BO"]
["Gangotri Textiles Ltd","GANGOTEXQ.BO"]
["Garden Silk Mills Ltd","GARDENSILK.BO"]
["Garnet International Ltd","GARNETINT.BO"]
["Garware Marine Industries Ltd","GARWAMAR.BO"]
["Garware Synthetics Ltd","GARWSYN.BO"]
["Garware Wall Ropes Ltd","GARWALLROP.BO"]
["Gee El Woollens Ltd","GELWOOL.BO"]
["Gem Spinners India Ltd","GEMSPIN.BO"]
["Ginni Filaments Ltd","GINNIF.BO"]
["Ginni Silk Mills Ltd","GINISILK.BO"]
["Gloster Ltd","GLOSTERJU.BO"]
["Gokak Textiles Ltd","GOKAKTEX.BO"]
["Golden Carpets Ltd","GOLCA.BO"]
["Grasim Industries Ltd","GRASIM.BO"]
["Gravity (India) Ltd","GRAVITY.BO"]
["GSL Nova Petrochemicals Ltd","GSLNOVA.BO"]
["GTN Industries Ltd","GTNINDS.BO"]
["Gujarat Cotex Ltd","GUJCOTEX.BO"]
["Gujarat Craft Industries Ltd","GUJCRAFT.BO"]
["Gupta Synthetics Ltd","GUPTSYN.BO"]
["H P Cotton Textile Mills Ltd","HPCOTTON.BO"]
["Hanjer Fibres Ltd","HANJFIB.BO"]
["Hanung Toys & Textiles Ltd","HANUNG.BO"]
["Himatsingka Seide Ltd","HIMATSEIDE.BO"]
["Hind Syntex Ltd","HINDSYNT.BO"]
["Hindoostan Mills Ltd","SIRCG.BO"]
["Hisar Spinning Mills Ltd","HISARSP.BO"]
["Indian Acrylics Ltd","INDACRY.BO"]
["Indian Card Clothing Co Ltd","INDIANCA.BO"]
["Indo Rama Synthetics","INDORAMASYN.BO"]
["Indus Fila Ltd","INDUSFILA.BO"]
["J J Exporters Limited","JJEXPO.BO"]
["Jagjanani Textiles Ltd","JAGJANANI.BO"]
["Jaihind Synthetics Ltd","JAIHINDS.BO"]
["Jamshri Ranjitsinghji","JAMSHRI.BO"]
["Jaybharat Textiles","JAYTEX.BO"]
["Jaykay Enterprises Ltd","JKSYNTH.BO"]
["JBF Industries Ltd","JBFIND.BO"]
["JCT Ltd","JCTLTD.BO"]
["Jindal Cotex Ltd","JINDALCOT.BO"]
["Jindal Worldwide Ltd","JINDWORL.BO"]
["Jyoti Overseas Ltd","JYOTIOVR.BO"]
["Kakatiya Textiles Ltd","KAKTEX.BO"]
["Kallam Spinning Mills Ltd","KALLAM.BO"]
["Kama Holdings Ltd","SRFPOLY.BO"]
["Kanco Enterprises Ltd","KANCOENT.BO"]
["Kandagiri Spinning Mills Ltd","KANDAGSPQ.BO"]
["Kapil Cotex Ltd","KAPILCO.BO"]
["Katare Spinning Mills Ltd","KATRSPG.BO"]
["KG Petrochem Ltd","KGPETRO.BO"]
["Khator Fiber & Fabrics Ltd","KHTRFIB.BO"]
["Konark Synthetics Ltd","KONARKSY.BO"]
["KSL and Industries Ltd","KSLIND.BO"]
["Lahoti Overseas Ltd","LAHOTIOV.BO"]
["Lakshmi Mills Co Ltd","LAKSHMILQ.BO"]
["Lambodhara Textiles Ltd","LAMBODHARA.BO"]
["LN Industries India Ltd","LNPOL.BO"]
["Loyal Textile Mills Ltd","LOYALTEX.BO"]
["Ludlow Jute & Specialities Ltd","LUDLOWJUT.BO"]
["M K Exim (India) Ltd","MKEXIM.BO"]
["Mafatlal Industries Ltd","MAFATIND.BO"]
["Maharaja Shree Umaid Mills Ltd","MAHASHR.BO"]
["Maharashtra Corp Ltd","MAILI.BO"]
["Malwa Cotton Spinning Mil","MALWA.BO"]
["Maral Overseas Ltd","MARAL.BO"]
["Maxwell Industries Ltd","MAXWEL.BO"]
["Mayur Uniquoters Ltd","MAYURUN.BO"]
["Minaxi Textiles Ltd","MINAXI.BO"]
["Modella Woollens Ltd","MODWOOL.BO"]
["Mohit Industries Ltd","MOHITIND.BO"]
["Mudra Lifestyle Ltd","MUDRA.BO"]
["Nagreeka Exports Ltd","NAGREEKA.BO"]
["Nahar Industrial Enterpri","NAHARIND.BO"]
["Nahar Spinning Mills Ltd","NAHARSPG.BO"]
["NCL Research","NCLRESE.BO"]
["Nitin Spinners Ltd","NITINSPIN.BO"]
["NRC Ltd","NRC.BO"]
["Nutech Global Ltd","NUTECGLOB.BO"]
["Omkar Overseas Ltd","OMKAR.BO"]
["Omnitex Industries (India) Ltd","OMNITEX.BO"]
["Orbit Exports Ltd","ORBTEXP.BO"]
["Oswal Spinning & Weaving","OSSWM.BO"]
["Oswal Yarns Ltd","OSWAYRN.BO"]
["Oxford Industries Ltd","OXFORDIN.BO"]
["Pacific Cotspin Ltd","PACIF.BO"]
["Padam Cotton Yarns Ltd","PADAMCO.BO"]
["Paras Petrofils Ltd","PARASPET.BO"]
["Pasari Spinning Mills Ltd","PASARI.BO"]
["Pasupati Acrylon Ltd","PASUPTAC.BO"]
["Patspin India Ltd","PATSPIN.BO"]
["PBM Polytex Ltd","PBMPOLY.BO"]
["Peeti Securities Ltd","PEETISEC.BO"]
["Pioneer Embroideries Ltd","PIONEERE.BO"]
["Polygenta Technologies Ltd","POLTC.BO"]
["Pradip Overseas Ltd","PRADIP.BO"]
["Prag Bosimi Synthetics Ltd","PRAGBOS.BO"]
["Prakash Woollen Mills Ltd","PRWOLEN.BO"]
["Pranavaditya Spinning Mil","PRANAVSP.BO"]
["Prime Urban Development I","PRIMTEX.BO"]
["Priyadarsini Ltd","PRIYADSP.BO"]
["Punjab Woolcombers Ltd","PUNWOOLC.BO"]
["R M Mohite Industries Ltd","RMMOHIT.BO"]
["Raghuvir Synthetics Ltd","RAGHUSYN.BO"]
["Rahul Merchandising Ltd","RAHME.BO"]
["Rainbow Denim Ltd","RAINBOWDQ.BO"]
["Rajapalayam Mills Ltd","RAJAPAMIL.BO"]
["Rajkamal Synthetics Ltd","RAJKSYN.BO"]
["Rajvir Industries Ltd","RAJVIR.BO"]
["Raymond Ltd","RAYMOND.BO"]
["Reliance Chemotex Ind","RELCHEMQ.BO"]
["Riba Textiles Ltd","RIBATEX.BO"]
["Richa Industries Ltd","RICHAIND.BO"]
["RSWM Ltd","RSWMLTD.BO"]
["S Kumars Nationwide Ltd","SKUMARN.BO"]
["S R Industries Ltd","SRIND.BO"]
["S T I India Ltd","STIIN.BO"]
["Salona Cotspin Ltd","SALONA.BO"]
["Sambandam Spinning Mills Ltd","SAMBNDSPQ.BO"]
["Sangam (India) Ltd","SANGAM.BO"]
["Santaram Spinners Ltd","SANTASPN.BO"]
["Santosh Fine Fab Ltd","SANTOSHF.BO"]
["Sarla Performance Fibers Ltd","SARLAPERF.BO"]
["Seasons Textiles Ltd","SEASONST.BO"]
["Sharad Fibres","SHARDFI.BO"]
["Shiva Texyarn Ltd","SHIVATEX.BO"]
["Shree Manufacturing Co Ltd","SHRMFGC.BO"]
["Shree Rajasthan Syntex Ltd","SHRAJSYNQ.BO"]
["Shreeyash Industries Ltd","RANGE.BO"]
["Shri Dinesh Mills Ltd","SHRIDINE.BO"]
["Shri Lakshmi Cotsyn Ltd","SHLAKSHMI.BO"]
["Simplex Mills Co Ltd","SIMPLXMIL.BO"]
["Siyaram Silk Mills Ltd","SIYARAM.BO"]
["Sky Industries Ltd","SKYIND.BO"]
["SNS Textiles Ltd","SNSTEXTIL.BO"]
["Soma Textiles & Industries Ltd","SOMATEX.BO"]
["Somany Ceramics Ltd","SOMANY.BO"]
["Source Industries (India) Ltd","TISHT.BO"]
["Spentex Industries Ltd","SPENTEX.BO"]
["Sree Jayalakshmi Autospin Ltd","SREEJAYA.BO"]
["SRF Ltd","SRFLTD.BO"]
["Sri Lakshmi Saraswathi","SLSTLQ.BO"]
["Sri Nachammai Cotton Mills Ltd","SRINACHA.BO"]
["Sri Ramakrishna Mills Coi","SRMCL.BO"]
["Standard Industries Ltd","STANDARDIN.BO"]
["STL Global Ltd","STLGLOBAL.BO"]
["Subhash Silk Mills Ltd","SUBSM.BO"]
["Suditi Industries Ltd","SUDTIND-B.BO"]
["Sumeet Industries Ltd","SUMEETIN.BO"]
["Suncity Synthetics Ltd","SUNCITYSY.BO"]
["Sunday Export Ltd","SUNDYEX.BO"]
["Super Sales India Ltd","SUPERSALE.BO"]
["Super Spinning Mills Ltd","SUPERSPG.BO"]
["Supreme Tex Mart Ltd","SUPREMTEX.BO"]
["Surat Textile Mills Ltd","SURATEX.BO"]
["Suryaamba Spinning Mills Ltd","SURYAAMBA.BO"]
["Suryajyoti Spinning Mills Ltd","SURYAJOTS.BO"]
["Suryalakshmi Cotton Mills Ltd","SURYCOTM.BO"]
["Suryalata Spinning Mills Ltd","SURYALA.BO"]
["Suryavanshi Spinning Mills Ltd","SURYVANSP.BO"]
["Sutlej Textiles And Indus","SUTLEJTEX.BO"]
["Swasti Vinayaka Synthetics Ltd","SWASTIVI.BO"]
["T T Ltd","TTL.BO"]
["Tamilnadu Jai Bharath","TAMJAIM.BO"]
["Tatia Global Venture Ltd","TATIAGLOB.BO"]
["TCI Industries Ltd","TCIIND.BO"]
["Thambbi Modern Spinning M","THAMBBI.BO"]
["The Rai Saheb","RAISHRCK.BO"]
["Trident Ltd","ABHIIND.BO"]
["Tuni Textile Mills Ltd","TUNITEX.BO"]
["Unimin India Ltd","UNIMININ.BO"]
["Uniroyal Industries Ltd","UNIROYAL.BO"]
["United Textiles Ltd","UNITEDTE.BO"]
["Uniworth Ltd","UNIWORTH.BO"]
["Valson Industries Ltd","VALSONQ.BO"]
["Vardhman Polytex Ltd","VARDHMNPOLY.BO"]
["Vardhman Textiles Ltd","VARDHTEXT.BO"]
["Vertex Spinning Ltd","VERTEXSPG.BO"]
["Vijay Textiles Limited","VIJAYTX.BO"]
["Vippy Spinpro Ltd","VIPPYSP.BO"]
["Visagar Polytex Ltd","VIVIDHA.BO"]
["Volant Textile Mills Ltd","VOLTM.BO"]
["VTM Limited","VTM.BO"]
["VTX Industries Ltd","VTX.BO"]
["Vyapar Industries Ltd","VYAPAR.BO"]
["Welspun India Ltd","WELSPUNIND.BO"]
["Welspun Syntex Ltd","WELSPSY.BO"]
["Winsome Textile","WINSOMTX.BO"]
["Winsome Yarns Ltd","WINSOMY.BO"]
["Wires And Fabriks (SA) Ltd","WIREFABR.BO"]
["Yantra Natural Resources Ltd","SHGANESH.BO"]
["Yarn Syndicate Ltd","YARNSYN.BO"]
["Zenith Fibres Ltd","ZENIFIB.BO"]
["Alpha Hi-Tech Fuel Ltd","ALPHA.BO"]
["Eco Recycling Ltd","INFOTREK.BO"]
["Ganesha Ecosphere Ltd","GANPOLY.BO"]
["Pressman Advertising Ltd","NUCENTFI.BO"]
["Allcargo Logistics Ltd","ALLCARGO.BO"]
["Arshiya Ltd","ARSHIYA.BO"]
["Balurghat Technologies Ltd","BALTE.BO"]
["Blue Dart Express Ltd","BLUEDART.BO"]
["Container Corp of India","CONCOR.BO"]
["Corporate Courier","CORPOCO.BO"]
["Gati Ltd","GATI.BO"]
["MFL India Ltd","MYFAIR.BO"]
["N R International Ltd","NRINTER.BO"]
["Natura Hue Chem Ltd","NATHUEC.BO"]
["Patel Integrated Logistics Ltd","PATINTLOG.BO"]
["Sanco Trans Ltd","SANCTRN.BO"]
["Transport Corp of India Ltd","TCI.BO"]
["Global Vectra Helicorp Ltd","GLOVECTRA.BO"]
["Jagson Airlines Ltd","JAGSONAI.BO"]
["Kingfisher Airlines Ltd","KFA.BO"]
["Brandhouse Retails Ltd","BRANDHOUS.BO"]
["Trent Ltd","TRENT.BO"]
["Competent Automobiles Co Ltd","COMPEAU.BO"]
["Entertainment Network","ENIL.BO"]
["Broadcast Initiatives Ltd","BROADCAST.BO"]
["Den Networks Ltd","DEN.BO"]
["Divine Multimedia (India) Ltd","KALEFILMS.BO"]
["Jain Studios Ltd","JAINSTUD.BO"]
["Kohinoor Broadcasting Corp Ltd","KOHINOORBRO.BO"]
["Network 18 Media & Invest","NETWORK18.BO"]
["New Delhi Television Ltd","NDTV.BO"]
["Nouveau Global Ventures Ltd","NOUVEAU.BO"]
["Sri Adhikari Brothers Tel","SABTV.BO"]
["Sun TV Network Ltd","SUNTV.BO"]
["TV Today Network Ltd","TVTN.BO"]
["TV18 Broadcast Ltd","IBN18.BO"]
["Zee Enterainment","ZEEENTER.BO"]
["Zee Media Corp Ltd","ZEENEWS.BO"]
["Accentia Technologies Ltd GDR","ACCENTECH.BO"]
["Adi RaSAyan Ltd","ADIRASA.BO"]
["Allsec Technologies Ltd","ALLSEC.BO"]
["Aurionpro Solutions Ltd","AURIONPRO.BO"]
["Azure Exim Services Ltd","HNCONTI.BO"]
["BNR Udyog Ltd","BNRUDY.BO"]
["Brahmanand Himghar Ltd","BRAHMANAN.BO"]
["Control Print Ltd","CONTROLPR.BO"]
["Count N Denier (India) Ltd","PHARCOM.BO"]
["Cura Technologies Ltd","SOFTPRO.BO"]
["Datamatics Global Services Ltd","DATAMGLOB.BO"]
["Devine Impex Ltd","DEVINE.BO"]
["Dynacons Systems","DYANACON.BO"]
["Esha Media Research Ltd","LASEDOT.BO"]
["Excel Infoways Ltd","EXCELINFO.BO"]
["Firstsource Solutions Limited","FSL.BO"]
["Frontline Business","FRONTBUSS.BO"]
["Gateway Distriparks Ltd","GDL.BO"]
["Hariyana Ship Breakers Ltd","HRYNSHP.BO"]
["HOV Services Ltd","HOVS.BO"]
["ICRA Ltd","ICRA.BO"]
["Jayant Mercantile Co Ltd","JAYAMEL.BO"]
["Lippi Systems Ltd","LIPPISYS.BO"]
["Modern India Ltd","MODERN.BO"]
["Mold-Tek Technologies Ltd","MOLDTEK.BO"]
["Nesco Ltd","NEWSTDB1.BO"]
["Nitin Fire Protection Ind","NITINFIRE.BO"]
["Ranklin Solutions Ltd","RANKLIN.BO"]
["Repro India Ltd","REPRO.BO"]
["S Kumars Online Ltd","SKUMAR.BO"]
["Sical Logistics Ltd","SICAL.BO"]
["Skypak Service Specialiti","SKYSS.BO"]
["Spanco Telesystems & Solu","SPANCO.BO"]
["SPS International Ltd","SPSINT.BO"]
["Sumeru Industries Ltd","SUMERUIND.BO"]
["Sun and Shine Worldwide Ltd","ROBINSON.BO"]
["Tutis Technologies Ltd","TUTIS.BO"]
["Vivimed Labs Ltd","VIVIMEDLABS.BO"]
["Yash Management","YASHMGM.BO"]
["Informed Technologies Ind","INFORTEC.BO"]
["Dish TV India Ltd","DISHTV.BO"]
["Hathway Bhawani Cabletel","HATHWAY.BO"]
["Hinduja Ventures Ltd","HINDUJAV.BO"]
["Siti Cable Network Ltd","WWIL.BO"]
["Compuage Infocom Ltd","COMPUAGE.BO"]
["Northward Technologies Ltd","532403.BO"]
["Priya Ltd","PRIYALT.BO"]
["Sterling Webnet Ltd","SARCN.BO"]
["Bombay Swadeshi Stores Ltd","BOMSS.BO"]
["Future Retail Ltd","PANTALBDVR.BO"]
["Future Retail Ltd","PANTALOONR.BO"]
["Naolin Enterprises Ltd","ARUNJYOTI.BO"]
["Shoppers Stop Ltd","SHOPERSTOP.BO"]
["Store One Retail India Ltd","STOREONE.BO"]
["V2 Retail Ltd","VISHALRET.BO"]
["Aptech Ltd","APTECH.BO"]
["Birla Shloka Edutech Ltd","BIRSHLEDU.BO"]
["BITS Ltd","BITS.BO"]
["Computer Point Ltd","COMPUPN.BO"]
["Core Education","COREPROJECT.BO"]
["DMC Education Ltd","DMCINTER.BO"]
["Edserv Softsystems Ltd","EDSERVSOF.BO"]
["Educomp Solutions Ltd","EDUCOMP.BO"]
["Emergent Global EDU","SRIOMTR.BO"]
["Everonn Systems India Ltd","EVERONN.BO"]
["Greycells Education Ltd","GREYCELLS.BO"]
["IEC Education Ltd","IECEDU.BO"]
["Innovation Software","INSOE.BO"]
["Jetking Infotrain Ltd","JETKINGQ.BO"]
["Usha Martin Education","UMESL.BO"]
["Visu International Ltd","VISUINTL.BO"]
["VJTF Eduservices Ltd","ARTHEON.BO"]
["Walchand Peoplefirst Ltd","WALCHPF.BO"]
["Zen Technologies Ltd","ZENTEC.BO"]
["Bilpower Ltd","BILPOWERQ.BO"]
["Cords Cable Industries Ltd","CORDS.BO"]
["Crompton Greaves Ltd","CROMPTON.BO"]
["Globus Corp Ltd","GLOBUSCOR.BO"]
["Ace Edutrend Ltd","ACEINDI.BO"]
["B A G Films & Media Ltd","BAGFILMED.BO"]
["Baba Arts Ltd","BABA.BO"]
["Balaji Telefilms Ltd","BALAJITELE.BO"]
["BGIL Films & Technologies Ltd","BGIL.BO"]
["BMB Music & Magnetics Ltd","BMBMUMG.BO"]
["Bombay Talkies Ltd","WHITELIO.BO"]
["CDI International Ltd","COMDI.BO"]
["Cinerad Communications Ltd","CINERAD.BO"]
["Cinevista Ltd","CINEVIST.BO"]
["Creative Eye Ltd","CREATIVE.BO"]
["Crest Animation Studios Ltd","CRESTANI.BO"]
["Eduexel Infotainment Ltd","TGFMEDI.BO"]
["Fast Track Entertainment Ltd","FASTRAENT.BO"]
["Filmcity Media Ltd","FILME.BO"]
["GV Films Ltd","GVFILM.BO"]
["In House Productions Ltd","INHOUPROD.BO"]
["Inox Leisure Ltd","INOXLEISUR.BO"]
["Interworld Digital Ltd","INTERDIGI.BO"]
["Iris Mediaworks Ltd","CHANNELG.BO"]
["JMD Telefilms Industries Ltd","JMDTELEFILM.BO"]
["Khyati Multimedia-Enterta","KHYATI.BO"]
["Koffee Break Pictures Ltd","KOFFBREAK.BO"]
["KSS Ltd","KSERA.BO"]
["Media Matrix Worldwide Ltd","MEDIAMAT.BO"]
["Mediaone Global Entertain","MEDIAONE.BO"]
["Moving Picture Co (India) Ltd","MOVINGPI.BO"]
["Mukta Arts Ltd","MUKTAARTS.BO"]
["Padmalaya Telefilms Ltd","PADMATELE.BO"]
["Pentamedia Graphics Ltd","PENTAGRAPH.BO"]
["Perfect-Octave Media Proj","NEWBOMP.BO"]
["Picturehouse Media Ltd","TEEN.BO"]
["Prime Focus Ltd","PFOCUS.BO"]
["Pritish Nandy Communicati","PNC.BO"]
["PVR Ltd","PVR.BO"]
["Radaan Mediaworks India Ltd","RADAANMED.BO"]
["Sahara One Media & Entert","SAHARA.BO"]
["Saregama India Ltd","SAREGAMA.BO"]
["Shalimar Productions Ltd","SHALPRO.BO"]
["Shree Ashtavinayak Cine V","SHREEASHT.BO"]
["South Asian Enterprises Ltd","SAENTER.BO"]
["Sowbhagya Media Ltd","SOWBHAGYA.BO"]
["Sungold Capital Ltd","SUNGOLD.BO"]
["TIPS Industries Ltd","TIPS.BO"]
["Unistar Multimedia Ltd","UNISTRMU.BO"]
["Universal Arts Ltd","UNIVARTS.BO"]
["Vision Cinemas Ltd","VISION.BO"]
["Vision Corp Ltd","VISIONCO.BO"]
["Anik Industries Ltd","ANIKINDS.BO"]
["Freshtrop Fruits Ltd","FRSHTRP.BO"]
["Heritage Foods Ltd","HERITGFOOD.BO"]
["Milkfood Ltd","MLKFOOD.BO"]
["Raasi Enterprises Ltd","RAASIENT.BO"]
["Spectrum Foods Ltd","SPECFOOD.BO"]
["Tai Industries Ltd","TAIIND.BO"]
["Vadilal Enterprises Ltd","VADILENT.BO"]
["Galaxy Entertainment Corp Ltd","GLXYENT.BO"]
["REI Six Ten Retail Ltd","REISIXTEN.BO"]
["Cybele Industries Ltd","CYBELEIND.BO"]
["Delton Cables Ltd","DLTNCBL.BO"]
["Drillco Metal Carbides Ltd","DRLCOME.BO"]
["EMCo Ltd","EMCO.BO"]
["Esab India Ltd","ESABINDIA.BO"]
["Ind Tra Deco Ltd","INTRA.BO"]
["LGB Forge Ltd","LGBFL.BO"]
["Linear Industries Ltd","LINEARPO.BO"]
["Mahavir Impex Ltd","MAHAV.BO"]
["Patels Airtemp (India) Ltd","PATELSAI.BO"]
["Ramkrishna Forgings Ltd","RKFORGE.BO"]
["Redex Protech Ltd","REDEXPR.BO"]
["Risa International Ltd","GOVTRKX.BO"]
["Rishabhdev Technocable Ltd","RDEVCAB.BO"]
["Sat Industries Ltd","SATINDLTD.BO"]
["State Trading of India","STCI.BO"]
["Universal Cables Ltd","UNICABLE.BO"]
["Ushdev International Ltd","USHDI.BO"]
["Alka Diamond Industries Ltd","ALKADIA.BO"]
["Asian Star Co Ltd","ASTAR.BO"]
["Classic Diamonds India Ltd","CLASSICD.BO"]
["Dot Com Global Ltd","PRECIMET.BO"]
["Gitanjali Gems Ltd","GITANJALI.BO"]
["Goldiam International Ltd","GOLDIAMINT.BO"]
["KDDL Ltd","KDDL.BO"]
["Mini Diamonds (India) Ltd","MINID.BO"]
["Narbada Gems & Jewellery Ltd","NARBADA.BO"]
["Neogem India Ltd","NOGMIND.BO"]
["Orosil Smiths India Ltd","SLVERSM.BO"]
["Rajesh Exports Ltd","RAJESHX.BO"]
["Renaissance Jewellery Ltd","RJL.BO"]
["S B & T International Ltd","SBNT.BO"]
["Shantivijay Jewels Ltd","SHANTIVI.BO"]
["Sheetal Diamonds Ltd","SHEETAL.BO"]
["Shree Ganesh Jewellery","SGJHL.BO"]
["Shrenuj & Company Ltd","SHRENUJ.BO"]
["Shukra Jewellery Ltd","SHUKJEW.BO"]
["SJ Corp Ltd","SJCORP.BO"]
["Sovereign Diamonds Ltd","SOVERDIA.BO"]
["Sunraj Diamond Exports Ltd","SUNRAJDI.BO"]
["Surana Corp Ltd","SURANACO.BO"]
["SVP Global Ventures Ltd","SCENARIO.BO"]
["Swarnsarita Gems Ltd","SHYAMST.BO"]
["Swasti Vinayaka","SVGEMS.BO"]
["Tavernier Resources Ltd","AVCOTEX.BO"]
["Thangamayil Jewellery Ltd","TMJL.BO"]
["Timex Group India Ltd","TIMEX.BO"]
["Titan Industries Ltd","TITAN.BO"]
["Vaibhav Global Ltd","VAIBHAVG.BO"]
["White Diamond Industries Ltd","WHITEDIA.BO"]
["Winsome Diamonds","SURAJDIAMO.BO"]
["Zodiac JRD- MKJ Ltd","ZODIACJR.BO"]
["Advani Hotels & Resorts I","ADVANIHO.BO"]
["Asian Hotels (East) Ltd","ASIANHTLE.BO"]
["Asian Hotels (West) Ltd","ASIANHTLW.BO"]
["Benares Hotels Ltd","BENARAS.BO"]
["Blue Coast Hotels Ltd","MOREPENH.BO"]
["Byke Hospitality Ltd","SUAVE.BO"]
["Cindrella Hotels Ltd","CINDHO.BO"]
["Cox and Kings Ltd","COXKINGS.BO"]
["Dhanada Corp Ltd","VEDANTH.BO"]
["EIH Associated Hotels Ltd","EIHASSO.BO"]
["EIH Ltd","EIH.BO"]
["Gandhinagar Hotels Ltd","GANDHHO.BO"]
["Graviss Hospitality Ltd","GRAVISSHO.BO"]
["Gujarat Hotels Ltd","GUJHOTE.BO"]
["H S India Ltd","HOTLSILV.BO"]
["Hotel Leela Venture Ltd","HOTELEELA.BO"]
["Howard Hotels Ltd","HOWARHO.BO"]
["India Tourism Development","INDTODE.BO"]
["Indian Hotels Co Ltd","INDHOTELS.BO"]
["James Hotels Ltd","JAMEHOT.BO"]
["Jindal Hotels Ltd","JINDHOT.BO"]
["Kamat Hotels India Ltd","KAMATHOQ.BO"]
["Lords Ishwar Hotels Ltd","ISHBHOT.BO"]
["Mac Charles (India) Ltd","MCCHRLS-B.BO"]
["Oriental Hotels Ltd","ORIENTHOT.BO"]
["Polo Hotels Ltd","POLOHOT.BO"]
["Ras Resorts & Apart Hotels Ltd","RASRESOR.BO"]
["Reliable Ventures India Ltd","RELIABVEN.BO"]
["Royal Orchid Hotels Ltd","ROHLTD.BO"]
["Royale Manor Hotels & Ind","RAYALEMA.BO"]
["Savera Industries Ltd","SAVERAIND.BO"]
["Sayaji Hotels Ltd","SAYAJHO.BO"]
["Sinclairs Hotels Ltd","SINCLAIR.BO"]
["Supreme Holdings","SUPREHOL.BO"]
["Taj GVK Hotels & Resorts Ltd","TAJGVK.BO"]
["TGB Banquets & Hotels Ltd","BHAGWATIHO.BO"]
["Total Hospitality Ltd","TOTEX.BO"]
["Tulip Star Hotels Ltd","TULIPSTA.BO"]
["U G Hotels & Resorts Ltd","UGHOR.BO"]
["UP Hotels Ltd","UPHOT.BO"]
["Velan Hotels Ltd","VELHO.BO"]
["Viceroy Hotels Ltd","VICEHOT.BO"]
["Jet Airways (India) Ltd","JETAIRWAYS.BO"]
["Spicejet Ltd","SPICEJET.BO"]
["ARNAV Corp Ltd","POLYPRO.BO"]
["Cyber Media India Ltd","CYBERMEDIA.BO"]
["D B Corp Ltd","DBCORP.BO"]
["Deccan Chronicle Holdings Ltd","DCHL.BO"]
["Hindustan Media Ventures Ltd","HMVL.BO"]
["HT Media Ltd","HTMEDIA.BO"]
["Jagran Prakashan Ltd","JAGRAN.BO"]
["Kaiser Press Ltd","KAISERP.BO"]
["Kiran Print Pack Ltd","KIRANPR.BO"]
["MPS Ltd","MPSLTD.BO"]
["Navneet Education Ltd","NAVNETPUB.BO"]
["Next Mediaworks Ltd","MIDDAY.BO"]
["Sambhaav Media Ltd","PEARLENE.BO"]
["Sandesh Ltd","SANDESH.BO"]
["Infomedia Press Ltd","INFOMEDIA.BO"]
["Central Provinces","CENTPROV.BO"]
["Cimmco Birla Ltd","CIMMCO.BO"]
["Inter State Oil Carrier Ltd","INTSTOIL.BO"]
["SER Industries Ltd","SERIND.BO"]
["Titagarh Wagons Ltd","TITAGARHWAG.BO"]
["Ceejay Finance Ltd","CEEJAY.BO"]
["Geefcee Finance Ltd","GEEFC.BO"]
["Golden Legand Leasing & F","GOLDLEG.BO"]
["India Lease Development Ltd","INDLEASE.BO"]
["ISF Ltd","INTSTFIN.BO"]
["Mega Corp Ltd","MEGACOR.BO"]
["Mudit Finlease Ltd","MUDITFN.BO"]
["Nu-Tech Corporate Services Ltd","NUTECH.BO"]
["Sancia Global Infraprojec","GREMACH.BO"]
["Suryanagri Finlease Ltd","SURYNGRF.BO"]
["Trishakti Electonics","TRISHAKT.BO"]
["Country Club India Ltd","COUNCLB.BO"]
["Delta Corp Ltd","DELTACORP.BO"]
["Fomento Resorts & Hotels Ltd","FOMEHOT.BO"]
["KDJ Holidayscapes","GOMFI.BO"]
["Mahindra Holidays & Resor","MHRIL.BO"]
["Bombay Cycle & Motor","BOMBCYC.BO"]
["Jubilant Foodworks Ltd","JUBLFOOD.BO"]
["Micro Technologies India Ltd","MICROTEC.BO"]
["Sparc Systems Ltd","SPARC.BO"]
["Zicom Electronic Security","ZICOM.BO"]
["Adani Ports & Special","MUNDRAPOR.BO"]
["Chowgule Steamships Ltd","CHOWGSTE.BO"]
["Dredging Corp of India Ltd","DREDGING.BO"]
["Essar Ports Ltd","ESSARSHIP.BO"]
["Global Offshore Services Ltd","GARWOFFS.BO"]
["Great Eastern Shipping Co Ltd","GESHIP.BO"]
["Ruchi Infrastructure Ltd","RUCHINFR.BO"]
["Shipping Corp of India Ltd","SCI.BO"]
["Shreyas Shipping & Logist","SHREYSL.BO"]
["SKS Logistics Ltd","SKSLOGLTD.BO"]
["Varun Shipping Co Ltd","VARUNSHIP.BO"]
["Archies Ltd","ARCHIES.BO"]
["Kemp & Company Ltd","KEMP.BO"]
["Seasons Furnishings Ltd","SEASONF.BO"]
["Tirupati Foam Ltd","TIRFOAM.BO"]
["Hinduja Global Solutions Ltd","HGSL.BO"]
["ABC India Ltd","ABCINDQ.BO"]
["Chartered Logistics Ltd","CHLOGIST.BO"]
["Coastal Roadways Ltd","COARO.BO"]
["Anar Industries Ltd","ENRICH.BO"]
["Commex Technology Ltd","IT.BO"]
["Empower India Ltd","EMPOWERIND.BO"]
["Gamma Infoway Exalt Ltd","GAMIE.BO"]
["Intellvisions Software Ltd","INTELVIS.BO"]
["Melstar Information Techn","MELSTAR.BO"]
["Nexxoft Infotel Ltd","NEXXOFT.BO"]
["Oracle Financial Services","ORACLEFIN.BO"]
["Persistent Systems Ltd","PERSISTENT.BO"]
["Polaris","POLARIS.BO"]
["Sawaca Business Machines Ltd","SAWABUSI.BO"]
["USG Tech Solutions Ltd","VNKSOFT.BO"]
["Valuemart Retail Solutions Ltd","RESPROINF.BO"]
["Vedavaag Systems Ltd","SARK.BO"]
["AGC Networks Ltd","AVAYA.BO"]
["Aksh Optifibre Ltd","AKSHOPTFBR.BO"]
["Astra Microwave Products Ltd","ASTRAMIC.BO"]
["Avantel Ltd","AVANTEL.BO"]
["Birla Ericsson Optical Ltd","BIRLAERI.BO"]
["G R Cables Ltd","GRCABLE.BO"]
["Gemini Communication Ltd","GEMINICO.BO"]
["Goldstone Infratech Ltd","GOLDINFRA.BO"]
["Himachal Futuristic Commu","HFCL.BO"]
["ITI Ltd","ITI.BO"]
["Kalindee Rail Nirman (Eng","KALINDRA.BO"]
["Kavveri Telecom Products Ltd","KAVERITEL.BO"]
["MRO TEK Ltd","MROTEK.BO"]
["Munoth Communication Ltd","MUNOTHI.BO"]
["Paramount Communications Ltd","PARACOM.BO"]
["Precision Electronics Ltd","PRECISIO.BO"]
["Punjab Communications Ltd","PUNJCOMMU.BO"]
["S Mobility Ltd","SPICEMOBIL.BO"]
["Shyam Telecom Ltd","SHYAMTELE.BO"]
["Smartlink Network Systems Ltd","SMARTLINK.BO"]
["Valiant Communications Ltd","VALIANT.BO"]
["Vindhya Telelinks Ltd","VINDHYAT.BO"]
["Aashee Infotech Ltd","SROILS.BO"]
["Allied Computers Internat","ACIASIA.BO"]
["CCS Infotech Ltd","CCSIN.BO"]
["Cerebra Integrated Techno","CEREBRA.BO"]
["HCL Infosystems Ltd","HCLINFO.BO"]
["Ricoh India Ltd","RICOHQ.BO"]
["Tvs Electronics Ltd","TVSELEC.BO"]
["Vintron Informatics Ltd","VINTRON.BO"]
["VXL Instruments Ltd","VXLINS.BO"]
["Zenith Computers Ltd","ZENITCOM.BO"]
["Euro Multivision Ltd","EUROMULT.BO"]
["Moser Baer India Ltd","MOSERBAER.BO"]
["Apar Industries Ltd","APARIND.BO"]
["Aplab Ltd","APLAB.BO"]
["Asian Electronics Ltd","ASIANEL.BO"]
["Aviva Industries Ltd","AVIVA.BO"]
["Bhagyanagar India Ltd","BHAGYAIND.BO"]
["Catvision Products Ltd","CATVISIO.BO"]
["Centum Electronics Ltd","CENTUM.BO"]
["Continental Controls Ltd","CONTICON.BO"]
["De Nora India Ltd","DENORA.BO"]
["Elpro International Ltd","ELPRO.BO"]
["Eveready Industries India Ltd","EVERREADY.BO"]
["Finolex Cables Ltd","FINCABLES.BO"]
["Genus Power Infrastructur","GENUS.BO"]
["Gujarat Poly-AVX Electron","GUJPOLYA.BO"]
["Havells India Ltd","HAVELLS.BO"]
["HBL Power Systems Ltd","HBLPSYS.BO"]
["Hind Rectifiers Ltd","HINDRECT.BO"]
["Incap Ltd","INCAP.BO"]
["Indo-National Ltd","NIPPO.BO"]
["JCT Electronics Ltd","JCTELE.BO"]
["Kaycee Industries Ltd","KAYCEEI.BO"]
["KEI Industries Ltd","KEIND.BO"]
["KLK Electrical Ltd","KLKELEC.BO"]
["Lakshmi Electrical","LAKSELEC.BO"]
["Panasonic Energy India Co Ltd","PANAENERG.BO"]
["Ram Ratna Wires Ltd","RAMRAT.BO"]
["RTS Power Corp Ltd","RTSPOWR.BO"]
["Salzer Electronics Ltd","SALZER.BO"]
["Samtel Color Ltd","SAMTEL.BO"]
["Satellite Engineering Ltd","SATELENG.BO"]
["SGN Telecoms Ltd","SGNTE.BO"]
["Shilchar Technologies Ltd","SHILCTECH.BO"]
["Switching Technologies Gu","SWITCHTE.BO"]
["Thana Electric Supply Co Ltd","THAES.BO"]
["W S Industries (I) Ltd","WSIND.BO"]
["Accel Frontline Ltd","AFL.BO"]
["Accel Transmatic Ltd","ACCEL.BO"]
["Accelya Kale Solutions Ltd","KALECONSUL.BO"]
["Advent Computer Services Ltd","ADVENT.BO"]
["Aftek Ltd","AFTEKLTD.BO"]
["Ajel Ltd","AJEL.BO"]
["Allied Digital Services Ltd","ADSL.BO"]
["ASM Technologies Ltd","ASMTEC.BO"]
["ASYA Infosoft Ltd","SAYAHOU.BO"]
["Aurum Soft Systems Ltd","JAISALSE.BO"]
["Blue Star Infotech Ltd","BLUESTINFO.BO"]
["Cambridge Technology Ente","CTE.BO"]
["CAT Technologies Ltd","CATECH.BO"]
["Cigniti Technologies Ltd","CHAKKILAM.BO"]
["CMC Ltd","CMC.BO"]
["Crazy Infotech Ltd","CRAZYINF.BO"]
["CSS Technergy Ltd","CSSTECH.BO"]
["Cybertech Systems & Softw","CYBERTE.BO"]
["Danlaw Technologies India Ltd","DANLAW.BO"]
["eClerx Services Ltd","ECLERX.BO"]
["ERP Soft Systems Ltd","ERPSOFT.BO"]
["FCS Software Solutions Ltd","FCSSOFT.BO"]
["G-Tech Info-Training Ltd","GTEIT.BO"]
["Genesys International Corp Ltd","GENESYS.BO"]
["Glodyne Technoserve Ltd","GLODYNE.BO"]
["Goldstone Technologies Ltd","GOLDTECH.BO"]
["Goplee Infotech Ltd","GOPLEEIN.BO"]
["GSS Infotech Ltd","GSSAMERI.BO"]
["GTL Ltd","GTL.BO"]
["HCL Technologies Ltd","HCLTECH.BO"]
["Helios & Matheson Informa","HELIOS.BO"]
["Hexaware Technologies Ltd","HEXAWARE.BO"]
["IKF Technologies Ltd","IKFTECH.BO"]
["Indo-City Infotech Ltd","INDOCITY.BO"]
["Kashyap Tele-Medicines Ltd","JINDONL.BO"]
["Kellton Tech Solutions Ltd","VMFSOFT.BO"]
["KPIT Technologies Ltd","KPITCUMM.BO"]
["Logix Microsystems Ltd","LOGIX.BO"]
["Luminaire Technologies Ltd","LUMITECH.BO"]
["Mastek Ltd","MASTEK.BO"]
["Mindteck (India) Ltd","MINDTECK.BO"]
["MindTree Ltd","MINDTREE.BO"]
["Mphasis Ltd","MPHASIS.BO"]
["Netlink Solutions (India) Ltd","NETLINK.BO"]
["Netvista Ventures Ltd","NETVISTA.BO"]
["Nihar Info Global Ltd","NIHARINF.BO"]
["NIIT Ltd","NIIT.BO"]
["NIIT Technologies Ltd","NIITTECH.BO"]
["Nucleus Software Exports Ltd","NUCLEUSSOFT.BO"]
["Omnitech Infosolutions Ltd","OMNITECH.BO"]
["Ontrack Systems Limited","ONTRACK.BO"]
["Onward Technologies Ltd","ONWARD.BO"]
["Panoramic Universal Ltd","PANORAM.BO"]
["Prithvi Information Solut","PRITHVI.BO"]
["Quintegra Solutions Ltd","QUINTEGRA.BO"]
["Ramco Systems Ltd","RAMCOSYS.BO"]
["Redington (India) Ltd","REDINGTON.BO"]
["Rolta India Ltd","ROLTA.BO"]
["Saksoft Ltd","SAKSOFT.BO"]
["Sashwat Technocrats Ltd","ZENZYTECH.BO"]
["Savant Infocomm Ltd","SAVINFOCO.BO"]
["Saven Technologies Ltd","7TEC.BO"]
["Secure Earth Technologies Ltd","GLOBSYNIN.BO"]
["Senthil Infotek Ltd","SENAG.BO"]
["Shreejal Info Hubs Ltd","SHREEJAL.BO"]
["Software Technology Group","SOFTECHG.BO"]
["Sonata Software Ltd","SONATA.BO"]
["Spectacle Ventures Ltd","SPECTACLE.BO"]
["Take Solutions Ltd","TAKE.BO"]
["Tata Consultancy Services Ltd","TCS.BO"]
["Tech Mahindra Ltd","TECHM.BO"]
["Tricom India Ltd","TRICOM.BO"]
["Triton Corp Ltd","TRITON.BO"]
["Twinstar Industries Ltd","TWINSTAR.BO"]
["Vaishnavi Gold Ltd","MASTER.BO"]
["Valuemart Info Technologi","VALUEMART.BO"]
["Virinchi Technologies Ltd","VIRNICHIQ.BO"]
["Virtualsoft Systems Ltd","VIRTUALS.BO"]
["Wipro Ltd","WIPRO.BO"]
["Wisec Global Ltd","WISEC.BO"]
["Xchanging Solution Ltd","CAMBRIDGE.BO"]
["Zensar Technologies Ltd","ZENSAR.BO"]
["3i Infotech Ltd","532628.BO"]
["Infinite Computer Solutio","INFINITE.BO"]
["Info-Drive Software Ltd","INFDS.BO"]
["Infosys Ltd","INFY.BO"]
["Cni Research Ltd","CNIRESLTD.BO"]
["Intrasoft Technologies Ltd","ISFT.BO"]
["Net 4 India Ltd","NET4INDIA.BO"]
["Info Edge (India) Ltd","NAUKRI.BO"]
["DQ Entertainment (Interna","DQE.BO"]
["Pine Animation Ltd","FOURKANIM.BO"]
["BCC Fuba India Ltd","BCCFUBA.BO"]
["Circuit Systems (India) Ltd","CSIL.BO"]
["Fine-Line Circuits Ltd","FINELINE.BO"]
["Integrated Technologies Ltd","INTECH.BO"]
["Aishwarya Technologies","AISHWARYA.BO"]
["Avon Corp Ltd","AVONCORP.BO"]
["Bartronics India Ltd","BARTRONICS.BO"]
["Nelco Ltd","NELCO.BO"]
["Stone India Ltd","STONEIN.BO"]
["Morganite Crucible (India) Ltd","MORGANITE.BO"]
["Moschip Semiconductor Tec","MOSCHIP.BO"]
["Ruttonsha International","RIR.BO"]
["Spel Semiconductor Ltd","SPELS.BO"]
["Emgee Cables & Communicat","EMGEECA.BO"]
["Galada Power","GALADA.BO"]
["ABM Knowledgeware Ltd","ABMKNO.BO"]
["Ace Software Exports Ltd","ACESOFT.BO"]
["Archana Software Ltd","ARCHSOFT.BO"]
["Avance Technologies Ltd","AVANCE.BO"]
["Axon Finance Ltd","AXON.BO"]
["B2B Software Technologies Ltd","B2BSOFT.BO"]
["BLS Infotech Ltd","BLSINFOTE.BO"]
["California Software Co Ltd","CALIFSOF.BO"]
["Capricorn Systems Global","BADALEX.BO"]
["CG-Vak Software & Exports Ltd","CGVAK.BO"]
["Compucom Software Ltd","COMPUCO.BO"]
["Cranes Software Internati","CRANES.BO"]
["CTIL Ltd","COMPULE.BO"]
["Cybermate Infotek Ltd","CYBERMAT.BO"]
["Cyberscape Multimedia Ltd","CYBERSC.BO"]
["Elnet Technologies Ltd","ELNET.BO"]
["Encore Software Ltd","ENCORE.BO"]
["Financial Technologies (I","FINTECH.BO"]
["Frontier Information Tech","FRONTINF.BO"]
["Geodesic Ltd","GEODLTD.BO"]
["Geometric Ltd","GEOMETRIC.BO"]
["Hit Kit Global Solutions Ltd","HITKITGLO.BO"]
["I Power Solutions India Ltd","IPOWER.BO"]
["ICSA (India) Ltd","ICSAIND.BO"]
["Indo-Pacific Software","INDOPACIF.BO"]
["Integrated Hitech Ltd","INTEGHIT.BO"]
["Kernex Microsystems India Ltd","KERNEX.BO"]
["Lee & Nee Softwares (Expo","LEENEE.BO"]
["Mangalya Soft Tech Ltd","MANGASOF.BO"]
["Megasoft Ltd","MEGASOFT.BO"]
["N2N Technologies Ltd","VISISME.BO"]
["NCC Finance Ltd","NCCFIN.BO"]
["Odyssey Technologies Ltd","ODYSSEY.BO"]
["Omega Interactive Tech","OMEGAIN.BO"]
["Omni AX's Software Ltd","OMNIAX.BO"]
["Palred Technologies Ltd","FOURSOFT.BO"]
["Palsoft Infosystems Ltd","PALSOFT.BO"]
["Parle Software Ltd","PARLESOFT.BO"]
["PCS Technology Ltd","PCS.BO"]
["PFL Infotech Ltd","PFLINFOTC.BO"]
["Prism Informatics Ltd","PRISMINFO.BO"]
["R S Software (India) Ltd","RSSOFT.BO"]
["R Systems International Ltd","RSYSTEMS.BO"]
["Ram Informatics Limited","RAMINFO.BO"]
["RNB Industrial Ltd","BWGILTD.BO"]
["Sankhya Infotech Ltd","SANKHYAIN.BO"]
["Sapan Chemicals Ltd","SAPANCHEM.BO"]
["Saral Mining Ltd","XOINFO.BO"]
["Sasken Communication Tech","SASKEN.BO"]
["Scanpoint Geomatics Ltd","SCANPGEOM.BO"]
["Sequel e-Routers Ltd","SEQUELE.BO"]
["Seshachal Technologies Ltd","SESHACHAL.BO"]
["SMS Techsoft (India) Ltd","AKLSOFT.BO"]
["Softech Infinium Solutions Ltd","SOFTECH.BO"]
["Softsol India Ltd","SOFTSOL.BO"]
["Subex Ltd","SUBEXLTD.BO"]
["Svam Software Ltd","SVAMSOF.BO"]
["Sylph Technologies Ltd","SYLPH.BO"]
["Tanla Solutions Ltd","TANLA.BO"]
["Tata Elxsi Ltd","TATAELXSI.BO"]
["TechNVision Ventures Ltd","SOLIXTEC.BO"]
["Tera Software Ltd","TERASOFT.BO"]
["Thinksoft Global Services Ltd","THINKSOFT.BO"]
["Trigyn Technologies Ltd","TRIGYNTECH.BO"]
["Trijal Industries Ltd","TRIJAL.BO"]
["Unisys Softwares & Holdin","UNISH.BO"]
["Vama Industries Ltd","VAMA.BO"]
["Vjil Consulting Ltd","VJIL.BO"]
["Zenith Infotech Ltd","ZENITHIN.BO"]
["8K Miles Software Services Ltd","PMSTRIPS.BO"]
["Bharti Airtel Ltd","BHARTIARTL.BO"]
["Cistro Telelink Ltd","CISTRO.BO"]
["Dhanus Technologies Ltd","DHANUS.BO"]
["Gtl Infrastructure Ltd","GTLINFRA.BO"]
["Idea Cellular Ltd","IDEA.BO"]
["Mahanagar Telephone Nigam Ltd","MTNL.BO"]
["Mobile Telecommunications Ltd","MOBILTEL.BO"]
["Nettlinx Ltd","NETTLINX.BO"]
["Nu Tek India Ltd","NUTEK.BO"]
["OnMobile Global Ltd","ONMOBILE.BO"]
["Proto Developers & Techno","PROTODEV.BO"]
["Quadrant Televentures Ltd","INVESTRU.BO"]
["Reliance Communications Ltd","RCOM.BO"]
["Sterlite Technologies Ltd","STRTECH.BO"]
["Surana Telecom Ltd","SURANATP.BO"]
["Tamilnadu Telecommunicati","TNTELE.BO"]
["Tata Communications Ltd","TATACOMM.BO"]
["Tata Teleservices (Mahara","TTML.BO"]
["Tulip Telecom Ltd","TULIP.BO"]
["Adani Power Ltd","ADANIPOWER.BO"]
["Cesc Ltd","CESC.BO"]
["Elango Industries Ltd","ELANGO.BO"]
["GVK Power & Infrastructure Ltd","GVKPIL.BO"]
["Jaiprakash Power Ventures Ltd","JPPOWER.BO"]
["JSW Energy Ltd","JSWENERGY.BO"]
["KEC International Ltd","KECIL.BO"]
["NTPC Ltd","NTPC.BO"]
["PTC India Ltd","PTC.BO"]
["Reliance Power Ltd","RPOWER.BO"]
["Sun Source (India) Ltd","SUNSOUI.BO"]
["Urja Global Ltd","URJAGLOBA.BO"]
["Websol Energy System Ltd","WEBSOL.BO"]
["XL Energy Ltd","XLTELENE.BO"]
["Energy Development Co Ltd","ENERGY.BO"]
["Entegra Ltd","ENTEGRA.BO"]
["Gujarat Industries Power","GIPCL.BO"]
["Indiabulls Power Ltd","IBPOWER.BO"]
["Indowind Energy Ltd","INDOWIND.BO"]
["Jyoti Structures Ltd","JYOTIST.BO"]
["Kalpataru Power Transmiss","KALPOWR.BO"]
["Kanika Infrastructure & P","KANIKAIN.BO"]
["KSK Energy Ventures Ltd","KSK.BO"]
["Neyveli Lignite Corp Ltd","NEYVELILIG.BO"]
["NHPC Ltd","NHPC.BO"]
["Power Grid Corp Of India Ltd","POWERGRID.BO"]
["Reliance Infrastructure Ltd","RELINFRA.BO"]
["SJVN Ltd","SJVN.BO"]
["SRM Energy Ltd","SRMENERGY.BO"]
["Suryachakra Power Corp Ltd","SURYACHAKRA.BO"]
["Torrent Power Ltd","TORNTPOWR.BO"]
["Veer Energy & Infrastruct","VEERENRGY.BO"]
["Veritas (India) Ltd","VERITAS.BO"]
["GAIL India Ltd","GAIL.BO"]
["Gujarat Gas Co Ltd","GUJRATGAS.BO"]
["Gujarat State Petronet Ltd","GSPL.BO"]
["Indraprastha Gas Ltd","IGL.BO"]
["Rajasthan Gases Ltd","RAJGASES.BO"]
["Aries Agro Ltd","ARIES.NS"]
["Bayer CropScience Ltd","BAYERCROP.NS"]
["Bharat Rasayan Ltd","BHARATRAS.NS"]
["Chambal Fertilisers & Che","CHAMBLFER.NS"]
["Deepak Fertilisers","DEEPAKFER.NS"]
["Excel Crop Care Ltd","EXCELCROP.NS"]
["Excel Industries Ltd","EXCELINDU.NS"]
["Fertilizers & Chemicals T","FACT.NS"]
["Gujarat Narmada Valley","GNFC.NS"]
["Insecticides (India) Ltd","INSECTICI.NS"]
["Madras Fertilizers Ltd","MADRASFER.NS"]
["Mangalore Chemicals & Fer","MANGCHEFE.NS"]
["Meghmani Organics Ltd","MEGH.NS"]
["Monsanto India Ltd","MONSANTO.NS"]
["National Fertilizers Ltd","NFL.NS"]
["Punjab Chemicals & Crop P","PUNJABCHE.NS"]
["Rashtriya Chemicals and F","RCF.NS"]
["Sabero Organics Gujarat Ltd","SABERORGA.NS"]
["Southern Petrochemicals I","SPIC.NS"]
["United Phosphorus Ltd","UNIPHOS.NS"]
["Zuari Global Ltd","ZUARIAGRO.NS"]
["Century Extrusions Ltd","CENTEXT.NS"]
["Maan Aluminium Ltd","MANALU.NS"]
["National Aluminium","NATIONALU.NS"]
["Aarti Industries Ltd","AARTIIND.NS"]
["Aditya Birla Chemicals (I","ABCIL.NS"]
["Andhra Sugars Ltd","ANDHRSUGA.NS"]
["Astec Lifesciences Ltd","ASTEC.NS"]
["Atul Ltd","ATUL.NS"]
["BASF India Ltd","BASF.NS"]
["Bhansali Engineering Poly","BEPL.NS"]
["DCW Ltd","DCW.NS"]
["DIC India Ltd","DICIND.NS"]
["Foseco India Ltd","FOSECOIND.NS"]
["GHCL Ltd","GHCL.NS"]
["Godrej Industries Ltd","GODREJIND.NS"]
["Gujarat Alkalies","GUJALKALI.NS"]
["Gujarat Fluorochemicals Ltd","GUJFLUORO.NS"]
["Hikal Ltd","HIKAL.NS"]
["Hindustan Organic Chemica","HOCL.NS"]
["India Glycols Ltd","INDIAGLYC.NS"]
["JD Orgochem Ltd","JDORGOCHE.NS"]
["Jocil Ltd","JOCIL.NS"]
["Kanoria Chemicals & Indus","KANORICHE.NS"]
["Kansai Nerolac Paints Ltd","KANSAINER.NS"]
["Kothari Petrochemicals Ltd","KOTHARIPE.NS"]
["Manali Petrochemicals Ltd","MANALIPET.NS"]
["Mangalam Drugs & Organics Ltd","MANGALAM.NS"]
["Navin Fluorine Internatio","NAVINFLUO.NS"]
["NOCIL Ltd","NOCIL.NS"]
["Shalimar Paints Ltd","SHALPAINT.NS"]
["Supreme Petrochem Ltd","SUPPETRO.NS"]
["Tamilnadu Petroproducts Ltd","TNPETRO.NS"]
["Tata Chemicals Ltd","TATACHEM.NS"]
["Uniphos Enterprises Ltd","UNIENTER.NS"]
["Cubex Tubings Ltd","CUBEXTUB.NS"]
["Hindalco Industries Ltd","HINDALCO.NS"]
["Hindustan Oil Exploration","HINDOILEX.NS"]
["Aegis Logistics Ltd","AEGISCHEM.NS"]
["Cairn India Ltd","CAIRN.NS"]
["Essar Oil Ltd","ESSAROIL.NS"]
["Aban Offshore Ltd","ABAN.NS"]
["Jindal Drilling & Industr","JINDRILL.NS"]
["ONGC","ONGC.NS"]
["Selan Exploration","SELAN.NS"]
["Alphageo India Ltd","ALPHAGEO.NS"]
["Dolphin Offshore Enterpri","DOLPHINOF.NS"]
["Gol Offshore Ltd","GTOFFSHOR.NS"]
["Oil Country Tubular Ltd","OILCOUNTU.NS"]
["Seamec Ltd","SEAMECLTD.NS"]
["Shiv-Vani Oil & Gas Explo","SHIV-VANI.NS"]
["Bharat Petroleum Corp Ltd","BPCL.NS"]
["Chennai Petroleum Corp Ltd","CHENNPETR.NS"]
["Hindustan Petroleum Corp Ltd","HINDPETRO.NS"]
["Indian Oil Corp Ltd","IOC.NS"]
["Mangalore Refinery and Pe","MRPL.NS"]
["Petronet LNG Ltd","PETRONET.NS"]
["Reliance Industries Ltd","RELIANCE.NS"]
["Sah Petroleums Ltd","SAHPETRO.NS"]
["Tide Water Oil Co India Ltd","TIDEWATER.NS"]
["Akzo Nobel India Ltd","AKZOINDIA.NS"]
["Alkyl Amines Chemicals Ltd","ALKYLAMIN.NS"]
["Balaji Amines Limited","BALAMINES.NS"]
["Berger Paints India Ltd","BERGEPAIN.NS"]
["Chemfab Alkalies Ltd","CHEMFALKA.NS"]
["Clariant Chemicals India Ltd","CLNINDIA.NS"]
["GeeCee Ventures Ltd","GEECEE.NS"]
["Goa Carbon Ltd","GOACARBON.NS"]
["Ig Petrochemicals Ltd","IGPL.NS"]
["IVP Ltd","IVP.NS"]
["Jayant Agro-Organics Ltd","JAYAGROGN.NS"]
["Jindal Poly Films Ltd","JINDALPOL.NS"]
["Kiri Industries Ltd","KIRIDYES.NS"]
["Linde India Ltd","BOC.NS"]
["Orient Abrasives Ltd","ORIENTABR.NS"]
["Pidilite Industries Ltd","PIDILITIN.NS"]
["Savita Oil Technologies Ltd","SOTL.NS"]
["Solar Industries India Ltd","SOLARINDS.NS"]
["Sree Rayalaseema Hi-Stren","SRHHYPOLT.NS"]
["Sudarshan Chemical","SUDARSCHE.NS"]
["Thirumalai Chemicals Ltd","TIRUMALCH.NS"]
["Vinyl Chemicals (India) Ltd","VINYLINDI.NS"]
["Xpro India Ltd","XPROINDIA.NS"]
["Adhunik Metaliks Ltd","ADHUNIK.NS"]
["AML Steel Ltd","AMLSTEEL.NS"]
["Bhushan Steel Ltd","BHUSANSTL.NS"]
["Gallantt Metal Ltd","GALLANTT.NS"]
["GKW Ltd","GKWLIMITE.NS"]
["Godawari Power & Ispat Ltd","GPIL.NS"]
["Gyscoal Alloys Ltd","GAL.NS"]
["ISMT Limited","ISMTLTD.NS"]
["Jai Balaji Industries Ltd","JAIBALAJI.NS"]
["Jayaswal NECO Industries Ltd","JAYNECOIN.NS"]
["Jindal Saw Ltd","JINDALSAW.NS"]
["Jindal Steel & Power Ltd","JINDALSTE.NS"]
["JSL Stainless Ltd","JSL.NS"]
["JSW Steel Ltd","JSWSTEEL.NS"]
["Kamdhenu Ispat Ltd","KIL.NS"]
["Lanco Industries Ltd","LANCOIN.NS"]
["Maharashtra Seamless Ltd","MAHSEAMLE.NS"]
["Mahindra Ugine Steel Co Ltd","MAHINDUGI.NS"]
["Man Industries (India) Ltd","MANINDS.NS"]
["Monnet Ispat & Energy Ltd","MONNETISP.NS"]
["MSP Steel & Power Ltd","MSPL.NS"]
["Mukand Ltd","MUKANDLTD.NS"]
["National Steel & Agro Ind","NATNLSTEE.NS"]
["NMDC Ltd","NMDC.NS"]
["OCL Iron and Steel Ltd","OISL.NS"]
["Prakash Industries Ltd","PRAKASH.NS"]
["Prakash Steelage Ltd","PRAKASHST.NS"]
["Ramsarup Industries Ltd","RAMSARUP.NS"]
["Ratnamani Metals & Tubes Ltd","RATNAMANI.NS"]
["Resurgere Mines & Mineral","RESURGERE.NS"]
["S AL Steel Ltd","SALSTEEL.NS"]
["Sathavahana Ispat Ltd","SATHAISPA.NS"]
["Shah Alloys Ltd","SHAHALLOY.NS"]
["Steel Authority Of India Ltd","SAIL.NS"]
["Sujana Universal Industri","SUJANAUNI.NS"]
["Sunflag Iron & Steel Co Ltd","SUNFLAG.NS"]
["Surana Industries Ltd","SURANAIND.NS"]
["Tata Metaliks Ltd","TATAMETAL.NS"]
["Tata Sponge Iron Ltd","TATASPONG.NS"]
["Tata Steel Ltd","TATASTEEL.NS"]
["Usha Martin Ltd","USHAMART.NS"]
["Uttam Galva Steels Ltd","UTTAMSTL.NS"]
["Uttam Value Steels Ltd","LLOYDSTEE.NS"]
["Visa Steel Ltd","VISASTEEL.NS"]
["Welspun Corp Ltd","WELCORP.NS"]
["Aditya Birla Nuvo Ltd","ABIRLANUV.NS"]
["Alchemist Ltd","ALCHEM.NS"]
["Balmer Lawrie & Company Ltd","BALMLAWRI.NS"]
["Bannari Amman Sugars Ltd","BANARISUG.NS"]
["BEML Ltd","BEML.NS"]
["DCM Shriram Ltd","DCMSRMCON.NS"]
["Green Fire Agri Comm","NORTHGATE.NS"]
["Manaksia Ltd","MANAKSIA.NS"]
["Nava Bharat Ventures Ltd","NBVENTURE.NS"]
["3M India Ltd","3MINDIA.NS"]
["Ashok Leyland","ASHOKLEY.NS"]
["Bajaj Auto Ltd","BAJAJ-AUT.NS"]
["Eicher Motors Ltd","EICHERMOT.NS"]
["Hero MotoCorp Ltd","HEROHONDA.NS"]
["LML Ltd","LML.NS"]
["Maruti Suzuki India Ltd","MARUTI.NS"]
["SML Isuzu Ltd","SWARAJMAZ.NS"]
["TVS Motor Co Ltd","TVSMOTOR.NS"]
["Amtek Auto Ltd","AMTEKAUTO.NS"]
["Amtek India Ltd","AMTEKINDI.NS"]
["ANG Industries Ltd","ANGIND.NS"]
["Asahi India Glass Ltd","ASAHIINDI.NS"]
["Autoline Industries Ltd","AUTOIND.NS"]
["Automotive Axles Ltd","AUTOAXLES.NS"]
["Automotive Stampings","ASAL.NS"]
["Banco Products India Ltd","BANCOINDI.NS"]
["Bharat Forge Ltd","BHARATFOR.NS"]
["Bharat Gears Ltd","BHARATGEA.NS"]
["Bosch Ltd","BOSCHLTD.NS"]
["Clutch Auto Ltd","CLUTCHAUT.NS"]
["Dynamatic Technologies Ltd","DYNAMATEC.NS"]
["Exide Industries Ltd","EXIDEIND.NS"]
["Federal-Mogul Goetze","FMGOETZE.NS"]
["FIEM Industries Ltd","FIEMIND.NS"]
["Gabriel India Ltd","GABRIEL.NS"]
["Hi-Tech Gears Ltd","HITECHGEA.NS"]
["Hinduja Foundries Ltd","HINDUJAFO.NS"]
["Hindustan Composites Ltd","HINDCOMPO.NS"]
["Igarashi Motors India Ltd","IGARASHI.NS"]
["India Nippon Electricals Ltd","INDNIPPON.NS"]
["Jay Bharat Maruti Ltd","JAYBARMAR.NS"]
["JBM Auto Ltd","JBMA.NS"]
["JMT Auto Ltd","JMTAUTOLT.NS"]
["LG Balakrishnan & Bros Ltd","LGBBROSLT.NS"]
["Lumax Auto Technologies Ltd","LUMAXTECH.NS"]
["Lumax Automotive Systems Ltd","LUMAXAUTO.NS"]
["Lumax Industries Ltd","LUMAXIND.NS"]
["Maharashtra Scooters Ltd","MAHSCOOTE.NS"]
["Minda Corp Ltd","MINDACORP.NS"]
["Minda Industries Ltd","MINDAIND.NS"]
["Motherson Sumi Systems Ltd","MOTHERSUM.NS"]
["Munjal Showa Ltd","MUNJALSHO.NS"]
["Omax Autos Ltd","OMAXAUTO.NS"]
["PPAP Automotive Ltd","PPAP.NS"]
["Pricol Ltd","PRICOL.NS"]
["Rane (Madras) Ltd","RML.NS"]
["Rane Brake Linings Ltd","RBL.NS"]
["Rane Engine Valve Ltd","RANEENGIN.NS"]
["Rane Holdings Ltd","RANEHOLDI.NS"]
["Remsons Industries Ltd","REMSONSIN.NS"]
["Rico Auto Industries Ltd","RICOAUTO.NS"]
["Shivam Autotech Ltd","SHIVAMAUT.NS"]
["Sona Koyo Steering Systems Ltd","SONASTEER.NS"]
["Steel Strips Wheels Ltd","SSWL.NS"]
["Subros Ltd","SUBROS.NS"]
["Sundaram Brake Linings Ltd","SUNDRMBRA.NS"]
["Sundaram Fasteners Ltd","SUNDRMFAS.NS"]
["Suprajit Engineering Ltd","SUPRAJIT.NS"]
["Swaraj Engines Ltd","SWARAJENG.NS"]
["Talbros Automotive Compon","TALBROAUT.NS"]
["Tube Investments Of India Ltd","TUBEINVES.NS"]
["TVS Srichakra Ltd","TVSSRICHA.NS"]
["UCAL Fuel Systems Ltd","UCALFUEL.NS"]
["WABCO India Ltd","WABCO-TVS.NS"]
["Wheels India Ltd","WHEELS.NS"]
["Empee Distilleries Ltd","EDL.NS"]
["G M Breweries Ltd","GMBREW.NS"]
["Radico Khaitan Ltd","RADICO.NS"]
["United Breweries holdings","UBHOLDING.NS"]
["United Breweries Ltd","UBL.NS"]
["The United Nilgiri Tea","UNITEDTEA.NS"]
["Globus Spirits Ltd","GLOBUSSPR.NS"]
["Ifb Agro Industries Ltd","IFBAGRO.NS"]
["Camlin Ltd","CAMLIN.NS"]
["Todays Writing Products Ltd","TODAYS.NS"]
["Bajaj Hindusthan Ltd","BAJAJHIND.NS"]
["Balrampur Chini Mills Ltd","BALRAMCHI.NS"]
["Dalmia Bharat Sugar and I","DALMIASUG.NS"]
["Dwarikesh Sugar Industries Ltd","DWARKESH.NS"]
["Kesar Enterprises Ltd","KESARENT.NS"]
["Kothari Sugars & Chemicals Ltd","KOTARISUG.NS"]
["Parrys Sugar Industries Ltd","GMRINDS.NS"]
["Rajshree Sugars & Chemica","RAJSREESU.NS"]
["Sakthi Sugars Ltd","SAKHTISUG.NS"]
["Shree Renuka Sugars Ltd","RENUKA.NS"]
["Simbhaoli Sugars Ltd","SIMBHSUGA.NS"]
["SKM Egg Products Export (","SKMEGGPRO.NS"]
["Thiru Arooran Sugars Ltd","THIRUSUGA.NS"]
["Triveni Engineering & Ind","TRIVENI.NS"]
["Upper Ganges Sugar & Indu","UPERGANGE.NS"]
["Uttam Sugar Mills Ltd","UTTAMSUGA.NS"]
["Bajaj Electricals Ltd","BAJAJELEC.NS"]
["BPL Ltd","BPL.NS"]
["Khaitan Electricals Ltd","KHAITANEL.NS"]
["MIC Electronics Ltd","MIC.NS"]
["MIRC Electronics Ltd","MIRCELECT.NS"]
["Noesis Industries Ltd","MVLIND.NS"]
["Phoenix Lamps Ltd","HALONIX.NS"]
["Salora International Ltd","SALORAINT.NS"]
["Value Industries Ltd","VALUEIND.NS"]
["Videocon Industries Ltd","VIDEOIND.NS"]
["Advanta Ltd","ADVANTA.NS"]
["Agro Dutch Industries Ltd","AGRODUTCH.NS"]
["Assam Co India Ltd","ASSAMCO.NS"]
["Dhampur Sugar Mills Ltd","DHAMPURSU.NS"]
["Dharani Sugars & Chemicals Ltd","DHARSUGAR.NS"]
["Gujarat Ambuja Exports Ltd","GAEL.NS"]
["Harrisons Malayalam Ltd","HARRMALAY.NS"]
["Jay shree Tea & Industries Ltd","JAYSREETE.NS"]
["Karuturi Global Ltd","KGL.NS"]
["Kohinoor Foods Ltd","KOHINOOR.NS"]
["Lakshmi Energy & Foods Ltd","LAKSHMIEF.NS"]
["Norben Tea & Exports Ltd","NORBTEAEX.NS"]
["Peria Karamalai Tea","PERIATEA.NS"]
["Rana Sugars Ltd","RANASUG.NS"]
["Sanwaria Agro Oils Ltd","SANWARIA.NS"]
["Sita Shree Food Products Ltd","SITASHREE.NS"]
["Venkys India Ltd","VENKEYS.NS"]
["Agro Tech Foods Ltd","ATFL.NS"]
["Britannia Industries Ltd","BRITANNIA.NS"]
["Glaxosmithkline Consumer","GSKCONS.NS"]
["Gokul Refoils & Solvent Ltd","GOKUL.NS"]
["K S Oils Ltd","KSOILS.NS"]
["KCP Sugar & Industries","KCPSUGIND.NS"]
["KRBL Ltd","KRBL.NS"]
["LT Foods Ltd","DAAWAT.NS"]
["McLeod Russel India Ltd","MCLEODRUS.NS"]
["Nestle India Ltd","NESTLEIND.NS"]
["Raj Oil Mills Ltd","RAJOIL.NS"]
["REI Agro Ltd","REIAGROLT.NS"]
["Ruchi Soya Industries Ltd","RUCHISOYA.NS"]
["Tata Coffee Ltd","TATACOFFE.NS"]
["Tata Global Beverages Ltd","TATAGLOBA.NS"]
["Blue Star Ltd","BLUESTARC.NS"]
["JIK Industries Ltd","JIKIND.NS"]
["Khaitan India Ltd","KHAITANLT.NS"]
["La Opala RG Ltd","LAOPALA.NS"]
["Surya Roshni Ltd","SURYAROSN.NS"]
["TTK Prestige Ltd","TTKPRESTI.NS"]
["Varun Industries Ltd","VARUN.NS"]
["AMD Industries Ltd","AMDIND.NS"]
["Antarctica Ltd","ANTGRAPHI.NS"]
["Emmbi Industries Ltd","EMMBI.NS"]
["ESS DEE Aluminium Ltd","ESSDEE.NS"]
["Essel Propack Ltd","ESSELPACK.NS"]
["Hitech Plast Ltd","HITECHPLA.NS"]
["Krishna Engineering Works Ltd","KRISHNAEN.NS"]
["Orient Press Ltd","ORIENTLTD.NS"]
["Paper Products Ltd","PAPERPROD.NS"]
["Parekh Aluminex Ltd","PARAL.NS"]
["Pearl Polymers Ltd","PEARLPOLY.NS"]
["Radha Madhav Corp Ltd","RMCL.NS"]
["Shree Rama Multi-Tech Ltd","SHREERAMA.NS"]
["Time Technoplast Ltd","TIMETECHN.NS"]
["Uflex Ltd","UFLEX.NS"]
["Ballarpur Industries Ltd","BALLARPUR.NS"]
["International Paper APPM Ltd","APPAPER.NS"]
["JK Paper Ltd","JKPAPER.NS"]
["Magnum Ventures Ltd","MAGNUM.NS"]
["Malu Paper Mills Ltd","MALUPAPER.NS"]
["Orient Paper & Industries Ltd","ORIENTPPR.NS"]
["Pudumjee Industries Ltd","PDUMJEIND.NS"]
["Pudumjee Pulp & Paper Mil","PDUMJEPUL.NS"]
["Ruchira Papers Ltd","RUCHIRA.NS"]
["Seshasayee Paper & Boards Ltd","SESHAPAPE.NS"]
["Shree Rama Newsprint Ltd","RAMANEWS.NS"]
["Shreyans Industries Ltd","SHREYANIN.NS"]
["Sirpur Paper Mills Ltd","SIRPAPER.NS"]
["Star Paper Mills Ltd","STARPAPER.NS"]
["Tamil Nadu Newsprint & Pa","TNPL.NS"]
["Colgate-Palmolive (India) Ltd","COLPAL.NS"]
["Dabur India Ltd","DABUR.NS"]
["Emami Ltd","EMAMILTD.NS"]
["Gillette India Ltd","GILLETTE.NS"]
["GKB Ophthalmics Ltd","GKB.NS"]
["Godrej Consumer Products Ltd","GODREJCP.NS"]
["Hindustan Unilever Ltd","HINDUNILV.NS"]
["JHS Svendgaard Laboratori","JHS.NS"]
["Jyothy Laboratories Ltd","JYOTHYLAB.NS"]
["Marico Ltd","MARICO.NS"]
["Procter & Gamble Hygiene","PGHH.NS"]
["Atlas Cycles (Haryana) Ltd","ATLASCYCL.NS"]
["Cinemax Properties Ltd","CINEMAX.NS"]
["Jindal Photo Ltd","JINDALPHO.NS"]
["Thomas Cook India Ltd","THOMASCOO.NS"]
["Apollo Tyres Ltd","APOLLOTYR.NS"]
["Ceat Ltd","CEATLTD.NS"]
["Cosmo Films Ltd","COSMOFILM.NS"]
["Dhunseri Petrochem & Tea Ltd","DPTL.NS"]
["Finolex Industries Ltd","FINPIPE.NS"]
["Flexituff International Ltd","FLEXITUFF.NS"]
["Jai Corp Ltd","JAICORPLT.NS"]
["JK Tyre & Industries Ltd","JKTYRE.NS"]
["Kabra Extrusion Technik Ltd","KABRAEXTR.NS"]
["Kesoram Industries Ltd","KESORAMIN.NS"]
["MRF Ltd","MRF.NS"]
["Nilkamal Ltd","NILKAMAL.NS"]
["Phillips Carbon Black Ltd","PHILIPCAR.NS"]
["Pitti Laminations Ltd","PITTILAM.NS"]
["Polyplex Corp Ltd","POLYPLEX.NS"]
["Styrolution ABS (India) Ltd","INEABS.NS"]
["Tainwala Chemical and Pla","TAINWALCH.NS"]
["Texmo Pipes & Products Ltd","TEXMOPIPE.NS"]
["Tokyo Plast International Ltd","TOKYOPLAS.NS"]
["Tulsi Extrusions Ltd","TULSI.NS"]
["Bang Overseas Ltd","BANG.NS"]
["Cantabil Retail India Ltd","CANTABIL.NS"]
["Celebrity Fashions Ltd","CELEBRITY.NS"]
["Gokaldas Exports Ltd","GOKEX.NS"]
["GTN Textiles Ltd","GTNTEX.NS"]
["Indo Count Industries Ltd","ICIL.NS"]
["Kewal Kiran Clothing Ltd","KKCL.NS"]
["KPR Mill Ltd","KPRMILL.NS"]
["Mandhana Industries Ltd","MANDHANA.NS"]
["Nahar Polyfilms Ltd","NAHARINVS.NS"]
["Page Industries Ltd","PAGEIND.NS"]
["Pearl Global Industries Ltd","HOPFL.NS"]
["SEL Manufacturing Co Ltd","SELMCL.NS"]
["SPL Industries Ltd","SPLIL.NS"]
["Zenith Exports Ltd","ZENITHEXP.NS"]
["Zodiac Clothing Co Ltd","ZODIACLOT.NS"]
["Bhartiya International Ltd","BIL.NS"]
["Liberty Shoes Ltd","LIBERTSHO.NS"]
["Mirza International Ltd","MIRZAINT.NS"]
["Godfrey Phillips India Ltd","GODFRYPHL.NS"]
["Golden Tobacco Ltd","GOLDENTOB.NS"]
["ITC Ltd","ITC.NS"]
["Kothari Products Ltd","KOTHARIPR.NS"]
["VST Industries Ltd","VSTIND.NS"]
["Bajaj Holdings","BAJAJHLDN.NS"]
["Consolidated Finvest & Ho","CONSOFINV.NS"]
["IL&FS Investment Managers Ltd","IVC.NS"]
["Inventure Growth","INVENTURE.NS"]
["JSW Holdings Ltd","JINDALSWH.NS"]
["Kirloskar Industries Ltd","KIRLOSIND.NS"]
["Lakshmi Finance","LAKSHMIFI.NS"]
["Motilal Oswal Financial S","MOTILALOF.NS"]
["Multi Commodity Exchange","MCX.NS"]
["Nahar Capital & Financial","NAHARCAP.NS"]
["Nalwa Sons Investments Ltd","NSIL.NS"]
["Oswal Green Tech Ltd","BINDALAGR.NS"]
["PNB Gilts Ltd","PNBGILTS.NS"]
["Reliance Capital Ltd","RELCAPITA.NS"]
["Sharyans Resources Ltd","SHARRESLT.NS"]
["SIL Investments Ltd","SILINV.NS"]
["Times Guaranty Ltd","TIMESGTY.NS"]
["Williamson Magor & Company Ltd","WILLAMAGO.NS"]
["Bajaj Finance Ltd","BAJAUTOFI.NS"]
["Capital First Ltd","FCH.NS"]
["Cholamandalam Investment","CHOLAFIN.NS"]
["Gujarat Lease Financing Ltd","GLFL.NS"]
["IDFC Ltd","IDFC.NS"]
["IFCI Ltd","IFCI.NS"]
["LLoyds Finance Ltd","LLOYDFIN.NS"]
["Magma Fincorp Ltd","MAGMA.NS"]
["Motor & General Finance Ltd","MOTOGENFI.NS"]
["Power Finance Corp Ltd","PFC.NS"]
["Rural Electrification Corp Ltd","RECLTD.NS"]
["Shriram City Union Finance Ltd","SHRIRAMCI.NS"]
["Shriram Transport Finance","SRTRANSFI.NS"]
["Sundaram Finance Ltd","SUNDARMFI.NS"]
["Vardhman Holdings Ltd","VHL.NS"]
["Weizmann Ltd","WEIZMANIN.NS"]
["Aditya Birla Money Ltd","BIRLAMONE.NS"]
["Almondz Global Securities Ltd","ALMONDZ.NS"]
["BLB Ltd","BLBLIMITE.NS"]
["Blue Chip India Ltd","BLUECHIP.NS"]
["Edelweiss Financial","EDELWEISS.NS"]
["Emkay Global Financial","EMKAY.NS"]
["Geojit BNP Paribas","GEOJITBNP.NS"]
["HB Stockholdings Ltd","HBSTOCK.NS"]
["IIFL Holdings Ltd","INDIAINFO.NS"]
["Indiabulls Securities Ltd","IBSEC.NS"]
["Indo Thai Securities Ltd","INDOTHAI.NS"]
["JM Financial Ltd","JMFINANCI.NS"]
["Keynote Corporate Services Ltd","KEYCORPSE.NS"]
["Khandwala Securities Ltd","KHANDSE.NS"]
["PAN India Corp Ltd","SRGINFOTE.NS"]
["Prime Securities Ltd","PRIMESECU.NS"]
["Religare Enterprises Ltd","RELIGARE.NS"]
["Sakuma Exports Ltd","SAKUMA.NS"]
["Summit Securities Ltd","SUMMITSEC.NS"]
["Tata Investment Corp Ltd","TATAINVES.NS"]
["VLS Finance Ltd","VLSFINANC.NS"]
["Max India Ltd","MAX.NS"]
["Allahabad Bank","ALBK.NS"]
["Andhra Bank","ANDHRABAN.NS"]
["ATN International Ltd","ATNINTER.NS"]
["Axis Bank Ltd","AXISBANK.NS"]
["Bank of Baroda","BANKBAROD.NS"]
["Bank Of India","BANKINDIA.NS"]
["Bank of Maharashtra","MAHABANK.NS"]
["Canara Bank","CANBK.NS"]
["Central Bank of India","CENTRALBK.NS"]
["City Union Bank Ltd","CUB.NS"]
["Corporation Bank","CORPBANK.NS"]
["DCB Bank Ltd","DCB.NS"]
["Dena Bank","DENABANK.NS"]
["Dhanlaxmi Bank Ltd","DHANBANK.NS"]
["Federal Bank Limited","FEDERALBN.NS"]
["ICICI Bank Ltd","ICICIBANK.NS"]
["IDBI Bank Ltd","IDBI.NS"]
["Indian Bank","INDIANB.NS"]
["Indian Overseas Bank","IOB.NS"]
["IndusInd Bank Ltd","INDUSINDB.NS"]
["ING Vysya Bank Ltd","INGVYSYAB.NS"]
["Karnataka Bank Ltd","KTKBANK.NS"]
["Karur Vysya Bank Ltd","KARURVYSY.NS"]
["Kotak Mahindra Bank Ltd","KOTAKBANK.NS"]
["Lakshmi Vilas Bank Ltd","LAKSHVILA.NS"]
["Oriental Bank of Commerce","ORIENTBAN.NS"]
["Punjab National Bank","PNB.NS"]
["South Indian Bank Ltd","SOUTHBANK.NS"]
["State Bank of India","SBIN.NS"]
["Syndicate Bank","SYNDIBANK.NS"]
["UCO Bank","UCOBANK.NS"]
["Union Bank of India","UNIONBANK.NS"]
["Vijaya Bank","VIJAYABAN.NS"]
["Yes Bank Ltd","YESBANK.NS"]
["Can Fin Homes Ltd","CANFINHOM.NS"]
["Dewan Housing Finance Corp Ltd","DEWANHOUS.NS"]
["GIC Housing Finance Ltd","GICHSGFIN.NS"]
["HDFC","HDFC.NS"]
["Srei Infrastructure Fin","SREINFRA.NS"]
["TCI Finance Ltd","TCIFINANC.NS"]
["Tourism Finance of India","TFCILTD.NS"]
["Transwarranty Finance Ltd","TFL.NS"]
["Bajaj Finserv Ltd","BAJAJFINSV.NS"]
["Ajmera Realty & Infra Ind","AJMERA.NS"]
["Anant Raj Ltd","ANANTRAJ.NS"]
["Ansal Housing & Construct","ANSALHSG.NS"]
["Indiabulls Real Estate Ltd","IBREALEST.NS"]
["Prajay Engineers Syndicate Ltd","PRAENG.NS"]
["Texmaco Infrastructure","TEXMACOLT.NS"]
["Ansal Properties & Infras","ANSALAPI.NS"]
["Arihant Foundations & Hou","ARIHANT.NS"]
["BSEL Infrastructure Realty Ltd","BSELINFRA.NS"]
["Country Condo's Ltd","NEOCURE.NS"]
["D S Kulkarni Developers Ltd","DSKULKARN.NS"]
["DLF Ltd","DLF.NS"]
["Ganesh Housing Corp Ltd","GANESHHOU.NS"]
["Housing Development & Inf","HDIL.NS"]
["Hubtown Ltd","ACKRUTI.NS"]
["Kolte Patil Developers Ltd","KOLTEPATI.NS"]
["Landmark Property Develop","LPDC.NS"]
["Mahindra Lifespace","MAHLIFE.NS"]
["Omaxe Ltd","OMAXE.NS"]
["Orbit Corp Ltd","ORBITCORP.NS"]
["Peninsula Land Ltd","PENINLAND.NS"]
["Phoenix Mills Ltd","PHOENIXLT.NS"]
["Prestige Estates Projects Ltd","PRESTIGE.NS"]
["Puravankara Projects Ltd","PURVA.NS"]
["PVP Ventures Ltd","PVP.NS"]
["Sobha Developers Ltd","SOBHA.NS"]
["Unitech International Ltd","UNITECH.NS"]
["Vijay Shanthi Builders Ltd","VIJSHAN.NS"]
["Welspun Projects Ltd","MSKPROJ.NS"]
["Biocon Ltd","BIOCON.NS"]
["Celestial Biolabs Ltd","CELESTIAL.NS"]
["Dishman Pharmaceuticals &","DISHMAN.NS"]
["Lyka Labs Ltd","LYKALABS.NS"]
["Panacea Biotec Ltd","PANACEABI.NS"]
["Piramal Phytocare Ltd","PIRLIFE.NS"]
["Pochiraju Industries Ltd","POCHIRAJU.NS"]
["Sterling Biotech Ltd","STERLINBI.NS"]
["Aarti Drugs Ltd","AARTIDRUG.NS"]
["AstraZeneca Pharma India Ltd","ASTRAZEN.NS"]
["Cipla Ltd","CIPLA.NS"]
["Elder Pharmaceuticals Ltd","ELDERPHAR.NS"]
["FDC Ltd","FDC.NS"]
["GlaxoSmithKline Pharmaceu","GLAXO.NS"]
["Granules India Ltd","GRANULES.NS"]
["Gufic BioSciences Ltd","GUFICBIO.NS"]
["Ind Swift Laboratories Ltd","INDSWFTLA.NS"]
["Jagsonpal Pharmaceuticals Ltd","JAGSNPHAR.NS"]
["JB Chemicals & Pharmaceut","JBCHEPHAR.NS"]
["Jubilant Life Sciences Ltd","JUBILANT.NS"]
["Kopran Ltd","KOPRAN.NS"]
["Marksans Pharma Ltd","MARKSANS.NS"]
["Morepen Laboratories Ltd","MOREPENLA.NS"]
["Natco Pharma Ltd","NATCOPHAR.NS"]
["Nectar Lifesciences Ltd","NECLIFE.NS"]
["Orchid Chemicals & Pharma","ORCHIDCHE.NS"]
["Pfizer Ltd","PFIZER.NS"]
["Piramal Enterprises Ltd","PIRHEALTH.NS"]
["Sanofi India Ltd","AVENTIS.NS"]
["Shasun Pharmaceuticals Ltd","SHASUNCHE.NS"]
["SMS Pharmaceuticals Ltd","SMSPHARMA.NS"]
["Suven Life Sciences Ltd","SUVEN.NS"]
["Syncom Healthcare Ltd","SYNCOM.NS"]
["Torrent Pharmaceuticals Ltd","TORNTPHAR.NS"]
["Venus Remedies Ltd","VENUSREM.NS"]
["Wanbury Ltd","WANBURY.NS"]
["Wockhardt Ltd","WOCKPHARM.NS"]
["Zandu Realty Ltd","ZANDUREAL.NS"]
["Alembic Ltd","ALEMBICLT.NS"]
["Alpa Laboratories Ltd","ALPA.NS"]
["Bal Pharma Ltd","BALPHARMA.NS"]
["Cadila Healthcare Ltd","CADILAHC.NS"]
["Divi's Laboratories Ltd","DIVISLAB.NS"]
["Dr Reddy Laboratories Ltd","DRREDDY.NS"]
["Glenmark Pharmaceuticals Ltd","GLENMARK.NS"]
["Ind-Swift Ltd","INDSWFTLT.NS"]
["Ipca Laboratories Ltd","IPCALAB.NS"]
["Lupin Ltd","LUPIN.NS"]
["Merck Ltd","MERCK.NS"]
["Ranbaxy Laboratories Ltd","RANBAXY.NS"]
["RPG Life Sciences Ltd","RPGLIFE.NS"]
["Strides Arcolab Ltd","STAR.NS"]
["Sun Pharma Advanced","SPARC.NS"]
["Themis Medicare Ltd","THEMISMED.NS"]
["Apollo Hospitals","APOLLOHOS.NS"]
["Fortis Healthcare Ltd","FORTIS.NS"]
["Indraprastha Medical Corp Ltd","INDRAMEDC.NS"]
["Kovai Medical Center & Ho","KOVAI.NS"]
["Lotus Eye Hospital","LOTUSEYE.NS"]
["Opto Circuits (India) Ltd","OPTOCIRCU.NS"]
["Plethico Pharmaceuticals Ltd","PLETHICO.NS"]
["Vimta Labs Ltd","VIMTALABS.NS"]
["Wyeth Ltd","WYETH.NS"]
["ABG Shipyard Ltd","ABGSHIP.NS"]
["Bharat Electronics Ltd","BEL.NS"]
["Bharati Shipyard Ltd","BHARTISHI.NS"]
["Pipavav Defence","PIPAVAVYD.NS"]
["ABB India Ltd","ABB.NS"]
["Ador Welding Ltd","ADORWELD.NS"]
["AIA Engineering Ltd","AIAENG.NS"]
["Bharat Bijlee Ltd","BBL.NS"]
["Cummins India Ltd","CUMMINSIN.NS"]
["ECE Industries Ltd","ECEIND.NS"]
["Eimco Elecon India Ltd","EIMCOELEC.NS"]
["Elecon Engineering Co Ltd","ELECON.NS"]
["Elgi Equipments Ltd","ELGIEQUIP.NS"]
["Eon Electric Ltd","INDOASIFU.NS"]
["Everest Kanto Cylinder Ltd","EKC.NS"]
["Fag Bearings India Ltd","FAGBEARIN.NS"]
["Graphite India Ltd","GRAPHITE.NS"]
["HEG Ltd","HEG.NS"]
["Hercules Hoists Ltd","HERCULES.NS"]
["HMT Ltd","HMT.NS"]
["Honda Siel Power Products Ltd","HONDAPOWE.NS"]
["Honeywell Automation India Ltd","HONAUT.NS"]
["IFB Industries Ltd","IFBIND.NS"]
["IMP Powers Ltd","INDLMETER.NS"]
["Indo Tech Transformers Ltd","INDOTECH.NS"]
["Ingersoll Rand (India) Ltd","INGERRAND.NS"]
["KCP Ltd","KCP.NS"]
["Kirloskar Brothers Ltd","KIRLOSBRO.NS"]
["KSB Pumps Ltd","KSBPUMPS.NS"]
["Lakshmi Machine Works Ltd","LAXMIMACH.NS"]
["Lloyd Electric & Eng","LLOYDELEN.NS"]
["Lokesh Machines Ltd","LOKESHMAC.NS"]
["Manugraph India Ltd","MANUGRAPH.NS"]
["NEPC India Ltd","NEPCMICON.NS"]
["Nicco Corp Ltd","NICCO.NS"]
["PAE Ltd","PAEL.NS"]
["Premier Ltd","PREMIER.NS"]
["Shanthi Gears Ltd","SHANTIGEA.NS"]
["Siemens Ltd","SIEMENS.NS"]
["SKF India Ltd","SKFINDIA.NS"]
["Suzlon Energy Ltd","SUZLON.NS"]
["Swelect Energy Systems Ltd","NUMERICPW.NS"]
["Thermax Ltd","THERMAX.NS"]
["TIL Ltd","TIL.NS"]
["Timken India Ltd","TIMKEN.NS"]
["Transformers & Rectifiers","TRIL.NS"]
["V-Guard Industries Ltd","VGUARD.NS"]
["Vesuvius India Ltd","VESUVIUS.NS"]
["Voltamp Transformers Ltd","VOLTAMP.NS"]
["Action Construction Equip","ACE.NS"]
["Escorts Ltd","ESCORTS.NS"]
["Gujarat Apollo Industries Ltd","GUJAPOLLO.NS"]
["Revathi Equipment Ltd","REVATHI.NS"]
["Sanghvi Movers Ltd","SANGHVIMO.NS"]
["ACC Ltd","ACC.NS"]
["Ambuja Cements Ltd","AMBUJACEM.NS"]
["Aro Granite Industries Ltd","AROGRANIT.NS"]
["Asian Granito India Ltd","ASIANTILE.NS"]
["Barak Valley Cements Ltd","BVCL.NS"]
["Beardsell Ltd","BEARDSELL.NS"]
["Binani Industries Ltd","BINANIIND.NS"]
["Birla Corp Ltd","BIRLACORP.NS"]
["Burnpur Cement Ltd","BURNPUR.NS"]
["Century Textiles & Indus","CENTURYTE.NS"]
["Cera Sanitaryware Ltd","CERA.NS"]
["Deccan Cements Ltd","DECCANCE.NS"]
["Decolight Ceramics Ltd","DECOLIGHT.NS"]
["Electrosteel Castings Ltd","ELECTCAST.NS"]
["Euro Ceramics Ltd","EUROCERA.NS"]
["Everest Industries Ltd","EVERESTIN.NS"]
["Greenply Industries Ltd","GREENPLY.NS"]
["Grindwell Norton Ltd","GRINDWELL.NS"]
["HeidelbergCement India Ltd","HEIDELBER.NS"]
["HIL Ltd","HYDRBADIN.NS"]
["Hitachi Home & Life Solns","HITACHIHO.NS"]
["HSIL Ltd","HSIL.NS"]
["IFGL Refractories Ltd","IFGLREFRA.NS"]
["India Cements Ltd","INDIACEM.NS"]
["Indian Hume Pipe Co Ltd","INDIANHUM.NS"]
["Jenson & Nicholson India Ltd","JENSONICO.NS"]
["JK Cement Ltd","JKCEMENT.NS"]
["JK Lakshmi Cement Ltd","JKLAKSHMI.NS"]
["Kajaria Ceramics Ltd","KAJARIACE.NS"]
["Kakatiya Cement Sugar","KAKATCEM.NS"]
["Madhav Marbles","MADHAV.NS"]
["Mangalam Cement Ltd","MANGLMCEM.NS"]
["Murli Industries Ltd","MURLIIND.NS"]
["Murudeshwar Ceramics Ltd","MURUDCERA.NS"]
["NCL Industries Ltd","NCLIND.NS"]
["Nitco Tiles Ltd","NITCO.NS"]
["OCL India Ltd","OCL.NS"]
["Orient Bell Ltd","ORIENTCER.NS"]
["Oriental Trimex Ltd","ORIENTALT.NS"]
["Prism Cement Ltd","PRISMCEM.NS"]
["Rain Commodities Limited","RAINCOM.NS"]
["Ramco Cements Ltd","MADRASCEM.NS"]
["Ramco Industries Ltd","RAMCOIND.NS"]
["Regency Ceramics Ltd","REGENCERA.NS"]
["Sagar Cements Ltd","SAGCEM.NS"]
["Sanghi Industries Ltd","SANGHIIND.NS"]
["Shree Cements Ltd","SHREECEM.NS"]
["Sicagen India Ltd","SICAGEN.NS"]
["UltraTech Cement Ltd","ULTRACEMC.NS"]
["Visaka Industries Ltd","VISAKAIND.NS"]
["Alstom India Ltd","APIL.NS"]
["BF Utilities Ltd","BFUTILITI.NS"]
["BGR Energy Systems Ltd","BGRENERGY.NS"]
["C & C Constructions Ltd","CANDC.NS"]
["Consolidated Construction","CCCL.NS"]
["Cyient Ltd","INFOTECEN.NS"]
["Engineers India Ltd","ENGINERSI.NS"]
["Era Infra Engineering Ltd","ERAINFRA.NS"]
["Fedders Lloyd Corp Ltd","FEDDERLOY.NS"]
["Gammon India Ltd","GAMMONIND.NS"]
["GI Engineering Solutions Ltd","GISOLUTIO.NS"]
["Hindustan Construction Co Ltd","HCC.NS"]
["Hindustan Dorr Oliver Ltd","HINDDORRO.NS"]
["IL&FS Engineering","MAYTASINF.NS"]
["ITD Cementation India Ltd","ITDCEM.NS"]
["IVRCL Ltd","IVRCLINFR.NS"]
["J Kumar Infraprojects Ltd","JKIL.NS"]
["Jaiprakash Associates Ltd","JPASSOCIA.NS"]
["JMC Projects (india) Ltd","JMCPROJEC.NS"]
["Kaushalya Infrastructure","KAUSHALYA.NS"]
["KNR Constructions Ltd","KNRCON.NS"]
["Lanco Infratech Ltd","LITL.NS"]
["Larsen & Toubro Ltd","LT.NS"]
["Madhucon Projects Ltd","MADHUCON.NS"]
["Man Infraconstruction Ltd","MANINFRA.NS"]
["McNally Bharat","MBECL.NS"]
["Mukand Engineers Ltd","MUKANDENG.NS"]
["NCC Ltd","NAGARCONS.NS"]
["Noida Toll Bridge Co Ltd","NOIDATOLL.NS"]
["Patel Engineering Ltd","PATELENG.NS"]
["PBA Infrastructure Ltd","PBAINFRA.NS"]
["Petron Engineering Constr","PETRONENG.NS"]
["Praj Industries Ltd","PRAJIND.NS"]
["Pratibha Industries Ltd","PRATIBHA.NS"]
["Punj Lloyd Ltd","PUNJLLOYD.NS"]
["RIIL","RIIL.NS"]
["Shriram EPC Ltd","SHRIRAMEP.NS"]
["Simplex Infrastructures Ltd","SIMPLEXIN.NS"]
["Simplex Projects Ltd","SIMPLEX.NS"]
["SKIL Infrastructure Ltd","HORIZONIN.NS"]
["SPML Infra Ltd","SPMLINFRA.NS"]
["Sunil Hitech Engineers Ltd","SUNILHITE.NS"]
["Tantia Constructions Ltd","TANTIACON.NS"]
["Tarmat Ltd","ROMAN.NS"]
["Techno Electric","TECHNO.NS"]
["Unity Infraprojects Ltd","UNITY.NS"]
["Valecha Engineering Ltd","VALECHAEN.NS"]
["Voltas Ltd","VOLTAS.NS"]
["Walchandnagar Industries Ltd","WALCHANNA.NS"]
["Gammon Infrastructure","GAMMNINFR.NS"]
["GMR Infrastructure Ltd","GMRINFRA.NS"]
["IRB Infrastructure Develo","IRB.NS"]
["Vascon Engineers Ltd","VASCONEQ.NS"]
["Archidply Industries Ltd","ARCHIDPLY.NS"]
["Century Plyboards India Ltd","CENTURYPL.NS"]
["Mangalam Timber Products Ltd","MANGTIMBE.NS"]
["Novopan Industries Ltd","NOVOPANIN.NS"]
["Uniply Industries Ltd","UNIPLY.NS"]
["Lakshmi Precision Screws Ltd","LAKPRE.NS"]
["NRB Bearings Ltd","NRBBEARIN.NS"]
["Sterling Tools Ltd","STERTOOLS.NS"]
["Technocraft Industries In","TIIL.NS"]
["Wendt (India) Ltd","WENDT.NS"]
["Ahmednagar Forgings Ltd","AHMEDFORG.NS"]
["Alicon Castalloy Ltd","ENKEI.NS"]
["Electrotherm India Ltd","ELECTHERM.NS"]
["Gandhi Special Tubes Ltd","GANDHITUB.NS"]
["Hilton Metal Forging Ltd","HILTON.NS"]
["Mahindra CIE Automotive Ltd","MAHINDFOR.NS"]
["MM Forgings Ltd","MMFL.NS"]
["Precision Wires India Ltd","PRECWIRE.NS"]
["PSL Ltd","PSL.NS"]
["Rohit Ferro Tech Ltd","ROHITFERR.NS"]
["Shree Ganesh Forgings Ltd","SGFL.NS"]
["Zenith Birla (India) Ltd","ZENITHBIR.NS"]
["A I Champdany Industries Ltd","AICHAMP.NS"]
["Aarvee Denims & Exports Ltd","AARVEEDEN.NS"]
["Alok Industries Ltd","ALOKTEXT.NS"]
["Alps Industries Ltd","ALPSINDUS.NS"]
["Ambika Cotton Mills Ltd","AMBIKCO.NS"]
["Amit Spinning Industries Ltd","ASIL.NS"]
["Arvind Ltd","ARVIND.NS"]
["Ashima Ltd","ASHIMASYN.NS"]
["Bannari Amman Spinning","BASML.NS"]
["Banswara Syntex Ltd","BANSWRAS.NS"]
["Birla Cotsyn (India) Ltd","BIRLACOT.NS"]
["Bombay Dyeing","BOMDYEING.NS"]
["Bombay Rayon Fashions Ltd","BRFL.NS"]
["BSL Ltd","BSL.NS"]
["Century Enka Ltd","CENTENKA.NS"]
["Cheslind Textiles Ltd","CHESLINTE.NS"]
["DCM Ltd","DCM.NS"]
["Digjam Ltd","DIGJAM.NS"]
["Donear Industries Ltd","DONEAR.NS"]
["Eastern Silk Industries Ltd","EASTSILK.NS"]
["Eurotex Industries & Expo","EUROTEXIN.NS"]
["First Winner Industries Ltd","FIRSTWIN.NS"]
["Gangotri Textiles Ltd","GANGOTRI.NS"]
["Garden Silk Mills Ltd","GARDENSIL.NS"]
["Garware Wall Ropes Ltd","GARWALLRO.NS"]
["Ginni Filaments Ltd","GINNIFILA.NS"]
["Grasim Industries Ltd","GRASIM.NS"]
["GSL Nova Petrochemicals Ltd","GSLNOVA.NS"]
["GTN Industries Ltd","GTNIND.NS"]
["Hanung Toys & Textiles Ltd","HANUNG.NS"]
["Himatsingka Seide Ltd","HIMATSEID.NS"]
["Hind Syntex Ltd","HINDSYNTE.NS"]
["Indian Card Clothing Co Ltd","INDIANCAR.NS"]
["Indo Rama Synthetics","INDORAMA.NS"]
["Indus Fila Ltd","INDUSFILA.NS"]
["JBF Industries Ltd","JBFIND.NS"]
["Jindal Cotex Ltd","JINDCOT.NS"]
["Malwa Cotton Spinning Mil","MALWACOTT.NS"]
["Maral Overseas Ltd","MARALOVER.NS"]
["Maxwell Industries Ltd","MAXWELL.NS"]
["Mudra Lifestyle Ltd","MUDRA.NS"]
["Nagreeka Exports Ltd","NAGREEKEX.NS"]
["Nahar Industrial Enterpri","NAHARINDU.NS"]
["Nahar Spinning Mills Ltd","NAHARSPIN.NS"]
["Nitin Spinners Ltd","NITINSPIN.NS"]
["NRC Ltd","NRC.NS"]
["Patspin India Ltd","PATSPINLT.NS"]
["Precot Meridian Ltd","PRECOT.NS"]
["Rajvir Industries Ltd","RAJVIR.NS"]
["Raymond Ltd","RAYMOND.NS"]
["RSWM Ltd","RSWM.NS"]
["S Kumars Nationwide Ltd","SKUMARSYN.NS"]
["Sangam (India) Ltd","SANGAMIND.NS"]
["Sarla Performance Fibers Ltd","SARLAPOLY.NS"]
["Shiva Texyarn Ltd","SHIVTEX.NS"]
["Shri Lakshmi Cotsyn Ltd","SHLAKSHMI.NS"]
["Siyaram Silk Mills Ltd","SIYSIL.NS"]
["Soma Textiles & Industries Ltd","SOMATEX.NS"]
["Spentex Industries Ltd","SPENTEX.NS"]
["SRF Ltd","SRF.NS"]
["Standard Industries Ltd","SIL.NS"]
["STL Global Ltd","SGL.NS"]
["Super Spinning Mills Ltd","SUPERSPIN.NS"]
["Supreme Tex Mart Ltd","SUPREMETE.NS"]
["Suryajyoti Spinning Mills Ltd","SURYAJYOT.NS"]
["Suryalakshmi Cotton Mills Ltd","SURYALAXM.NS"]
["Sutlej Textiles And Indus","SUTLEJTEX.NS"]
["T T Ltd","TTL.NS"]
["Trident Ltd","ABSHEKIND.NS"]
["Vardhman Acrylics Ltd","VARDHACRL.NS"]
["Vardhman Polytex Ltd","VARDMNPOL.NS"]
["Vardhman Textiles Ltd","VTL.NS"]
["Welspun India Ltd","WELSPUNIN.NS"]
["Winsome Yarns Ltd","WINSOMYAR.NS"]
["Allcargo Logistics Ltd","ALLCARGO.NS"]
["Blue Dart Express Ltd","BLUEDART.NS"]
["Container Corp of India","CONCOR.NS"]
["Gati Ltd","GATI.NS"]
["Patel Integrated Logistics Ltd","PATINTLOG.NS"]
["Transport Corp of India Ltd","TCI.NS"]
["Global Vectra Helicorp Ltd","GLOBALVEC.NS"]
["Kingfisher Airlines Ltd","KFA.NS"]
["Brandhouse Retails Ltd","BRANDHOUS.NS"]
["Trent Ltd","TRENT.NS"]
["Entertainment Network","ENIL.NS"]
["Broadcast Initiatives Ltd","BROADCAST.NS"]
["Den Networks Ltd","DEN.NS"]
["Jain Studios Ltd","JAINSTUDI.NS"]
["Network 18 Media & Invest","NETWORK18.NS"]
["New Delhi Television Ltd","NDTV.NS"]
["Sri Adhikari Brothers Tel","SABTN.NS"]
["Sun TV Network Ltd","SUNTV.NS"]
["TV Today Network Ltd","TVTODAY.NS"]
["TV18 Broadcast Ltd","IBN18.NS"]
["Zee Enterainment","ZEEL.NS"]
["Zee Media Corp Ltd","ZEENEWS.NS"]
["Allsec Technologies Ltd","ALLSEC.NS"]
["Aurionpro Solutions Ltd","AURIONPRO.NS"]
["Cura Technologies Ltd","SOFTPRO.NS"]
["Datamatics Global Services Ltd","DATAMATIC.NS"]
["Excel Infoways Ltd","EXCELINFO.NS"]
["Firstsource Solutions Limited","FSL.NS"]
["Gateway Distriparks Ltd","GDL.NS"]
["HOV Services Ltd","HOVS.NS"]
["ICRA Ltd","ICRA.NS"]
["Nesco Ltd","NESCO.NS"]
["Repro India Ltd","REPRO.NS"]
["Sical Logistics Ltd","SICAL.NS"]
["Vivimed Labs Ltd","VIVIMEDLA.NS"]
["Dish TV India Ltd","DISHTV.NS"]
["Hathway Cable & Datacom Ltd","HATHWAY.NS"]
["Hinduja Ventures Ltd","HINDUJAVE.NS"]
["Siti Cable Network Ltd","WWIL.NS"]
["Future Retail Ltd","PANTALOON.NS"]
["Future Retail Ltd","PRETAILDV.NS"]
["Store One Retail India Ltd","STOREONE.NS"]
["V2 Retail Ltd","VISHALRET.NS"]
["Aptech Ltd","APTECHT.NS"]
["Core Education","COREPROTE.NS"]
["Educomp Solutions Ltd","EDUCOMP.NS"]
["Everonn Systems India Ltd","EVERONN.NS"]
["LCC Infotech Ltd","LCCINFOTE.NS"]
["Usha Martin Education","UMESLTD.NS"]
["Visu International Ltd","VISUINTL.NS"]
["Bilpower Ltd","BILPOWER.NS"]
["Cords Cable Industries Ltd","CORDSCABL.NS"]
["Crompton Greaves Ltd","CROMPGREA.NS"]
["B A G Films & Media Ltd","BAGFILMS.NS"]
["Balaji Telefilms Ltd","BALAJITEL.NS"]
["Cinevista Ltd","CINEVISTA.NS"]
["Creative Eye Ltd","CREATIVEY.NS"]
["Crest Animation Studios Ltd","CRESTANI.NS"]
["Inox Leisure Ltd","INOXLEISU.NS"]
["KSS Ltd","KSERAPRO.NS"]
["Mukta Arts Ltd","MUKTAARTS.NS"]
["Pritish Nandy Communicati","PNC.NS"]
["PVR Ltd","PVR.NS"]
["Radaan Mediaworks India Ltd","RADAAN.NS"]
["Reliance Broadcast Network Ltd","RBN.NS"]
["Reliance Mediaworks Ltd","RELMEDIA.NS"]
["Saregama India Ltd","SAREGAMA.NS"]
["Shree Ashtavinayak Cine V","SHREEASHT.NS"]
["TIPS Industries Ltd","TIPSINDLT.NS"]
["Anik Industries Ltd","ANIKINDS.NS"]
["Heritage Foods Ltd","HERITGFOO.NS"]
["REI Six Ten Retail Ltd","REISIXTEN.NS"]
["EMCo Ltd","EMCO.NS"]
["Esab India Ltd","ESABINDIA.NS"]
["LGB Forge Ltd","LGBFORGE.NS"]
["Ramkrishna Forgings Ltd","RKFORGE.NS"]
["State Trading of India","STCINDIA.NS"]
["Universal Cables Ltd","UNIVCABLE.NS"]
["Classic Diamonds India Ltd","CLASSIC.NS"]
["Gitanjali Gems Ltd","GITANJALI.NS"]
["Goldiam International Ltd","GOLDIAM.NS"]
["Rajesh Exports Ltd","RAJESHEXP.NS"]
["Renaissance Jewellery Ltd","RJL.NS"]
["Shrenuj & Company Ltd","SHRENUJ.NS"]
["Surana Corp Ltd","SURANACOR.NS"]
["Thangamayil Jewellery Ltd","THANGAMAY.NS"]
["Winsome Diamonds","SURAJDIAM.NS"]
["Zodiac JRD- MKJ Ltd","ZODJRDMKJ.NS"]
["Advani Hotels & Resorts I","ADVANIHOT.NS"]
["Asian Hotels (North) Ltd","ASIANHOTN.NS"]
["Blue Coast Hotels Ltd","BLUECOAST.NS"]
["EIH Associated Hotels Ltd","EIHAHOTEL.NS"]
["EIH Ltd","EIHOTEL.NS"]
["Hotel Leela Venture Ltd","HOTELEELA.NS"]
["Indian Hotels Co Ltd","INDHOTEL.NS"]
["Kamat Hotels India Ltd","KAMATHOTE.NS"]
["Royal Orchid Hotels Ltd","ROHLTD.NS"]
["Taj GVK Hotels & Resorts Ltd","TAJGVK.NS"]
["TGB Banquets & Hotels Ltd","BHAGWATIH.NS"]
["Viceroy Hotels Ltd","VICEROY.NS"]
["Jet Airways (India) Ltd","JETAIRWAY.NS"]
["Cyber Media India Ltd","CYBERMEDI.NS"]
["D B Corp Ltd","DBCORP.NS"]
["HT Media Ltd","HTMEDIA.NS"]
["Jagran Prakashan Ltd","JAGRAN.NS"]
["MPS Ltd","MPSLTD.NS"]
["Navneet Education Ltd","NAVNETPUB.NS"]
["Next Mediaworks Ltd","MID-DAY.NS"]
["Sandesh Ltd","SANDESH.NS"]
["Infomedia Press Ltd","INFOMEDIA.NS"]
["Titagarh Wagons Ltd","TWL.NS"]
["Delta Corp Ltd","DELTACORP.NS"]
["Mahindra Holidays & Resor","MHRIL.NS"]
["Jubilant Foodworks Ltd","JUBLFOOD.NS"]
["Micro Technologies India Ltd","MICROTECH.NS"]
["Zicom Electronic Security","ZICOM.NS"]
["Adani Ports & Special","MUNDRAPOR.NS"]
["Dredging Corp of India Ltd","DREDGECOR.NS"]
["Essar Ports Ltd","ESSARSHIP.NS"]
["Global Offshore Services Ltd","GARWOFFS.NS"]
["Great Eastern Shipping Co Ltd","GESHIP.NS"]
["Ruchi Infrastructure Ltd","RUCHINFRA.NS"]
["Shipping Corp of India Ltd","SCI.NS"]
["Shreyas Shipping & Logist","SHREYAS.NS"]
["Varun Shipping Co Ltd","VARUNSHIP.NS"]
["Hinduja Global Solutions Ltd","HGSL.NS"]
["Melstar Information Techn","MELSTAR.NS"]
["Oracle Financial Services","OFSS.NS"]
["Polaris","POLARIS.NS"]
["AGC Networks Ltd","AGCNET.NS"]
["Aksh Optifibre Ltd","AKSHOPTFB.NS"]
["Astra Microwave Products Ltd","ASTRAMICR.NS"]
["Birla Ericsson Optical Ltd","BIRLAERIC.NS"]
["Gemini Communication Ltd","GEMINI.NS"]
["Goldstone Infratech Ltd","GOLDINFRA.NS"]
["ITI Ltd","ITI.NS"]
["Kalindee Rail Nirman (Eng","KALINDEE.NS"]
["Kavveri Telecom Products Ltd","KAVVERITE.NS"]
["MRO TEK Ltd","MRO-TEK.NS"]
["Paramount Communications Ltd","PARACABLE.NS"]
["S Mobility Ltd","SPICEMOBI.NS"]
["Shyam Telecom Ltd","SHYAMTEL.NS"]
["Smartlink Network Systems Ltd","DLINKINDI.NS"]
["Smartlink Network Systems Ltd","SMARTLINK.NS"]
["Vindhya Telelinks Ltd","VINDHYATE.NS"]
["HCL Infosystems Ltd","HCL-INSYS.NS"]
["Himachal Futuristic","HIMACHLFU.NS"]
["Tvs Electronics Ltd","TVSELECT.NS"]
["Zenith Computers Ltd","ZENITHCOM.NS"]
["Euro Multivision Ltd","EUROMULTI.NS"]
["Moser Baer India Ltd","MOSERBAER.NS"]
["Apar Industries Ltd","APARINDS.NS"]
["Bhagyanagar India Ltd","BHAGYNAGA.NS"]
["Centum Electronics Ltd","CENTUM.NS"]
["Eveready Industries India Ltd","EVEREADY.NS"]
["Finolex Cables Ltd","FINCABLES.NS"]
["Havells India Ltd","HAVELLS.NS"]
["HBL Power Systems Ltd","HBLPOWER.NS"]
["Hind Rectifiers Ltd","HIRECT.NS"]
["Indo-National Ltd","NIPPOBATR.NS"]
["JCT Electronics Ltd","JCTEL.NS"]
["KEI Industries Ltd","KEI.NS"]
["Samtel Color Ltd","SAMTEL.NS"]
["W S Industries (I) Ltd","WSI.NS"]
["Accel Frontline Ltd","AFL.NS"]
["Accelya Kale Solutions Ltd","KALECONSU.NS"]
["Aftek Ltd","AFTEK.NS"]
["Allied Digital Services Ltd","ADSL.NS"]
["Blue Star Infotech Ltd","BLUESTINF.NS"]
["Bodhtree Consulting Ltd","BODHTREE.NS"]
["Cambridge Technology Ente","CTE.NS"]
["CMC Ltd","CMC.NS"]
["Cybertech Systems & Softw","CYBERTECH.NS"]
["FCS Software Solutions Ltd","FCSSOFT.NS"]
["Genesys International Corp Ltd","GENESYS.NS"]
["Goldstone Technologies Ltd","GOLDTECH.NS"]
["GSS Infotech Ltd","GSSAMERIC.NS"]
["GTL Ltd","GTL.NS"]
["HCL Technologies Ltd","HCLTECH.NS"]
["Helios & Matheson Informa","HELIOSMAT.NS"]
["Hexaware Technologies Ltd","HEXAWARE.NS"]
["KPIT Technologies Ltd","KPIT.NS"]
["Logix Microsystems Ltd","LOGIXMICR.NS"]
["Mastek Ltd","MASTEK.NS"]
["MindTree Ltd","MINDTREE.NS"]
["Mphasis Ltd","MPHASIS.NS"]
["NIIT Ltd","NIITLTD.NS"]
["NIIT Technologies Ltd","NIITTECH.NS"]
["Nucleus Software Exports Ltd","NUCLEUS.NS"]
["Omnitech Infosolutions Ltd","OMNITECH.NS"]
["Onward Technologies Ltd","ONWARDTEC.NS"]
["Panoramic Universal Ltd","PANORAMUN.NS"]
["Prithvi Information Solut","PRITHVI.NS"]
["Quintegra Solutions Ltd","QUINTEGRA.NS"]
["Ramco Systems Ltd","RAMCOSYS.NS"]
["Redington (India) Ltd","REDINGTON.NS"]
["Rolta India Ltd","ROLTA.NS"]
["Saksoft Ltd","SAKSOFT.NS"]
["Sonata Software Ltd","SONATSOFT.NS"]
["Take Solutions Ltd","TAKE.NS"]
["Tata Consultancy Services Ltd","TCS.NS"]
["Tech Mahindra Ltd","TECHM.NS"]
["Tricom India Ltd","TRICOM.NS"]
["Wipro Ltd","WIPRO.NS"]
["Xchanging Solution Ltd","CAMBRIDGE.NS"]
["Zensar Technologies Ltd","ZENSARTEC.NS"]
["3i Infotech Ltd","3IINFOTECH.NS"]
["Infosys Ltd","INFOSYSTC.NS"]
["Info Edge (India) Ltd","NAUKRI.NS"]
["Bartronics India Ltd","BARTRONIC.NS"]
["Nelco Ltd","NELCO.NS"]
["California Software Co Ltd","CALSOFT.NS"]
["Financial Technologies (I","FINANTECH.NS"]
["Geometric Ltd","GEOMETRIC.NS"]
["ICSA (India) Ltd","ICSA.NS"]
["Kernex Microsystems India Ltd","KERNEX.NS"]
["Megasoft Ltd","MEGASOFT.NS"]
["Palred Technologies Ltd","FOURSOFT.NS"]
["R S Software (India) Ltd","RSSOFTWAR.NS"]
["Sasken Communication Tech","SASKEN.NS"]
["Subex Ltd","SUBEX.NS"]
["Tanla Solutions Ltd","TANLA.NS"]
["Tata Elxsi Ltd","TATAELXSI.NS"]
["Thinksoft Global Services Ltd","THINKSOFT.NS"]
["Trigyn Technologies Ltd","TRIGYN.NS"]
["Zenith Infotech Ltd","ZENITHINF.NS"]
["Bharti Airtel Ltd","BHARTIART.NS"]
["Gtl Infrastructure Ltd","GTLINFRA.NS"]
["Idea Cellular Ltd","IDEA.NS"]
["Mahanagar Telephone Nigam Ltd","MTNL.NS"]
["OnMobile Global Ltd","ONMOBILE.NS"]
["Reliance Communications Ltd","RCOM.NS"]
["Sterlite Technologies Ltd","STRTECH.NS"]
["Tamilnadu Telecommunicati","TNTELE.NS"]
["Tata Communications Ltd","TATACOMM.NS"]
["Tata Teleservices (Mahara","TTML.NS"]
["Tulip Telecom Ltd","TULIP.NS"]
["Adani Power Ltd","ADANIPOWE.NS"]
["Cesc Ltd","CESC.NS"]
["GVK Power & Infrastructure Ltd","GVKPIL.NS"]
["Jaiprakash Power Ventures Ltd","JPPOWER.NS"]
["NTPC Ltd","NTPC.NS"]
["PTC India Ltd","PTC.NS"]
["Reliance Power Ltd","RPOWER.NS"]
["Surana Ventures Ltd","SURANAVEL.NS"]
["Websol Energy System Ltd","WEBELSOLA.NS"]
["XL Energy Ltd","XLTELENE.NS"]
["Energy Development Co Ltd","ENERGYDEV.NS"]
["Entegra Ltd","ENTEGRA.NS"]
["Gujarat Industries Power","GIPCL.NS"]
["Indowind Energy Ltd","INDOWIND.NS"]
["Jyoti Structures Ltd","JYOTISTRU.NS"]
["Kalpataru Power Transmiss","KALPATPOW.NS"]
["KSK Energy Ventures Ltd","KSK.NS"]
["Neyveli Lignite Corp Ltd","NEYVELILI.NS"]
["Power Grid Corp Of India Ltd","POWERGRID.NS"]
["Reliance Infrastructure Ltd","RELINFRA.NS"]
["SJVN Ltd","SJVN.NS"]
["Torrent Power Ltd","TORNTPOWE.NS"]
["GAIL India Ltd","GAIL.NS"]
["Gujarat Gas Co Ltd","GUJRATGAS.NS"]
["Gujarat State Petronet Ltd","GSPL.NS"]
["Indraprastha Gas Ltd","IGL.NS"]